BEGIN:VCALENDAR
VERSION:2.0
PRODID:-//Dancing Pono (ダンシングポノ) - ECPv6.15.12//NONSGML v1.0//EN
CALSCALE:GREGORIAN
METHOD:PUBLISH
X-WR-CALNAME:Dancing Pono (ダンシングポノ)
X-ORIGINAL-URL:https://dance.gdp22.com
X-WR-CALDESC:Dancing Pono (ダンシングポノ) のイベント
REFRESH-INTERVAL;VALUE=DURATION:PT1H
X-Robots-Tag:noindex
X-PUBLISHED-TTL:PT1H
BEGIN:VTIMEZONE
TZID:Asia/Tokyo
BEGIN:STANDARD
TZOFFSETFROM:+0900
TZOFFSETTO:+0900
TZNAME:JST
DTSTART:20250101T000000
END:STANDARD
END:VTIMEZONE
BEGIN:VEVENT
DTSTART;TZID=Asia/Tokyo:20260426T173000
DTEND;TZID=Asia/Tokyo:20260426T181500
DTSTAMP:20260426T124723
CREATED:20220930T044101Z
LAST-MODIFIED:20221014T160344Z
UID:10274000-1777224600-1777227300@dance.gdp22.com
SUMMARY:キューバンカシーノ 入門初級 LaHabana
DESCRIPTION:料金・詳細は公式参照 \nhttps://www.lahabana.co.jp/price/?studioid=173&anchor/#block \nLaHabana(名古屋)
URL:https://dance.gdp22.com/event/dance-36442/2026-04-26/
LOCATION:LaHabana(名古屋)\, 名古屋市中区錦2-6-22 若山ビル3F\, 名古屋\, 463-0003\, 日本
CATEGORIES:カシーノスタイル
END:VEVENT
BEGIN:VEVENT
DTSTART;TZID=Asia/Tokyo:20260426T183000
DTEND;TZID=Asia/Tokyo:20260426T191500
DTSTAMP:20260426T124723
CREATED:20220930T044221Z
LAST-MODIFIED:20221014T161405Z
UID:10274325-1777228200-1777230900@dance.gdp22.com
SUMMARY:キューバンカシーノ サルサMIX 初中級 LaHabana
DESCRIPTION:料金・詳細は公式参照 \nhttps://www.lahabana.co.jp/price/?studioid=173&anchor/#block \nLaHabana(名古屋)
URL:https://dance.gdp22.com/event/dance-36454/2026-04-26/
LOCATION:LaHabana(名古屋)\, 名古屋市中区錦2-6-22 若山ビル3F\, 名古屋\, 463-0003\, 日本
CATEGORIES:カシーノスタイル
END:VEVENT
BEGIN:VEVENT
DTSTART;TZID=Asia/Tokyo:20260427T191500
DTEND;TZID=Asia/Tokyo:20260427T200000
DTSTAMP:20260426T124723
CREATED:20220930T040507Z
LAST-MODIFIED:20221014T160824Z
UID:10275119-1777317300-1777320000@dance.gdp22.com
SUMMARY:サルサペア 入門初級 LaHabana
DESCRIPTION:料金・詳細は公式参照 \nhttps://www.lahabana.co.jp/price/?studioid=173&anchor/#block \nLaHabana(名古屋)
URL:https://dance.gdp22.com/event/dance-36296/2026-04-27/
LOCATION:LaHabana(名古屋)\, 名古屋市中区錦2-6-22 若山ビル3F\, 名古屋\, 463-0003\, 日本
CATEGORIES:サルサ全般
END:VEVENT
BEGIN:VEVENT
DTSTART;TZID=Asia/Tokyo:20260427T201500
DTEND;TZID=Asia/Tokyo:20260427T210000
DTSTAMP:20260426T124723
CREATED:20220930T041005Z
LAST-MODIFIED:20221014T162626Z
UID:10275393-1777320900-1777323600@dance.gdp22.com
SUMMARY:サルサペア 初中級 LaHabana
DESCRIPTION:料金・詳細は公式参照 \nhttps://www.lahabana.co.jp/price/?studioid=173&anchor/#block \nLaHabana(名古屋)
URL:https://dance.gdp22.com/event/dance-36310/2026-04-27/
LOCATION:LaHabana(名古屋)\, 名古屋市中区錦2-6-22 若山ビル3F\, 名古屋\, 463-0003\, 日本
CATEGORIES:サルサ全般
END:VEVENT
BEGIN:VEVENT
DTSTART;TZID=Asia/Tokyo:20260428T150000
DTEND;TZID=Asia/Tokyo:20260428T154500
DTSTAMP:20260426T124723
CREATED:20220930T044635Z
LAST-MODIFIED:20221014T170523Z
UID:10276447-1777388400-1777391100@dance.gdp22.com
SUMMARY:初めてのサルサ レディース スタイル LaHabana
DESCRIPTION:料金・詳細は公式参照 \nhttps://www.lahabana.co.jp/price/?studioid=173&anchor/#block \nLaHabana(名古屋)
URL:https://dance.gdp22.com/event/dance-36466/2026-04-28/
LOCATION:LaHabana 栄校 Sahara (名古屋)\, 愛知県名古屋市中区錦3丁目7-12 錦クリスタルビル4F\, 名古屋\, 460-0003\, 日本
CATEGORIES:サルサ全般
END:VEVENT
BEGIN:VEVENT
DTSTART;TZID=Asia/Tokyo:20260429T123000
DTEND;TZID=Asia/Tokyo:20260429T131500
DTSTAMP:20260426T124723
CREATED:20220930T044937Z
LAST-MODIFIED:20221014T165750Z
UID:10276731-1777465800-1777468500@dance.gdp22.com
SUMMARY:ソン LaHabana
DESCRIPTION:料金・詳細は公式参照 \nhttps://www.lahabana.co.jp/price/?studioid=173&anchor/#block \nLaHabana(名古屋)
URL:https://dance.gdp22.com/event/dance-36480/2026-04-29/
LOCATION:LaHabana 栄校 Sahara (名古屋)\, 愛知県名古屋市中区錦3丁目7-12 錦クリスタルビル4F\, 名古屋\, 460-0003\, 日本
CATEGORIES:サルサ全般
END:VEVENT
BEGIN:VEVENT
DTSTART;TZID=Asia/Tokyo:20260429T190000
DTEND;TZID=Asia/Tokyo:20260429T194500
DTSTAMP:20260426T124723
CREATED:20220930T045115Z
LAST-MODIFIED:20221014T170751Z
UID:10277262-1777489200-1777491900@dance.gdp22.com
SUMMARY:サルサムーブメント LaHabana
DESCRIPTION:料金・詳細は公式参照 \nhttps://www.lahabana.co.jp/price/?studioid=173&anchor/#block \nLaHabana(名古屋)
URL:https://dance.gdp22.com/event/dance-36492/2026-04-29/
LOCATION:LaHabana 栄校 Sahara (名古屋)\, 愛知県名古屋市中区錦3丁目7-12 錦クリスタルビル4F\, 名古屋\, 460-0003\, 日本
CATEGORIES:サルサ全般
END:VEVENT
BEGIN:VEVENT
DTSTART;TZID=Asia/Tokyo:20260429T200000
DTEND;TZID=Asia/Tokyo:20260429T204500
DTSTAMP:20260426T124723
CREATED:20220930T045233Z
LAST-MODIFIED:20221014T171141Z
UID:10277538-1777492800-1777495500@dance.gdp22.com
SUMMARY:レゲトン LaHabana
DESCRIPTION:料金・詳細は公式参照 \nhttps://www.lahabana.co.jp/price/?studioid=173&anchor/#block \nLaHabana(名古屋)
URL:https://dance.gdp22.com/event/dance-36504/2026-04-29/
LOCATION:LaHabana 栄校 Sahara (名古屋)\, 愛知県名古屋市中区錦3丁目7-12 錦クリスタルビル4F\, 名古屋\, 460-0003\, 日本
CATEGORIES:レゲトン
END:VEVENT
BEGIN:VEVENT
DTSTART;TZID=Asia/Tokyo:20260429T203000
DTEND;TZID=Asia/Tokyo:20260429T211500
DTSTAMP:20260426T124723
CREATED:20221014T164440Z
LAST-MODIFIED:20221014T164440Z
UID:10280582-1777494600-1777497300@dance.gdp22.com
SUMMARY:キューバンカシーノ & ムーブメント LaHabana
DESCRIPTION:料金・詳細は公式参照 \nhttps://www.lahabana.co.jp/price/?studioid=173&anchor/#block \nLaHabana(名古屋)
URL:https://dance.gdp22.com/event/dance-38239/2026-04-29/
LOCATION:スタジオウィング（岡崎）\, 愛知県岡崎市羽根町小豆坂3 ウィングタウン岡崎 2F\, 愛知\, 444-0814\, 日本
CATEGORIES:サルサ,キューバン,カシーノスタイル
END:VEVENT
BEGIN:VEVENT
DTSTART;TZID=Asia/Tokyo:20260430T113000
DTEND;TZID=Asia/Tokyo:20260430T121500
DTSTAMP:20260426T124723
CREATED:20220930T045422Z
LAST-MODIFIED:20221014T170148Z
UID:10277821-1777548600-1777551300@dance.gdp22.com
SUMMARY:ジャズダンス LaHabana
DESCRIPTION:料金・詳細は公式参照 \nhttps://www.lahabana.co.jp/price/?studioid=173&anchor/#block \nLaHabana(名古屋)
URL:https://dance.gdp22.com/event/dance-36516/2026-04-30/
LOCATION:LaHabana 栄校 Sahara (名古屋)\, 愛知県名古屋市中区錦3丁目7-12 錦クリスタルビル4F\, 名古屋\, 460-0003\, 日本
CATEGORIES:モダンジャズ
END:VEVENT
BEGIN:VEVENT
DTSTART;TZID=Asia/Tokyo:20260430T181000
DTEND;TZID=Asia/Tokyo:20260430T185500
DTSTAMP:20260426T124723
CREATED:20220930T045604Z
LAST-MODIFIED:20221014T170651Z
UID:10278090-1777572600-1777575300@dance.gdp22.com
SUMMARY:初めてのサルサ レディース スタイル LaHabana
DESCRIPTION:料金・詳細は公式参照 \nhttps://www.lahabana.co.jp/price/?studioid=173&anchor/#block \nLaHabana(名古屋)
URL:https://dance.gdp22.com/event/dance-36528/2026-04-30/
LOCATION:LaHabana 栄校 Sahara (名古屋)\, 愛知県名古屋市中区錦3丁目7-12 錦クリスタルビル4F\, 名古屋\, 460-0003\, 日本
CATEGORIES:サルサ全般
END:VEVENT
BEGIN:VEVENT
DTSTART;TZID=Asia/Tokyo:20260430T193000
DTEND;TZID=Asia/Tokyo:20260430T201500
DTSTAMP:20260426T124723
CREATED:20220930T041934Z
LAST-MODIFIED:20221014T160708Z
UID:10278357-1777577400-1777580100@dance.gdp22.com
SUMMARY:キューバンカシーノ 入門初級 LaHabana
DESCRIPTION:料金・詳細は公式参照 \nhttps://www.lahabana.co.jp/price/?studioid=173&anchor/#block \nLaHabana(名古屋)
URL:https://dance.gdp22.com/event/dance-36340/2026-04-30/
LOCATION:LaHabana(名古屋)\, 名古屋市中区錦2-6-22 若山ビル3F\, 名古屋\, 463-0003\, 日本
CATEGORIES:カシーノスタイル
END:VEVENT
BEGIN:VEVENT
DTSTART;TZID=Asia/Tokyo:20260430T203000
DTEND;TZID=Asia/Tokyo:20260430T211500
DTSTAMP:20260426T124723
CREATED:20220930T042124Z
LAST-MODIFIED:20221014T161458Z
UID:10278636-1777581000-1777583700@dance.gdp22.com
SUMMARY:キューバンカシーノ 初中級 LaHabana
DESCRIPTION:料金・詳細は公式参照 \nhttps://www.lahabana.co.jp/price/?studioid=173&anchor/#block \nLaHabana(名古屋)
URL:https://dance.gdp22.com/event/dance-36352/2026-04-30/
LOCATION:LaHabana(名古屋)\, 名古屋市中区錦2-6-22 若山ビル3F\, 名古屋\, 463-0003\, 日本
CATEGORIES:カシーノスタイル
END:VEVENT
BEGIN:VEVENT
DTSTART;TZID=Asia/Tokyo:20260430T203000
DTEND;TZID=Asia/Tokyo:20260430T211500
DTSTAMP:20260426T124723
CREATED:20221014T164631Z
LAST-MODIFIED:20221014T164631Z
UID:10281250-1777581000-1777583700@dance.gdp22.com
SUMMARY:サルサショースタイル LaHabana
DESCRIPTION:料金・詳細は公式参照 \nhttps://www.lahabana.co.jp/price/?studioid=173&anchor/#block \nLaHabana(名古屋)
URL:https://dance.gdp22.com/event/dance-38253/2026-04-30/
LOCATION:スタジオウィング（岡崎）\, 愛知県岡崎市羽根町小豆坂3 ウィングタウン岡崎 2F\, 愛知\, 444-0814\, 日本
CATEGORIES:サルサ
END:VEVENT
BEGIN:VEVENT
DTSTART;TZID=Asia/Tokyo:20260430T210000
DTEND;TZID=Asia/Tokyo:20260430T214500
DTSTAMP:20260426T124723
CREATED:20220930T045728Z
LAST-MODIFIED:20221014T171254Z
UID:10278907-1777582800-1777585500@dance.gdp22.com
SUMMARY:ヒールダンス LaHabana
DESCRIPTION:料金・詳細は公式参照 \nhttps://www.lahabana.co.jp/price/?studioid=173&anchor/#block \nLaHabana(名古屋)
URL:https://dance.gdp22.com/event/dance-36540/2026-04-30/
LOCATION:LaHabana 栄校 Sahara (名古屋)\, 愛知県名古屋市中区錦3丁目7-12 錦クリスタルビル4F\, 名古屋\, 460-0003\, 日本
CATEGORIES:ヒール
END:VEVENT
END:VCALENDAR