BEGIN:VCALENDAR
VERSION:2.0
PRODID:-//Dancing Pono (ダンシングポノ) - ECPv6.15.12//NONSGML v1.0//EN
CALSCALE:GREGORIAN
METHOD:PUBLISH
X-WR-CALNAME:Dancing Pono (ダンシングポノ)
X-ORIGINAL-URL:https://dance.gdp22.com
X-WR-CALDESC:Dancing Pono (ダンシングポノ) のイベント
REFRESH-INTERVAL;VALUE=DURATION:PT1H
X-Robots-Tag:noindex
X-PUBLISHED-TTL:PT1H
BEGIN:VTIMEZONE
TZID:Asia/Tokyo
BEGIN:STANDARD
TZOFFSETFROM:+0900
TZOFFSETTO:+0900
TZNAME:JST
DTSTART:20290101T000000
END:STANDARD
END:VTIMEZONE
BEGIN:VEVENT
DTSTART;TZID=Asia/Tokyo:20301201T160000
DTEND;TZID=Asia/Tokyo:20301201T164500
DTSTAMP:20260420T235018
CREATED:20220620T034137Z
LAST-MODIFIED:20220620T034137Z
UID:10299350-1922371200-1922373900@dance.gdp22.com
SUMMARY:バチャータ By HIROMI
DESCRIPTION:バチャータ\nHIROMI \nhttps://www.studio-casino.com/%E4%BD%93%E9%A8%93%E3%83%AC%E3%83%83%E3%82%B9%E3%83%B3-%E5%88%9D%E3%82%81%E3%81%A6%E3%81%AE%E6%96%B9/%E6%96%99%E9%87%91/
URL:https://dance.gdp22.com/event/dance-7977/2030-12-01/
LOCATION:六本木ダンススタジオカシーノ\, 東京都港区六本木5-2-4第二鳥勝ビル四階\, 六本木\, 106-0032\, 日本
CATEGORIES:バチャータ全般
END:VEVENT
BEGIN:VEVENT
DTSTART;TZID=Asia/Tokyo:20301201T170000
DTEND;TZID=Asia/Tokyo:20301201T174500
DTSTAMP:20260420T235018
CREATED:20220620T034412Z
LAST-MODIFIED:20220620T034412Z
UID:10299364-1922374800-1922377500@dance.gdp22.com
SUMMARY:バチャータ  振付Pairクラス By HIROMI
DESCRIPTION:バチャータ \n振付Pairクラス \nHIROMI \nhttps://www.studio-casino.com/%E4%BD%93%E9%A8%93%E3%83%AC%E3%83%83%E3%82%B9%E3%83%B3-%E5%88%9D%E3%82%81%E3%81%A6%E3%81%AE%E6%96%B9/%E6%96%99%E9%87%91/
URL:https://dance.gdp22.com/event/dance-7993/2030-12-01/
LOCATION:六本木ダンススタジオカシーノ\, 東京都港区六本木5-2-4第二鳥勝ビル四階\, 六本木\, 106-0032\, 日本
CATEGORIES:バチャータ全般
END:VEVENT
BEGIN:VEVENT
DTSTART;TZID=Asia/Tokyo:20301208T160000
DTEND;TZID=Asia/Tokyo:20301208T164500
DTSTAMP:20260420T235018
CREATED:20220620T034137Z
LAST-MODIFIED:20220620T034137Z
UID:10299351-1922976000-1922978700@dance.gdp22.com
SUMMARY:バチャータ By HIROMI
DESCRIPTION:バチャータ\nHIROMI \nhttps://www.studio-casino.com/%E4%BD%93%E9%A8%93%E3%83%AC%E3%83%83%E3%82%B9%E3%83%B3-%E5%88%9D%E3%82%81%E3%81%A6%E3%81%AE%E6%96%B9/%E6%96%99%E9%87%91/
URL:https://dance.gdp22.com/event/dance-7977/2030-12-08/
LOCATION:六本木ダンススタジオカシーノ\, 東京都港区六本木5-2-4第二鳥勝ビル四階\, 六本木\, 106-0032\, 日本
CATEGORIES:バチャータ全般
END:VEVENT
BEGIN:VEVENT
DTSTART;TZID=Asia/Tokyo:20301208T170000
DTEND;TZID=Asia/Tokyo:20301208T174500
DTSTAMP:20260420T235018
CREATED:20220620T034412Z
LAST-MODIFIED:20220620T034412Z
UID:10299365-1922979600-1922982300@dance.gdp22.com
SUMMARY:バチャータ  振付Pairクラス By HIROMI
DESCRIPTION:バチャータ \n振付Pairクラス \nHIROMI \nhttps://www.studio-casino.com/%E4%BD%93%E9%A8%93%E3%83%AC%E3%83%83%E3%82%B9%E3%83%B3-%E5%88%9D%E3%82%81%E3%81%A6%E3%81%AE%E6%96%B9/%E6%96%99%E9%87%91/
URL:https://dance.gdp22.com/event/dance-7993/2030-12-08/
LOCATION:六本木ダンススタジオカシーノ\, 東京都港区六本木5-2-4第二鳥勝ビル四階\, 六本木\, 106-0032\, 日本
CATEGORIES:バチャータ全般
END:VEVENT
BEGIN:VEVENT
DTSTART;TZID=Asia/Tokyo:20301215T160000
DTEND;TZID=Asia/Tokyo:20301215T164500
DTSTAMP:20260420T235018
CREATED:20220620T034137Z
LAST-MODIFIED:20220620T034137Z
UID:10299771-1923580800-1923583500@dance.gdp22.com
SUMMARY:バチャータ By HIROMI
DESCRIPTION:バチャータ\nHIROMI \nhttps://www.studio-casino.com/%E4%BD%93%E9%A8%93%E3%83%AC%E3%83%83%E3%82%B9%E3%83%B3-%E5%88%9D%E3%82%81%E3%81%A6%E3%81%AE%E6%96%B9/%E6%96%99%E9%87%91/
URL:https://dance.gdp22.com/event/dance-7977/2030-12-15/
LOCATION:六本木ダンススタジオカシーノ\, 東京都港区六本木5-2-4第二鳥勝ビル四階\, 六本木\, 106-0032\, 日本
CATEGORIES:バチャータ全般
END:VEVENT
BEGIN:VEVENT
DTSTART;TZID=Asia/Tokyo:20301215T170000
DTEND;TZID=Asia/Tokyo:20301215T174500
DTSTAMP:20260420T235018
CREATED:20220620T034412Z
LAST-MODIFIED:20220620T034412Z
UID:10299778-1923584400-1923587100@dance.gdp22.com
SUMMARY:バチャータ  振付Pairクラス By HIROMI
DESCRIPTION:バチャータ \n振付Pairクラス \nHIROMI \nhttps://www.studio-casino.com/%E4%BD%93%E9%A8%93%E3%83%AC%E3%83%83%E3%82%B9%E3%83%B3-%E5%88%9D%E3%82%81%E3%81%A6%E3%81%AE%E6%96%B9/%E6%96%99%E9%87%91/
URL:https://dance.gdp22.com/event/dance-7993/2030-12-15/
LOCATION:六本木ダンススタジオカシーノ\, 東京都港区六本木5-2-4第二鳥勝ビル四階\, 六本木\, 106-0032\, 日本
CATEGORIES:バチャータ全般
END:VEVENT
BEGIN:VEVENT
DTSTART;TZID=Asia/Tokyo:20301222T160000
DTEND;TZID=Asia/Tokyo:20301222T164500
DTSTAMP:20260420T235018
CREATED:20220620T034137Z
LAST-MODIFIED:20220620T034137Z
UID:10300150-1924185600-1924188300@dance.gdp22.com
SUMMARY:バチャータ By HIROMI
DESCRIPTION:バチャータ\nHIROMI \nhttps://www.studio-casino.com/%E4%BD%93%E9%A8%93%E3%83%AC%E3%83%83%E3%82%B9%E3%83%B3-%E5%88%9D%E3%82%81%E3%81%A6%E3%81%AE%E6%96%B9/%E6%96%99%E9%87%91/
URL:https://dance.gdp22.com/event/dance-7977/2030-12-22/
LOCATION:六本木ダンススタジオカシーノ\, 東京都港区六本木5-2-4第二鳥勝ビル四階\, 六本木\, 106-0032\, 日本
CATEGORIES:バチャータ全般
END:VEVENT
BEGIN:VEVENT
DTSTART;TZID=Asia/Tokyo:20301222T170000
DTEND;TZID=Asia/Tokyo:20301222T174500
DTSTAMP:20260420T235018
CREATED:20220620T034412Z
LAST-MODIFIED:20220620T034412Z
UID:10300162-1924189200-1924191900@dance.gdp22.com
SUMMARY:バチャータ  振付Pairクラス By HIROMI
DESCRIPTION:バチャータ \n振付Pairクラス \nHIROMI \nhttps://www.studio-casino.com/%E4%BD%93%E9%A8%93%E3%83%AC%E3%83%83%E3%82%B9%E3%83%B3-%E5%88%9D%E3%82%81%E3%81%A6%E3%81%AE%E6%96%B9/%E6%96%99%E9%87%91/
URL:https://dance.gdp22.com/event/dance-7993/2030-12-22/
LOCATION:六本木ダンススタジオカシーノ\, 東京都港区六本木5-2-4第二鳥勝ビル四階\, 六本木\, 106-0032\, 日本
CATEGORIES:バチャータ全般
END:VEVENT
BEGIN:VEVENT
DTSTART;TZID=Asia/Tokyo:20301229T160000
DTEND;TZID=Asia/Tokyo:20301229T164500
DTSTAMP:20260420T235018
CREATED:20220620T034137Z
LAST-MODIFIED:20220620T034137Z
UID:10300151-1924790400-1924793100@dance.gdp22.com
SUMMARY:バチャータ By HIROMI
DESCRIPTION:バチャータ\nHIROMI \nhttps://www.studio-casino.com/%E4%BD%93%E9%A8%93%E3%83%AC%E3%83%83%E3%82%B9%E3%83%B3-%E5%88%9D%E3%82%81%E3%81%A6%E3%81%AE%E6%96%B9/%E6%96%99%E9%87%91/
URL:https://dance.gdp22.com/event/dance-7977/2030-12-29/
LOCATION:六本木ダンススタジオカシーノ\, 東京都港区六本木5-2-4第二鳥勝ビル四階\, 六本木\, 106-0032\, 日本
CATEGORIES:バチャータ全般
END:VEVENT
BEGIN:VEVENT
DTSTART;TZID=Asia/Tokyo:20301229T170000
DTEND;TZID=Asia/Tokyo:20301229T174500
DTSTAMP:20260420T235018
CREATED:20220620T034412Z
LAST-MODIFIED:20220620T034412Z
UID:10300163-1924794000-1924796700@dance.gdp22.com
SUMMARY:バチャータ  振付Pairクラス By HIROMI
DESCRIPTION:バチャータ \n振付Pairクラス \nHIROMI \nhttps://www.studio-casino.com/%E4%BD%93%E9%A8%93%E3%83%AC%E3%83%83%E3%82%B9%E3%83%B3-%E5%88%9D%E3%82%81%E3%81%A6%E3%81%AE%E6%96%B9/%E6%96%99%E9%87%91/
URL:https://dance.gdp22.com/event/dance-7993/2030-12-29/
LOCATION:六本木ダンススタジオカシーノ\, 東京都港区六本木5-2-4第二鳥勝ビル四階\, 六本木\, 106-0032\, 日本
CATEGORIES:バチャータ全般
END:VEVENT
END:VCALENDAR