BEGIN:VCALENDAR
VERSION:2.0
PRODID:-//Dancing Pono (ダンシングポノ) - ECPv6.15.12//NONSGML v1.0//EN
CALSCALE:GREGORIAN
METHOD:PUBLISH
X-ORIGINAL-URL:https://dance.gdp22.com
X-WR-CALDESC:Dancing Pono (ダンシングポノ) のイベント
REFRESH-INTERVAL;VALUE=DURATION:PT1H
X-Robots-Tag:noindex
X-PUBLISHED-TTL:PT1H
BEGIN:VTIMEZONE
TZID:Asia/Tokyo
BEGIN:STANDARD
TZOFFSETFROM:+0900
TZOFFSETTO:+0900
TZNAME:JST
DTSTART:20290101T000000
END:STANDARD
END:VTIMEZONE
BEGIN:VEVENT
DTSTART;TZID=Asia/Tokyo:20300602T160000
DTEND;TZID=Asia/Tokyo:20300602T164500
DTSTAMP:20260420T094149
CREATED:20220620T034137Z
LAST-MODIFIED:20220620T034137Z
UID:10290917-1906646400-1906649100@dance.gdp22.com
SUMMARY:バチャータ By HIROMI
DESCRIPTION:バチャータ\nHIROMI \nhttps://www.studio-casino.com/%E4%BD%93%E9%A8%93%E3%83%AC%E3%83%83%E3%82%B9%E3%83%B3-%E5%88%9D%E3%82%81%E3%81%A6%E3%81%AE%E6%96%B9/%E6%96%99%E9%87%91/
URL:https://dance.gdp22.com/event/dance-7977/2030-06-02/
LOCATION:六本木ダンススタジオカシーノ\, 東京都港区六本木5-2-4第二鳥勝ビル四階\, 六本木\, 106-0032\, 日本
CATEGORIES:バチャータ全般
END:VEVENT
BEGIN:VEVENT
DTSTART;TZID=Asia/Tokyo:20300602T170000
DTEND;TZID=Asia/Tokyo:20300602T174500
DTSTAMP:20260420T094149
CREATED:20220620T034412Z
LAST-MODIFIED:20220620T034412Z
UID:10290931-1906650000-1906652700@dance.gdp22.com
SUMMARY:バチャータ  振付Pairクラス By HIROMI
DESCRIPTION:バチャータ \n振付Pairクラス \nHIROMI \nhttps://www.studio-casino.com/%E4%BD%93%E9%A8%93%E3%83%AC%E3%83%83%E3%82%B9%E3%83%B3-%E5%88%9D%E3%82%81%E3%81%A6%E3%81%AE%E6%96%B9/%E6%96%99%E9%87%91/
URL:https://dance.gdp22.com/event/dance-7993/2030-06-02/
LOCATION:六本木ダンススタジオカシーノ\, 東京都港区六本木5-2-4第二鳥勝ビル四階\, 六本木\, 106-0032\, 日本
CATEGORIES:バチャータ全般
END:VEVENT
BEGIN:VEVENT
DTSTART;TZID=Asia/Tokyo:20300609T160000
DTEND;TZID=Asia/Tokyo:20300609T164500
DTSTAMP:20260420T094149
CREATED:20220620T034137Z
LAST-MODIFIED:20220620T034137Z
UID:10290918-1907251200-1907253900@dance.gdp22.com
SUMMARY:バチャータ By HIROMI
DESCRIPTION:バチャータ\nHIROMI \nhttps://www.studio-casino.com/%E4%BD%93%E9%A8%93%E3%83%AC%E3%83%83%E3%82%B9%E3%83%B3-%E5%88%9D%E3%82%81%E3%81%A6%E3%81%AE%E6%96%B9/%E6%96%99%E9%87%91/
URL:https://dance.gdp22.com/event/dance-7977/2030-06-09/
LOCATION:六本木ダンススタジオカシーノ\, 東京都港区六本木5-2-4第二鳥勝ビル四階\, 六本木\, 106-0032\, 日本
CATEGORIES:バチャータ全般
END:VEVENT
BEGIN:VEVENT
DTSTART;TZID=Asia/Tokyo:20300609T170000
DTEND;TZID=Asia/Tokyo:20300609T174500
DTSTAMP:20260420T094149
CREATED:20220620T034412Z
LAST-MODIFIED:20220620T034412Z
UID:10290932-1907254800-1907257500@dance.gdp22.com
SUMMARY:バチャータ  振付Pairクラス By HIROMI
DESCRIPTION:バチャータ \n振付Pairクラス \nHIROMI \nhttps://www.studio-casino.com/%E4%BD%93%E9%A8%93%E3%83%AC%E3%83%83%E3%82%B9%E3%83%B3-%E5%88%9D%E3%82%81%E3%81%A6%E3%81%AE%E6%96%B9/%E6%96%99%E9%87%91/
URL:https://dance.gdp22.com/event/dance-7993/2030-06-09/
LOCATION:六本木ダンススタジオカシーノ\, 東京都港区六本木5-2-4第二鳥勝ビル四階\, 六本木\, 106-0032\, 日本
CATEGORIES:バチャータ全般
END:VEVENT
BEGIN:VEVENT
DTSTART;TZID=Asia/Tokyo:20300616T160000
DTEND;TZID=Asia/Tokyo:20300616T164500
DTSTAMP:20260420T094149
CREATED:20220620T034137Z
LAST-MODIFIED:20220620T034137Z
UID:10291425-1907856000-1907858700@dance.gdp22.com
SUMMARY:バチャータ By HIROMI
DESCRIPTION:バチャータ\nHIROMI \nhttps://www.studio-casino.com/%E4%BD%93%E9%A8%93%E3%83%AC%E3%83%83%E3%82%B9%E3%83%B3-%E5%88%9D%E3%82%81%E3%81%A6%E3%81%AE%E6%96%B9/%E6%96%99%E9%87%91/
URL:https://dance.gdp22.com/event/dance-7977/2030-06-16/
LOCATION:六本木ダンススタジオカシーノ\, 東京都港区六本木5-2-4第二鳥勝ビル四階\, 六本木\, 106-0032\, 日本
CATEGORIES:バチャータ全般
END:VEVENT
BEGIN:VEVENT
DTSTART;TZID=Asia/Tokyo:20300616T170000
DTEND;TZID=Asia/Tokyo:20300616T174500
DTSTAMP:20260420T094149
CREATED:20220620T034412Z
LAST-MODIFIED:20220620T034412Z
UID:10291431-1907859600-1907862300@dance.gdp22.com
SUMMARY:バチャータ  振付Pairクラス By HIROMI
DESCRIPTION:バチャータ \n振付Pairクラス \nHIROMI \nhttps://www.studio-casino.com/%E4%BD%93%E9%A8%93%E3%83%AC%E3%83%83%E3%82%B9%E3%83%B3-%E5%88%9D%E3%82%81%E3%81%A6%E3%81%AE%E6%96%B9/%E6%96%99%E9%87%91/
URL:https://dance.gdp22.com/event/dance-7993/2030-06-16/
LOCATION:六本木ダンススタジオカシーノ\, 東京都港区六本木5-2-4第二鳥勝ビル四階\, 六本木\, 106-0032\, 日本
CATEGORIES:バチャータ全般
END:VEVENT
BEGIN:VEVENT
DTSTART;TZID=Asia/Tokyo:20300623T160000
DTEND;TZID=Asia/Tokyo:20300623T164500
DTSTAMP:20260420T094149
CREATED:20220620T034137Z
LAST-MODIFIED:20220620T034137Z
UID:10291733-1908460800-1908463500@dance.gdp22.com
SUMMARY:バチャータ By HIROMI
DESCRIPTION:バチャータ\nHIROMI \nhttps://www.studio-casino.com/%E4%BD%93%E9%A8%93%E3%83%AC%E3%83%83%E3%82%B9%E3%83%B3-%E5%88%9D%E3%82%81%E3%81%A6%E3%81%AE%E6%96%B9/%E6%96%99%E9%87%91/
URL:https://dance.gdp22.com/event/dance-7977/2030-06-23/
LOCATION:六本木ダンススタジオカシーノ\, 東京都港区六本木5-2-4第二鳥勝ビル四階\, 六本木\, 106-0032\, 日本
CATEGORIES:バチャータ全般
END:VEVENT
BEGIN:VEVENT
DTSTART;TZID=Asia/Tokyo:20300623T170000
DTEND;TZID=Asia/Tokyo:20300623T174500
DTSTAMP:20260420T094149
CREATED:20220620T034412Z
LAST-MODIFIED:20220620T034412Z
UID:10291745-1908464400-1908467100@dance.gdp22.com
SUMMARY:バチャータ  振付Pairクラス By HIROMI
DESCRIPTION:バチャータ \n振付Pairクラス \nHIROMI \nhttps://www.studio-casino.com/%E4%BD%93%E9%A8%93%E3%83%AC%E3%83%83%E3%82%B9%E3%83%B3-%E5%88%9D%E3%82%81%E3%81%A6%E3%81%AE%E6%96%B9/%E6%96%99%E9%87%91/
URL:https://dance.gdp22.com/event/dance-7993/2030-06-23/
LOCATION:六本木ダンススタジオカシーノ\, 東京都港区六本木5-2-4第二鳥勝ビル四階\, 六本木\, 106-0032\, 日本
CATEGORIES:バチャータ全般
END:VEVENT
BEGIN:VEVENT
DTSTART;TZID=Asia/Tokyo:20300630T160000
DTEND;TZID=Asia/Tokyo:20300630T164500
DTSTAMP:20260420T094149
CREATED:20220620T034137Z
LAST-MODIFIED:20220620T034137Z
UID:10291734-1909065600-1909068300@dance.gdp22.com
SUMMARY:バチャータ By HIROMI
DESCRIPTION:バチャータ\nHIROMI \nhttps://www.studio-casino.com/%E4%BD%93%E9%A8%93%E3%83%AC%E3%83%83%E3%82%B9%E3%83%B3-%E5%88%9D%E3%82%81%E3%81%A6%E3%81%AE%E6%96%B9/%E6%96%99%E9%87%91/
URL:https://dance.gdp22.com/event/dance-7977/2030-06-30/
LOCATION:六本木ダンススタジオカシーノ\, 東京都港区六本木5-2-4第二鳥勝ビル四階\, 六本木\, 106-0032\, 日本
CATEGORIES:バチャータ全般
END:VEVENT
BEGIN:VEVENT
DTSTART;TZID=Asia/Tokyo:20300630T170000
DTEND;TZID=Asia/Tokyo:20300630T174500
DTSTAMP:20260420T094149
CREATED:20220620T034412Z
LAST-MODIFIED:20220620T034412Z
UID:10291746-1909069200-1909071900@dance.gdp22.com
SUMMARY:バチャータ  振付Pairクラス By HIROMI
DESCRIPTION:バチャータ \n振付Pairクラス \nHIROMI \nhttps://www.studio-casino.com/%E4%BD%93%E9%A8%93%E3%83%AC%E3%83%83%E3%82%B9%E3%83%B3-%E5%88%9D%E3%82%81%E3%81%A6%E3%81%AE%E6%96%B9/%E6%96%99%E9%87%91/
URL:https://dance.gdp22.com/event/dance-7993/2030-06-30/
LOCATION:六本木ダンススタジオカシーノ\, 東京都港区六本木5-2-4第二鳥勝ビル四階\, 六本木\, 106-0032\, 日本
CATEGORIES:バチャータ全般
END:VEVENT
END:VCALENDAR