BEGIN:VCALENDAR
VERSION:2.0
PRODID:-//Dancing Pono (ダンシングポノ) - ECPv6.15.12//NONSGML v1.0//EN
CALSCALE:GREGORIAN
METHOD:PUBLISH
X-ORIGINAL-URL:https://dance.gdp22.com
X-WR-CALDESC:Dancing Pono (ダンシングポノ) のイベント
REFRESH-INTERVAL;VALUE=DURATION:PT1H
X-Robots-Tag:noindex
X-PUBLISHED-TTL:PT1H
BEGIN:VTIMEZONE
TZID:Asia/Tokyo
BEGIN:STANDARD
TZOFFSETFROM:+0900
TZOFFSETTO:+0900
TZNAME:JST
DTSTART:20290101T000000
END:STANDARD
END:VTIMEZONE
BEGIN:VEVENT
DTSTART;TZID=Asia/Tokyo:20300505T160000
DTEND;TZID=Asia/Tokyo:20300505T164500
DTSTAMP:20260420T080706
CREATED:20220620T034137Z
LAST-MODIFIED:20220620T034137Z
UID:10286012-1904227200-1904229900@dance.gdp22.com
SUMMARY:バチャータ By HIROMI
DESCRIPTION:バチャータ\nHIROMI \nhttps://www.studio-casino.com/%E4%BD%93%E9%A8%93%E3%83%AC%E3%83%83%E3%82%B9%E3%83%B3-%E5%88%9D%E3%82%81%E3%81%A6%E3%81%AE%E6%96%B9/%E6%96%99%E9%87%91/
URL:https://dance.gdp22.com/event/dance-7977/2030-05-05/
LOCATION:六本木ダンススタジオカシーノ\, 東京都港区六本木5-2-4第二鳥勝ビル四階\, 六本木\, 106-0032\, 日本
CATEGORIES:バチャータ全般
END:VEVENT
BEGIN:VEVENT
DTSTART;TZID=Asia/Tokyo:20300505T170000
DTEND;TZID=Asia/Tokyo:20300505T174500
DTSTAMP:20260420T080706
CREATED:20220620T034412Z
LAST-MODIFIED:20220620T034412Z
UID:10286024-1904230800-1904233500@dance.gdp22.com
SUMMARY:バチャータ  振付Pairクラス By HIROMI
DESCRIPTION:バチャータ \n振付Pairクラス \nHIROMI \nhttps://www.studio-casino.com/%E4%BD%93%E9%A8%93%E3%83%AC%E3%83%83%E3%82%B9%E3%83%B3-%E5%88%9D%E3%82%81%E3%81%A6%E3%81%AE%E6%96%B9/%E6%96%99%E9%87%91/
URL:https://dance.gdp22.com/event/dance-7993/2030-05-05/
LOCATION:六本木ダンススタジオカシーノ\, 東京都港区六本木5-2-4第二鳥勝ビル四階\, 六本木\, 106-0032\, 日本
CATEGORIES:バチャータ全般
END:VEVENT
BEGIN:VEVENT
DTSTART;TZID=Asia/Tokyo:20300512T160000
DTEND;TZID=Asia/Tokyo:20300512T164500
DTSTAMP:20260420T080706
CREATED:20220620T034137Z
LAST-MODIFIED:20220620T034137Z
UID:10286013-1904832000-1904834700@dance.gdp22.com
SUMMARY:バチャータ By HIROMI
DESCRIPTION:バチャータ\nHIROMI \nhttps://www.studio-casino.com/%E4%BD%93%E9%A8%93%E3%83%AC%E3%83%83%E3%82%B9%E3%83%B3-%E5%88%9D%E3%82%81%E3%81%A6%E3%81%AE%E6%96%B9/%E6%96%99%E9%87%91/
URL:https://dance.gdp22.com/event/dance-7977/2030-05-12/
LOCATION:六本木ダンススタジオカシーノ\, 東京都港区六本木5-2-4第二鳥勝ビル四階\, 六本木\, 106-0032\, 日本
CATEGORIES:バチャータ全般
END:VEVENT
BEGIN:VEVENT
DTSTART;TZID=Asia/Tokyo:20300512T170000
DTEND;TZID=Asia/Tokyo:20300512T174500
DTSTAMP:20260420T080706
CREATED:20220620T034412Z
LAST-MODIFIED:20220620T034412Z
UID:10286025-1904835600-1904838300@dance.gdp22.com
SUMMARY:バチャータ  振付Pairクラス By HIROMI
DESCRIPTION:バチャータ \n振付Pairクラス \nHIROMI \nhttps://www.studio-casino.com/%E4%BD%93%E9%A8%93%E3%83%AC%E3%83%83%E3%82%B9%E3%83%B3-%E5%88%9D%E3%82%81%E3%81%A6%E3%81%AE%E6%96%B9/%E6%96%99%E9%87%91/
URL:https://dance.gdp22.com/event/dance-7993/2030-05-12/
LOCATION:六本木ダンススタジオカシーノ\, 東京都港区六本木5-2-4第二鳥勝ビル四階\, 六本木\, 106-0032\, 日本
CATEGORIES:バチャータ全般
END:VEVENT
BEGIN:VEVENT
DTSTART;TZID=Asia/Tokyo:20300519T160000
DTEND;TZID=Asia/Tokyo:20300519T164500
DTSTAMP:20260420T080706
CREATED:20220620T034137Z
LAST-MODIFIED:20220620T034137Z
UID:10289528-1905436800-1905439500@dance.gdp22.com
SUMMARY:バチャータ By HIROMI
DESCRIPTION:バチャータ\nHIROMI \nhttps://www.studio-casino.com/%E4%BD%93%E9%A8%93%E3%83%AC%E3%83%83%E3%82%B9%E3%83%B3-%E5%88%9D%E3%82%81%E3%81%A6%E3%81%AE%E6%96%B9/%E6%96%99%E9%87%91/
URL:https://dance.gdp22.com/event/dance-7977/2030-05-19/
LOCATION:六本木ダンススタジオカシーノ\, 東京都港区六本木5-2-4第二鳥勝ビル四階\, 六本木\, 106-0032\, 日本
CATEGORIES:バチャータ全般
END:VEVENT
BEGIN:VEVENT
DTSTART;TZID=Asia/Tokyo:20300519T170000
DTEND;TZID=Asia/Tokyo:20300519T174500
DTSTAMP:20260420T080706
CREATED:20220620T034412Z
LAST-MODIFIED:20220620T034412Z
UID:10289534-1905440400-1905443100@dance.gdp22.com
SUMMARY:バチャータ  振付Pairクラス By HIROMI
DESCRIPTION:バチャータ \n振付Pairクラス \nHIROMI \nhttps://www.studio-casino.com/%E4%BD%93%E9%A8%93%E3%83%AC%E3%83%83%E3%82%B9%E3%83%B3-%E5%88%9D%E3%82%81%E3%81%A6%E3%81%AE%E6%96%B9/%E6%96%99%E9%87%91/
URL:https://dance.gdp22.com/event/dance-7993/2030-05-19/
LOCATION:六本木ダンススタジオカシーノ\, 東京都港区六本木5-2-4第二鳥勝ビル四階\, 六本木\, 106-0032\, 日本
CATEGORIES:バチャータ全般
END:VEVENT
BEGIN:VEVENT
DTSTART;TZID=Asia/Tokyo:20300526T160000
DTEND;TZID=Asia/Tokyo:20300526T164500
DTSTAMP:20260420T080706
CREATED:20220620T034137Z
LAST-MODIFIED:20220620T034137Z
UID:10290405-1906041600-1906044300@dance.gdp22.com
SUMMARY:バチャータ By HIROMI
DESCRIPTION:バチャータ\nHIROMI \nhttps://www.studio-casino.com/%E4%BD%93%E9%A8%93%E3%83%AC%E3%83%83%E3%82%B9%E3%83%B3-%E5%88%9D%E3%82%81%E3%81%A6%E3%81%AE%E6%96%B9/%E6%96%99%E9%87%91/
URL:https://dance.gdp22.com/event/dance-7977/2030-05-26/
LOCATION:六本木ダンススタジオカシーノ\, 東京都港区六本木5-2-4第二鳥勝ビル四階\, 六本木\, 106-0032\, 日本
CATEGORIES:バチャータ全般
END:VEVENT
BEGIN:VEVENT
DTSTART;TZID=Asia/Tokyo:20300526T170000
DTEND;TZID=Asia/Tokyo:20300526T174500
DTSTAMP:20260420T080706
CREATED:20220620T034412Z
LAST-MODIFIED:20220620T034412Z
UID:10290411-1906045200-1906047900@dance.gdp22.com
SUMMARY:バチャータ  振付Pairクラス By HIROMI
DESCRIPTION:バチャータ \n振付Pairクラス \nHIROMI \nhttps://www.studio-casino.com/%E4%BD%93%E9%A8%93%E3%83%AC%E3%83%83%E3%82%B9%E3%83%B3-%E5%88%9D%E3%82%81%E3%81%A6%E3%81%AE%E6%96%B9/%E6%96%99%E9%87%91/
URL:https://dance.gdp22.com/event/dance-7993/2030-05-26/
LOCATION:六本木ダンススタジオカシーノ\, 東京都港区六本木5-2-4第二鳥勝ビル四階\, 六本木\, 106-0032\, 日本
CATEGORIES:バチャータ全般
END:VEVENT
END:VCALENDAR