BEGIN:VCALENDAR
VERSION:2.0
PRODID:-//Dancing Pono (ダンシングポノ) - ECPv6.15.12//NONSGML v1.0//EN
CALSCALE:GREGORIAN
METHOD:PUBLISH
X-WR-CALNAME:Dancing Pono (ダンシングポノ)
X-ORIGINAL-URL:https://dance.gdp22.com
X-WR-CALDESC:Dancing Pono (ダンシングポノ) のイベント
REFRESH-INTERVAL;VALUE=DURATION:PT1H
X-Robots-Tag:noindex
X-PUBLISHED-TTL:PT1H
BEGIN:VTIMEZONE
TZID:Asia/Tokyo
BEGIN:STANDARD
TZOFFSETFROM:+0900
TZOFFSETTO:+0900
TZNAME:JST
DTSTART:20290101T000000
END:STANDARD
END:VTIMEZONE
BEGIN:VEVENT
DTSTART;TZID=Asia/Tokyo:20300303T160000
DTEND;TZID=Asia/Tokyo:20300303T164500
DTSTAMP:20260420T045934
CREATED:20220620T034137Z
LAST-MODIFIED:20220620T034137Z
UID:10264958-1898784000-1898786700@dance.gdp22.com
SUMMARY:バチャータ By HIROMI
DESCRIPTION:バチャータ\nHIROMI \nhttps://www.studio-casino.com/%E4%BD%93%E9%A8%93%E3%83%AC%E3%83%83%E3%82%B9%E3%83%B3-%E5%88%9D%E3%82%81%E3%81%A6%E3%81%AE%E6%96%B9/%E6%96%99%E9%87%91/
URL:https://dance.gdp22.com/event/dance-7977/2030-03-03/
LOCATION:六本木ダンススタジオカシーノ\, 東京都港区六本木5-2-4第二鳥勝ビル四階\, 六本木\, 106-0032\, 日本
CATEGORIES:バチャータ全般
END:VEVENT
BEGIN:VEVENT
DTSTART;TZID=Asia/Tokyo:20300303T170000
DTEND;TZID=Asia/Tokyo:20300303T174500
DTSTAMP:20260420T045934
CREATED:20220620T034412Z
LAST-MODIFIED:20220620T034412Z
UID:10264962-1898787600-1898790300@dance.gdp22.com
SUMMARY:バチャータ  振付Pairクラス By HIROMI
DESCRIPTION:バチャータ \n振付Pairクラス \nHIROMI \nhttps://www.studio-casino.com/%E4%BD%93%E9%A8%93%E3%83%AC%E3%83%83%E3%82%B9%E3%83%B3-%E5%88%9D%E3%82%81%E3%81%A6%E3%81%AE%E6%96%B9/%E6%96%99%E9%87%91/
URL:https://dance.gdp22.com/event/dance-7993/2030-03-03/
LOCATION:六本木ダンススタジオカシーノ\, 東京都港区六本木5-2-4第二鳥勝ビル四階\, 六本木\, 106-0032\, 日本
CATEGORIES:バチャータ全般
END:VEVENT
BEGIN:VEVENT
DTSTART;TZID=Asia/Tokyo:20300310T160000
DTEND;TZID=Asia/Tokyo:20300310T164500
DTSTAMP:20260420T045934
CREATED:20220620T034137Z
LAST-MODIFIED:20220620T034137Z
UID:10268013-1899388800-1899391500@dance.gdp22.com
SUMMARY:バチャータ By HIROMI
DESCRIPTION:バチャータ\nHIROMI \nhttps://www.studio-casino.com/%E4%BD%93%E9%A8%93%E3%83%AC%E3%83%83%E3%82%B9%E3%83%B3-%E5%88%9D%E3%82%81%E3%81%A6%E3%81%AE%E6%96%B9/%E6%96%99%E9%87%91/
URL:https://dance.gdp22.com/event/dance-7977/2030-03-10/
LOCATION:六本木ダンススタジオカシーノ\, 東京都港区六本木5-2-4第二鳥勝ビル四階\, 六本木\, 106-0032\, 日本
CATEGORIES:バチャータ全般
END:VEVENT
BEGIN:VEVENT
DTSTART;TZID=Asia/Tokyo:20300310T170000
DTEND;TZID=Asia/Tokyo:20300310T174500
DTSTAMP:20260420T045934
CREATED:20220620T034412Z
LAST-MODIFIED:20220620T034412Z
UID:10268538-1899392400-1899395100@dance.gdp22.com
SUMMARY:バチャータ  振付Pairクラス By HIROMI
DESCRIPTION:バチャータ \n振付Pairクラス \nHIROMI \nhttps://www.studio-casino.com/%E4%BD%93%E9%A8%93%E3%83%AC%E3%83%83%E3%82%B9%E3%83%B3-%E5%88%9D%E3%82%81%E3%81%A6%E3%81%AE%E6%96%B9/%E6%96%99%E9%87%91/
URL:https://dance.gdp22.com/event/dance-7993/2030-03-10/
LOCATION:六本木ダンススタジオカシーノ\, 東京都港区六本木5-2-4第二鳥勝ビル四階\, 六本木\, 106-0032\, 日本
CATEGORIES:バチャータ全般
END:VEVENT
BEGIN:VEVENT
DTSTART;TZID=Asia/Tokyo:20300317T160000
DTEND;TZID=Asia/Tokyo:20300317T164500
DTSTAMP:20260420T045934
CREATED:20220620T034137Z
LAST-MODIFIED:20220620T034137Z
UID:10273932-1899993600-1899996300@dance.gdp22.com
SUMMARY:バチャータ By HIROMI
DESCRIPTION:バチャータ\nHIROMI \nhttps://www.studio-casino.com/%E4%BD%93%E9%A8%93%E3%83%AC%E3%83%83%E3%82%B9%E3%83%B3-%E5%88%9D%E3%82%81%E3%81%A6%E3%81%AE%E6%96%B9/%E6%96%99%E9%87%91/
URL:https://dance.gdp22.com/event/dance-7977/2030-03-17/
LOCATION:六本木ダンススタジオカシーノ\, 東京都港区六本木5-2-4第二鳥勝ビル四階\, 六本木\, 106-0032\, 日本
CATEGORIES:バチャータ全般
END:VEVENT
BEGIN:VEVENT
DTSTART;TZID=Asia/Tokyo:20300317T170000
DTEND;TZID=Asia/Tokyo:20300317T174500
DTSTAMP:20260420T045934
CREATED:20220620T034412Z
LAST-MODIFIED:20220620T034412Z
UID:10273939-1899997200-1899999900@dance.gdp22.com
SUMMARY:バチャータ  振付Pairクラス By HIROMI
DESCRIPTION:バチャータ \n振付Pairクラス \nHIROMI \nhttps://www.studio-casino.com/%E4%BD%93%E9%A8%93%E3%83%AC%E3%83%83%E3%82%B9%E3%83%B3-%E5%88%9D%E3%82%81%E3%81%A6%E3%81%AE%E6%96%B9/%E6%96%99%E9%87%91/
URL:https://dance.gdp22.com/event/dance-7993/2030-03-17/
LOCATION:六本木ダンススタジオカシーノ\, 東京都港区六本木5-2-4第二鳥勝ビル四階\, 六本木\, 106-0032\, 日本
CATEGORIES:バチャータ全般
END:VEVENT
BEGIN:VEVENT
DTSTART;TZID=Asia/Tokyo:20300324T160000
DTEND;TZID=Asia/Tokyo:20300324T164500
DTSTAMP:20260420T045934
CREATED:20220620T034137Z
LAST-MODIFIED:20220620T034137Z
UID:10279746-1900598400-1900601100@dance.gdp22.com
SUMMARY:バチャータ By HIROMI
DESCRIPTION:バチャータ\nHIROMI \nhttps://www.studio-casino.com/%E4%BD%93%E9%A8%93%E3%83%AC%E3%83%83%E3%82%B9%E3%83%B3-%E5%88%9D%E3%82%81%E3%81%A6%E3%81%AE%E6%96%B9/%E6%96%99%E9%87%91/
URL:https://dance.gdp22.com/event/dance-7977/2030-03-24/
LOCATION:六本木ダンススタジオカシーノ\, 東京都港区六本木5-2-4第二鳥勝ビル四階\, 六本木\, 106-0032\, 日本
CATEGORIES:バチャータ全般
END:VEVENT
BEGIN:VEVENT
DTSTART;TZID=Asia/Tokyo:20300324T170000
DTEND;TZID=Asia/Tokyo:20300324T174500
DTSTAMP:20260420T045934
CREATED:20220620T034412Z
LAST-MODIFIED:20220620T034412Z
UID:10279753-1900602000-1900604700@dance.gdp22.com
SUMMARY:バチャータ  振付Pairクラス By HIROMI
DESCRIPTION:バチャータ \n振付Pairクラス \nHIROMI \nhttps://www.studio-casino.com/%E4%BD%93%E9%A8%93%E3%83%AC%E3%83%83%E3%82%B9%E3%83%B3-%E5%88%9D%E3%82%81%E3%81%A6%E3%81%AE%E6%96%B9/%E6%96%99%E9%87%91/
URL:https://dance.gdp22.com/event/dance-7993/2030-03-24/
LOCATION:六本木ダンススタジオカシーノ\, 東京都港区六本木5-2-4第二鳥勝ビル四階\, 六本木\, 106-0032\, 日本
CATEGORIES:バチャータ全般
END:VEVENT
BEGIN:VEVENT
DTSTART;TZID=Asia/Tokyo:20300331T160000
DTEND;TZID=Asia/Tokyo:20300331T164500
DTSTAMP:20260420T045934
CREATED:20220620T034137Z
LAST-MODIFIED:20220620T034137Z
UID:10280148-1901203200-1901205900@dance.gdp22.com
SUMMARY:バチャータ By HIROMI
DESCRIPTION:バチャータ\nHIROMI \nhttps://www.studio-casino.com/%E4%BD%93%E9%A8%93%E3%83%AC%E3%83%83%E3%82%B9%E3%83%B3-%E5%88%9D%E3%82%81%E3%81%A6%E3%81%AE%E6%96%B9/%E6%96%99%E9%87%91/
URL:https://dance.gdp22.com/event/dance-7977/2030-03-31/
LOCATION:六本木ダンススタジオカシーノ\, 東京都港区六本木5-2-4第二鳥勝ビル四階\, 六本木\, 106-0032\, 日本
CATEGORIES:バチャータ全般
END:VEVENT
BEGIN:VEVENT
DTSTART;TZID=Asia/Tokyo:20300331T170000
DTEND;TZID=Asia/Tokyo:20300331T174500
DTSTAMP:20260420T045934
CREATED:20220620T034412Z
LAST-MODIFIED:20220620T034412Z
UID:10280155-1901206800-1901209500@dance.gdp22.com
SUMMARY:バチャータ  振付Pairクラス By HIROMI
DESCRIPTION:バチャータ \n振付Pairクラス \nHIROMI \nhttps://www.studio-casino.com/%E4%BD%93%E9%A8%93%E3%83%AC%E3%83%83%E3%82%B9%E3%83%B3-%E5%88%9D%E3%82%81%E3%81%A6%E3%81%AE%E6%96%B9/%E6%96%99%E9%87%91/
URL:https://dance.gdp22.com/event/dance-7993/2030-03-31/
LOCATION:六本木ダンススタジオカシーノ\, 東京都港区六本木5-2-4第二鳥勝ビル四階\, 六本木\, 106-0032\, 日本
CATEGORIES:バチャータ全般
END:VEVENT
END:VCALENDAR