BEGIN:VCALENDAR
VERSION:2.0
PRODID:-//Dancing Pono (ダンシングポノ) - ECPv6.15.12//NONSGML v1.0//EN
CALSCALE:GREGORIAN
METHOD:PUBLISH
X-WR-CALNAME:Dancing Pono (ダンシングポノ)
X-ORIGINAL-URL:https://dance.gdp22.com
X-WR-CALDESC:Dancing Pono (ダンシングポノ) のイベント
REFRESH-INTERVAL;VALUE=DURATION:PT1H
X-Robots-Tag:noindex
X-PUBLISHED-TTL:PT1H
BEGIN:VTIMEZONE
TZID:Asia/Tokyo
BEGIN:STANDARD
TZOFFSETFROM:+0900
TZOFFSETTO:+0900
TZNAME:JST
DTSTART:20290101T000000
END:STANDARD
END:VTIMEZONE
BEGIN:VEVENT
DTSTART;TZID=Asia/Tokyo:20300106T160000
DTEND;TZID=Asia/Tokyo:20300106T164500
DTSTAMP:20260420T014212
CREATED:20220620T034137Z
LAST-MODIFIED:20220620T034137Z
UID:10237430-1893945600-1893948300@dance.gdp22.com
SUMMARY:バチャータ By HIROMI
DESCRIPTION:バチャータ\nHIROMI \nhttps://www.studio-casino.com/%E4%BD%93%E9%A8%93%E3%83%AC%E3%83%83%E3%82%B9%E3%83%B3-%E5%88%9D%E3%82%81%E3%81%A6%E3%81%AE%E6%96%B9/%E6%96%99%E9%87%91/
URL:https://dance.gdp22.com/event/dance-7977/2030-01-06/
LOCATION:六本木ダンススタジオカシーノ\, 東京都港区六本木5-2-4第二鳥勝ビル四階\, 六本木\, 106-0032\, 日本
CATEGORIES:バチャータ全般
END:VEVENT
BEGIN:VEVENT
DTSTART;TZID=Asia/Tokyo:20300106T170000
DTEND;TZID=Asia/Tokyo:20300106T174500
DTSTAMP:20260420T014212
CREATED:20220620T034412Z
LAST-MODIFIED:20220620T034412Z
UID:10237434-1893949200-1893951900@dance.gdp22.com
SUMMARY:バチャータ  振付Pairクラス By HIROMI
DESCRIPTION:バチャータ \n振付Pairクラス \nHIROMI \nhttps://www.studio-casino.com/%E4%BD%93%E9%A8%93%E3%83%AC%E3%83%83%E3%82%B9%E3%83%B3-%E5%88%9D%E3%82%81%E3%81%A6%E3%81%AE%E6%96%B9/%E6%96%99%E9%87%91/
URL:https://dance.gdp22.com/event/dance-7993/2030-01-06/
LOCATION:六本木ダンススタジオカシーノ\, 東京都港区六本木5-2-4第二鳥勝ビル四階\, 六本木\, 106-0032\, 日本
CATEGORIES:バチャータ全般
END:VEVENT
BEGIN:VEVENT
DTSTART;TZID=Asia/Tokyo:20300113T160000
DTEND;TZID=Asia/Tokyo:20300113T164500
DTSTAMP:20260420T014212
CREATED:20220620T034137Z
LAST-MODIFIED:20220620T034137Z
UID:10245477-1894550400-1894553100@dance.gdp22.com
SUMMARY:バチャータ By HIROMI
DESCRIPTION:バチャータ\nHIROMI \nhttps://www.studio-casino.com/%E4%BD%93%E9%A8%93%E3%83%AC%E3%83%83%E3%82%B9%E3%83%B3-%E5%88%9D%E3%82%81%E3%81%A6%E3%81%AE%E6%96%B9/%E6%96%99%E9%87%91/
URL:https://dance.gdp22.com/event/dance-7977/2030-01-13/
LOCATION:六本木ダンススタジオカシーノ\, 東京都港区六本木5-2-4第二鳥勝ビル四階\, 六本木\, 106-0032\, 日本
CATEGORIES:バチャータ全般
END:VEVENT
BEGIN:VEVENT
DTSTART;TZID=Asia/Tokyo:20300113T170000
DTEND;TZID=Asia/Tokyo:20300113T174500
DTSTAMP:20260420T014212
CREATED:20220620T034412Z
LAST-MODIFIED:20220620T034412Z
UID:10245732-1894554000-1894556700@dance.gdp22.com
SUMMARY:バチャータ  振付Pairクラス By HIROMI
DESCRIPTION:バチャータ \n振付Pairクラス \nHIROMI \nhttps://www.studio-casino.com/%E4%BD%93%E9%A8%93%E3%83%AC%E3%83%83%E3%82%B9%E3%83%B3-%E5%88%9D%E3%82%81%E3%81%A6%E3%81%AE%E6%96%B9/%E6%96%99%E9%87%91/
URL:https://dance.gdp22.com/event/dance-7993/2030-01-13/
LOCATION:六本木ダンススタジオカシーノ\, 東京都港区六本木5-2-4第二鳥勝ビル四階\, 六本木\, 106-0032\, 日本
CATEGORIES:バチャータ全般
END:VEVENT
BEGIN:VEVENT
DTSTART;TZID=Asia/Tokyo:20300120T160000
DTEND;TZID=Asia/Tokyo:20300120T164500
DTSTAMP:20260420T014212
CREATED:20220620T034137Z
LAST-MODIFIED:20220620T034137Z
UID:10250945-1895155200-1895157900@dance.gdp22.com
SUMMARY:バチャータ By HIROMI
DESCRIPTION:バチャータ\nHIROMI \nhttps://www.studio-casino.com/%E4%BD%93%E9%A8%93%E3%83%AC%E3%83%83%E3%82%B9%E3%83%B3-%E5%88%9D%E3%82%81%E3%81%A6%E3%81%AE%E6%96%B9/%E6%96%99%E9%87%91/
URL:https://dance.gdp22.com/event/dance-7977/2030-01-20/
LOCATION:六本木ダンススタジオカシーノ\, 東京都港区六本木5-2-4第二鳥勝ビル四階\, 六本木\, 106-0032\, 日本
CATEGORIES:バチャータ全般
END:VEVENT
BEGIN:VEVENT
DTSTART;TZID=Asia/Tokyo:20300120T170000
DTEND;TZID=Asia/Tokyo:20300120T174500
DTSTAMP:20260420T014212
CREATED:20220620T034412Z
LAST-MODIFIED:20220620T034412Z
UID:10250950-1895158800-1895161500@dance.gdp22.com
SUMMARY:バチャータ  振付Pairクラス By HIROMI
DESCRIPTION:バチャータ \n振付Pairクラス \nHIROMI \nhttps://www.studio-casino.com/%E4%BD%93%E9%A8%93%E3%83%AC%E3%83%83%E3%82%B9%E3%83%B3-%E5%88%9D%E3%82%81%E3%81%A6%E3%81%AE%E6%96%B9/%E6%96%99%E9%87%91/
URL:https://dance.gdp22.com/event/dance-7993/2030-01-20/
LOCATION:六本木ダンススタジオカシーノ\, 東京都港区六本木5-2-4第二鳥勝ビル四階\, 六本木\, 106-0032\, 日本
CATEGORIES:バチャータ全般
END:VEVENT
BEGIN:VEVENT
DTSTART;TZID=Asia/Tokyo:20300127T160000
DTEND;TZID=Asia/Tokyo:20300127T164500
DTSTAMP:20260420T014212
CREATED:20220620T034137Z
LAST-MODIFIED:20220620T034137Z
UID:10252842-1895760000-1895762700@dance.gdp22.com
SUMMARY:バチャータ By HIROMI
DESCRIPTION:バチャータ\nHIROMI \nhttps://www.studio-casino.com/%E4%BD%93%E9%A8%93%E3%83%AC%E3%83%83%E3%82%B9%E3%83%B3-%E5%88%9D%E3%82%81%E3%81%A6%E3%81%AE%E6%96%B9/%E6%96%99%E9%87%91/
URL:https://dance.gdp22.com/event/dance-7977/2030-01-27/
LOCATION:六本木ダンススタジオカシーノ\, 東京都港区六本木5-2-4第二鳥勝ビル四階\, 六本木\, 106-0032\, 日本
CATEGORIES:バチャータ全般
END:VEVENT
BEGIN:VEVENT
DTSTART;TZID=Asia/Tokyo:20300127T170000
DTEND;TZID=Asia/Tokyo:20300127T174500
DTSTAMP:20260420T014212
CREATED:20220620T034412Z
LAST-MODIFIED:20220620T034412Z
UID:10252846-1895763600-1895766300@dance.gdp22.com
SUMMARY:バチャータ  振付Pairクラス By HIROMI
DESCRIPTION:バチャータ \n振付Pairクラス \nHIROMI \nhttps://www.studio-casino.com/%E4%BD%93%E9%A8%93%E3%83%AC%E3%83%83%E3%82%B9%E3%83%B3-%E5%88%9D%E3%82%81%E3%81%A6%E3%81%AE%E6%96%B9/%E6%96%99%E9%87%91/
URL:https://dance.gdp22.com/event/dance-7993/2030-01-27/
LOCATION:六本木ダンススタジオカシーノ\, 東京都港区六本木5-2-4第二鳥勝ビル四階\, 六本木\, 106-0032\, 日本
CATEGORIES:バチャータ全般
END:VEVENT
END:VCALENDAR