BEGIN:VCALENDAR
VERSION:2.0
PRODID:-//Dancing Pono (ダンシングポノ) - ECPv6.15.12//NONSGML v1.0//EN
CALSCALE:GREGORIAN
METHOD:PUBLISH
X-WR-CALNAME:Dancing Pono (ダンシングポノ)
X-ORIGINAL-URL:https://dance.gdp22.com
X-WR-CALDESC:Dancing Pono (ダンシングポノ) のイベント
REFRESH-INTERVAL;VALUE=DURATION:PT1H
X-Robots-Tag:noindex
X-PUBLISHED-TTL:PT1H
BEGIN:VTIMEZONE
TZID:Asia/Tokyo
BEGIN:STANDARD
TZOFFSETFROM:+0900
TZOFFSETTO:+0900
TZNAME:JST
DTSTART:20270101T000000
END:STANDARD
END:VTIMEZONE
BEGIN:VEVENT
DTSTART;TZID=Asia/Tokyo:20280704T150000
DTEND;TZID=Asia/Tokyo:20280704T170000
DTSTAMP:20260421T174137
CREATED:20220829T034838Z
LAST-MODIFIED:20220829T034838Z
UID:10259025-1846335600-1846342800@dance.gdp22.com
SUMMARY:キューバン・サルサ初中級
DESCRIPTION:カフェルンビータ（京都） \n詳細はWEB参照
URL:https://dance.gdp22.com/event/dance-31630/2028-07-04/
LOCATION:カフェルンビータ（京都）\, 京都府京都市中京区山崎町２５８−１９ 珠光ビル三条 ３F\, 京都\, 604-8032\, 日本
CATEGORIES:キューバン
END:VEVENT
BEGIN:VEVENT
DTSTART;TZID=Asia/Tokyo:20280706T150000
DTEND;TZID=Asia/Tokyo:20280706T170000
DTSTAMP:20260421T174137
CREATED:20220829T041410Z
LAST-MODIFIED:20220829T041410Z
UID:10260596-1846508400-1846515600@dance.gdp22.com
SUMMARY:キューバン・入門クラス
DESCRIPTION:カフェルンビータ（京都） \n詳細はWEB参照
URL:https://dance.gdp22.com/event/dance-31691/2028-07-06/
LOCATION:カフェルンビータ（京都）\, 京都府京都市中京区山崎町２５８−１９ 珠光ビル三条 ３F\, 京都\, 604-8032\, 日本
CATEGORIES:キューバン
END:VEVENT
BEGIN:VEVENT
DTSTART;TZID=Asia/Tokyo:20280711T150000
DTEND;TZID=Asia/Tokyo:20280711T170000
DTSTAMP:20260421T174137
CREATED:20220829T034838Z
LAST-MODIFIED:20220829T034838Z
UID:10259026-1846940400-1846947600@dance.gdp22.com
SUMMARY:キューバン・サルサ初中級
DESCRIPTION:カフェルンビータ（京都） \n詳細はWEB参照
URL:https://dance.gdp22.com/event/dance-31630/2028-07-11/
LOCATION:カフェルンビータ（京都）\, 京都府京都市中京区山崎町２５８−１９ 珠光ビル三条 ３F\, 京都\, 604-8032\, 日本
CATEGORIES:キューバン
END:VEVENT
BEGIN:VEVENT
DTSTART;TZID=Asia/Tokyo:20280713T150000
DTEND;TZID=Asia/Tokyo:20280713T170000
DTSTAMP:20260421T174137
CREATED:20220829T041410Z
LAST-MODIFIED:20220829T041410Z
UID:10260597-1847113200-1847120400@dance.gdp22.com
SUMMARY:キューバン・入門クラス
DESCRIPTION:カフェルンビータ（京都） \n詳細はWEB参照
URL:https://dance.gdp22.com/event/dance-31691/2028-07-13/
LOCATION:カフェルンビータ（京都）\, 京都府京都市中京区山崎町２５８−１９ 珠光ビル三条 ３F\, 京都\, 604-8032\, 日本
CATEGORIES:キューバン
END:VEVENT
BEGIN:VEVENT
DTSTART;TZID=Asia/Tokyo:20280718T150000
DTEND;TZID=Asia/Tokyo:20280718T170000
DTSTAMP:20260421T174137
CREATED:20220829T034838Z
LAST-MODIFIED:20220829T034838Z
UID:10259027-1847545200-1847552400@dance.gdp22.com
SUMMARY:キューバン・サルサ初中級
DESCRIPTION:カフェルンビータ（京都） \n詳細はWEB参照
URL:https://dance.gdp22.com/event/dance-31630/2028-07-18/
LOCATION:カフェルンビータ（京都）\, 京都府京都市中京区山崎町２５８−１９ 珠光ビル三条 ３F\, 京都\, 604-8032\, 日本
CATEGORIES:キューバン
END:VEVENT
BEGIN:VEVENT
DTSTART;TZID=Asia/Tokyo:20280720T150000
DTEND;TZID=Asia/Tokyo:20280720T170000
DTSTAMP:20260421T174137
CREATED:20220829T041410Z
LAST-MODIFIED:20220829T041410Z
UID:10260598-1847718000-1847725200@dance.gdp22.com
SUMMARY:キューバン・入門クラス
DESCRIPTION:カフェルンビータ（京都） \n詳細はWEB参照
URL:https://dance.gdp22.com/event/dance-31691/2028-07-20/
LOCATION:カフェルンビータ（京都）\, 京都府京都市中京区山崎町２５８−１９ 珠光ビル三条 ３F\, 京都\, 604-8032\, 日本
CATEGORIES:キューバン
END:VEVENT
BEGIN:VEVENT
DTSTART;TZID=Asia/Tokyo:20280725T150000
DTEND;TZID=Asia/Tokyo:20280725T170000
DTSTAMP:20260421T174137
CREATED:20220829T034838Z
LAST-MODIFIED:20220829T034838Z
UID:10259028-1848150000-1848157200@dance.gdp22.com
SUMMARY:キューバン・サルサ初中級
DESCRIPTION:カフェルンビータ（京都） \n詳細はWEB参照
URL:https://dance.gdp22.com/event/dance-31630/2028-07-25/
LOCATION:カフェルンビータ（京都）\, 京都府京都市中京区山崎町２５８−１９ 珠光ビル三条 ３F\, 京都\, 604-8032\, 日本
CATEGORIES:キューバン
END:VEVENT
BEGIN:VEVENT
DTSTART;TZID=Asia/Tokyo:20280727T150000
DTEND;TZID=Asia/Tokyo:20280727T170000
DTSTAMP:20260421T174137
CREATED:20220829T041410Z
LAST-MODIFIED:20220829T041410Z
UID:10260599-1848322800-1848330000@dance.gdp22.com
SUMMARY:キューバン・入門クラス
DESCRIPTION:カフェルンビータ（京都） \n詳細はWEB参照
URL:https://dance.gdp22.com/event/dance-31691/2028-07-27/
LOCATION:カフェルンビータ（京都）\, 京都府京都市中京区山崎町２５８−１９ 珠光ビル三条 ３F\, 京都\, 604-8032\, 日本
CATEGORIES:キューバン
END:VEVENT
END:VCALENDAR