BEGIN:VCALENDAR
VERSION:2.0
PRODID:-//Dancing Pono (ダンシングポノ) - ECPv6.15.12//NONSGML v1.0//EN
CALSCALE:GREGORIAN
METHOD:PUBLISH
X-WR-CALNAME:Dancing Pono (ダンシングポノ)
X-ORIGINAL-URL:https://dance.gdp22.com
X-WR-CALDESC:Dancing Pono (ダンシングポノ) のイベント
REFRESH-INTERVAL;VALUE=DURATION:PT1H
X-Robots-Tag:noindex
X-PUBLISHED-TTL:PT1H
BEGIN:VTIMEZONE
TZID:Asia/Tokyo
BEGIN:STANDARD
TZOFFSETFROM:+0900
TZOFFSETTO:+0900
TZNAME:JST
DTSTART:20260101T000000
END:STANDARD
END:VTIMEZONE
BEGIN:VEVENT
DTSTART;TZID=Asia/Tokyo:20270803T150000
DTEND;TZID=Asia/Tokyo:20270803T170000
DTSTAMP:20260420T205023
CREATED:20220829T034838Z
LAST-MODIFIED:20220829T034838Z
UID:10258977-1817305200-1817312400@dance.gdp22.com
SUMMARY:キューバン・サルサ初中級
DESCRIPTION:カフェルンビータ（京都） \n詳細はWEB参照
URL:https://dance.gdp22.com/event/dance-31630/2027-08-03/
LOCATION:カフェルンビータ（京都）\, 京都府京都市中京区山崎町２５８−１９ 珠光ビル三条 ３F\, 京都\, 604-8032\, 日本
CATEGORIES:キューバン
END:VEVENT
BEGIN:VEVENT
DTSTART;TZID=Asia/Tokyo:20270805T150000
DTEND;TZID=Asia/Tokyo:20270805T170000
DTSTAMP:20260420T205023
CREATED:20220829T041410Z
LAST-MODIFIED:20220829T041410Z
UID:10260548-1817478000-1817485200@dance.gdp22.com
SUMMARY:キューバン・入門クラス
DESCRIPTION:カフェルンビータ（京都） \n詳細はWEB参照
URL:https://dance.gdp22.com/event/dance-31691/2027-08-05/
LOCATION:カフェルンビータ（京都）\, 京都府京都市中京区山崎町２５８−１９ 珠光ビル三条 ３F\, 京都\, 604-8032\, 日本
CATEGORIES:キューバン
END:VEVENT
BEGIN:VEVENT
DTSTART;TZID=Asia/Tokyo:20270810T150000
DTEND;TZID=Asia/Tokyo:20270810T170000
DTSTAMP:20260420T205023
CREATED:20220829T034838Z
LAST-MODIFIED:20220829T034838Z
UID:10258978-1817910000-1817917200@dance.gdp22.com
SUMMARY:キューバン・サルサ初中級
DESCRIPTION:カフェルンビータ（京都） \n詳細はWEB参照
URL:https://dance.gdp22.com/event/dance-31630/2027-08-10/
LOCATION:カフェルンビータ（京都）\, 京都府京都市中京区山崎町２５８−１９ 珠光ビル三条 ３F\, 京都\, 604-8032\, 日本
CATEGORIES:キューバン
END:VEVENT
BEGIN:VEVENT
DTSTART;TZID=Asia/Tokyo:20270812T150000
DTEND;TZID=Asia/Tokyo:20270812T170000
DTSTAMP:20260420T205023
CREATED:20220829T041410Z
LAST-MODIFIED:20220829T041410Z
UID:10260549-1818082800-1818090000@dance.gdp22.com
SUMMARY:キューバン・入門クラス
DESCRIPTION:カフェルンビータ（京都） \n詳細はWEB参照
URL:https://dance.gdp22.com/event/dance-31691/2027-08-12/
LOCATION:カフェルンビータ（京都）\, 京都府京都市中京区山崎町２５８−１９ 珠光ビル三条 ３F\, 京都\, 604-8032\, 日本
CATEGORIES:キューバン
END:VEVENT
BEGIN:VEVENT
DTSTART;TZID=Asia/Tokyo:20270817T150000
DTEND;TZID=Asia/Tokyo:20270817T170000
DTSTAMP:20260420T205023
CREATED:20220829T034838Z
LAST-MODIFIED:20220829T034838Z
UID:10258979-1818514800-1818522000@dance.gdp22.com
SUMMARY:キューバン・サルサ初中級
DESCRIPTION:カフェルンビータ（京都） \n詳細はWEB参照
URL:https://dance.gdp22.com/event/dance-31630/2027-08-17/
LOCATION:カフェルンビータ（京都）\, 京都府京都市中京区山崎町２５８−１９ 珠光ビル三条 ３F\, 京都\, 604-8032\, 日本
CATEGORIES:キューバン
END:VEVENT
BEGIN:VEVENT
DTSTART;TZID=Asia/Tokyo:20270819T150000
DTEND;TZID=Asia/Tokyo:20270819T170000
DTSTAMP:20260420T205023
CREATED:20220829T041410Z
LAST-MODIFIED:20220829T041410Z
UID:10260550-1818687600-1818694800@dance.gdp22.com
SUMMARY:キューバン・入門クラス
DESCRIPTION:カフェルンビータ（京都） \n詳細はWEB参照
URL:https://dance.gdp22.com/event/dance-31691/2027-08-19/
LOCATION:カフェルンビータ（京都）\, 京都府京都市中京区山崎町２５８−１９ 珠光ビル三条 ３F\, 京都\, 604-8032\, 日本
CATEGORIES:キューバン
END:VEVENT
BEGIN:VEVENT
DTSTART;TZID=Asia/Tokyo:20270824T150000
DTEND;TZID=Asia/Tokyo:20270824T170000
DTSTAMP:20260420T205023
CREATED:20220829T034838Z
LAST-MODIFIED:20220829T034838Z
UID:10258980-1819119600-1819126800@dance.gdp22.com
SUMMARY:キューバン・サルサ初中級
DESCRIPTION:カフェルンビータ（京都） \n詳細はWEB参照
URL:https://dance.gdp22.com/event/dance-31630/2027-08-24/
LOCATION:カフェルンビータ（京都）\, 京都府京都市中京区山崎町２５８−１９ 珠光ビル三条 ３F\, 京都\, 604-8032\, 日本
CATEGORIES:キューバン
END:VEVENT
BEGIN:VEVENT
DTSTART;TZID=Asia/Tokyo:20270826T150000
DTEND;TZID=Asia/Tokyo:20270826T170000
DTSTAMP:20260420T205023
CREATED:20220829T041410Z
LAST-MODIFIED:20220829T041410Z
UID:10260551-1819292400-1819299600@dance.gdp22.com
SUMMARY:キューバン・入門クラス
DESCRIPTION:カフェルンビータ（京都） \n詳細はWEB参照
URL:https://dance.gdp22.com/event/dance-31691/2027-08-26/
LOCATION:カフェルンビータ（京都）\, 京都府京都市中京区山崎町２５８−１９ 珠光ビル三条 ３F\, 京都\, 604-8032\, 日本
CATEGORIES:キューバン
END:VEVENT
BEGIN:VEVENT
DTSTART;TZID=Asia/Tokyo:20270831T150000
DTEND;TZID=Asia/Tokyo:20270831T170000
DTSTAMP:20260420T205023
CREATED:20220829T034838Z
LAST-MODIFIED:20220829T034838Z
UID:10258981-1819724400-1819731600@dance.gdp22.com
SUMMARY:キューバン・サルサ初中級
DESCRIPTION:カフェルンビータ（京都） \n詳細はWEB参照
URL:https://dance.gdp22.com/event/dance-31630/2027-08-31/
LOCATION:カフェルンビータ（京都）\, 京都府京都市中京区山崎町２５８−１９ 珠光ビル三条 ３F\, 京都\, 604-8032\, 日本
CATEGORIES:キューバン
END:VEVENT
END:VCALENDAR