BEGIN:VCALENDAR
VERSION:2.0
PRODID:-//Dancing Pono (ダンシングポノ) - ECPv6.15.12//NONSGML v1.0//EN
CALSCALE:GREGORIAN
METHOD:PUBLISH
X-WR-CALNAME:Dancing Pono (ダンシングポノ)
X-ORIGINAL-URL:https://dance.gdp22.com
X-WR-CALDESC:Dancing Pono (ダンシングポノ) のイベント
REFRESH-INTERVAL;VALUE=DURATION:PT1H
X-Robots-Tag:noindex
X-PUBLISHED-TTL:PT1H
BEGIN:VTIMEZONE
TZID:Asia/Tokyo
BEGIN:STANDARD
TZOFFSETFROM:+0900
TZOFFSETTO:+0900
TZNAME:JST
DTSTART:20250101T000000
END:STANDARD
END:VTIMEZONE
BEGIN:VEVENT
DTSTART;TZID=Asia/Tokyo:20260804T150000
DTEND;TZID=Asia/Tokyo:20260804T170000
DTSTAMP:20260419T224724
CREATED:20220829T034838Z
LAST-MODIFIED:20220829T034838Z
UID:10258925-1785855600-1785862800@dance.gdp22.com
SUMMARY:キューバン・サルサ初中級
DESCRIPTION:カフェルンビータ（京都） \n詳細はWEB参照
URL:https://dance.gdp22.com/event/dance-31630/2026-08-04/
LOCATION:カフェルンビータ（京都）\, 京都府京都市中京区山崎町２５８−１９ 珠光ビル三条 ３F\, 京都\, 604-8032\, 日本
CATEGORIES:キューバン
END:VEVENT
BEGIN:VEVENT
DTSTART;TZID=Asia/Tokyo:20260806T150000
DTEND;TZID=Asia/Tokyo:20260806T170000
DTSTAMP:20260419T224724
CREATED:20220829T041410Z
LAST-MODIFIED:20220829T041410Z
UID:10260496-1786028400-1786035600@dance.gdp22.com
SUMMARY:キューバン・入門クラス
DESCRIPTION:カフェルンビータ（京都） \n詳細はWEB参照
URL:https://dance.gdp22.com/event/dance-31691/2026-08-06/
LOCATION:カフェルンビータ（京都）\, 京都府京都市中京区山崎町２５８−１９ 珠光ビル三条 ３F\, 京都\, 604-8032\, 日本
CATEGORIES:キューバン
END:VEVENT
BEGIN:VEVENT
DTSTART;TZID=Asia/Tokyo:20260811T150000
DTEND;TZID=Asia/Tokyo:20260811T170000
DTSTAMP:20260419T224724
CREATED:20220829T034838Z
LAST-MODIFIED:20220829T034838Z
UID:10258926-1786460400-1786467600@dance.gdp22.com
SUMMARY:キューバン・サルサ初中級
DESCRIPTION:カフェルンビータ（京都） \n詳細はWEB参照
URL:https://dance.gdp22.com/event/dance-31630/2026-08-11/
LOCATION:カフェルンビータ（京都）\, 京都府京都市中京区山崎町２５８−１９ 珠光ビル三条 ３F\, 京都\, 604-8032\, 日本
CATEGORIES:キューバン
END:VEVENT
BEGIN:VEVENT
DTSTART;TZID=Asia/Tokyo:20260813T150000
DTEND;TZID=Asia/Tokyo:20260813T170000
DTSTAMP:20260419T224724
CREATED:20220829T041410Z
LAST-MODIFIED:20220829T041410Z
UID:10260497-1786633200-1786640400@dance.gdp22.com
SUMMARY:キューバン・入門クラス
DESCRIPTION:カフェルンビータ（京都） \n詳細はWEB参照
URL:https://dance.gdp22.com/event/dance-31691/2026-08-13/
LOCATION:カフェルンビータ（京都）\, 京都府京都市中京区山崎町２５８−１９ 珠光ビル三条 ３F\, 京都\, 604-8032\, 日本
CATEGORIES:キューバン
END:VEVENT
BEGIN:VEVENT
DTSTART;TZID=Asia/Tokyo:20260818T150000
DTEND;TZID=Asia/Tokyo:20260818T170000
DTSTAMP:20260419T224724
CREATED:20220829T034838Z
LAST-MODIFIED:20220829T034838Z
UID:10258927-1787065200-1787072400@dance.gdp22.com
SUMMARY:キューバン・サルサ初中級
DESCRIPTION:カフェルンビータ（京都） \n詳細はWEB参照
URL:https://dance.gdp22.com/event/dance-31630/2026-08-18/
LOCATION:カフェルンビータ（京都）\, 京都府京都市中京区山崎町２５８−１９ 珠光ビル三条 ３F\, 京都\, 604-8032\, 日本
CATEGORIES:キューバン
END:VEVENT
BEGIN:VEVENT
DTSTART;TZID=Asia/Tokyo:20260820T150000
DTEND;TZID=Asia/Tokyo:20260820T170000
DTSTAMP:20260419T224724
CREATED:20220829T041410Z
LAST-MODIFIED:20220829T041410Z
UID:10260498-1787238000-1787245200@dance.gdp22.com
SUMMARY:キューバン・入門クラス
DESCRIPTION:カフェルンビータ（京都） \n詳細はWEB参照
URL:https://dance.gdp22.com/event/dance-31691/2026-08-20/
LOCATION:カフェルンビータ（京都）\, 京都府京都市中京区山崎町２５８−１９ 珠光ビル三条 ３F\, 京都\, 604-8032\, 日本
CATEGORIES:キューバン
END:VEVENT
BEGIN:VEVENT
DTSTART;TZID=Asia/Tokyo:20260825T150000
DTEND;TZID=Asia/Tokyo:20260825T170000
DTSTAMP:20260419T224724
CREATED:20220829T034838Z
LAST-MODIFIED:20220829T034838Z
UID:10258928-1787670000-1787677200@dance.gdp22.com
SUMMARY:キューバン・サルサ初中級
DESCRIPTION:カフェルンビータ（京都） \n詳細はWEB参照
URL:https://dance.gdp22.com/event/dance-31630/2026-08-25/
LOCATION:カフェルンビータ（京都）\, 京都府京都市中京区山崎町２５８−１９ 珠光ビル三条 ３F\, 京都\, 604-8032\, 日本
CATEGORIES:キューバン
END:VEVENT
BEGIN:VEVENT
DTSTART;TZID=Asia/Tokyo:20260827T150000
DTEND;TZID=Asia/Tokyo:20260827T170000
DTSTAMP:20260419T224724
CREATED:20220829T041410Z
LAST-MODIFIED:20220829T041410Z
UID:10260499-1787842800-1787850000@dance.gdp22.com
SUMMARY:キューバン・入門クラス
DESCRIPTION:カフェルンビータ（京都） \n詳細はWEB参照
URL:https://dance.gdp22.com/event/dance-31691/2026-08-27/
LOCATION:カフェルンビータ（京都）\, 京都府京都市中京区山崎町２５８−１９ 珠光ビル三条 ３F\, 京都\, 604-8032\, 日本
CATEGORIES:キューバン
END:VEVENT
END:VCALENDAR