BEGIN:VCALENDAR
VERSION:2.0
PRODID:-//Dancing Pono (ダンシングポノ) - ECPv6.15.12//NONSGML v1.0//EN
CALSCALE:GREGORIAN
METHOD:PUBLISH
X-WR-CALNAME:Dancing Pono (ダンシングポノ)
X-ORIGINAL-URL:https://dance.gdp22.com
X-WR-CALDESC:Dancing Pono (ダンシングポノ) のイベント
REFRESH-INTERVAL;VALUE=DURATION:PT1H
X-Robots-Tag:noindex
X-PUBLISHED-TTL:PT1H
BEGIN:VTIMEZONE
TZID:Asia/Tokyo
BEGIN:STANDARD
TZOFFSETFROM:+0900
TZOFFSETTO:+0900
TZNAME:JST
DTSTART:20250101T000000
END:STANDARD
END:VTIMEZONE
BEGIN:VEVENT
DTSTART;TZID=Asia/Tokyo:20260314T200000
DTEND;TZID=Asia/Tokyo:20260314T233000
DTSTAMP:20260421T175634
CREATED:20260310T065556Z
LAST-MODIFIED:20260310T065556Z
UID:10236976-1773518400-1773531000@dance.gdp22.com
SUMMARY:超SALSA
DESCRIPTION:3/14(土)　超SALSA\nhttps://www.facebook.com/events/1401864744560146 \n  \n超SALSA @Pepe\n日時 2026/3/14(土)：19:00〜23:30会場オープンが18:45レッスン(19:00スタート)とFreetime開始が早くなります。★エントランス：￥2000.-1drink付★場所：スタジオぺぺ東京都港区六本木７丁目１７−１２ 六本木ビジネスアパートメンツ★Lesson：インストラクター tomo Salsa On2 初中級 ￥1000.- 19:00～20:10（当日のレッスン次第で多少の時間の遅れはございます。）tomo 元ロスサルセーロス インストラクター 2004年に六本木FiestaLatinaでレッスン開始。2014年ロスサルセーロスの解散以降は プライベートレッスンのみの受付だったが、コロナ禍のサルサ界の衰退を危惧して昨年よりオープンレッスンを再開。 PEPE2ではご存知、踊り続けるインストラクター。 レッスン後は可能な限り踊る予定！なので、遠慮せず、早めに声を掛けて下さい。★DJ:You ゆうたろう
URL:https://dance.gdp22.com/event/club-style-salsa-2-2025-01-11-7/
LOCATION:六本木スタジオペペ\, 東京都港区六本木７丁目１７−１２ 六本木ビジネスアパートメンツ\, 六本木\, 106-0032\, 日本
CATEGORIES:サルサon1,センシュアルバチャータ,サルサon2
ATTACH;FMTTYPE=image/jpeg:https://dance.gdp22.com/wp-content/uploads/0314-2.jpg
END:VEVENT
END:VCALENDAR