BEGIN:VCALENDAR
VERSION:2.0
PRODID:-//Dancing Pono (ダンシングポノ) - ECPv6.15.12//NONSGML v1.0//EN
CALSCALE:GREGORIAN
METHOD:PUBLISH
X-ORIGINAL-URL:https://dance.gdp22.com
X-WR-CALDESC:Dancing Pono (ダンシングポノ) のイベント
REFRESH-INTERVAL;VALUE=DURATION:PT1H
X-Robots-Tag:noindex
X-PUBLISHED-TTL:PT1H
BEGIN:VTIMEZONE
TZID:Asia/Tokyo
BEGIN:STANDARD
TZOFFSETFROM:+0900
TZOFFSETTO:+0900
TZNAME:JST
DTSTART:20240101T000000
END:STANDARD
END:VTIMEZONE
BEGIN:VEVENT
DTSTART;TZID=Asia/Tokyo:20251213T200000
DTEND;TZID=Asia/Tokyo:20251213T233000
DTSTAMP:20260422T003527
CREATED:20251110T133511Z
LAST-MODIFIED:20251211T013939Z
UID:10298027-1765656000-1765668600@dance.gdp22.com
SUMMARY:Concept ★ Bachata&Salsa 『Elegant& Sexy Night!』　vol.112
DESCRIPTION:12/13(土)　Concept ★ Bachata&Salsa 『Elegant& Sexy Night!』　vol.112\nhttps://www.facebook.com/events/1174902794133235/ \n  \nConcept ★ Bachata&Salsa vol.112\n　「Elegant& Sexy Night!」\n今回のコンセプトは、ずばり大人の色気！　照明はいつもより暗めにまた曲はムード系の曲がメインになります。服装はいつもよりお洒落して大人の色気ある恰好でお願いします。レッスンは今引っ張りだこの人気バチャータインストラクターFran & Lacey！サルサ50％、バチャータ50％（場の状況により比率変動あり）\n\n＜スケジュール（場所：Studio PePe）＞19：00～　　　　　　 Open19：10～20:10 Sensual Bachata Lesson（Fran & Lacey）　　　　　 Allレベル ￥1\,50020：10～　　　　　 DJ Time (DJ Mami) 　 21：30～　　　　　　 Performance　　　　　　　　　(Linking Japan Company（Intermediate）) ～23：30　　　　　　 Close\n\n【エントランス】Lesson＋DJ Time：￥3\,500DJ Time：￥2\,000\n＜DJ ：Mami＞みんな大好きMamiちゃん登板！選曲の良さと会場の空気を読む抜群のセンスを兼ね備えた、サルサ、バチャータ何でも来いの頼れるバディ。自ら数々の人気イベントをオーガナイズし、その他のイベントでもひっぱりだこの人気DJ。その経験からどんな曲でも即座に対応のドラえもんポケットみたいな選曲リストで今回も会場を盛り上げます。\n＜レッスン講師：Fran & Lacey＞スペイン、韓国、タイ、日本、シンガポールなど、世界各地での指導経験を持つ。3度のスペイン留学で、世界的に有名なダンサーであるMariangeles & Rafa、Marco & Sara、Carlos & Paz、Igor & Rocioと共にトレーニングし、最新の情報を学び、日本で惜しみなくシェアしてきた。2022年にはスペインのインプロ大会で優勝し、Grupo Esenciaのインストラクターとして静岡で活動。2023 Asento Japan インストラクター2022スペインのインプロ大会優勝2022 静岡でGrupo Esencia静岡インストラクター\n【 Fran フラン 】母国ペルーでラテンダンス（サルサ、バチャータ、メレンゲ）を学び、様々なダンススクールで技術を磨いた経験を持つ。Peru Salsa Congressにも多数出場し、サルサバンドのバックダンサーとしても活躍。静岡では「Lin_Kingジャパン」のインストラクターとして活動し、ダンスレッスンや国際交流イベントを開催。現在は拠点を東京に移している。\n【 Lacey レイシー 】26歳の若手アメリカ人。Mariangeles、Noelia、Sara Paneroのバチャータスタイルの影響を受けており、Ellasというレディースチームのリーダーも務める。イタリアを含む世界各地のステージでパフォーマンスを披露しており、彼女の振付は強い感情を表現している。\n＜パフォーマンス：Linking Japan Company（Intermediate）＞Linking Japan Company（Intermediate）は、さまざまな国の出身メンバーで構成されたバチャータダンスグループです。ダンスを始めてまだ1年未満のメンバーもいますが、みんな向上心が強く、楽しみながら練習に取り組んでいます。チームとして、テクニックやチームワークを少しずつ積み重ねながら成長しており、今回のパフォーマンスはその日々の努力の成果をお見せするものです。どうぞお楽しみください。\n\n＜イベント場所：六本木Studio pepe＞所在地：東京都港区六本木7-17-12 ビジネスアパートメンツB1(明治屋裏)最寄駅：日比谷線六本木駅より徒歩２分（メトロ日比谷線・都営地下鉄大江戸線）アクセス：地下鉄日比谷線六本木駅２番出口を出て、一つ目の角、サイゼリアを右折。さらにすぐ一つ目の角を右折し、その先のビル（向かって左）のB1F\n※Concept☆Bacha&Sal 次回予定日(2025/12/29(月))
URL:https://dance.gdp22.com/event/dance-113853/
LOCATION:六本木スタジオペペ\, 東京都港区六本木７丁目１７−１２ 六本木ビジネスアパートメンツ\, 六本木\, 106-0032\, 日本
CATEGORIES:サルサon1,センシュアルバチャータ,サルサon2
ATTACH;FMTTYPE=image/jpeg:https://dance.gdp22.com/wp-content/uploads/1213.jpeg
END:VEVENT
END:VCALENDAR