BEGIN:VCALENDAR
VERSION:2.0
PRODID:-//Dancing Pono (ダンシングポノ) - ECPv6.15.12//NONSGML v1.0//EN
CALSCALE:GREGORIAN
METHOD:PUBLISH
X-ORIGINAL-URL:https://dance.gdp22.com
X-WR-CALDESC:Dancing Pono (ダンシングポノ) のイベント
REFRESH-INTERVAL;VALUE=DURATION:PT1H
X-Robots-Tag:noindex
X-PUBLISHED-TTL:PT1H
BEGIN:VTIMEZONE
TZID:Asia/Tokyo
BEGIN:STANDARD
TZOFFSETFROM:+0900
TZOFFSETTO:+0900
TZNAME:JST
DTSTART:20240101T000000
END:STANDARD
END:VTIMEZONE
BEGIN:VEVENT
DTSTART;TZID=Asia/Tokyo:20251011T200000
DTEND;TZID=Asia/Tokyo:20251011T233000
DTSTAMP:20260422T051000
CREATED:20250917T074649Z
LAST-MODIFIED:20250917T074705Z
UID:10295443-1760212800-1760225400@dance.gdp22.com
SUMMARY:Concept ★ Bachata&Salsa vol.111 『Autumn Night!!』PePe
DESCRIPTION:リンク：https://fb.me/e/1PhDxRAC3J \nConcept ★ Bachata&Salsa vol.111\n『Autumn Night!!』 \n今回のコンセプトは「秋」！秋らしい雰囲気の恰好でお越しください！\nレッスンは人気のバチャータインストラクターHaruka！\n見ごたえ抜群のTNT Pairパフォーマンス！\nサルサ50％、バチャータ50％（場の状況により比率変動あり） \n＜スケジュール（場所：Studio PePe）＞\n19：00～　　　　 Open\n19：10～20:10 Sensual Bachata Lesson（Haruka）\nAllレベル ￥1\,000\n20：10～　　　　 DJ Time (DJ Mami)\n21：30～　　　　 Performance （TNT-DOMINACION）\n～23：30　　　　 Close \n【エントランス】\nLesson＋DJ Time：￥3\,000\nDJ Time：￥2\,000 \n＜DJ ：Mami＞\nみんな大好きMamiちゃん登板！\n選曲の良さと会場の空気を読む抜群のセンスを兼ね備えた、サルサ、バチャータ何でも来いの頼れるバディ。\n自ら数々の人気イベントをオーガナイズし、その他のイベントでもひっぱりだこの人気DJ。\nその経験からどんな曲でも即座に対応のドラえもんポケットみたいな選曲リストで今回も会場を盛り上げます。 \n＜レッスン講師：Haruka＞\nクラシックバレエを4歳から始め、コンテンポラリー、フラメンコなど様々なスタイルを学ぶ。\n2013年よりカナダのバレエ団に入団し、数々の公演におけるパフォーマンスで脚光をあびる。\n2017年にラテンダンスを始め、国内外の指導者の元にて学ぶ。\n2022年のシンガポールバチャータフェスティバルではセンシュアルバチャータ創始者コルケとワークショップを行う。\n同年よりコルケの選抜メンバーに入る。 \n2018年 《Japan Bachata Cup》\n振付プロ部門 3位\n2018年 《カリベバチャータフリースタイルコンペティション》\nレディースソロ部門 1位\n2019年 《Japan Bachata Cup》\n振付レディースソロ部門 2位\n2019年 《日本ラテンダンスコンペティション》\nレディースソロ部門 1位\n2019年 《Kiko & Christina Japan Tour》 Jack & Jill 1位 \n＜パフォーマンス：TNT-DOMINACION （ティーエヌティー ドミナシオン）＞ \nVarun & Aki が率いるバチャータペアチーム。ふたりの師匠、Richard David Tholoor （リチャード・デイヴィッド・トゥルー）が振付を担当した、フュージョンスタイルです。\nミュージカリティーたっぷり、エネルギッシュで遊び心のある今作品。個性豊かなメンバーたちと踊ります！！ \n＜イベント場所：六本木Studio pepe＞\n所在地：東京都港区六本木7-17-12 ビジネスアパートメンツB1(明治屋裏)\n最寄駅：日比谷線六本木駅より徒歩２分（メトロ日比谷線・都営地下鉄大江戸線）\nアクセス：地下鉄日比谷線六本木駅２番出口を出て、一つ目の角、サイゼリアを右折。\nさらにすぐ一つ目の角を右折し、その先のビル（向かって左）のB1F \n※Concept☆Bacha&Sal年内予定日：12/13(土)、12/29（月)
URL:https://dance.gdp22.com/event/dance-108578/
LOCATION:六本木スタジオペペ\, 東京都港区六本木７丁目１７−１２ 六本木ビジネスアパートメンツ\, 六本木\, 106-0032\, 日本
CATEGORIES:サルサon1,センシュアルバチャータ,サルサon2
ATTACH;FMTTYPE=image/jpeg:https://dance.gdp22.com/wp-content/uploads/1011-2.jpg
END:VEVENT
BEGIN:VEVENT
DTSTART;TZID=Asia/Tokyo:20251031T080000
DTEND;TZID=Asia/Tokyo:20251031T170000
DTSTAMP:20260422T051000
CREATED:20251027T120453Z
LAST-MODIFIED:20251027T120453Z
UID:10294160-1761897600-1761930000@dance.gdp22.com
SUMMARY:Club Style Salsa Vol.163 in PePe
DESCRIPTION:10/31(金)　Club Style Salsa Vol.163 in PePe\nhttps://www.facebook.com/events/4273085989589948/ \n  \n今回はハロウィンナイト!!!リアルハロウィン コスプレ大歓迎♪オールスタイルサルサで盛り上がりましょう!!!レッスンはいっちー＆まなみ先生によるON2 Shine & ON2 PartnerWork 初中級レベルレッスン♪DJ陣はDJ yuu\,こぼりん\, nob の３名で盛り上げます!!!皆様のご来場を心よりお待ちしています♪\n■料金¥2\,000 1drink　レッスン参加 +￥1\,000\n■タイムスケージュール19:20 Open19:30 ON2 Shine & ON2 PartnerWork 初中級レベルレッスン20:30 DJタイム23:30 Close\n■インストラクター《Icchie Mario》2000年7月NY Style ON2 Salsaを始める2002年9月より初心者向けのレッスンを開始2015年2月より吉祥寺カリブにてレッスンを開始2015年10月~2017年2月、Omambo Japan Intermediate Pair Teamインストラクター2015年11月～2017年3月、六本木サルサ・カリベにて金曜レッスンを担当Washington DC、New York、Berlin、San Francisco、Singapore、Taipei他、日本国内各所にてパフォーマンス出演。2015年7月よりコロナ禍前までNYへのサルサ修行を年3回敢行。NY Style ON2 Salsaを日夜研究している。\n《Manami》2010年にキューバンダンスをはじめ、2012年～2013年に一年間キューバへコンテンポラリーダンス留学。2015～2017年 on1サルサパフォーマンスチームに所属、アマチュア部門レディースシャイン優勝経験などあり。2017年から on2サルサをはじめ、2019年よりいっちーまーりおのパートナーとして東京のほか沼津、札幌等各所でワークショップ＆パフォーマンスを行い、NY Style ON2 Salsaを日夜研究中！\n■DJDJ yuu\, こぼりん\, nob\n■DJ こぼりん只今DJ修行中ですが、張り切りますのでぜひぜひ踊りに来てください！\n■DJ nob (Club Style Salsa)2002年にSalsaに出会い、ソーシャルダンスに明け暮れ、ダンスに飽き足らずDJ活動を経て2013年よりイベントClub Style Salsaを立ち上げる。2025年、現在ではpepe2レギュラーイベントを通じて、スタイル問わずソーシャルダンサー、DJ、インストラクター、ミュージシャンと交流をかさね、サルサラバーのひとりとして精進中。\n●イベント場所：六本木Studio pepe2●所在地：東京都港区六本木7-17-12 ビジネスアパートメンツB1(明治屋裏)最寄駅：日比谷線六本木駅より徒歩2分（メトロ日比谷線・都営地下鉄大江戸線）アクセス：地下鉄日比谷線六本木駅2番出口を出て、一つ目の角、サイゼリアを右折。さらにすぐ一つ目の角を右折し、その先のビル（向かって左）のB1F\nイベント詳細はFacebookまたはGoogle「club style salsa」で検索。
URL:https://dance.gdp22.com/event/club-style-salsa-3-3/
LOCATION:六本木スタジオペペ\, 東京都港区六本木７丁目１７−１２ 六本木ビジネスアパートメンツ\, 六本木\, 106-0032\, 日本
CATEGORIES:サルサon1,センシュアルバチャータ,サルサon2
ATTACH;FMTTYPE=image/jpeg:https://dance.gdp22.com/wp-content/uploads/1031-2.jpg
END:VEVENT
END:VCALENDAR