BEGIN:VCALENDAR
VERSION:2.0
PRODID:-//Dancing Pono (ダンシングポノ) - ECPv6.15.12//NONSGML v1.0//EN
CALSCALE:GREGORIAN
METHOD:PUBLISH
X-ORIGINAL-URL:https://dance.gdp22.com
X-WR-CALDESC:Dancing Pono (ダンシングポノ) のイベント
REFRESH-INTERVAL;VALUE=DURATION:PT1H
X-Robots-Tag:noindex
X-PUBLISHED-TTL:PT1H
BEGIN:VTIMEZONE
TZID:Asia/Tokyo
BEGIN:STANDARD
TZOFFSETFROM:+0900
TZOFFSETTO:+0900
TZNAME:JST
DTSTART:20240101T000000
END:STANDARD
END:VTIMEZONE
BEGIN:VEVENT
DTSTART;TZID=Asia/Tokyo:20250809T200000
DTEND;TZID=Asia/Tokyo:20250809T233000
DTSTAMP:20260422T094910
CREATED:20250707T034050Z
LAST-MODIFIED:20250715T083932Z
UID:10292246-1754769600-1754782200@dance.gdp22.com
SUMMARY:Concept ★ Bachata&Salsa!＠PePe
DESCRIPTION:イベントリンク：\nhttps://facebook.com/events/s/conceptbachatasalsapepe/1927189214790173/ \n「Concept ★ Bachata&Salsa!＠PePe」 Vol.110 2025/8/9(Sat) \n「Summer Night」\n今回のコンセプトは「夏」！夏らしい明るい服装でお越しください！\nレッスンは人気のバチャータインストラクターVarun & Aki！\n見ごたえ抜群、豪華2組のパフォーマンス！\nサルサ50％、バチャータ50％（場の状況により比率変動あり） \n＜スケジュール（場所：Studio PePe）＞\n19：00～　　　　　　 Open\n19：10～20:10 Sensual Bachata Lesson（Varun & Aki）\nAllレベル ￥1\,000\n20：10～　　　　　 DJ Time (DJ Mami)\n21：30～　　　　　　 Performance\n（Black Soul Sisters Japan\,yumi KUROKI＋TAKE）\n～23：30　　　　　　 Close \n【エントランス】\nLesson＋DJ Time：￥3\,000\nDJ Time：￥2\,000 \n＜DJ ：Mami＞\nみんな大好きMamiちゃん登板！\n選曲の良さと会場の空気を読む抜群のセンスを兼ね備えた、サルサ、バチャータ何でも来いの頼れるバディ。\n自ら数々の人気イベントをオーガナイズし、その他のイベントでもひっぱりだこの人気DJ。\nその経験からどんな曲でも即座に対応のドラえもんポケットみたいな選曲リストで今回も会場を盛り上げます。 \n＜レッスン講師：Varun＆Aki＞\n【Varun（ヴァルン）】\nダンススクールTNT を主催。インド、米国、東京で、HIPHOP、サルサ、バチャータ、バレエ、ジャズなどのダンス経験を積む。現在はバチャータ 、サルサ、南インドのコリウッドダンスを指導する。ダンス経験のない全くの初心者を育てるのが得意で、その指導力には定評がある。過去にインドにおいて、ダンスチームを振付・指導し、コンペティション優勝へと導いた経験を持つ。サルサ世界チャンピオン・アジアバチャータチャンピオンの Richard&Swethaに師事。現在は４つのダンスチームのディレクターを務める。 \n【Aki】\n幅広いダンス・演技経験を持ち、映像作品や舞台、広告でも活躍。NY、LA、トロント、ウイーン、日本各地で舞台に立つ。過去、ウィーンオペラ座舞踏会に日本代表として出場。演劇、日本舞踊、ジャズ、シアターダンス、バレエ、タップなどを学び、ラテンダンスに出会う。サルサ世界チャンピオン・アジアバチャータチャンピオンのRichard & Svethaにバチャータを師事。身体表現者のための解剖学に基づいた体と呼吸のトレーニングコースを修了。その知識をダンスに活かした指導が、生徒からも好評を得ている。 \n＜パフォーマンス①：Black Soul Sisters Japan>\n世界のスーパー、サルサダンサー\nTania Cannarasaの公式チームです \n東京本部You\n愛媛支部Miyo\n京都支部Ayumi\nオンラインYukoAkiba \nの指導のもと総勢30名の女性がBootCampがではなくオフィシャルのWorldTeam に所属して6カ間練習してしました\n前日開催されたUltra Latin Japan 2025ではTaniaと夢の共演も果たしました。\nそして今回シローさんのコンセプトに出演させて頂くことを嬉しく思います。\nどうぞよろしくお願いします \n9月から2ndシーズンが始まりますので、チームにご興味がある方は当日会場にてYouにご相談くださいませ。\nhttps://www.facebook.com/share/18msEmAnti/?mibextid=wwXIfr \n＜パフォーマンス②：yumi KUROKI＋TAKE＞\n今回はジャンル分け不能？なペアダンス作品を目指し、TAKEさんにご協力いただき作った作品です。 \n本来今年の2月にパフォーマンス予定でしたが叶わず、yumi TAKE共に体のメンテナンスを経て戻ってまいりました！\nこの歌のイメージを表現できるように気持ちを込めて踊らせていただきます。 \nそれでは、今度こそ！ご一緒に参りましょう。混沌の世界へ \n＜イベント場所：六本木Studio pepe＞\n所在地：東京都港区六本木7-17-12 ビジネスアパートメンツB1(明治屋裏)\n最寄駅：日比谷線六本木駅より徒歩２分（メトロ日比谷線・都営地下鉄大江戸線）\nアクセス：地下鉄日比谷線六本木駅２番出口を出て、一つ目の角、サイゼリアを右折。\nさらにすぐ一つ目の角を右折し、その先のビル（向かって左）のB1F \n※Concept☆Bacha&Sal 次回予定日(2025/10/11(土))
URL:https://dance.gdp22.com/event/dance-101662/
LOCATION:六本木スタジオペペ\, 東京都港区六本木７丁目１７−１２ 六本木ビジネスアパートメンツ\, 六本木\, 106-0032\, 日本
CATEGORIES:サルサon1,センシュアルバチャータ,サルサon2
ATTACH;FMTTYPE=image/jpeg:https://dance.gdp22.com/wp-content/uploads/0809-2.jpg
END:VEVENT
BEGIN:VEVENT
DTSTART;TZID=Asia/Tokyo:20250829T080000
DTEND;TZID=Asia/Tokyo:20250829T170000
DTSTAMP:20260422T094910
CREATED:20250826T020744Z
LAST-MODIFIED:20250826T021204Z
UID:10293717-1756454400-1756486800@dance.gdp22.com
SUMMARY:Club Style Salsa Vol.162
DESCRIPTION:8/29(金)　Club Style Salsa Vol.162\nhttps://www.facebook.com/events/805272255402938/ \n  \n今回はオールDJ タイム!!!SALSA MAMBO CUBAN BACHATA MERENGUE etc. オールスタイル♪DJ yuu\,こぼりん\, nob の３名で盛り上げます!!!皆様のご来場を心よりお待ちしています♪\n■イベント内容オールDJタイムオールスタイル\n■料金¥1\,800 1drink\n■タイムスケージュール19:30 Open23:30 Close\n■DJDJ yuu\, こぼりん\, nob\n■DJ こぼりん只今DJ修行中ですが、張り切りますのでぜひぜひ踊りに来てください！\n■DJ nob (Club Style Salsa)2002年にSalsaに出会い、ソーシャルダンスに明け暮れ、ダンスに飽き足らずDJ活動を経て2013年よりイベントClub Style Salsaを立ち上げる。2025年、現在ではpepe2レギュラーイベントを通じて、スタイル問わずソーシャルダンサー、DJ、インストラクター、ミュージシャンと交流をかさね、サルサラバーのひとりとして精進中。\n●イベント場所：六本木Studio pepe2●所在地：東京都港区六本木7-17-12 ビジネスアパートメンツB1(明治屋裏)最寄駅：日比谷線六本木駅より徒歩2分（メトロ日比谷線・都営地下鉄大江戸線）アクセス：地下鉄日比谷線六本木駅2番出口を出て、一つ目の角、サイゼリアを右折。さらにすぐ一つ目の角を右折し、その先のビル（向かって左）のB1F\nイベント詳細はFacebookまたはGoogle「club style salsa」で検索。
URL:https://dance.gdp22.com/event/club-style-salsa-3-2/
LOCATION:六本木スタジオペペ\, 東京都港区六本木７丁目１７−１２ 六本木ビジネスアパートメンツ\, 六本木\, 106-0032\, 日本
CATEGORIES:サルサon1,センシュアルバチャータ,サルサon2
ATTACH;FMTTYPE=image/jpeg:https://dance.gdp22.com/wp-content/uploads/0829-2.jpg
END:VEVENT
END:VCALENDAR