BEGIN:VCALENDAR
VERSION:2.0
PRODID:-//Dancing Pono (ダンシングポノ) - ECPv6.15.12//NONSGML v1.0//EN
CALSCALE:GREGORIAN
METHOD:PUBLISH
X-WR-CALNAME:Dancing Pono (ダンシングポノ)
X-ORIGINAL-URL:https://dance.gdp22.com
X-WR-CALDESC:Dancing Pono (ダンシングポノ) のイベント
REFRESH-INTERVAL;VALUE=DURATION:PT1H
X-Robots-Tag:noindex
X-PUBLISHED-TTL:PT1H
BEGIN:VTIMEZONE
TZID:Asia/Tokyo
BEGIN:STANDARD
TZOFFSETFROM:+0900
TZOFFSETTO:+0900
TZNAME:JST
DTSTART:20240101T000000
END:STANDARD
END:VTIMEZONE
BEGIN:VEVENT
DTSTART;TZID=Asia/Tokyo:20250412T200000
DTEND;TZID=Asia/Tokyo:20250412T233000
DTSTAMP:20260422T144155
CREATED:20250310T025009Z
LAST-MODIFIED:20250327T051942Z
UID:10267408-1744488000-1744500600@dance.gdp22.com
SUMMARY:春のConcept★Bachata&Salsa!＠PePe
DESCRIPTION:春のConcept★Bachata&Salsa!＠PePe \nイベントリンク:https://fb.me/e/4xV0gLZoh \n「Concept ★ Bachata&Salsa!＠PePe」 Vol.108 2025/4/12(Sat) \n『Spring Night!!』 \n今回のコンセプトは「春」！春らしい明るい服装でお越しください！\nLessonは人気のインストラクターRyu Palante！\nPFはDesiree ladies tokyo！！\nサルサ50％、バチャータ50％（ただし場の状況により比率変動あり） \n＜スケジュール（場所：Studio PePe）＞\n19：00～　　　　 Open\n19：10～20:10 Sensual Bachata Lesson（Ryu Palante）\nAllレベル ￥1\,000\n20：10～　　　　　DJ Time (DJ Mami)\n22：00～　　　　　Performance（Desiree ladies tokyo）\n～23：30　　　　　Close \nDJ Time&Lesson:￥3\,000/1drink\nDJ Time　　　 :￥2\,000/1drink \n＜DJ ：Mami＞\nみんな大好きMamiちゃん登板！\n選曲の良さと会場の空気を読む抜群のセンスを兼ね備えた、サルサ、バチャータ何でも来いの頼れるバディ。\n自ら数々の人気イベントをオーガナイズし、その他のイベントでもひっぱりだこの人気DJ。\nその経験からどんな曲でも即座に対応のドラえもんポケットみたいな選曲リストで今回も会場を盛り上げます。 \n＜レッスン講師：Ryu＞\n【Ryu】\nドミニカ共和国生まれ。日本とドミニカ共和国のハーフ。15歳からラテンダンスを始め、25歳で来日。翌年インストラクターとして活動を始める。\n現在は東京を中心にバチャータ、キゾンバ、サルサのインストラクター、パフォーマーとしてレッスン、パフォーマンス、イベント主催などに精力的に活動している。\nPA’LANTEダンスカンパニーをプロデュース。日本バチャータ協会の会長、日本キゾンバ協会理事長、日本サルサ協会特定認定指導員・エグザミナーとして活動中 。\nワールドラテンダンスカップ2010ファイナリスト。 フランス、スペイン、ポルトガル、イタリア、スエデン、アメリカ、オーストラリア、シンガポール、中国、韓国、台湾、タイ、マレーシア、など出場。\n海外でも活躍する経験を活かした、丁寧で分かりやすいレッスンに定評あり。 \n＜パフォーマンス：Desiree ladies tokyo>\nDesireeのコレオを踊り続けて27作品になりました。東京でディレクターを任されておりますYouのレディースチームです。\nよろしくお願い申し上げます。 \n＜イベント場所：六本木Studio pepe＞\n所在地：東京都港区六本木7-17-12 ビジネスアパートメンツB1(明治屋裏)\n最寄駅：日比谷線六本木駅より徒歩２分（メトロ日比谷線・都営地下鉄大江戸線）\nアクセス：地下鉄日比谷線六本木駅２番出口を出て、一つ目の角、サイゼリアを右折。さらにすぐ一つ目の角を右折し、その先のビル（向かって左）のB1F \n※Concept☆Bacha&Sal 次回予定日(2025/6/14 (土))
URL:https://dance.gdp22.com/event/dance-89436/
LOCATION:六本木スタジオペペ\, 東京都港区六本木７丁目１７−１２ 六本木ビジネスアパートメンツ\, 六本木\, 106-0032\, 日本
CATEGORIES:サルサon1,センシュアルバチャータ,サルサon2
ATTACH;FMTTYPE=image/jpeg:https://dance.gdp22.com/wp-content/uploads/0412-2.jpg
END:VEVENT
END:VCALENDAR