BEGIN:VCALENDAR
VERSION:2.0
PRODID:-//Dancing Pono (ダンシングポノ) - ECPv6.15.12//NONSGML v1.0//EN
CALSCALE:GREGORIAN
METHOD:PUBLISH
X-WR-CALNAME:Dancing Pono (ダンシングポノ)
X-ORIGINAL-URL:https://dance.gdp22.com
X-WR-CALDESC:Dancing Pono (ダンシングポノ) のイベント
REFRESH-INTERVAL;VALUE=DURATION:PT1H
X-Robots-Tag:noindex
X-PUBLISHED-TTL:PT1H
BEGIN:VTIMEZONE
TZID:Asia/Tokyo
BEGIN:STANDARD
TZOFFSETFROM:+0900
TZOFFSETTO:+0900
TZNAME:JST
DTSTART:20240101T000000
END:STANDARD
END:VTIMEZONE
BEGIN:VEVENT
DTSTART;TZID=Asia/Tokyo:20250210T193000
DTEND;TZID=Asia/Tokyo:20250210T230000
DTSTAMP:20260423T075641
CREATED:20241216T232153Z
LAST-MODIFIED:20241216T232153Z
UID:10174606-1739215800-1739228400@dance.gdp22.com
SUMMARY:ソーシャルの鬼。 -サルサ踊りまくろうの巻。＠JBA
DESCRIPTION:ソーシャルの鬼。-サルサ踊りまくろうの巻。-\nみんなでサルサ思いっきり踊りたい！そんなイベントです♪\n毎月第二、第四月曜日の定期イベントです♫\nD J ゆうたろうが、on1、on2、お好きなスタイルで踊っていただける選曲で、\nフロアを盛り上げます☆(サルサメインですが、少しバチャータ他もかかるかもしれません)\nオールソーシャルタイム！！！\n月曜日の夜、週の頭からゴリゴリ踊って、みんなで気持ちよくスタートを切りたいですっ♪ \n◼️ INFORMATION ◼️\n19:30-23:00・オールソーシャルタイム☆彡飲食持ち込み自由・お茶とお水はフリーです。エントランス1500円1drink\n◼️お願い事項◼️\n最近、近隣から騒音によるクレームが来ているそうです。\n喫煙スペースやスタジオの外などで大きな声を出さないよう、皆様のご協力をお願いいたします。\nまた、感染症対策をして 開催させていただきますので ご協力の程、宜しくお願いします。\nAyumi
URL:https://dance.gdp22.com/event/dance-15209/2025-02-10/
LOCATION:小伝馬町スタジオJBA\, 東京都中央区日本橋大伝馬町１１−８ ＨＡＴビル B1F\, 小伝馬町\, 103-0011\, 日本
CATEGORIES:バチャータ全般,サルサ全般
END:VEVENT
BEGIN:VEVENT
DTSTART;TZID=Asia/Tokyo:20250224T193000
DTEND;TZID=Asia/Tokyo:20250224T230000
DTSTAMP:20260423T075641
CREATED:20220718T173111Z
LAST-MODIFIED:20220720T013715Z
UID:10174576-1740425400-1740438000@dance.gdp22.com
SUMMARY:ソーシャルの鬼。 -サルサ踊りまくろうの巻。＠JBA
DESCRIPTION:ソーシャルの鬼。-サルサ踊りまくろうの巻。-\nみんなでサルサ思いっきり踊りたい！そんなイベントです♪\n毎月第二、第四月曜日の定期イベントです♫\nD J ゆうたろうが、on1、on2、お好きなスタイルで踊っていただける選曲で、\nフロアを盛り上げます☆(サルサメインですが、少しバチャータ他もかかるかもしれません)\nオールソーシャルタイム！！！\n月曜日の夜、週の頭からゴリゴリ踊って、みんなで気持ちよくスタートを切りたいですっ♪ \n◼️ INFORMATION ◼️\n19:30-23:00・オールソーシャルタイム☆彡飲食持ち込み自由・お茶とお水はフリーです。エントランス1500円1drink\n◼️お願い事項◼️\n最近、近隣から騒音によるクレームが来ているそうです。\n喫煙スペースやスタジオの外などで大きな声を出さないよう、皆様のご協力をお願いいたします。\nまた、感染症対策をして 開催させていただきますので ご協力の程、宜しくお願いします。\nAyumi
URL:https://dance.gdp22.com/event/dance-15209/2025-02-24/
LOCATION:小伝馬町スタジオJBA\, 東京都中央区日本橋大伝馬町１１−８ ＨＡＴビル B1F\, 小伝馬町\, 103-0011\, 日本
CATEGORIES:バチャータ全般,サルサ全般
END:VEVENT
END:VCALENDAR