BEGIN:VCALENDAR
VERSION:2.0
PRODID:-//Dancing Pono (ダンシングポノ) - ECPv6.15.12//NONSGML v1.0//EN
CALSCALE:GREGORIAN
METHOD:PUBLISH
X-ORIGINAL-URL:https://dance.gdp22.com
X-WR-CALDESC:Dancing Pono (ダンシングポノ) のイベント
REFRESH-INTERVAL;VALUE=DURATION:PT1H
X-Robots-Tag:noindex
X-PUBLISHED-TTL:PT1H
BEGIN:VTIMEZONE
TZID:Asia/Tokyo
BEGIN:STANDARD
TZOFFSETFROM:+0900
TZOFFSETTO:+0900
TZNAME:JST
DTSTART:20230101T000000
END:STANDARD
END:VTIMEZONE
BEGIN:VEVENT
DTSTART;TZID=Asia/Tokyo:20240801T150000
DTEND;TZID=Asia/Tokyo:20240801T170000
DTSTAMP:20260423T075642
CREATED:20220829T041410Z
LAST-MODIFIED:20220829T041410Z
UID:10196914-1722524400-1722531600@dance.gdp22.com
SUMMARY:キューバン・入門クラス
DESCRIPTION:カフェルンビータ（京都） \n詳細はWEB参照
URL:https://dance.gdp22.com/event/dance-31691/2024-08-01/
LOCATION:カフェルンビータ（京都）\, 京都府京都市中京区山崎町２５８−１９ 珠光ビル三条 ３F\, 京都\, 604-8032\, 日本
CATEGORIES:キューバン
END:VEVENT
BEGIN:VEVENT
DTSTART;TZID=Asia/Tokyo:20240806T150000
DTEND;TZID=Asia/Tokyo:20240806T170000
DTSTAMP:20260423T075642
CREATED:20220829T034838Z
LAST-MODIFIED:20220829T034838Z
UID:10196514-1722956400-1722963600@dance.gdp22.com
SUMMARY:キューバン・サルサ初中級
DESCRIPTION:カフェルンビータ（京都） \n詳細はWEB参照
URL:https://dance.gdp22.com/event/dance-31630/2024-08-06/
LOCATION:カフェルンビータ（京都）\, 京都府京都市中京区山崎町２５８−１９ 珠光ビル三条 ３F\, 京都\, 604-8032\, 日本
CATEGORIES:キューバン
END:VEVENT
BEGIN:VEVENT
DTSTART;TZID=Asia/Tokyo:20240808T150000
DTEND;TZID=Asia/Tokyo:20240808T170000
DTSTAMP:20260423T075642
CREATED:20220829T041410Z
LAST-MODIFIED:20220829T041410Z
UID:10196915-1723129200-1723136400@dance.gdp22.com
SUMMARY:キューバン・入門クラス
DESCRIPTION:カフェルンビータ（京都） \n詳細はWEB参照
URL:https://dance.gdp22.com/event/dance-31691/2024-08-08/
LOCATION:カフェルンビータ（京都）\, 京都府京都市中京区山崎町２５８−１９ 珠光ビル三条 ３F\, 京都\, 604-8032\, 日本
CATEGORIES:キューバン
END:VEVENT
BEGIN:VEVENT
DTSTART;TZID=Asia/Tokyo:20240813T150000
DTEND;TZID=Asia/Tokyo:20240813T170000
DTSTAMP:20260423T075642
CREATED:20220829T034838Z
LAST-MODIFIED:20220829T034838Z
UID:10196515-1723561200-1723568400@dance.gdp22.com
SUMMARY:キューバン・サルサ初中級
DESCRIPTION:カフェルンビータ（京都） \n詳細はWEB参照
URL:https://dance.gdp22.com/event/dance-31630/2024-08-13/
LOCATION:カフェルンビータ（京都）\, 京都府京都市中京区山崎町２５８−１９ 珠光ビル三条 ３F\, 京都\, 604-8032\, 日本
CATEGORIES:キューバン
END:VEVENT
BEGIN:VEVENT
DTSTART;TZID=Asia/Tokyo:20240815T150000
DTEND;TZID=Asia/Tokyo:20240815T170000
DTSTAMP:20260423T075642
CREATED:20220829T041410Z
LAST-MODIFIED:20220829T041410Z
UID:10196916-1723734000-1723741200@dance.gdp22.com
SUMMARY:キューバン・入門クラス
DESCRIPTION:カフェルンビータ（京都） \n詳細はWEB参照
URL:https://dance.gdp22.com/event/dance-31691/2024-08-15/
LOCATION:カフェルンビータ（京都）\, 京都府京都市中京区山崎町２５８−１９ 珠光ビル三条 ３F\, 京都\, 604-8032\, 日本
CATEGORIES:キューバン
END:VEVENT
BEGIN:VEVENT
DTSTART;TZID=Asia/Tokyo:20240820T150000
DTEND;TZID=Asia/Tokyo:20240820T170000
DTSTAMP:20260423T075642
CREATED:20220829T034838Z
LAST-MODIFIED:20220829T034838Z
UID:10196516-1724166000-1724173200@dance.gdp22.com
SUMMARY:キューバン・サルサ初中級
DESCRIPTION:カフェルンビータ（京都） \n詳細はWEB参照
URL:https://dance.gdp22.com/event/dance-31630/2024-08-20/
LOCATION:カフェルンビータ（京都）\, 京都府京都市中京区山崎町２５８−１９ 珠光ビル三条 ３F\, 京都\, 604-8032\, 日本
CATEGORIES:キューバン
END:VEVENT
BEGIN:VEVENT
DTSTART;TZID=Asia/Tokyo:20240822T150000
DTEND;TZID=Asia/Tokyo:20240822T170000
DTSTAMP:20260423T075642
CREATED:20220829T041410Z
LAST-MODIFIED:20220829T041410Z
UID:10196917-1724338800-1724346000@dance.gdp22.com
SUMMARY:キューバン・入門クラス
DESCRIPTION:カフェルンビータ（京都） \n詳細はWEB参照
URL:https://dance.gdp22.com/event/dance-31691/2024-08-22/
LOCATION:カフェルンビータ（京都）\, 京都府京都市中京区山崎町２５８−１９ 珠光ビル三条 ３F\, 京都\, 604-8032\, 日本
CATEGORIES:キューバン
END:VEVENT
BEGIN:VEVENT
DTSTART;TZID=Asia/Tokyo:20240827T150000
DTEND;TZID=Asia/Tokyo:20240827T170000
DTSTAMP:20260423T075642
CREATED:20220829T034838Z
LAST-MODIFIED:20220829T034838Z
UID:10196517-1724770800-1724778000@dance.gdp22.com
SUMMARY:キューバン・サルサ初中級
DESCRIPTION:カフェルンビータ（京都） \n詳細はWEB参照
URL:https://dance.gdp22.com/event/dance-31630/2024-08-27/
LOCATION:カフェルンビータ（京都）\, 京都府京都市中京区山崎町２５８−１９ 珠光ビル三条 ３F\, 京都\, 604-8032\, 日本
CATEGORIES:キューバン
END:VEVENT
BEGIN:VEVENT
DTSTART;TZID=Asia/Tokyo:20240829T150000
DTEND;TZID=Asia/Tokyo:20240829T170000
DTSTAMP:20260423T075642
CREATED:20220829T041410Z
LAST-MODIFIED:20220829T041410Z
UID:10196918-1724943600-1724950800@dance.gdp22.com
SUMMARY:キューバン・入門クラス
DESCRIPTION:カフェルンビータ（京都） \n詳細はWEB参照
URL:https://dance.gdp22.com/event/dance-31691/2024-08-29/
LOCATION:カフェルンビータ（京都）\, 京都府京都市中京区山崎町２５８−１９ 珠光ビル三条 ３F\, 京都\, 604-8032\, 日本
CATEGORIES:キューバン
END:VEVENT
END:VCALENDAR