BEGIN:VCALENDAR
VERSION:2.0
PRODID:-//Dancing Pono (ダンシングポノ) - ECPv6.15.12//NONSGML v1.0//EN
CALSCALE:GREGORIAN
METHOD:PUBLISH
X-ORIGINAL-URL:https://dance.gdp22.com
X-WR-CALDESC:Dancing Pono (ダンシングポノ) のイベント
REFRESH-INTERVAL;VALUE=DURATION:PT1H
X-Robots-Tag:noindex
X-PUBLISHED-TTL:PT1H
BEGIN:VTIMEZONE
TZID:Asia/Tokyo
BEGIN:STANDARD
TZOFFSETFROM:+0900
TZOFFSETTO:+0900
TZNAME:JST
DTSTART:20230101T000000
END:STANDARD
END:VTIMEZONE
BEGIN:VEVENT
DTSTART;TZID=Asia/Tokyo:20240608T200000
DTEND;TZID=Asia/Tokyo:20240608T233000
DTSTAMP:20260423T075557
CREATED:20220330T002423Z
LAST-MODIFIED:20240521T071045Z
UID:10174273-1717876800-1717889400@dance.gdp22.com
SUMMARY:「大人のConcept ★ Bachata&Salsa!＠PePe」 Vol.102
DESCRIPTION:「大人のConcept ★ Bachata&Salsa!＠PePe」 Vol.102\nhttps://www.facebook.com/events/2763905200441501/ \n2024/6/8(Sat)\n『Elegant＆Sexy　Night!!』\n今回のコンセプトは、ずばり大人の色気！　照明はいつもより暗めに、また曲はムード系の曲がメインになります。服装はいつもよりお洒落して大人の色気ある恰好でお願いします。\nLessonは今大人気のインストラクターRyu＆Haruka！PFはAtaca & Alemana x DaniJ Project Team！！\nサルサ50％、バチャータ50％（ただし場の状況により比率変動あり） \n＜スケジュール（場所：Studio PePe）＞\n19：00～　　　 Open\n19：10～20:10 Sensual Bachata Lesson（Ryu＆Haruka）\nAllレベル ￥1\,000\n20：10～　　　 DJ Time (DJ Mami)\n22：00～ Performance（Ataca & Alemana x DaniJ Project Team）\n～23：30　　　　 Close\nDJ Time&Lesson :￥3\,000/1drink\nDJ Time　　　 :￥2\,000/1drink \n＜DJ ：Mami＞\nみんな大好きMamiちゃん登板！\n選曲の良さと会場の空気を読む抜群のセンスを兼ね備えた、サルサ、バチャータ何でも来いの頼れるバディ。\n自ら数々の人気イベントをオーガナイズし、その他のイベントでもひっぱりだこの人気DJ。\nその経験からどんな曲でも即座に対応のドラえもんポケットみたいな選曲リストで今回も会場を盛り上げます。 \n＜レッスン講師プロフィール＞ \n【Ryu】\nドミニカ共和国生まれ。日本とドミニカ共和国のハーフ。15歳からラテンダンスを始め、25歳で来日。\n翌年インストラクターとして活動を始める。現在は東京を中心にバチャータ、キゾンバ、サルサのインストラクター、\nパフォーマーとしてレッスン、パフォーマンス、イベント主催などに精力的に活動している。PA’LANTEダンスカンパニーをプロデュース。\n日本バチャータ協会の会長、日本キゾンバ協会理事長、日本サルサ協会特定認定指導員・エグザミナーとして活動中。\nワールドラテンダンスカップ2010ファイナリスト。 フランス、スペイン、ポルトガル、イタリア、スエデン、アメリカ、オーストラリア、\nシンガポール、中国、韓国、台湾、タイ、マレーシア、など出場。\n海外でも活躍する経験を活かした、丁寧で分かりやすいレッスンに定評あり。 \n【Haruka】\nクラシックバレエを4歳から始め、コンテンポラリー、フラメンコなど様々なスタイルを学ぶ。\n2013年よりカナダのバレエ団に入団し、数々の公演におけるパフォーマンスで脚光をあびる。\n2017年にラテンダンスを始め、国内外の指導者の元にて学ぶ。\n2022年のシンガポールバチャータフェスティバルではセンシュアルバチャータ創始者コルケとワークショップを行う。\n同年よりコルケの選抜メンバーに入る。\n2018年 《Japan Bachata Cup》振付プロ部門 3位\n2018年 《カリベバチャータフリースタイルコンペティション》 レディースソロ部門 1位\n2019年 《Japan Bachata Cup》振付レディースソロ部門 2位\n2019年 《日本ラテンダンスコンペティション》レディースソロ部門 1位\n2019年 《Kiko & Christina Japan Tour》Jack & Jill 1位 \n＜イベント場所：六本木Studio pepe＞\n所在地：東京都港区六本木7-17-12 ビジネスアパートメンツB1(明治屋裏)\n最寄駅：日比谷線六本木駅より徒歩２分（メトロ日比谷線・都営地下鉄大江戸線）\nアクセス：地下鉄日比谷線六本木駅２番出口を出て、一つ目の角、サイゼリアを右折。さらにすぐ一つ目の角を右折し、その先のビル（向かって左）のB1F\n※Concept☆Bacha&Sal 次回予定日(2024/8/10 (土))
URL:https://dance.gdp22.com/event/club-style-salsa-2022-05-14-2024-06-08/
LOCATION:六本木スタジオペペ\, 東京都港区六本木７丁目１７−１２ 六本木ビジネスアパートメンツ\, 六本木\, 106-0032\, 日本
CATEGORIES:サルサon1,センシュアルバチャータ,サルサon2
ATTACH;FMTTYPE=image/jpeg:https://dance.gdp22.com/wp-content/uploads/0608-2.jpg
END:VEVENT
END:VCALENDAR