BEGIN:VCALENDAR
VERSION:2.0
PRODID:-//Dancing Pono (ダンシングポノ) - ECPv6.15.12//NONSGML v1.0//EN
CALSCALE:GREGORIAN
METHOD:PUBLISH
X-ORIGINAL-URL:https://dance.gdp22.com
X-WR-CALDESC:Dancing Pono (ダンシングポノ) のイベント
REFRESH-INTERVAL;VALUE=DURATION:PT1H
X-Robots-Tag:noindex
X-PUBLISHED-TTL:PT1H
BEGIN:VTIMEZONE
TZID:Asia/Tokyo
BEGIN:STANDARD
TZOFFSETFROM:+0900
TZOFFSETTO:+0900
TZNAME:JST
DTSTART:20230101T000000
END:STANDARD
END:VTIMEZONE
BEGIN:VEVENT
DTSTART;TZID=Asia/Tokyo:20240309T200000
DTEND;TZID=Asia/Tokyo:20240309T233000
DTSTAMP:20260423T122900
CREATED:20220330T002423Z
LAST-MODIFIED:20240305T051245Z
UID:10174271-1710014400-1710027000@dance.gdp22.com
SUMMARY:Club Style Salsa Vol.154 in PePe
DESCRIPTION:3/9(土)　Club Style Salsa Vol.154 in PePe\nhttps://www.facebook.com/events/816301746999504/ \n  \n今回のパフォーマンス出演は独自の世界観でRhythm&Saborを追究するmayu & chieのシャインデュオ♪ iQué mono! ’54 出演!!!\nDJタイムはSALSA MAMBO CUBAN BACHATA MERENGUE etc. オールスタイル♪\nDJ Tomo\,こぼりん\, nob の３名で盛り上げます!!!\n皆様のご来場を心よりお待ちしています♪\n■料金\n¥1\,800 1drink\n■タイムスケージュール\n20:00 Open\n22:00 パフォーマンスタイム\n23:30 Close\n■DJ\nDJ Tomo\, こぼりん\, nob\n■パフォーマンス出演チーム\niQué mono! ’54　プロフィール\n三島を拠点に活動するmayuと10年来の親友chieによる、独自の世界観でRhythm&Saborを追究するシャインデュオ。Jonathan Shimokadoの下で同時期にサルサを始めた2人が、三島と東京の遠距離ながらも阿吽の呼吸で踊る1st numberです。\nmayu\nラテンピアノをOrquesta de la Luzの斎藤タカヤに師事。\n近年はフラメンコに傾倒。三島mambo garden主催。\nchie\nExtreme Salsa所属。2019 Asia Pacific International Dance Championshipsアマチュア部門優勝。\n近年は骨格力学を精力的に学び、パフォーマンス向上の為の施術を行う。\n■DJ Tomo\n大好きなオールドスクール系サルサ& マンボから、80ʼ s-90 ʻs ロマンティカ、そして、最新のものまで、色々と混ぜ合わせて盛り上げていきたいと思ってます。\nよろしくお願い致しま~ すっ !\n■DJ こぼりん\n只今DJ修行中ですが、張り切りますのでぜひぜひ踊りに来てください！\n■DJ nob (Club Style Salsa)\n2002年にSalsaに出会い、ソーシャルダンスに明け暮れ、ダンスに飽き足らずDJ活動を経て2013年よりイベントClub Style Salsaを立ち上げる。2024年、現在ではpepe2レギュラーイベントを通じて、スタイル問わずソーシャルダンサー、DJ、インストラクター、ミュージシャンと交流をかさね、サルサラバーのひとりとして精進中。\n●イベント場所：六本木Studio pepe2●\n所在地：東京都港区六本木7-17-12 ビジネスアパートメンツB1(明治屋裏)\n最寄駅：日比谷線六本木駅より徒歩2分\n（メトロ日比谷線・都営地下鉄大江戸線）\nアクセス：地下鉄日比谷線六本木駅2番出口を出て、一つ目の角、サイゼリアを右折。さらにすぐ一つ目の角を右折し、その先のビル（向かって左）のB1F\nイベント詳細はFacebookまたはGoogle「club style salsa」で検索。
URL:https://dance.gdp22.com/event/club-style-salsa-2022-05-14-2024-03-09/
LOCATION:六本木スタジオペペ\, 東京都港区六本木７丁目１７−１２ 六本木ビジネスアパートメンツ\, 六本木\, 106-0032\, 日本
CATEGORIES:サルサon1,センシュアルバチャータ,サルサon2
ATTACH;FMTTYPE=image/jpeg:https://dance.gdp22.com/wp-content/uploads/0309-1.jpg
END:VEVENT
END:VCALENDAR