BEGIN:VCALENDAR
VERSION:2.0
PRODID:-//Dancing Pono (ダンシングポノ) - ECPv6.15.12//NONSGML v1.0//EN
CALSCALE:GREGORIAN
METHOD:PUBLISH
X-WR-CALNAME:Dancing Pono (ダンシングポノ)
X-ORIGINAL-URL:https://dance.gdp22.com
X-WR-CALDESC:Dancing Pono (ダンシングポノ) のイベント
REFRESH-INTERVAL;VALUE=DURATION:PT1H
X-Robots-Tag:noindex
X-PUBLISHED-TTL:PT1H
BEGIN:VTIMEZONE
TZID:Asia/Tokyo
BEGIN:STANDARD
TZOFFSETFROM:+0900
TZOFFSETTO:+0900
TZNAME:JST
DTSTART:20230101T000000
END:STANDARD
END:VTIMEZONE
BEGIN:VEVENT
DTSTART;TZID=Asia/Tokyo:20240305T150000
DTEND;TZID=Asia/Tokyo:20240305T170000
DTSTAMP:20260423T153635
CREATED:20220829T034838Z
LAST-MODIFIED:20220829T034838Z
UID:10196492-1709650800-1709658000@dance.gdp22.com
SUMMARY:キューバン・サルサ初中級
DESCRIPTION:カフェルンビータ（京都） \n詳細はWEB参照
URL:https://dance.gdp22.com/event/dance-31630/2024-03-05/
LOCATION:カフェルンビータ（京都）\, 京都府京都市中京区山崎町２５８−１９ 珠光ビル三条 ３F\, 京都\, 604-8032\, 日本
CATEGORIES:キューバン
END:VEVENT
BEGIN:VEVENT
DTSTART;TZID=Asia/Tokyo:20240307T150000
DTEND;TZID=Asia/Tokyo:20240307T170000
DTSTAMP:20260423T153635
CREATED:20220829T041410Z
LAST-MODIFIED:20220829T041410Z
UID:10196893-1709823600-1709830800@dance.gdp22.com
SUMMARY:キューバン・入門クラス
DESCRIPTION:カフェルンビータ（京都） \n詳細はWEB参照
URL:https://dance.gdp22.com/event/dance-31691/2024-03-07/
LOCATION:カフェルンビータ（京都）\, 京都府京都市中京区山崎町２５８−１９ 珠光ビル三条 ３F\, 京都\, 604-8032\, 日本
CATEGORIES:キューバン
END:VEVENT
BEGIN:VEVENT
DTSTART;TZID=Asia/Tokyo:20240312T150000
DTEND;TZID=Asia/Tokyo:20240312T170000
DTSTAMP:20260423T153635
CREATED:20220829T034838Z
LAST-MODIFIED:20220829T034838Z
UID:10196493-1710255600-1710262800@dance.gdp22.com
SUMMARY:キューバン・サルサ初中級
DESCRIPTION:カフェルンビータ（京都） \n詳細はWEB参照
URL:https://dance.gdp22.com/event/dance-31630/2024-03-12/
LOCATION:カフェルンビータ（京都）\, 京都府京都市中京区山崎町２５８−１９ 珠光ビル三条 ３F\, 京都\, 604-8032\, 日本
CATEGORIES:キューバン
END:VEVENT
BEGIN:VEVENT
DTSTART;TZID=Asia/Tokyo:20240314T150000
DTEND;TZID=Asia/Tokyo:20240314T170000
DTSTAMP:20260423T153635
CREATED:20220829T041410Z
LAST-MODIFIED:20220829T041410Z
UID:10196894-1710428400-1710435600@dance.gdp22.com
SUMMARY:キューバン・入門クラス
DESCRIPTION:カフェルンビータ（京都） \n詳細はWEB参照
URL:https://dance.gdp22.com/event/dance-31691/2024-03-14/
LOCATION:カフェルンビータ（京都）\, 京都府京都市中京区山崎町２５８−１９ 珠光ビル三条 ３F\, 京都\, 604-8032\, 日本
CATEGORIES:キューバン
END:VEVENT
BEGIN:VEVENT
DTSTART;TZID=Asia/Tokyo:20240319T150000
DTEND;TZID=Asia/Tokyo:20240319T170000
DTSTAMP:20260423T153635
CREATED:20220829T034838Z
LAST-MODIFIED:20220829T034838Z
UID:10196494-1710860400-1710867600@dance.gdp22.com
SUMMARY:キューバン・サルサ初中級
DESCRIPTION:カフェルンビータ（京都） \n詳細はWEB参照
URL:https://dance.gdp22.com/event/dance-31630/2024-03-19/
LOCATION:カフェルンビータ（京都）\, 京都府京都市中京区山崎町２５８−１９ 珠光ビル三条 ３F\, 京都\, 604-8032\, 日本
CATEGORIES:キューバン
END:VEVENT
BEGIN:VEVENT
DTSTART;TZID=Asia/Tokyo:20240321T150000
DTEND;TZID=Asia/Tokyo:20240321T170000
DTSTAMP:20260423T153635
CREATED:20220829T041410Z
LAST-MODIFIED:20220829T041410Z
UID:10196895-1711033200-1711040400@dance.gdp22.com
SUMMARY:キューバン・入門クラス
DESCRIPTION:カフェルンビータ（京都） \n詳細はWEB参照
URL:https://dance.gdp22.com/event/dance-31691/2024-03-21/
LOCATION:カフェルンビータ（京都）\, 京都府京都市中京区山崎町２５８−１９ 珠光ビル三条 ３F\, 京都\, 604-8032\, 日本
CATEGORIES:キューバン
END:VEVENT
BEGIN:VEVENT
DTSTART;TZID=Asia/Tokyo:20240326T150000
DTEND;TZID=Asia/Tokyo:20240326T170000
DTSTAMP:20260423T153635
CREATED:20220829T034838Z
LAST-MODIFIED:20220829T034838Z
UID:10196495-1711465200-1711472400@dance.gdp22.com
SUMMARY:キューバン・サルサ初中級
DESCRIPTION:カフェルンビータ（京都） \n詳細はWEB参照
URL:https://dance.gdp22.com/event/dance-31630/2024-03-26/
LOCATION:カフェルンビータ（京都）\, 京都府京都市中京区山崎町２５８−１９ 珠光ビル三条 ３F\, 京都\, 604-8032\, 日本
CATEGORIES:キューバン
END:VEVENT
BEGIN:VEVENT
DTSTART;TZID=Asia/Tokyo:20240328T150000
DTEND;TZID=Asia/Tokyo:20240328T170000
DTSTAMP:20260423T153635
CREATED:20220829T041410Z
LAST-MODIFIED:20220829T041410Z
UID:10196896-1711638000-1711645200@dance.gdp22.com
SUMMARY:キューバン・入門クラス
DESCRIPTION:カフェルンビータ（京都） \n詳細はWEB参照
URL:https://dance.gdp22.com/event/dance-31691/2024-03-28/
LOCATION:カフェルンビータ（京都）\, 京都府京都市中京区山崎町２５８−１９ 珠光ビル三条 ３F\, 京都\, 604-8032\, 日本
CATEGORIES:キューバン
END:VEVENT
END:VCALENDAR