BEGIN:VCALENDAR
VERSION:2.0
PRODID:-//Dancing Pono (ダンシングポノ) - ECPv6.15.12//NONSGML v1.0//EN
CALSCALE:GREGORIAN
METHOD:PUBLISH
X-ORIGINAL-URL:https://dance.gdp22.com
X-WR-CALDESC:Dancing Pono (ダンシングポノ) のイベント
REFRESH-INTERVAL;VALUE=DURATION:PT1H
X-Robots-Tag:noindex
X-PUBLISHED-TTL:PT1H
BEGIN:VTIMEZONE
TZID:Asia/Tokyo
BEGIN:STANDARD
TZOFFSETFROM:+0900
TZOFFSETTO:+0900
TZNAME:JST
DTSTART:20250101T000000
END:STANDARD
END:VTIMEZONE
BEGIN:VEVENT
DTSTART;TZID=Asia/Tokyo:20261001T113000
DTEND;TZID=Asia/Tokyo:20261001T121500
DTSTAMP:20260422T081440
CREATED:20220930T045422Z
LAST-MODIFIED:20221014T170148Z
UID:10277843-1790854200-1790856900@dance.gdp22.com
SUMMARY:ジャズダンス LaHabana
DESCRIPTION:料金・詳細は公式参照 \nhttps://www.lahabana.co.jp/price/?studioid=173&anchor/#block \nLaHabana(名古屋)
URL:https://dance.gdp22.com/event/dance-36516/2026-10-01/
LOCATION:LaHabana 栄校 Sahara (名古屋)\, 愛知県名古屋市中区錦3丁目7-12 錦クリスタルビル4F\, 名古屋\, 460-0003\, 日本
CATEGORIES:モダンジャズ
END:VEVENT
BEGIN:VEVENT
DTSTART;TZID=Asia/Tokyo:20261001T130000
DTEND;TZID=Asia/Tokyo:20261001T140000
DTSTAMP:20260422T081440
CREATED:20220831T025644Z
LAST-MODIFIED:20220831T025644Z
UID:10260247-1790859600-1790863200@dance.gdp22.com
SUMMARY:ポリネシアン・ダンス・レッスン
DESCRIPTION:カフェルンビータ（京都） \n詳細はWEB参照
URL:https://dance.gdp22.com/event/dance-32737/2026-10-01/
LOCATION:カフェルンビータ（京都）\, 京都府京都市中京区山崎町２５８−１９ 珠光ビル三条 ３F\, 京都\, 604-8032\, 日本
CATEGORIES:ポリネシアン
END:VEVENT
BEGIN:VEVENT
DTSTART;TZID=Asia/Tokyo:20261001T133000
DTEND;TZID=Asia/Tokyo:20261001T150000
DTSTAMP:20260422T081440
CREATED:20220706T025354Z
LAST-MODIFIED:20220919T021220Z
UID:10233250-1790861400-1790866800@dance.gdp22.com
SUMMARY:お昼のレッスン(SalsaOn1)@藤沢マリソル By RIE
DESCRIPTION:SALSA&BACHATA\nお昼のレッスン@藤沢 \n毎週木曜の午後に藤沢MARISOLにてRIEのレッスンが始まりました！！ \nたっぷり１時間半、鏡のある広々したスタジオでサルサ＆バチャータが学べます。 \n毎週木曜日 13:30-15:00  (休講の場合は、別途お知らせいたします。) \n第1・３木曜日→Salsa on1 \n第2・４木曜日→Bachata \nレッスン料　¥2000 \n  \nDance Studio MARISOL \n神奈川県藤沢市鵠沼東4-6-3F
URL:https://dance.gdp22.com/event/dance-10482/2026-10-01/
LOCATION:ダンススタジオマリソル（藤沢）\, 神奈川県藤沢市鵠沼東４−６ 3F\, 藤沢\, 日本
CATEGORIES:サルサon1
ATTACH;FMTTYPE=image/jpeg:https://dance.gdp22.com/wp-content/uploads/002.jpg
ORGANIZER;CN="RIE":MAILTO:narie925@gmail.com
END:VEVENT
BEGIN:VEVENT
DTSTART;TZID=Asia/Tokyo:20261001T150000
DTEND;TZID=Asia/Tokyo:20261001T154500
DTSTAMP:20260422T081440
CREATED:20220720T025923Z
LAST-MODIFIED:20220729T054544Z
UID:10242097-1790866800-1790869500@dance.gdp22.com
SUMMARY:チアリーディング（幼稚園児）By Mariko（出張クラス）
DESCRIPTION:ダンスクラス（月4回）\n小学生まで 6\,600円／月謝\n中学生以上 8\,250円／月謝\n＊1回ずつのドロップインはダンススクールでは受け付けておりません。\nダンス取り放題（月何回でもOK）\n小学生 9\,900 円／月謝\n中学生 12\,100 円／月謝\n高校生・大学生16\,500 円／月謝\n大人22\,000円／月謝\nフィットネスクラス\nメンバーシップ 全クラス（スタジオ、オンライン） 受け放題\n11\,000 円／月謝\n1回ずつ 2\,750 円（スタジオ・オンラインとも）\nオンラインのみの受け放題（3週までのミニマム月10回のレッスン）\n11\,000円／月謝\nダンス＆フィットネスクラス取り放題（オンラインレッスンも含む）\n高校生・大学生 24\,200円／月謝\n大人 26\,400円／月謝\nダンスチケットメンバー\nダンス　7回分（使用日から5か月で使い切りでどのクラスにも使えます）\n高校生以上 ／22\,000円\nプライベートレッスン\n15分　2\,200円\n（30分以上でご予約ください）\n※料金は税込み表示です。
URL:https://dance.gdp22.com/event/dance-15494/2026-10-01/
LOCATION:守谷M-Style\, 茨城県守谷市御所ケ丘1-4-2\, 守谷\, 302-0119\, 日本
CATEGORIES:チアリーディング
END:VEVENT
BEGIN:VEVENT
DTSTART;TZID=Asia/Tokyo:20261001T150000
DTEND;TZID=Asia/Tokyo:20261001T170000
DTSTAMP:20260422T081440
CREATED:20220829T041410Z
LAST-MODIFIED:20220829T041410Z
UID:10260504-1790866800-1790874000@dance.gdp22.com
SUMMARY:キューバン・入門クラス
DESCRIPTION:カフェルンビータ（京都） \n詳細はWEB参照
URL:https://dance.gdp22.com/event/dance-31691/2026-10-01/
LOCATION:カフェルンビータ（京都）\, 京都府京都市中京区山崎町２５８−１９ 珠光ビル三条 ３F\, 京都\, 604-8032\, 日本
CATEGORIES:キューバン
END:VEVENT
BEGIN:VEVENT
DTSTART;TZID=Asia/Tokyo:20261001T163000
DTEND;TZID=Asia/Tokyo:20261001T171500
DTSTAMP:20260422T081440
CREATED:20220720T030116Z
LAST-MODIFIED:20220729T054624Z
UID:10242349-1790872200-1790874900@dance.gdp22.com
SUMMARY:チアリーディング（小学生低学年）By Mariko（出張クラス）
DESCRIPTION:ダンスクラス（月4回）\n小学生まで 6\,600円／月謝\n中学生以上 8\,250円／月謝\n＊1回ずつのドロップインはダンススクールでは受け付けておりません。\nダンス取り放題（月何回でもOK）\n小学生 9\,900 円／月謝\n中学生 12\,100 円／月謝\n高校生・大学生16\,500 円／月謝\n大人22\,000円／月謝\nフィットネスクラス\nメンバーシップ 全クラス（スタジオ、オンライン） 受け放題\n11\,000 円／月謝\n1回ずつ 2\,750 円（スタジオ・オンラインとも）\nオンラインのみの受け放題（3週までのミニマム月10回のレッスン）\n11\,000円／月謝\nダンス＆フィットネスクラス取り放題（オンラインレッスンも含む）\n高校生・大学生 24\,200円／月謝\n大人 26\,400円／月謝\nダンスチケットメンバー\nダンス　7回分（使用日から5か月で使い切りでどのクラスにも使えます）\n高校生以上 ／22\,000円\nプライベートレッスン\n15分　2\,200円\n（30分以上でご予約ください）\n※料金は税込み表示です。
URL:https://dance.gdp22.com/event/dance-15506/2026-10-01/
LOCATION:守谷M-Style\, 茨城県守谷市御所ケ丘1-4-2\, 守谷\, 302-0119\, 日本
CATEGORIES:チアリーディング
END:VEVENT
BEGIN:VEVENT
DTSTART;TZID=Asia/Tokyo:20261001T173000
DTEND;TZID=Asia/Tokyo:20261001T183000
DTSTAMP:20260422T081440
CREATED:20220624T021411Z
LAST-MODIFIED:20220801T081835Z
UID:10230459-1790875800-1790879400@dance.gdp22.com
SUMMARY:Salsa Kids Class By HIDE＆PEKO
DESCRIPTION:Salsa Kids Class\n\n\n\n​受講生随時募集中！\n\n​  毎週 木曜日  17:30 – 18:30（1h） \n\n\n​@Studio Mission 渋谷 \n\n\n​講師：HIDE\, PEKO\n\n\n月謝 ¥8\,000- / 4回 \n\n\n​初回は1000円で体験レッスンができます！\n\n\n​対象者：6才から12才までの男女 \n\n\n​＊月初めのレッスンで、その月の月謝のお支払いをお願いいたします。 \n\n\n＊受講者のご都合でお休みされる場合は、月謝の返還は致しかねます。（コロナウイルスが理由の場合も同等です。東京都からのジムなどの休業要請が出た場合は休講となります。その場合は開講できなかった分を返金致します。） \n\n\n​＊レッスンに集中して頂けるように、保護者のご見学はお断りしておりますので、ご了承ください。 \n\n\n子どもならではの柔軟な身体と吸収率を使って、楽しいだけではなく、しっかりと踊れるように指導いたします。​ \nサルサのジャンルは「Salsa On1 / LAスタイル」です。 \n​サルサのステップ、ムーブメント、ターン、ペアワークを振り付けを通じて全てのダンスジャンルの基礎となる技術を学んでいきます！
URL:https://dance.gdp22.com/event/dance-8554/2026-10-01/
LOCATION:渋谷studioMISSION\, 東京都渋谷区道玄坂2-10-12 新大宗ビル4号館 B2F 7F 8F 9F\, 渋谷\, 150-0043\, 日本
CATEGORIES:サルサon1
ATTACH;FMTTYPE=image/png:https://dance.gdp22.com/wp-content/uploads/Blessings-on-your-Babys-Baptism.png
END:VEVENT
BEGIN:VEVENT
DTSTART;TZID=Asia/Tokyo:20261001T174500
DTEND;TZID=Asia/Tokyo:20261001T183000
DTSTAMP:20260422T081440
CREATED:20220720T030249Z
LAST-MODIFIED:20220729T054705Z
UID:10242602-1790876700-1790879400@dance.gdp22.com
SUMMARY:チアリーディング（小学生高学年）By Misaki
DESCRIPTION:ダンスクラス（月4回）\n小学生まで 6\,600円／月謝\n中学生以上 8\,250円／月謝\n＊1回ずつのドロップインはダンススクールでは受け付けておりません。\nダンス取り放題（月何回でもOK）\n小学生 9\,900 円／月謝\n中学生 12\,100 円／月謝\n高校生・大学生16\,500 円／月謝\n大人22\,000円／月謝\nフィットネスクラス\nメンバーシップ 全クラス（スタジオ、オンライン） 受け放題\n11\,000 円／月謝\n1回ずつ 2\,750 円（スタジオ・オンラインとも）\nオンラインのみの受け放題（3週までのミニマム月10回のレッスン）\n11\,000円／月謝\nダンス＆フィットネスクラス取り放題（オンラインレッスンも含む）\n高校生・大学生 24\,200円／月謝\n大人 26\,400円／月謝\nダンスチケットメンバー\nダンス　7回分（使用日から5か月で使い切りでどのクラスにも使えます）\n高校生以上 ／22\,000円\nプライベートレッスン\n15分　2\,200円\n（30分以上でご予約ください）\n※料金は税込み表示です。
URL:https://dance.gdp22.com/event/dance-15518/2026-10-01/
LOCATION:守谷M-Style\, 茨城県守谷市御所ケ丘1-4-2\, 守谷\, 302-0119\, 日本
CATEGORIES:チアリーディング
END:VEVENT
BEGIN:VEVENT
DTSTART;TZID=Asia/Tokyo:20261001T181000
DTEND;TZID=Asia/Tokyo:20261001T185500
DTSTAMP:20260422T081440
CREATED:20220930T045604Z
LAST-MODIFIED:20221014T170651Z
UID:10278112-1790878200-1790880900@dance.gdp22.com
SUMMARY:初めてのサルサ レディース スタイル LaHabana
DESCRIPTION:料金・詳細は公式参照 \nhttps://www.lahabana.co.jp/price/?studioid=173&anchor/#block \nLaHabana(名古屋)
URL:https://dance.gdp22.com/event/dance-36528/2026-10-01/
LOCATION:LaHabana 栄校 Sahara (名古屋)\, 愛知県名古屋市中区錦3丁目7-12 錦クリスタルビル4F\, 名古屋\, 460-0003\, 日本
CATEGORIES:サルサ全般
END:VEVENT
BEGIN:VEVENT
DTSTART;TZID=Asia/Tokyo:20261001T190000
DTEND;TZID=Asia/Tokyo:20261001T194500
DTSTAMP:20260422T081440
CREATED:20220720T030428Z
LAST-MODIFIED:20220729T054749Z
UID:10242854-1790881200-1790883900@dance.gdp22.com
SUMMARY:バレエ応用Danceファンデーション By Misaki
DESCRIPTION:ダンスクラス（月4回）\n小学生まで 6\,600円／月謝\n中学生以上 8\,250円／月謝\n＊1回ずつのドロップインはダンススクールでは受け付けておりません。\nダンス取り放題（月何回でもOK）\n小学生 9\,900 円／月謝\n中学生 12\,100 円／月謝\n高校生・大学生16\,500 円／月謝\n大人22\,000円／月謝\nフィットネスクラス\nメンバーシップ 全クラス（スタジオ、オンライン） 受け放題\n11\,000 円／月謝\n1回ずつ 2\,750 円（スタジオ・オンラインとも）\nオンラインのみの受け放題（3週までのミニマム月10回のレッスン）\n11\,000円／月謝\nダンス＆フィットネスクラス取り放題（オンラインレッスンも含む）\n高校生・大学生 24\,200円／月謝\n大人 26\,400円／月謝\nダンスチケットメンバー\nダンス　7回分（使用日から5か月で使い切りでどのクラスにも使えます）\n高校生以上 ／22\,000円\nプライベートレッスン\n15分　2\,200円\n（30分以上でご予約ください）\n※料金は税込み表示です。
URL:https://dance.gdp22.com/event/dance-15530/2026-10-01/
LOCATION:守谷M-Style\, 茨城県守谷市御所ケ丘1-4-2\, 守谷\, 302-0119\, 日本
CATEGORIES:バレエ
END:VEVENT
BEGIN:VEVENT
DTSTART;TZID=Asia/Tokyo:20261001T190000
DTEND;TZID=Asia/Tokyo:20261001T213000
DTSTAMP:20260422T081440
CREATED:20220914T040642Z
LAST-MODIFIED:20220922T160410Z
UID:10263758-1790881200-1790890200@dance.gdp22.com
SUMMARY:son キューバンサルサ レッスン ツヨシ @ La Rumba
DESCRIPTION:毎週木曜日 \n19:00～20:00　キューバンソン\n基礎　/入門ソン　2\,000円 \n20:00～21:30 キューバンサルサ\n基礎　/入門サルサ　2\,300円 \n21：30～22：30　フリータイム \n初めての方から経験者までしっかり上達出来るようにレッスンします。サルサのダンスレッスンが初めてという方も安心していらしてください。\n池袋 La Rumbaは鏡もしっかりしていて練習にはもってこいですよ。そしてラルンバの特徴の一番のところは床です。3層に作りこまれた床でとても柔らかく、足腰を傷めない作りになっています。\n19時からは週に一度のCuban Sonのクラスです。キュ-バで生まれた素晴らしい音楽SON。そのソンの基礎のリズム、ムーブメント、ステップからゆっくり練習するクラスになります。味わい深い音楽ソンで踊ることができると必ずサルサもがらっと変わりますよ！\n20時から30分間はCuban Salsaの基本的なステップ、ムーブメント、ペアワークをじっくりやります。まったく初めての方はアシスタントの方が細かく丁寧にお教えさせていただきます。\n20時半からの１時間は基本的なキューバン サルサのペアワークレッスン。そして21時半からのレッスン後の時間は22時半までさまざまな方とフロアで踊れます。\n音響もしっかりしているし、このスペースを使えるのは贅沢なかんじですよ。レッスン後のフリータイムでは楽しく踊りましょう。ドリンクはハバナクラブ３年、水、コーラのみを用意しております。セルフサービスになります。ビールなどが飲まれたい方はご持参ください。\nサルサの経験者はもちろん、ダンスの経験のまったくない方でも楽しみながらCuba のSalsa　を　1曲通してかっこよく踊れるようになるのが初級レッスンの目標です。始めは楽しみながら焦らず、最低限キューバンサルサを踊るために必要なステップ・ムーブメントからゆっくり始めて行きましょう。\n最初からレッスンにはちょっとと言う方はお気軽に見学においでください。下は20代から上は70代まで様々な年齢の方がこられます。\nどの会場も予約は特にいりません。最初は服装もスーツでもなんでも大丈夫ですよ。どのクラスも初心者の方大歓迎です。個々の上達に合わせ、さらに応用のステップ、ムーブメント、サルサペアワークそしてルンバやソン、ヨルバ、アフロキューバンなど様々なダンスの習得を目指しております。 私のキューバの踊りの知識、技術をお伝えします！
URL:https://dance.gdp22.com/event/dance-34373/2026-10-01/
LOCATION:池袋la rumba\, 東京都豊島区池袋２丁目２３－２シャンテビルB1\, 池袋\, 171-0014\, 日本
CATEGORIES:キューバン
ATTACH;FMTTYPE=image/jpeg:https://dance.gdp22.com/wp-content/uploads/tuyoshi11.jpg
ORGANIZER;CN="Tsuyoshi Kato":MAILTO:inf@cubansalsa.net
END:VEVENT
BEGIN:VEVENT
DTSTART;TZID=Asia/Tokyo:20261001T190000
DTEND;TZID=Asia/Tokyo:20261001T230000
DTSTAMP:20260422T081440
CREATED:20220718T171509Z
LAST-MODIFIED:20220718T173436Z
UID:10243044-1790881200-1790895600@dance.gdp22.com
SUMMARY:BUENA SALSA SOCIAL CLUB＠JBA
DESCRIPTION:BUENA SALSA SOCIAL CLUB\n(ブエナ サルサ ソシアル クラブ、素敵なサルサの社交場） \n昇天イベント☆アタルンバ主催のATARUです、スタジオJBAでLAサルサ(ON1)レッスンを始めます☆\nオープンして一年の綺麗でお洒落なスタジオでペアダンス、サルサを学びませんか☆\n男女が音楽を共有、シンクロし、言葉ではない心身のコミュニケーションを取り、\n日常生活で抑えてる情念、情感を開放し、魂を昇天させるペアダンス、それがサルサです☆ \n浮き世の不景気、政治不信、蔓延する生きて行く事に対する不安感、ストレス、倦怠感、苛立ち、\nそれらを吹き飛ばし、力強く前向きに生きて行く為にもサルサを始めませんか！\n☆きっと自分の中に新たな違う自分を発見するはずです☆\n生活に情熱のソース(サルサ)をぶっかけて味わい深い人生を歩みましょう！\nそのスタートとしてレッスンはステップワークを怠る事なく、\nペアがお互いに踊りやすいと感じられるようになる事にポイントを当てて、\n復習を繰り返しながら進めて行くつもりです☆\nさあ、一歩踏み出してラテン音楽に身を任せましょう！ \nレッスンの後は２時間のフリーダンスタイムを用意してあります☆\n僕もラストまで踊りまくるので、お気軽におこし下さい。 \n————————————————————–\n★開催日：【毎月第１、２、４木曜日】\n★開催時間：１９：００～２３：００ \n【タイムテーブル】\n19:00～19:30：未経験者&超初心者の為の個人レッスン\n19:30～20:00：ストレッチ、ムーブメント、ステップワーク(メレンゲ、サルサ、バチャータ)\n20:00～21:00：初中級サルサのペアワーク\n(ルーティーンは参加者のレベルに合わせた前回の復習を含んだものになります☆)\n21:00～23:00：フリーダンスタイム\n☆曲はATARU選曲によるLAスタイル向き、珠玉の懐メロ&ロマンティカが流れます。11時昇天☆ \n【参加費】\n２時間レッスン＋フリーダンスタイムはワンドリンク付き2000円\nフリーダンスタイムオンリーはワンドリンク付きで1000円\nソフトドリンクは常備されており飲み放題です☆\n他のドリンク類の持ち込みもOKです☆ 気軽に遊びに来て下さい。
URL:https://dance.gdp22.com/event/dance-15197/2026-10-01/
LOCATION:小伝馬町スタジオJBA\, 東京都中央区日本橋大伝馬町１１−８ ＨＡＴビル B1F\, 小伝馬町\, 103-0011\, 日本
CATEGORIES:サルサon1,メレンゲ,バチャータ全般
END:VEVENT
BEGIN:VEVENT
DTSTART;TZID=Asia/Tokyo:20261001T190000
DTEND;TZID=Asia/Tokyo:20261001T230000
DTSTAMP:20260422T081440
CREATED:20251230T024153Z
LAST-MODIFIED:20251230T024153Z
UID:10300193-1790881200-1790895600@dance.gdp22.com
SUMMARY:BUENA SALSA SOCIAL CLUB＠JBA
DESCRIPTION:BUENA SALSA SOCIAL CLUB\n(ブエナ サルサ ソシアル クラブ、素敵なサルサの社交場） \n昇天イベント☆アタルンバ主催のATARUです、スタジオJBAでLAサルサ(ON1)レッスンを始めます☆\nオープンして一年の綺麗でお洒落なスタジオでペアダンス、サルサを学びませんか☆\n男女が音楽を共有、シンクロし、言葉ではない心身のコミュニケーションを取り、\n日常生活で抑えてる情念、情感を開放し、魂を昇天させるペアダンス、それがサルサです☆ \n浮き世の不景気、政治不信、蔓延する生きて行く事に対する不安感、ストレス、倦怠感、苛立ち、\nそれらを吹き飛ばし、力強く前向きに生きて行く為にもサルサを始めませんか！\n☆きっと自分の中に新たな違う自分を発見するはずです☆\n生活に情熱のソース(サルサ)をぶっかけて味わい深い人生を歩みましょう！\nそのスタートとしてレッスンはステップワークを怠る事なく、\nペアがお互いに踊りやすいと感じられるようになる事にポイントを当てて、\n復習を繰り返しながら進めて行くつもりです☆\nさあ、一歩踏み出してラテン音楽に身を任せましょう！ \nレッスンの後は２時間のフリーダンスタイムを用意してあります☆\n僕もラストまで踊りまくるので、お気軽におこし下さい。 \n————————————————————–\n★開催日：【毎月第１、２、４木曜日】\n★開催時間：１９：００～２３：００ \n【タイムテーブル】\n19:00～19:30：未経験者&超初心者の為の個人レッスン\n19:30～20:00：ストレッチ、ムーブメント、ステップワーク(メレンゲ、サルサ、バチャータ)\n20:00～21:00：初中級サルサのペアワーク\n(ルーティーンは参加者のレベルに合わせた前回の復習を含んだものになります☆)\n21:00～23:00：フリーダンスタイム\n☆曲はATARU選曲によるLAスタイル向き、珠玉の懐メロ&ロマンティカが流れます。11時昇天☆ \n【参加費】\n２時間レッスン＋フリーダンスタイムはワンドリンク付き2000円\nフリーダンスタイムオンリーはワンドリンク付きで1000円\nソフトドリンクは常備されており飲み放題です☆\n他のドリンク類の持ち込みもOKです☆ 気軽に遊びに来て下さい。
URL:https://dance.gdp22.com/event/dance-118738/2026-10-01/
LOCATION:小伝馬町スタジオJBA\, 東京都中央区日本橋大伝馬町１１−８ ＨＡＴビル B1F\, 小伝馬町\, 103-0011\, 日本
CATEGORIES:サルサon1,メレンゲ,バチャータ全般
END:VEVENT
BEGIN:VEVENT
DTSTART;TZID=Asia/Tokyo:20261001T190000
DTEND;TZID=Asia/Tokyo:20261001T235900
DTSTAMP:20260422T081440
CREATED:20220718T020421Z
LAST-MODIFIED:20220718T020600Z
UID:10233307-1790881200-1790899140@dance.gdp22.com
SUMMARY:Salsa de Barrio(第一週）
DESCRIPTION:毎月第1・第2・第4木曜日開催！！\n☆Salsa de Barrio☆\nみんなで楽しく踊りまくりましょう\nレッスンはOn2ですが、やったことないけど気になってる、始めたばかりという方向けにゆっくり基本からやっていきます\n是非この機会に \nフリータイムから踊りに来る方も大歓迎\n今日はOn2のレッスンの日だからなーとかいうのは関係なし！フリータイムは自由に！！笑\nスタイル関係なし\n今日近くにいるよーという方、ふらっと遊びにくるのも大歓迎??\nDJタイムは週ごとに異なるDJが担当します。\n第1週　DJ Mami\n第2週 DJ Yuu\n第4週　Dj Nob \n+:-:+:-:+:-:+:-:+:-:+:-:+:-:+:-:+:-:+:-:+:-:+:-:+:\n19:00-20:30 Salsa On2入門 lesson by Zakiyama\n20:30-Last DJ Time\nレッスン受ける方:2500yen/1Drink\nDJタイムから:1500yen/1Drink
URL:https://dance.gdp22.com/event/dance-14669/2026-10-01/
LOCATION:銀座ラス・リサス\, 東京都中央区銀座8-12-6 小野商ビルB1F\, 銀座\, 104-0061\, 日本
CATEGORIES:サルサon2,ソーシャル
END:VEVENT
BEGIN:VEVENT
DTSTART;TZID=Asia/Tokyo:20261001T191500
DTEND;TZID=Asia/Tokyo:20261001T203000
DTSTAMP:20260422T081440
CREATED:20220819T033046Z
LAST-MODIFIED:20220829T152900Z
UID:10253519-1790882100-1790886600@dance.gdp22.com
SUMMARY:Camelia Closed Class (初中級）木曜日
DESCRIPTION:Studio Camelia Closed Class (初中級） \n◆毎週木曜日19:15～20:30 \n◆毎週土曜日19:15～20:30 \n要予約 \nお月謝 ￥12000\nビジター1レッスン ￥2500 \n基礎から応用まで、振り付けを通して様々なテクニックを身に付け、振付けだけでなく、ソーシャルで自由自在に踊れるようになるためのトレーニングクラス \nパフォーマンスチームKOTSUBAKIとしての活動も行います
URL:https://dance.gdp22.com/event/dance-30808/2026-10-01/
LOCATION:Studio Camelia(愛媛）\, 愛媛県松山市小村町353-39\, 愛媛\, 791-1125\, 日本
CATEGORIES:振り付け・パフォーマンスクラス全般,サルサ全般
ATTACH;FMTTYPE=image/jpeg:https://dance.gdp22.com/wp-content/uploads/image-21.jpg
ORGANIZER;CN="%E5%B1%B1%E5%8F%A3%E7%BE%8E%E4%BB%A3":MAILTO:studiocamelia34@gmail.com
END:VEVENT
BEGIN:VEVENT
DTSTART;TZID=Asia/Tokyo:20261001T193000
DTEND;TZID=Asia/Tokyo:20261001T201500
DTSTAMP:20260422T081440
CREATED:20220930T041934Z
LAST-MODIFIED:20221014T160708Z
UID:10278379-1790883000-1790885700@dance.gdp22.com
SUMMARY:キューバンカシーノ 入門初級 LaHabana
DESCRIPTION:料金・詳細は公式参照 \nhttps://www.lahabana.co.jp/price/?studioid=173&anchor/#block \nLaHabana(名古屋)
URL:https://dance.gdp22.com/event/dance-36340/2026-10-01/
LOCATION:LaHabana(名古屋)\, 名古屋市中区錦2-6-22 若山ビル3F\, 名古屋\, 463-0003\, 日本
CATEGORIES:カシーノスタイル
END:VEVENT
BEGIN:VEVENT
DTSTART;TZID=Asia/Tokyo:20261001T193000
DTEND;TZID=Asia/Tokyo:20261001T203000
DTSTAMP:20260422T081440
CREATED:20220520T020853Z
LAST-MODIFIED:20220725T034938Z
UID:10211313-1790883000-1790886600@dance.gdp22.com
SUMMARY:入門・初級​ON1サルサダンス (Beginner ON1 Salsa Dance)
DESCRIPTION:木曜日 Thursday​\n19:30~20:30\n入門・初級​ON1サルサダンス\nBeginner ON1 Salsa Dance\n♪体験レッスン受講可能クラス\n♪Trial lesson is available \nサルサダンスのベーシックステップ＆\nボディームーブメントからサルサダンスペアワーク迄\n\n✨体験レッスン✨​初回のみ\n￥500ご予約が必要です\n\n\n​ご予約先pedrolosvalientes@gmail.com\n​080-2522-1108
URL:https://dance.gdp22.com/event/dance-4779/2026-10-01/
LOCATION:神戸 Dance&Art Space　SORA to UMI\, 神戸市中央区中山手通3-10-5 2F\, 神戸\, 650-0004\, 日本
CATEGORIES:サルサon1
ORGANIZER;CN="Pedro":MAILTO:​pedrolosvalientes@gmail.com
END:VEVENT
BEGIN:VEVENT
DTSTART;TZID=Asia/Tokyo:20261001T193000
DTEND;TZID=Asia/Tokyo:20261001T203000
DTSTAMP:20260422T081440
CREATED:20220603T013655Z
LAST-MODIFIED:20220603T013655Z
UID:10219356-1790883000-1790886600@dance.gdp22.com
SUMMARY:BETO (CALI-COLOMBIA) サルサOn1 Level2
DESCRIPTION:BETO SENSEY SALSA 2006年にコロンビアよりカリサルサ普及のため来日。\n元世界チャンピオンとして自身の躍動感溢れるパフォーマンス、また個人のレべルに合わせた丁寧な指導により日本チャンピオンぺアを育てるなど、年齢に関わらず生徒たちから絶大な人気を誇る日本サルサ界のトップダンサー。\n19:30-20:30 サルサOn1 Level2 2500円\n連続2レッスン受講の場合は3500円
URL:https://dance.gdp22.com/event/dance-6705/2026-10-01/
LOCATION:新宿スタジオレオン(2F)\, 東京都新宿区新宿 5-17-6　2F\, 新宿\, 160-0022\, 日本
CATEGORIES:サルサon1
ATTACH;FMTTYPE=image/jpeg:https://dance.gdp22.com/wp-content/uploads/img_BETO.jpg
END:VEVENT
BEGIN:VEVENT
DTSTART;TZID=Asia/Tokyo:20261001T193000
DTEND;TZID=Asia/Tokyo:20261001T203000
DTSTAMP:20260422T081440
CREATED:20220812T040031Z
LAST-MODIFIED:20220812T040031Z
UID:10251482-1790883000-1790886600@dance.gdp22.com
SUMMARY:Sensual Bachataレベル1初級 By Shu&You
DESCRIPTION:Sensual Bachata■ Level.1\n○シンプル&スムーズ\nとてもシンプルなペアーコンビネーションをスムーズに踊れる様に練習します。\nギクシャクしたペアーワークにならないようにどうしたら滑らかに踊れるかをお伝えします。\n初級者はもちろん経験者も基本的な踊りかたを見直し、\nご自身のレベルを上げる事が出来ます。\n○リズミカル&正確\n【カウントではなく】リズム&テンポの取り方を学び、\nリズミカルにペアーが踊れる練習をします。\n音とズレて踊らない様に練習します。\n○楽しめるペアーワーク\nペアーを踊る相手と楽しめる、コツポイントをお伝えします。\n東京目黒スタジオLaCelula\nSensual Bachataレベル1\nレベル0-3 ¥2000／1回\n月謝制8レッスン¥14000\n作品クラス¥10000／1ヶ月
URL:https://dance.gdp22.com/event/dance-29702/2026-10-01/
LOCATION:目黒スタジオLaCelula\, 東京都目黒区下目黒2－2－8メディアビル1F\, 目黒区\, 153-0064\, 日本
CATEGORIES:センシュアルバチャータ
ATTACH;FMTTYPE=image/jpeg:https://dance.gdp22.com/wp-content/uploads/2078D6B2-3B15-44E2-A61D-6F25B88167F8-226x300-1.jpeg
ORGANIZER;CN="Shu(Shu%EF%BC%86You)":MAILTO:shuandyou@gmail.com
END:VEVENT
BEGIN:VEVENT
DTSTART;TZID=Asia/Tokyo:20261001T193000
DTEND;TZID=Asia/Tokyo:20261001T203000
DTSTAMP:20260422T081440
CREATED:20241216T232326Z
LAST-MODIFIED:20241216T232326Z
UID:10233364-1790883000-1790886600@dance.gdp22.com
SUMMARY:Citta De La Salsa in 川崎 Lesson ByNamio Salsa
DESCRIPTION:【Citta De La Salsa in 川崎】\n★川崎citta atticでのサルサイベントが\nNamio Naomi先生のレッスンとともに\n毎月第1、第3木曜日に復活開催です〜！ \n★Open/19:30 　　　Close/23:00\n￥1\,500（1D）Lesson ＋￥1\,000\nNaomi Salasa On1 初中級lesson　19:30〜20:30 (￥1\,000）\nSalsa Party　20:30〜23:00￥1500(w1d)\nDJ You (Salsa&Bachata) \n★会場：川崎LA CIITA DELLA内　ATTIC BAR　2F\nhttp://clubcitta-attic.com/\n住所：川崎市川崎区小川町5-7 CIITA DELLA川崎内ATTIC BAR(2F) \n★川崎にも、サルサを熱く！楽しく！気軽に踊れるイベントがありますよ！\n川崎 CLUB CITTA の2F ATTIC BARにてサルサパーティー開催！！\n★会場は天井が高く開放感ある素敵なDJバーで音響設備も抜群です！\n★初心者の方にも優しく、On1メインで踊りやすい曲で楽しめます！\n初めての方、お一人の方、女性同士の方でも安心して踊れます。\nゆったりと2時間半、たっぷり踊れます！\n毎月第1\,第3木曜日の夜は、東京と横浜の中間川崎、Citta De La Salsaへ是非遊びにいらしてください！\n※マスクの着用、検温、消毒にご協力ください。\n※大きな声での会話等はお控えください。
URL:https://dance.gdp22.com/event/dance-7213/2026-10-01/
LOCATION:川崎citta attic\, 神奈川県川崎市川崎区小川町 5-7 2F\, 川崎\, 210-0023\, 日本
CATEGORIES:サルサon1
ATTACH;FMTTYPE=image/jpeg:https://dance.gdp22.com/wp-content/uploads/283857304_4848189995287350_5414652923899820490_ncitta.jpg
END:VEVENT
BEGIN:VEVENT
DTSTART;TZID=Asia/Tokyo:20261001T193000
DTEND;TZID=Asia/Tokyo:20261001T210000
DTSTAMP:20260422T081440
CREATED:20220801T021840Z
LAST-MODIFIED:20220810T151624Z
UID:10250215-1790883000-1790888400@dance.gdp22.com
SUMMARY:木曜マイアミルエダ
DESCRIPTION:－定期レッスン－\n〔木曜マイアミルエダ〕 \nサルサを感じルエダをやる上で、大切な感性とリズム感を養い、音楽で踊る楽しさを身につけて頂くレッスンです。 \n西日暮里スタジオBUZZ\nSTUDIO BUZZ西日暮里・\n駅近く（改札口より徒歩３０秒）\n（マイアミルエダとルエダ技ペアワーク）\n￥２０００\n土足厳禁・要上履き
URL:https://dance.gdp22.com/event/dance-27059/2026-10-01/
LOCATION:西日暮里スタジオBUZZ\, 東京都荒川区西日暮里5-24-2 KIビル地下1階\, 日暮里\, 116-0013\, 日本
ATTACH;FMTTYPE=image/jpeg:https://dance.gdp22.com/wp-content/uploads/272894356_1212370222500045_2908864421400672833_n.jpg
END:VEVENT
BEGIN:VEVENT
DTSTART;TZID=Asia/Tokyo:20261001T193000
DTEND;TZID=Asia/Tokyo:20261001T230000
DTSTAMP:20260422T081440
CREATED:20260202T120626Z
LAST-MODIFIED:20260312T022724Z
UID:10280279-1790883000-1790895600@dance.gdp22.com
SUMMARY:楽楽 de Kizomba @ スペースポノ 毎週木曜日 開催！
DESCRIPTION:楽楽(らくらく) de Kizomba @ スペースポノ 毎週木曜日 開催！\n🌟 初心者でも安心！キゾンバレッスン開講 🌟 \n  \n【DekaShige先生コメント】\n両国で、楽楽にKIZOMBAを踊りませんか？ \n難しい技をカウントで踊るとなかなか伝わらない、痛い、心地良くないとの経験ありませんか？ \n簡単な技だけでもミュージカリティというスキルを使えば、楽楽に心地よく踊れます。 \nミュージカリティを習得してKIZOMBAを心地よく一緒に踊りましょう。 \n  \n場所 \nはスペースポノ (旧ダンススタジオハッピーターン）です。 \nこんな方にぜひおすすめ！ \n✅ ペアダンス未経験OK！\n✅ リズム感がなくても大丈夫！\n✅ 基本ステップからしっかり学べる！ \n━━━━━━━━━━━━━━━━━ \n📅 レッスン詳細\n📅 レッスン詳細 \n🕒 日時：毎週木曜日 19:30~23:00 \n📆 スケジュール\n🎓19:30-20:00 無料基礎クラス\n🎓20:00-21:00 初級クラス\n🎉21:00 ソーシャル \n📍 場所：両国スペースポノ（旧ハッピーターン） \n💰 料金\n🎓 ワークショップ + ソーシャル：2\,000円\n🎉 ソーシャルのみ：1\,000円 \n👟 持ち物：動きやすい服装・ダンスシューズ or 靴下 \n👟シューズ👠:ダンススタジオですのでダンスシューズをお持ちください。シューズない方は靴下でも大丈夫です。 \n🍔持込🧋:フード、アルコール含むドリンク持込可。差し入れも大歓迎しています。 \nゴミのお持ち帰りにご協力をお願いいたします🙏 \n━━━━━━━━━━━━━━━━━ \n💃 レッスン内容\n🔹 ウォームアップ – 体の使い方をチェック！\n🔹 基本ステップ – 初心者でもすぐ踊れる！\n🔹 ペアワーク – リード＆フォローのコツ\n🔹 コンビネーション – 実際の曲で踊ってみよう！ \n━━━━━━━━━━━━━━━━━ \n🎯 どんなことができるようになる？\n✔ 心地よく、気持ちいいペアダンスが踊れるようになる！\n✔ カウント以外に曲の流れにのって踊れるようになる！\n✔ キゾンバのリズムに合わせて踊れる！\n✔ ペアでのリード＆フォローがスムーズに！\n✔ ダンスの楽しさを実感できる！ \n━━━━━━━━━━━━━━━━━ \n🙋‍♀️ 受講生の声\n以下のプレイリストで多くの生徒さんの直接の声を聞くことができます。\n生徒さんの声 \n\n「レッスンで自分のダンスが変わった！」\n「リード＆フォローのコツが分かって、ペアで踊るのが楽しくなった！」\n「ミュージカリティ」で踊ることの楽しさがわかった！ etc\n\n \n━━━━━━━━━━━━━━━━━ \n👨‍🏫 講師インタビュー | DekaShige (デカシゲ)先生\n🗣 「キゾンバの魅力を語る！」 \n\n「キゾンバは身体の使い方が大切。初めての人でもリラックスして踊れるように、基礎をしっかり教えます！」\n「音楽にあわせて」「心地よく」「気持ちいい」ペアダンスを踊ることができるます。\n\n \n  \n▶本編はこちら（会員登録無料 で全編視聴可能）\nhttps://dance.gdp22.com/dance_changes_life/dekashige/\n  \n━━━━━━━━━━━━━━━━━ \n❓ よくある質問（FAQ）\nQ. ダンス未経験でも大丈夫？\nA. もちろんOK！基本ステップからしっかり教えます。 \nQ. 服装やシューズは？\nA. 動きやすい服装と、ダンスシューズ or 靴下でOK！ \nQ. 1人でも参加できる？\nA. できます！現地でペアを組むので、お一人でも安心。 \nQ. 予約なしでも参加OK？\nA. 可能ですが、事前予約をおすすめします！ \n━━━━━━━━━━━━━━━━━ \n📢 お問い合わせ\n📧 メール：info@gdp22.com\n📍 場所：両国スペースポノ(旧ダンススタジオ ハッピーターン) \n━━━━━━━━━━━━━━━━━ \n最寄駅\n\n都営大江戸線 両国駅 A5出口より直進約4分\nJR 総武線 両国駅 東口より徒歩７分\n都営新宿線 森下駅 A5出口より徒歩約7分\n\n（隣にLawson Store (ローソンストア)100・有料駐車場近くに有ります） \n住所：〒130-0026 墨田区両国4-18-4 グレイス両国203号 \n\nGoogleマップ\nhttps://maps.app.goo.gl/8161bWyHgt2vfj7k6 \n  \nスペースポノ（旧両国ハッピーターン） Googleマップでのアクセス例:オススメ No.1 【都営大江戸線 両国駅A5出口から】https://maps.app.goo.gl/Y9eMmGhwyFgMqM8y8・A5出口から直進210m\n 【都営大江戸線・新宿線 森下駅 A5出口から】https://maps.app.goo.gl/V4KXR9po1f3qynUG7・森下駅A5出口から直進550m\n 【JR両国駅 東口から】https://maps.app.goo.gl/179TrsQ7E5XXCSZx5・東口から550m\n 
URL:https://dance.gdp22.com/event/dance-92293-32/2026-10-01/
LOCATION:両国スペースポノ(旧ハッピーターン)\, 墨田区両国4-18-4 グレイス両国203号\, 両国\, 130-0026
CATEGORIES:アーバンキッズ（urban kz キゾンバ）,キゾンバ
ATTACH;FMTTYPE=image/png:https://dance.gdp22.com/wp-content/uploads/Gemini_Generated_Image_nwvh9znwvh9znwvh.png
END:VEVENT
BEGIN:VEVENT
DTSTART;TZID=Asia/Tokyo:20261001T193000
DTEND;TZID=Asia/Tokyo:20261001T233000
DTSTAMP:20260422T081440
CREATED:20220713T024500Z
LAST-MODIFIED:20220912T041255Z
UID:10236548-1790883000-1790897400@dance.gdp22.com
SUMMARY:PA’LANTE KIZ NIGHT
DESCRIPTION:✨PA’LANTE KIZ NIGHT✨\n(English follows Japanese) \n木曜日の夜に思う存分KIZOMBA、URBANKIZ、TARRAXAを楽しみましょう！！\nビギナー向けの無料基礎レッスンあります? \nペアレッスンはRyuによるURBANKIZ又はTARRAXOです✊アシスタントはJessica?ゲストDJはDJ Choco ?ゲストダンサーはLyn? \n会場は六本木Bar Mirageです。皆さんぜひ遊びに来てくださいね? \n■日時：毎週木曜日\n19:30 オープン\n19:45 無料ベーシックレッスン\n20:00 ペアレッスン\n-UrbanKiz (第1、第3、第5)\n-Tarraxo (第2、第4)\n20:50-23:30 ソーシャル \n■場所：Bar Mirage Roppongi\n東京都港区六本木3-14-14 VORT六本木kaleido 5階106-0032\nTel: 03-5840-6946\nhttp://barmirage.tokyo \n■料金\nパーティー: ¥1500\nパーティー + レッスン: ¥2500\n※振替チケットご利用可能 \n■お問い合わせ‬\n-palantedc@yahoo.co.jp \n☆ENGLISH☆ENGLISH☆ENGLISH☆ENGLISH☆ \n✨PA’LANTE KIZ NIGHT✨ \nKizomba\, UrbanKiz & Tarraxa party held at Bar Mirage Roppongi. \nWe have a free Kizomba basic lesson so please feel free to join us? \n■Date: Every Thursday\n19:30 Open\n19:45 Free Basic Lesson\n20:00 Pair Lesson\n-UrbanKiz (1st\, 3rd & 5th)\n-Tarraxo (2nd & 4th)\n20:50-23:30 Social \n■Place: Bar Mirage Roppongi\n5F VORT Roppongi kaleido\, 3-14-14 Roppongi\, Minato-ku\, Tokyo 106-0032\nTel: 03-5840-6946\nhttp://barmirage.tokyo \n■Fee\nParty: ¥1500\nParty + Lesson: ¥2500 \n■Mail\n-palantedc@yahoo.co.jp
URL:https://dance.gdp22.com/event/the-kizomba-room-by-ryu/2026-10-01/
LOCATION:六本木 Bar Mirage\, 東京都港区六本木3-14-14 VORT六本木kaleido 5階\, 六本木\, 106-0032\, 日本
CATEGORIES:キゾンバ全般
ATTACH;FMTTYPE=image/jpeg:https://dance.gdp22.com/wp-content/uploads/00295a89300d03c72b4d64260adda70428e4c9a2.jpg
END:VEVENT
BEGIN:VEVENT
DTSTART;TZID=Asia/Tokyo:20261001T193000
DTEND;TZID=Asia/Tokyo:20261001T235900
DTSTAMP:20260422T081440
CREATED:20220919T061433Z
LAST-MODIFIED:20220919T061433Z
UID:10266208-1790883000-1790899140@dance.gdp22.com
SUMMARY:BACHAKIZZ Night
DESCRIPTION:インストラクター\nMarkos & Saori \n19:30-20:15 Kizomba\n20:15-21:00 Bachata\n21:00-24:00 Party  \n1 Lesson ＋ Party ¥1500\n2 Lesson ＋ Party ¥2000\n Only Party ¥1100(w1drink) \n和気あいあいとした楽しいレッスンですので、初めての方でも大丈夫です❣⃛\nパーティでは好きな曲や踊りたい曲があればリクエストください。可能な限り対応させていただきます。 \nEL RINCON LATINO(大阪)
URL:https://dance.gdp22.com/event/bachakizz-night/2026-10-01/
LOCATION:EL RINCON LATINO(大阪)\, 大阪府大阪市中央区心斎橋筋２丁目６−８ シャンペンジャムビル 4F\, 大阪\, 542-0085\, 日本
CATEGORIES:ソーシャル,バチャータ全般,キゾンバ全般
ATTACH;FMTTYPE=image/jpeg:https://dance.gdp22.com/wp-content/uploads/301806533_625121028965476_73485559564743689_n.jpg
END:VEVENT
BEGIN:VEVENT
DTSTART;TZID=Asia/Tokyo:20261001T193500
DTEND;TZID=Asia/Tokyo:20261001T210000
DTSTAMP:20260422T081440
CREATED:20220627T021706Z
LAST-MODIFIED:20220806T144515Z
UID:10230649-1790883300-1790888400@dance.gdp22.com
SUMMARY:東京サルサコネクション(木曜1 )By ルイ
DESCRIPTION:東京サルサコネクション \n木曜日(第五は除く)\n19:35- 入門レッスン\n21:00- 初級レッスン\n22:30- END \n土曜日\n15:40- 初級レッスン\n17:00- 入門レッスン\n17:55- END\n入門クラスは全く初めての状態からサルサを\n楽しめるようになるまでを丁寧にサポートします！初心者大歓迎です。 \n入門を卒業後の初級クラスは、複雑なルーティンにチャレンジしながら\nよりカッコよく、美しく踊るコツを楽しくお伝えします。 \n初回体験\n1\,000円\n４枚チケット（期限２ヶ月）\n通常 　12\,000円\nU35割 10\,000円\nU25割 9\,000円\n8枚チケット（期限4ヶ月）\n通常　 20\,000円\nU35割 18\,000円\nU25割 16\,000円\n12枚チケット（期限6ヶ月）\n通常　 27\,000円\nU35割 24\,000円\nU25割 22\,000円\n単発利用\n3\,500円
URL:https://dance.gdp22.com/event/dance-8838/2026-10-01/
LOCATION:新宿スタジオレス\, 東京都新宿区百人町1-23-4　D-SQUARE Shinjuku ７階\, 新宿\, 169-0073\, 日本
CATEGORIES:サルサ全般
ATTACH;FMTTYPE=image/jpeg:https://dance.gdp22.com/wp-content/uploads/original2.jpeg
END:VEVENT
BEGIN:VEVENT
DTSTART;TZID=Asia/Tokyo:20261001T194500
DTEND;TZID=Asia/Tokyo:20261001T210000
DTSTAMP:20260422T081440
CREATED:20250426T084811Z
LAST-MODIFIED:20250426T084811Z
UID:10283221-1790883900-1790888400@dance.gdp22.com
SUMMARY:SON CUBANO
DESCRIPTION:19:45～21:00\n￥1\,100\n今月から久しぶりのSONです。\n古きよき美しいキューバ音楽ソンをエレガントに\n躍れるようにレッスンしましょう
URL:https://dance.gdp22.com/event/dance-31372-2/2026-10-01/
LOCATION:Dance&Dining桜井通り（熊本）\, 熊本県熊本市中央区上通町5-10桜井ビル4F\, 熊本\, 860-0845
CATEGORIES:ソンギター・トレス,ソーシャル,カシーノスタイル,サルサ全般
END:VEVENT
BEGIN:VEVENT
DTSTART;TZID=Asia/Tokyo:20261001T200000
DTEND;TZID=Asia/Tokyo:20261001T210000
DTSTAMP:20260422T081440
CREATED:20220731T191110Z
LAST-MODIFIED:20220731T195525Z
UID:10250470-1790884800-1790888400@dance.gdp22.com
SUMMARY:KEIKOsalsaON１初級
DESCRIPTION:KEIKOsalsaON１初級 \n20：00～21：00 \n2500円ｗ1ｄ \n 
URL:https://dance.gdp22.com/event/dance-26910/2026-10-01/
LOCATION:亀戸ルシファーLucifer\, 東京都江東区亀戸2ｰ25-3小黒ビル403\, 亀戸\, 136-0071\, 日本
CATEGORIES:サルサon1
ATTACH;FMTTYPE=image/jpeg:https://dance.gdp22.com/wp-content/uploads/294555312_468422838619520_7904066720175893066_n-1.jpg
END:VEVENT
BEGIN:VEVENT
DTSTART;TZID=Asia/Tokyo:20261001T200000
DTEND;TZID=Asia/Tokyo:20261001T210000
DTSTAMP:20260422T081440
CREATED:20220928T032139Z
LAST-MODIFIED:20221121T042925Z
UID:10289771-1790884800-1790888400@dance.gdp22.com
SUMMARY:Salsa Level 1.5 8-9pm
DESCRIPTION:中級サルサクラス \nMambOki LDC(沖縄)
URL:https://dance.gdp22.com/event/salsa-level-2-9-10pm-2/2026-10-01/
LOCATION:MambOki LDC(沖縄)\, 沖縄県宜野湾市宇地泊７３５\, 宜野湾\, 901-2227\, 日本
CATEGORIES:サルサ全般
END:VEVENT
BEGIN:VEVENT
DTSTART;TZID=Asia/Tokyo:20261001T200000
DTEND;TZID=Asia/Tokyo:20261001T210000
DTSTAMP:20260422T081440
CREATED:20221116T040933Z
LAST-MODIFIED:20221116T040933Z
UID:10288001-1790884800-1790888400@dance.gdp22.com
SUMMARY:オープンクラス（木曜）
DESCRIPTION:
URL:https://dance.gdp22.com/event/dance-39951/2026-10-01/
LOCATION:恵比寿スタジオJ\, 東京都渋谷区東3-22-9 小倉ビルB1\, 恵比寿\, 150-0011\, 日本
CATEGORIES:サルサ,サルサ全般
ATTACH;FMTTYPE=image/png:https://dance.gdp22.com/wp-content/uploads/schedule_info2-13.png
END:VEVENT
BEGIN:VEVENT
DTSTART;TZID=Asia/Tokyo:20261001T200000
DTEND;TZID=Asia/Tokyo:20261001T210000
DTSTAMP:20260422T081440
CREATED:20221116T041435Z
LAST-MODIFIED:20221116T041506Z
UID:10288271-1790884800-1790888400@dance.gdp22.com
SUMMARY:集中クラス（木曜）
DESCRIPTION:初級
URL:https://dance.gdp22.com/event/dance-39965/2026-10-01/
LOCATION:恵比寿スタジオJ\, 東京都渋谷区東3-22-9 小倉ビルB1\, 恵比寿\, 150-0011\, 日本
CATEGORIES:サルサ,サルサ全般
ATTACH;FMTTYPE=image/png:https://dance.gdp22.com/wp-content/uploads/schedule_info2-13.png
END:VEVENT
END:VCALENDAR