BEGIN:VCALENDAR
VERSION:2.0
PRODID:-//Dancing Pono (ダンシングポノ) - ECPv6.15.12//NONSGML v1.0//EN
CALSCALE:GREGORIAN
METHOD:PUBLISH
X-WR-CALNAME:Dancing Pono (ダンシングポノ)
X-ORIGINAL-URL:https://dance.gdp22.com
X-WR-CALDESC:Dancing Pono (ダンシングポノ) のイベント
REFRESH-INTERVAL;VALUE=DURATION:PT1H
X-Robots-Tag:noindex
X-PUBLISHED-TTL:PT1H
BEGIN:VTIMEZONE
TZID:Asia/Tokyo
BEGIN:STANDARD
TZOFFSETFROM:+0900
TZOFFSETTO:+0900
TZNAME:JST
DTSTART:20250101T000000
END:STANDARD
END:VTIMEZONE
BEGIN:VEVENT
DTSTART;TZID=Asia/Tokyo:20260301T090000
DTEND;TZID=Asia/Tokyo:20260301T130000
DTSTAMP:20260422T060334
CREATED:20260223T083125Z
LAST-MODIFIED:20260228T225928Z
UID:10303638-1772355600-1772370000@dance.gdp22.com
SUMMARY:🎉 マラソン de ラテンラウンジ 2026！ 🎉
DESCRIPTION:🎉 マラソン de ラテンラウンジ 2026！ 🎉\n🏃‍♂️💃 3月はサルサの日！東京マラソンを踊りながら観戦しよう！ 🎶🍹 \n📅 日時: 2026年3月1日 (日) 9:00 – 13:00\n📍 会場: スペースポノ（両国）\n💰 料金: ￥2\,000（1ドリンク付き） \n  \n・早割（9:00〜10:00入場）　1\,500円（1ドリンク付き）\n・遅割（12:00〜13:00入場）　1\,500円（1ドリンク付き） \n🌟 イベント概要 🌟 \n東京マラソンのコース「清澄通り」を見下ろせる最高のロケーションで、\nラテン音楽を楽しみながらマラソン観戦しませんか？🏃‍♂️🎶 \n✨ スペースポノの前は折り返し地点のすぐ手前！\n➡ 「折り返し前」と「折り返し後」の2回ランナーを応援できるベストポジション！\n➡ 真剣に走るランナーの姿に、毎年感動…！ \nマラソン × ラテン音楽 × 両国の街\nこの日だけの特別な空間を一緒に楽しみましょう。 \n🎶 楽しみ方はあなた次第！ 🎶 \n✅ お酒やコーヒーを片手に、まったり観戦！🍷☕（持ち込みOK）\n✅ 家族で楽しくマラソン応援！👨‍👩‍👧‍👦\n✅ サルサやバチャータを踊りながら観戦！💃🕺\n✅ 初心者向けミニ体験レッスンあり！✨\n✅ 厳選ドリンクもご用意予定🍶 \n⏰ スケジュール（予定） \n9:00 開場\n9:05 車いすマラソン・車いす10kmスタート\n9:10 マラソン・10kmスタート\n10:00頃 ランナーが眼前を通過！（感動の瞬間✨）\n13:00 終了 \n※時間は大会運営状況により前後する可能性があります。 \n📍 アクセス情報 & 注意点 \n🚧 当日は清澄通りの交通規制があります 🚧\n道路を横断できませんので、以下のルートをご利用ください。 \n✅ 都営大江戸線「両国駅」A5出口\n✅ JR「両国駅」東口\n✅ 都営大江戸線・新宿線「森下駅」A5出口 \n🚲 自転車でお越しの方へ\n係員の指示に従い、迂回ルートをご利用ください。 \n📱 アプリで応援しよう！ \n大会当日は、ランナーの位置情報をリアルタイムで把握できるアプリを活用すると、\n応援がさらに楽しくなります。 \n🏃‍♂️ 応援navi\nhttps://runnet.jp/smpapp/ouennavi/ \nゼッケン番号や氏名を入力することで、現在位置や通過予想時刻を確認できます。 \n🔥 年に一度の特別な観戦イベント！ 🔥\n💃 踊って、応援して、語って、つながる1日。 \nマラソンの熱気とラテンのリズムを、\nスペースポノで一緒に楽しみましょう！ 🏃‍♂️🎶🍷
URL:https://dance.gdp22.com/event/dance-124334/
LOCATION:両国スペースポノ(旧ハッピーターン)\, 墨田区両国4-18-4 グレイス両国203号\, 両国\, 130-0026
ATTACH;FMTTYPE=image/png:https://dance.gdp22.com/wp-content/uploads/0301-scaled.png
END:VEVENT
BEGIN:VEVENT
DTSTART;TZID=Asia/Tokyo:20260301T110000
DTEND;TZID=Asia/Tokyo:20260301T114500
DTSTAMP:20260422T060334
CREATED:20220620T032905Z
LAST-MODIFIED:20220620T032905Z
UID:10228247-1772362800-1772365500@dance.gdp22.com
SUMMARY:ピラティス By AGATA
DESCRIPTION:ピラティス \nAGATA \nhttps://www.studio-casino.com/%E4%BD%93%E9%A8%93%E3%83%AC%E3%83%83%E3%82%B9%E3%83%B3-%E5%88%9D%E3%82%81%E3%81%A6%E3%81%AE%E6%96%B9/%E6%96%99%E9%87%91/
URL:https://dance.gdp22.com/event/dance-7906/2026-03-01/
LOCATION:六本木ダンススタジオカシーノ\, 東京都港区六本木5-2-4第二鳥勝ビル四階\, 六本木\, 106-0032\, 日本
CATEGORIES:ピラティス
END:VEVENT
BEGIN:VEVENT
DTSTART;TZID=Asia/Tokyo:20260301T110000
DTEND;TZID=Asia/Tokyo:20260301T114500
DTSTAMP:20260422T060334
CREATED:20220930T043648Z
LAST-MODIFIED:20221014T160501Z
UID:10273147-1772362800-1772365500@dance.gdp22.com
SUMMARY:キューバンカシーノ 入門 LaHabana
DESCRIPTION:料金・詳細は公式参照 \nhttps://www.lahabana.co.jp/price/?studioid=173&anchor/#block \nLaHabana(名古屋)
URL:https://dance.gdp22.com/event/dance-36415/2026-03-01/
LOCATION:LaHabana(名古屋)\, 名古屋市中区錦2-6-22 若山ビル3F\, 名古屋\, 463-0003\, 日本
CATEGORIES:カシーノスタイル
END:VEVENT
BEGIN:VEVENT
DTSTART;TZID=Asia/Tokyo:20260301T110000
DTEND;TZID=Asia/Tokyo:20260301T120000
DTSTAMP:20260422T060334
CREATED:20220624T022759Z
LAST-MODIFIED:20220729T025400Z
UID:10228496-1772362800-1772366400@dance.gdp22.com
SUMMARY:Salsa On2 Master Class By HIDE&PEKO
DESCRIPTION:Salsa On2 Master Class\n​スタジオとオンライン受講が選べる！\n​　毎週 日曜日　\n11:00 – 12:00 (1h) \n​講師：HIDE\, PEKO\n​@BUZZ  渋谷東口SQUARE \n受講生募集中！サルサ経験者向けのクラスです。 \n​ご自宅で、オンラインでの受講も可能です。オンラインの方は割引がございます。 \n単発受講と得なチケット制とで選べます！
URL:https://dance.gdp22.com/event/salsa-on2-master-class-by-hidepeko/2026-03-01/
LOCATION:BUZZ  渋谷東口SQUARE\, 東京都渋谷区渋谷2-22-8 名取ビル1階\, 渋谷\, 150-0002\, 日本
CATEGORIES:サルサon2
ATTACH;FMTTYPE=image/png:https://dance.gdp22.com/wp-content/uploads/0f9f8fa4ea0751f6bcf2dcdf531f8488-1.png
END:VEVENT
BEGIN:VEVENT
DTSTART;TZID=Asia/Tokyo:20260301T120000
DTEND;TZID=Asia/Tokyo:20260301T124500
DTSTAMP:20260422T060334
CREATED:20220930T043934Z
LAST-MODIFIED:20221014T160414Z
UID:10273410-1772366400-1772369100@dance.gdp22.com
SUMMARY:キューバンカシーノ 初中級 LaHabana
DESCRIPTION:料金・詳細は公式参照 \nhttps://www.lahabana.co.jp/price/?studioid=173&anchor/#block \nLaHabana(名古屋)
URL:https://dance.gdp22.com/event/dance-36430/2026-03-01/
LOCATION:LaHabana(名古屋)\, 名古屋市中区錦2-6-22 若山ビル3F\, 名古屋\, 463-0003\, 日本
CATEGORIES:カシーノスタイル
END:VEVENT
BEGIN:VEVENT
DTSTART;TZID=Asia/Tokyo:20260301T120000
DTEND;TZID=Asia/Tokyo:20260301T140000
DTSTAMP:20260422T060334
CREATED:20220725T163527Z
LAST-MODIFIED:20220725T163527Z
UID:10248923-1772366400-1772373600@dance.gdp22.com
SUMMARY:AfroCubanProject ＠Zoom By Ryoko
DESCRIPTION:Online Class\n毎週日曜日12:00-14:00\nYoruba入門月謝制クラス（初心～初中級） 通称:Afro Cuban Project ＠Zoom​\nキューバの伝統舞踊Yorubaの入門コースです。初心者から基本を楽しく学びましょう。\n踊りの本質的な部分に触れたい方にはおススメです。\n昨今では特にサルサが大流行中のヨーロッパではこちらアフロキューバンの\n動きを取り入れて踊るのが鉄則になっているため、\n世界的にもヨルバのレッスンを受講される方がとても多くなっています。\n特に踊りがまじめ一辺倒になりがちな私たち日本人には学ぶところの多い分野です。​ \n【Yoruba入門月謝性クラス Afro Cuban Project】 \n日時：毎週日曜日　12:00-14:00 \nZoom \n月謝:4回開催月14000円、5回開催月15500円、3回開催月12500円 \n※開講回数はRyokoのスケジュールにより変わります。\n生徒さんが参加できる回数ではないのでご注意ください。​ \nレベル:初心～初中級 \n人数・性別：制限なし
URL:https://dance.gdp22.com/event/dance-19637/2026-03-01/
CATEGORIES:その他のダンス
ORGANIZER;CN="Ryoko%EF%BC%88%E5%A4%A7%E5%8E%9F%E4%BA%AE%E5%AD%90%EF%BC%89":MAILTO:olryoko@yahoo.co.jp
END:VEVENT
BEGIN:VEVENT
DTSTART;TZID=Asia/Tokyo:20260301T120000
DTEND;TZID=Asia/Tokyo:20260301T160000
DTSTAMP:20260422T060334
CREATED:20260218T153327Z
LAST-MODIFIED:20260218T153327Z
UID:10303377-1772366400-1772380800@dance.gdp22.com
SUMMARY:【踊るサルサライブ】Swingin' Mambo Jazz - Ayumi Suzuki Birthday Party -
DESCRIPTION:===========================\n日曜昼下がりの\n美味しいサルサライブイベント！\nSwingin’ Mambo Jazz\n– Sunday Lunch Salsa LIVE\nby Mambo Jazz Quintet –\n〜Ayumi Suzuki Birthday Party〜 \n★Special Performance★\nRitmo y Sabor Project\n(Johnathan & Jimi) \n《8th LIVE》\n2026.3.1 Sunday 12:00-16:00\nHAVANA 1950 in Hiroo\nお得な予約がオススメ！\n=========================== \n【速報！】\n“Ritmo y Sabor Project”パフォーマンス出演決定！ \n今話題のメンズMamboシャインチーム・Ritmo y Sabor ProjectからJohnathan & Jimi(A.K.A Hajime)がパフォーマンス出演することが急遽決定！サルサの本場ニューヨークでMamboを学んだ2人のよるクールなメンズシャイン・パフォーマンスをぜひお楽しみください！ \n===========================\n生演奏で踊るサルサライブイベント『Swingin‘ Mambo Jazz』の1周年記念ライブが終わったのも束の間、2周年に向けて次回は3月1日（日）のお昼に開催！ \n今回は踊るサルサバンド・Mambo Jazz Quintetの要であるVibraphoneを優雅にパワフルに奏でる紅一点・すずきあゆみのバースデーが一週間後の3月8日ということで、裏テーマ『Ayumi Suzuki Birthday Party』を設定！みんなで盛大にお祝いしましょう！ \nいつものようにDJタイムはハイレゾの魔術師・DJ Blue、サルサライブを楽しむためのミニレッスンはNY仕込みのMamboダンサー・Vaya!Satoが担当！ \n会場はNetflix『10DANCE』にも登場した、古き良き1950年代ハバナのクラブを再現した今話題のキューバンレストラン・HAVANA 1950！広尾駅から徒歩1分！ \n3月1日（日）のお昼も美味しいランチを食べながら、Mambo Jazz Quintetの最高にエレガントでダイナミックな演奏でのダンスをお楽しみください！ \nみなさんのご来場をお待ちしています！ \n※お支払いについて\n◎受付でのエントランスのお支払いは現金でお願いします。\n◎飲食代のお支払いはキャッシュレスとなります。クレジットカードもしくは交通系IDにてお支払いをお願いします。 \n【日時】\n2026年3月1日（日）　12:00〜16:00 \n【会場】\n広尾 HAVANA 1950 \nHavana 1950 \n\n東京メトロ日比谷線広尾駅・徒歩１分\n※飲食代のお支払いはキャッシュレスとなります。クレジットカードもしくは交通系IDにてお支払いをお願いします。 \n【エントランス】\n予約）　3\,000円\n当日）　3\,500円\n※受付でのエントランスのお支払いは現金でお願いします。 \n【予約方法】\n簡単予約はコチラのURLから\nhttp://www.japorican.com \n【予約締切】\n2/27（金） \n【タイムテーブル】\n12:00　ドアオープン\n12:30　ミニレッスン①\n12:40　1stステージ（50分）\n13:30　DJタイム\n13:50　パフォーマンス\n14:20　ミニレッスン②\n14:30 　2nd ステージ（50分）\n15:20　DJタイム\n16:00 ドアクローズ \n【バンド】\n“Mambo Jazz Quintet”\nすずきあゆみ（Vibraphone\, Vocal）\n中里たかし（Timbales）\n小田ビンブン（Piano）\n北原実（Bass\, Vocal）\n石川雅康（Conga） \n【バースデーガール】\nすずきあゆみ \n【パフォーマンス】\nRitmo y Sabor Project\n(Johnathan & Jimi) \n【その他出演者】\nDJ Blue（DJタイム）\nVaya!Sato（ミニレッスン） \n【主催】\nSwingin’ Mambo Jazz 実行委員会 \n【お問い合せ】\nswinginmambojazz@gmail.com
URL:https://dance.gdp22.com/event/dance-123863/
LOCATION:広尾HAVANA1950\, 東京都渋谷区広尾5-4-12 大成鋼機ビルB1F\, 広尾\, 150-0012\, 日本
ATTACH;FMTTYPE=image/jpeg:https://dance.gdp22.com/wp-content/uploads/SMJ_3.1.jpg
END:VEVENT
BEGIN:VEVENT
DTSTART;TZID=Asia/Tokyo:20260301T130000
DTEND;TZID=Asia/Tokyo:20260301T140000
DTSTAMP:20260422T060334
CREATED:20220708T032400Z
LAST-MODIFIED:20220729T045929Z
UID:10234044-1772370000-1772373600@dance.gdp22.com
SUMMARY:オープンクラス By TAKU
DESCRIPTION:いつでも、一度だけでも、初心者からのサルサ教室\nサルサ初めての方は、まずこのオープンクラスを受けてください。\nサルサクラブで踊る為のテクニックが中心のクラス \n \n毎回行う基本内容に加え、ターンの際の身体の使い方、音楽に合わせてのフットワーク、\nペアルーティンでのリード＆フォローの仕方などポイントを分かりやすくレッスンします。\n全く初めての方、細かい事が気になる方、ルーティンを増やしたい方など、どなたでも気軽に参加できます。 \nオープンクラスのスケジュール・料金につきましては\nこちらのページにて詳しく説明しております。\n→レッスンスケジュール \n・海外遠征等でレッスンがお休みの場合があります。詳しくは、休講案内をご覧下さい。\n・全てのオープンクラスでポイントカード使用可。\n１レッスンにつき１スタンプ、１５スタンプで１レッスン無料（入場料別）
URL:https://dance.gdp22.com/event/dance-11734/2026-03-01/
LOCATION:恵比寿スタジオJ\, 東京都渋谷区東3-22-9 小倉ビルB1\, 恵比寿\, 150-0011\, 日本
CATEGORIES:サルサ全般
ATTACH;FMTTYPE=image/png:https://dance.gdp22.com/wp-content/uploads/schedule_info2-8.png
END:VEVENT
BEGIN:VEVENT
DTSTART;TZID=Asia/Tokyo:20260301T130000
DTEND;TZID=Asia/Tokyo:20260301T140000
DTSTAMP:20260422T060334
CREATED:20221116T032549Z
LAST-MODIFIED:20221116T035216Z
UID:10284430-1772370000-1772373600@dance.gdp22.com
SUMMARY:オープンクラス（日曜）
DESCRIPTION: 
URL:https://dance.gdp22.com/event/dance-39665/2026-03-01/
LOCATION:恵比寿スタジオJ\, 東京都渋谷区東3-22-9 小倉ビルB1\, 恵比寿\, 150-0011\, 日本
CATEGORIES:サルサ,サルサ全般
ATTACH;FMTTYPE=image/png:https://dance.gdp22.com/wp-content/uploads/schedule_info2-13.png
END:VEVENT
BEGIN:VEVENT
DTSTART;TZID=Asia/Tokyo:20260301T130000
DTEND;TZID=Asia/Tokyo:20260301T141500
DTSTAMP:20260422T060334
CREATED:20220708T032628Z
LAST-MODIFIED:20221116T035106Z
UID:10284698-1772370000-1772374500@dance.gdp22.com
SUMMARY:集中クラス（日曜）
DESCRIPTION:料金詳細は画像参照 \nサルサに必要なテクニックの基礎総合クラス \n前半１時間は、アイソレーションで身体の動かし方を覚え\nムーブメント、スタイリングの練習をし、それを生かしたフットワーク、シャインも徹底追及していきます。 \nペアワークでも必要となってくる何種類かのターンも前半で練習します。\n後半１時間のペアワークの練習では、絶対必要になってくる\n基礎的な技から応用・実践までを、ゆっくり、事細かく説明していきます。\n参加人数固定ならではの、積み重ね、繰り返し、の練習により、確実に覚えて行けます！！ \n\n\nこんな方にお勧め >> \n\nダンスの基本的な姿勢や身体の使い方をやりたい方。\nより正確にフットワークの基礎を練習したい・見直したい方。\n正確なリード＆フォローを目指したペアワークを身につけたい方。\nサルサのテクニックに悩みのある方。\n（安定感が無い、回れない、相手と上手く踊れない、スタイリッシュに踊れない、etc）
URL:https://dance.gdp22.com/event/dance-11932/2026-03-01/
LOCATION:恵比寿スタジオJ\, 東京都渋谷区東3-22-9 小倉ビルB1\, 恵比寿\, 150-0011\, 日本
CATEGORIES:サルサ,サルサ全般
ATTACH;FMTTYPE=image/png:https://dance.gdp22.com/wp-content/uploads/schedule_info2-9.png
END:VEVENT
BEGIN:VEVENT
DTSTART;TZID=Asia/Tokyo:20260301T130000
DTEND;TZID=Asia/Tokyo:20260301T141500
DTSTAMP:20260422T060334
CREATED:20220708T032828Z
LAST-MODIFIED:20221116T034651Z
UID:10284966-1772370000-1772374500@dance.gdp22.com
SUMMARY:Upper集中クラス（日曜）
DESCRIPTION:料金詳細は画像参照 \n集中クラスの内容に加え、更に難易度の高いペアワーク、シャイン、スタイリング、ムーブメントを目指します。 \n６ヶ月周期でメニューも毎回変わりますので、続けて受講されても更なる実力アップが期待できます。\nまた、６ヶ月周期に合わせて、周期ごとのメニューに合わせた成果パフォーマンスを発表します。\n発表の場に出る出ないは自由ですので、パフォーマンスに出られないと言う方でも、\n振り付けをまるまる覚える事で、難易度の高い技、ムーブメント等を確実に身につけられます。 \n\n\nこんな方にお勧め >> \n\n長年サルサをやっているが、上達しない。\n難易度の高いペアワーク 正確なリード＆フォローを身につけたい方\n（女性は回転数の多いターンができないなど、、）\n難易度の高いシャインやフットワークを得たい方。\nスタイリッシュに魅せる踊りを目指したい方。\nHIRO&TAKUパフォーマンスチームに参加希望の方\n\n\n人数／男女各６名まで\nオーディション／有　（対象レベル初中級）\n\nオープンクラスへ参加して頂き、参加希望をお伝え下さい。\nレベルチェック・顔合わせ後、最終参加決定をお知らせす。
URL:https://dance.gdp22.com/event/dance-11946/2026-03-01/
LOCATION:恵比寿スタジオJ\, 東京都渋谷区東3-22-9 小倉ビルB1\, 恵比寿\, 150-0011\, 日本
CATEGORIES:サルサ全般
ATTACH;FMTTYPE=image/png:https://dance.gdp22.com/wp-content/uploads/schedule_info2-10.png
END:VEVENT
BEGIN:VEVENT
DTSTART;TZID=Asia/Tokyo:20260301T130000
DTEND;TZID=Asia/Tokyo:20260301T160000
DTSTAMP:20260422T060334
CREATED:20220806T152356Z
LAST-MODIFIED:20220806T152356Z
UID:10250883-1772370000-1772380800@dance.gdp22.com
SUMMARY:日曜昼間のレッスン＆ミニパーティ（第1週）
DESCRIPTION:サルサを踊りに行きたいけど、夜は外に出られないという方に朗報！\n 毎週日曜日の昼間にレッスン込みのミニパーティーを開催しております。\n ＜＜　初心者歓迎！日曜昼間のレッスン＆ミニパーティ　＞＞\n【日付】毎週日曜日 【時間】13:00-16:00 【料金】￥2\,000（１ドリンク＆レッスン付き）
URL:https://dance.gdp22.com/event/dance-28728/2026-03-01/
LOCATION:銀座ラス・リサス\, 東京都中央区銀座8-12-6 小野商ビルB1F\, 銀座\, 104-0061\, 日本
CATEGORIES:サルサon1,サルサ全般
END:VEVENT
BEGIN:VEVENT
DTSTART;TZID=Asia/Tokyo:20260301T133000
DTEND;TZID=Asia/Tokyo:20260301T143000
DTSTAMP:20260422T060334
CREATED:20220520T022904Z
LAST-MODIFIED:20220725T033803Z
UID:10213018-1772371800-1772375400@dance.gdp22.com
SUMMARY:Art Dance Training
DESCRIPTION:日曜日 Sunday\n​All Advanced\n​\n13:30~14:30\nArt Dance Training
URL:https://dance.gdp22.com/event/art-dance-training/2026-03-01/
LOCATION:神戸 Dance&Art Space　SORA to UMI\, 神戸市中央区中山手通3-10-5 2F\, 神戸\, 650-0004\, 日本
CATEGORIES:ダンスレッスン全般
ORGANIZER;CN="Pedro":MAILTO:​pedrolosvalientes@gmail.com
END:VEVENT
BEGIN:VEVENT
DTSTART;TZID=Asia/Tokyo:20260301T140000
DTEND;TZID=Asia/Tokyo:20260301T144500
DTSTAMP:20260422T060334
CREATED:20220620T033345Z
LAST-MODIFIED:20220620T033345Z
UID:10228745-1772373600-1772376300@dance.gdp22.com
SUMMARY:Salsa振付クラス  Pair on1　By MIKA
DESCRIPTION:Salsa振付クラス \nPair on1 \nMIKA \nhttps://www.studio-casino.com/%E4%BD%93%E9%A8%93%E3%83%AC%E3%83%83%E3%82%B9%E3%83%B3-%E5%88%9D%E3%82%81%E3%81%A6%E3%81%AE%E6%96%B9/%E6%96%99%E9%87%91/
URL:https://dance.gdp22.com/event/dance-7934/2026-03-01/
LOCATION:六本木ダンススタジオカシーノ\, 東京都港区六本木5-2-4第二鳥勝ビル四階\, 六本木\, 106-0032\, 日本
CATEGORIES:サルサon1
END:VEVENT
BEGIN:VEVENT
DTSTART;TZID=Asia/Tokyo:20260301T140000
DTEND;TZID=Asia/Tokyo:20260301T150000
DTSTAMP:20260422T060334
CREATED:20220603T010334Z
LAST-MODIFIED:20220729T014121Z
UID:10216060-1772373600-1772377200@dance.gdp22.com
SUMMARY:スタジオレオンBオープンクラス ダンス基礎 (ベーシック・ムーヴメント) by SHINJI
DESCRIPTION:“日曜日”週末にまとめてサルサ&バチャータを\nカリキュラム方式で集中的にマスターしましょう!\nオープンクラス　ルームB\nダンス基礎　SHINJI\n(ベーシック・ムーヴメント)\n1 Lesson ¥2\,000-\n2 Lesson ¥3\,500-\n3 Lesson ¥4\,000- \n  \nSHINJI\nShinji\nシンジ
URL:https://dance.gdp22.com/event/dance-6578/2026-03-01/
LOCATION:新宿スタジオレオン(2F)\, 東京都新宿区新宿 5-17-6　2F\, 新宿\, 160-0022\, 日本
CATEGORIES:オープンクラス
END:VEVENT
BEGIN:VEVENT
DTSTART;TZID=Asia/Tokyo:20260301T140000
DTEND;TZID=Asia/Tokyo:20260301T180000
DTSTAMP:20260422T060334
CREATED:20220914T044845Z
LAST-MODIFIED:20220914T044845Z
UID:10279524-1772373600-1772388000@dance.gdp22.com
SUMMARY:エレガントサルサ＆キゾンバ＆バチャータ
DESCRIPTION:◆エレガントサルサ＆キゾンバ＆バチャータ \nダンス初心者の為のレッスンが有ります。 \n初めての方も参加出来ますのでご安心ください。 \n空気の入れ替えの出来る明るいスタジオで踊りませんか？ \n一人で参加出来ます。初心者も気楽に参加できるイベントです。 \n上級者はフリータイムからでも参加出来ます。 \nドリンクは持ち込み制ですのでご自分で好きなドリンクお持ちください。 \nアルコールも持ち込み可能です。 \n■料金：１レッスン1\,800円・2レッスン2\,200円・3レッスン2\,500円 \n　フリータイムのみ1\,000円　　（レッスンにはフリータイム料込。） \n■タイムテーブル(レッスン担当－代行Yoshi \n14:10～14:40　サルサ　Lesson　初級 \n14:40～15:00　バチャータ　Lesson　初級 \n15:00～15:40　urbankiz  Lesson 初級 \n15:40～18:00　フリータイム \n■住所：横浜市中区山下町１６１－１０マリーゴールド元町　E-Studio横浜201号室 \n■交通：JR「石川町駅」４分・みなとみらい線「元町中華街駅」4番改札出て８分 \n■主催：エレガントサルサ　090－3049－1758　　 \n注意） \nマスク着用。窓を開けて空気の入れ替えします。 \n上履き又はダンスシューズ、お持ちください。靴下でもOKです。予約は不要です。 \n●道順：JR石川町駅南口改札を出て正面に川が有ります。右に歩き1つ目の信号「元町交差点」左折。 \n川を渡り「西の橋交差点」を右折するとひとみ薬局。その隣「かばのおうどん」その隣に \n鉄板焼きヒジテツ。ヒジテツの入っている茶色いビルがマリーゴールド元町です。 \nエントランスは大通りの自動販売機の横が入口になります。 \n横浜E-Studio
URL:https://dance.gdp22.com/event/dance-34438/2026-03-01/
LOCATION:横浜E-Studio\, 神奈川県横浜市中区山下町161-10マリーゴールド元町201\, 横浜\, 日本
CATEGORIES:バチャータ全般,キゾンバ全般,サルサ全般
END:VEVENT
BEGIN:VEVENT
DTSTART;TZID=Asia/Tokyo:20260301T141500
DTEND;TZID=Asia/Tokyo:20260301T150000
DTSTAMP:20260422T060334
CREATED:20221116T033612Z
LAST-MODIFIED:20221116T035301Z
UID:10285241-1772374500-1772377200@dance.gdp22.com
SUMMARY:バチャータクラス（日曜）
DESCRIPTION:初中級～中上級
URL:https://dance.gdp22.com/event/dance-39749/2026-03-01/
LOCATION:恵比寿スタジオJ\, 東京都渋谷区東3-22-9 小倉ビルB1\, 恵比寿\, 150-0011\, 日本
CATEGORIES:サルサ,バチャータ,バチャータ全般
ATTACH;FMTTYPE=image/png:https://dance.gdp22.com/wp-content/uploads/schedule_info2-13.png
END:VEVENT
BEGIN:VEVENT
DTSTART;TZID=Asia/Tokyo:20260301T143000
DTEND;TZID=Asia/Tokyo:20260301T153000
DTSTAMP:20260422T060334
CREATED:20220520T023039Z
LAST-MODIFIED:20220725T033900Z
UID:10213266-1772375400-1772379000@dance.gdp22.com
SUMMARY:Salsa Dance Training
DESCRIPTION:日曜日 Sunday\n​All Advanced\nSalsa Dance Training\n15:30~16:30
URL:https://dance.gdp22.com/event/salsa-dance-training/2026-03-01/
LOCATION:神戸 Dance&Art Space　SORA to UMI\, 神戸市中央区中山手通3-10-5 2F\, 神戸\, 650-0004\, 日本
CATEGORIES:サルサ全般
ORGANIZER;CN="Pedro":MAILTO:​pedrolosvalientes@gmail.com
END:VEVENT
BEGIN:VEVENT
DTSTART;TZID=Asia/Tokyo:20260301T150000
DTEND;TZID=Asia/Tokyo:20260301T154500
DTSTAMP:20260422T060334
CREATED:20220620T033624Z
LAST-MODIFIED:20220620T033624Z
UID:10228995-1772377200-1772379900@dance.gdp22.com
SUMMARY:バレエ By　ALICE/YUKI
DESCRIPTION:バレエ\nALICE/YUKI \nhttps://www.studio-casino.com/%E4%BD%93%E9%A8%93%E3%83%AC%E3%83%83%E3%82%B9%E3%83%B3-%E5%88%9D%E3%82%81%E3%81%A6%E3%81%AE%E6%96%B9/%E6%96%99%E9%87%91/
URL:https://dance.gdp22.com/event/dance-7946/2026-03-01/
LOCATION:六本木ダンススタジオカシーノ\, 東京都港区六本木5-2-4第二鳥勝ビル四階\, 六本木\, 106-0032\, 日本
CATEGORIES:バレエ
END:VEVENT
BEGIN:VEVENT
DTSTART;TZID=Asia/Tokyo:20260301T150000
DTEND;TZID=Asia/Tokyo:20260301T154500
DTSTAMP:20260422T060334
CREATED:20220928T031140Z
LAST-MODIFIED:20220928T031140Z
UID:10267474-1772377200-1772379900@dance.gdp22.com
SUMMARY:キッズサルサ　3pm-3:45
DESCRIPTION:MambOki LDC(沖縄)
URL:https://dance.gdp22.com/event/dance-35915/2026-03-01/
LOCATION:MambOki LDC(沖縄)\, 沖縄県宜野湾市宇地泊７３５\, 宜野湾\, 901-2227\, 日本
CATEGORIES:サルサ全般
END:VEVENT
BEGIN:VEVENT
DTSTART;TZID=Asia/Tokyo:20260301T150000
DTEND;TZID=Asia/Tokyo:20260301T160000
DTSTAMP:20260422T060334
CREATED:20220309T024904Z
LAST-MODIFIED:20220309T025309Z
UID:10208522-1772377200-1772380800@dance.gdp22.com
SUMMARY:第1日曜 新宿ワークル1時間目 基礎
DESCRIPTION:第1日曜 新宿ワークル1時間目 基礎
URL:https://dance.gdp22.com/event/aaa-2097/2026-03-01/
LOCATION:新宿ワークル\, 東京都新宿区西新宿７丁目１６−７ 第２１フジビル\, 新宿\, 〒160-0023\, 日本
CATEGORIES:センシュアルバチャータ
ORGANIZER;CN="Danny%EF%BC%88%E3%83%80%E3%83%8B%E3%83%BC%EF%BC%89":MAILTO:DHKSPYDER@gmail.com
END:VEVENT
BEGIN:VEVENT
DTSTART;TZID=Asia/Tokyo:20260301T150000
DTEND;TZID=Asia/Tokyo:20260301T160000
DTSTAMP:20260422T060334
CREATED:20220603T010601Z
LAST-MODIFIED:20220729T015623Z
UID:10216556-1772377200-1772380800@dance.gdp22.com
SUMMARY:スタジオレオンBオープンクラス バチャータ (初級) by SHINJI
DESCRIPTION:“日曜日”週末にまとめてサルサ&バチャータを\nカリキュラム方式で集中的にマスターしましょう!\nオープンクラス　ルームB\nバチャータ　SHINJI\n(初級)\n1 Lesson ¥2\,000-\n2 Lesson ¥3\,500-\n3 Lesson ¥4\,000-
URL:https://dance.gdp22.com/event/dance-6591/2026-03-01/
LOCATION:新宿スタジオレオン(2F)\, 東京都新宿区新宿 5-17-6　2F\, 新宿\, 160-0022\, 日本
CATEGORIES:バチャータ全般
END:VEVENT
BEGIN:VEVENT
DTSTART;TZID=Asia/Tokyo:20260301T150000
DTEND;TZID=Asia/Tokyo:20260301T160000
DTSTAMP:20260422T060334
CREATED:20220603T011007Z
LAST-MODIFIED:20220729T015534Z
UID:10216308-1772377200-1772380800@dance.gdp22.com
SUMMARY:スタジオレオンAオープンクラス サルサ On1 (初級) by SHINJI
DESCRIPTION:“日曜日”週末にまとめてサルサ&バチャータを\nカリキュラム方式で集中的にマスターしましょう!\nオープンクラス　ルームA\nサルサ On1　アシスタント (&SHINJI)\n(初級)\n1 Lesson ¥2\,000-\n2 Lesson ¥3\,500-\n(受講後は、そのまま地下1Fのクラブレオンに、入場料無料でフリータイムを楽しめます。イベント時除く)
URL:https://dance.gdp22.com/event/dance-6615/2026-03-01/
LOCATION:新宿スタジオレオン(2F)\, 東京都新宿区新宿 5-17-6　2F\, 新宿\, 160-0022\, 日本
CATEGORIES:サルサon1
END:VEVENT
BEGIN:VEVENT
DTSTART;TZID=Asia/Tokyo:20260301T150000
DTEND;TZID=Asia/Tokyo:20260301T160000
DTSTAMP:20260422T060334
CREATED:20220926T190214Z
LAST-MODIFIED:20220926T190231Z
UID:10267739-1772377200-1772380800@dance.gdp22.com
SUMMARY:Kids salsa @ Bailando
DESCRIPTION:
URL:https://dance.gdp22.com/event/kids-salsa-bailando/2026-03-01/
LOCATION:Bailando(沖縄)\, 沖縄県沖縄市中央１丁目１３−６ 2F\, 沖縄市\, 904-0004\, 日本
CATEGORIES:サルサ
END:VEVENT
BEGIN:VEVENT
DTSTART;TZID=Asia/Tokyo:20260301T150000
DTEND;TZID=Asia/Tokyo:20260301T163000
DTSTAMP:20260422T060334
CREATED:20220708T032945Z
LAST-MODIFIED:20221116T034230Z
UID:10285517-1772377200-1772382600@dance.gdp22.com
SUMMARY:Advanceクラス（日曜）
DESCRIPTION:料金詳細は画像参照
URL:https://dance.gdp22.com/event/dance-11959/2026-03-01/
LOCATION:恵比寿スタジオJ\, 東京都渋谷区東3-22-9 小倉ビルB1\, 恵比寿\, 150-0011\, 日本
CATEGORIES:サルサ全般
ATTACH;FMTTYPE=image/png:https://dance.gdp22.com/wp-content/uploads/schedule_info2-11.png
END:VEVENT
BEGIN:VEVENT
DTSTART;TZID=Asia/Tokyo:20260301T150000
DTEND;TZID=Asia/Tokyo:20260301T163000
DTSTAMP:20260422T060334
CREATED:20220708T033107Z
LAST-MODIFIED:20221116T034424Z
UID:10285786-1772377200-1772382600@dance.gdp22.com
SUMMARY:EXPERTクラス（日曜）
DESCRIPTION:料金詳細は画像参照
URL:https://dance.gdp22.com/event/dance-11972/2026-03-01/
LOCATION:恵比寿スタジオJ\, 東京都渋谷区東3-22-9 小倉ビルB1\, 恵比寿\, 150-0011\, 日本
CATEGORIES:サルサ全般
ATTACH;FMTTYPE=image/png:https://dance.gdp22.com/wp-content/uploads/schedule_info2-12.png
END:VEVENT
BEGIN:VEVENT
DTSTART;TZID=Asia/Tokyo:20260301T153000
DTEND;TZID=Asia/Tokyo:20260301T163000
DTSTAMP:20260422T060334
CREATED:20220520T023232Z
LAST-MODIFIED:20220725T034025Z
UID:10213514-1772379000-1772382600@dance.gdp22.com
SUMMARY:Los Valientes Performance Lesson
DESCRIPTION:日曜日 Sunday\n​All Advanced\n15:30~16:30\nLos Valientes Performance Lesson
URL:https://dance.gdp22.com/event/los-valientes-performance-lesson/2026-03-01/
LOCATION:神戸 Dance&Art Space　SORA to UMI\, 神戸市中央区中山手通3-10-5 2F\, 神戸\, 650-0004\, 日本
CATEGORIES:サルサ全般
ORGANIZER;CN="Pedro":MAILTO:​pedrolosvalientes@gmail.com
END:VEVENT
BEGIN:VEVENT
DTSTART;TZID=Asia/Tokyo:20260301T153000
DTEND;TZID=Asia/Tokyo:20260301T170000
DTSTAMP:20260422T060334
CREATED:20220624T023356Z
LAST-MODIFIED:20220729T030228Z
UID:10231913-1772379000-1772384400@dance.gdp22.com
SUMMARY:U35 サルサ教室 By HIDE&PEKO
DESCRIPTION:U35 サルサ教室\n​月２回のスペシャルクラス\n　日曜日　\n15:30 – 17:00 (1.5h) \n​講師：HIDE\, PEKO\n​@BUZZ 渋谷東急SQUEARE \n受講生募集中！サルサ 未経験者から、経験者まで受講可能です。
URL:https://dance.gdp22.com/event/dance-8611/2026-03-01/
LOCATION:BUZZ  渋谷東口SQUARE\, 東京都渋谷区渋谷2-22-8 名取ビル1階\, 渋谷\, 150-0002\, 日本
CATEGORIES:サルサ全般
ATTACH;FMTTYPE=image/png:https://dance.gdp22.com/wp-content/uploads/e685f6c45783b01a986a141d50e8763c.png
END:VEVENT
BEGIN:VEVENT
DTSTART;TZID=Asia/Tokyo:20260301T153000
DTEND;TZID=Asia/Tokyo:20260301T233000
DTSTAMP:20260422T060334
CREATED:20230512T035051Z
LAST-MODIFIED:20230512T035512Z
UID:10301829-1772379000-1772407800@dance.gdp22.com
SUMMARY:仙台　サルサレッスン＆パーティー
DESCRIPTION:○レッスン\n15:30~17:00 初心〜初中級\nレッスン1000円（party参加者は500円）\nKAORI キューバンSalsa\n○PARTY\n17:00〜19:30　DJTIME DJ Chef\n料金：フリードリンク +エントランスチャージ\n飲み放題\nSOFT　　2000円(税込)\n＋Wine　 2500円(税込)\n＋Beer他 3000円(税込)\n※18：30以降のご入場は各プラン全て500円引き \n場所:ビストロ・バンディード\n宮城県仙台市若林区新寺３丁目１ー５７弁慶仙台東口ビル1.2階 \n【注意事項】\n・37.5℃以上の発熱、倦怠感、咳などの風邪の症状がある方の入場はご遠慮ください。\n・中学生以上高校生未満のお子様は、保護者同伴であれば入場可能です。\n・場内では、常時マスクを着用し、ペアダンス中の会話は極力お控えください。(不織布マスク推奨)\n・感染予防、近隣住人への配慮のため、大声で騒ぐ等の行為はお控えください。\n・床保護のためダンスシューズ、ダンススニーカーを着用ください。（ヒールカバーを着用ください。ピンヒールは禁止です）\n・許可のない撮影、またSNS等への投稿は、プライバシーの問題もあるためお控えください。\n・感染予防のため、途中休憩、換気を行なう場合がございます。
URL:https://dance.gdp22.com/event/dance-45569/2026-03-01/
LOCATION:Bistro Bandido(仙台)\, 宮城県仙台市若林区新寺３丁目１ー５７弁慶仙台東口ビル1.2階\, 984-0051\, 日本
CATEGORIES:サルサon1,サルサon2,サルサ,メレンゲ,キューバン,バチャータ,ソーシャル,カシーノスタイル
END:VEVENT
BEGIN:VEVENT
DTSTART;TZID=Asia/Tokyo:20260301T160000
DTEND;TZID=Asia/Tokyo:20260301T164500
DTSTAMP:20260422T060334
CREATED:20220620T033938Z
LAST-MODIFIED:20220620T033938Z
UID:10229493-1772380800-1772383500@dance.gdp22.com
SUMMARY:Salsa振付クラス  Pair on1　By MIKA
DESCRIPTION:Salsa振付クラス \nPair on1 \nMIKA \nhttps://www.studio-casino.com/%E4%BD%93%E9%A8%93%E3%83%AC%E3%83%83%E3%82%B9%E3%83%B3-%E5%88%9D%E3%82%81%E3%81%A6%E3%81%AE%E6%96%B9/%E6%96%99%E9%87%91/
URL:https://dance.gdp22.com/event/dance-7965/2026-03-01/
LOCATION:六本木ダンススタジオカシーノ\, 東京都港区六本木5-2-4第二鳥勝ビル四階\, 六本木\, 106-0032\, 日本
CATEGORIES:サルサon1
END:VEVENT
END:VCALENDAR