BEGIN:VCALENDAR
VERSION:2.0
PRODID:-//Dancing Pono (ダンシングポノ) - ECPv6.15.12//NONSGML v1.0//EN
CALSCALE:GREGORIAN
METHOD:PUBLISH
X-WR-CALNAME:Dancing Pono (ダンシングポノ)
X-ORIGINAL-URL:https://dance.gdp22.com
X-WR-CALDESC:Dancing Pono (ダンシングポノ) のイベント
REFRESH-INTERVAL;VALUE=DURATION:PT1H
X-Robots-Tag:noindex
X-PUBLISHED-TTL:PT1H
BEGIN:VTIMEZONE
TZID:Asia/Tokyo
BEGIN:STANDARD
TZOFFSETFROM:+0900
TZOFFSETTO:+0900
TZNAME:JST
DTSTART:20250101T000000
END:STANDARD
END:VTIMEZONE
BEGIN:VEVENT
DTSTART;TZID=Asia/Tokyo:20260421T130000
DTEND;TZID=Asia/Tokyo:20260421T131500
DTSTAMP:20260421T130750
CREATED:20220930T034054Z
LAST-MODIFIED:20221014T162401Z
UID:10276181-1776776400-1776777300@dance.gdp22.com
SUMMARY:サルサ キューバスタイル 中上級 LaHabana
DESCRIPTION:料金・詳細は公式参照 \nhttps://www.lahabana.co.jp/price/?studioid=173&anchor/#block \nLaHabana(名古屋)
URL:https://dance.gdp22.com/event/dance-36194/2026-04-21/
LOCATION:LaHabana(名古屋)\, 名古屋市中区錦2-6-22 若山ビル3F\, 名古屋\, 463-0003\, 日本
CATEGORIES:キューバン
END:VEVENT
BEGIN:VEVENT
DTSTART;TZID=Asia/Tokyo:20260421T150000
DTEND;TZID=Asia/Tokyo:20260421T170000
DTSTAMP:20260421T130750
CREATED:20220829T034838Z
LAST-MODIFIED:20220829T034838Z
UID:10258910-1776783600-1776790800@dance.gdp22.com
SUMMARY:キューバン・サルサ初中級
DESCRIPTION:カフェルンビータ（京都） \n詳細はWEB参照
URL:https://dance.gdp22.com/event/dance-31630/2026-04-21/
LOCATION:カフェルンビータ（京都）\, 京都府京都市中京区山崎町２５８−１９ 珠光ビル三条 ３F\, 京都\, 604-8032\, 日本
CATEGORIES:キューバン
END:VEVENT
BEGIN:VEVENT
DTSTART;TZID=Asia/Tokyo:20260421T190000
DTEND;TZID=Asia/Tokyo:20260421T223000
DTSTAMP:20260421T130750
CREATED:20220829T035427Z
LAST-MODIFIED:20220829T035427Z
UID:10259171-1776798000-1776810600@dance.gdp22.com
SUMMARY:ユーリヤ・キゾンバ・レッスン＆パーティ
DESCRIPTION:カフェルンビータ（京都） \n詳細はWEB参照
URL:https://dance.gdp22.com/event/dance-31642/2026-04-21/
LOCATION:カフェルンビータ（京都）\, 京都府京都市中京区山崎町２５８−１９ 珠光ビル三条 ３F\, 京都\, 604-8032\, 日本
CATEGORIES:ソーシャル,キゾンバ全般
END:VEVENT
BEGIN:VEVENT
DTSTART;TZID=Asia/Tokyo:20260421T193000
DTEND;TZID=Asia/Tokyo:20260421T202000
DTSTAMP:20260421T130750
CREATED:20220826T023722Z
LAST-MODIFIED:20220903T163114Z
UID:10259430-1776799800-1776802800@dance.gdp22.com
SUMMARY:ハピネス中・上級コース（スタンダード）
DESCRIPTION:ダンス教室ハピネスは、平成８年にスタートしました。\n笑顔と笑い声が絶えない、アットホームな雰囲気の楽しい教室です。\n２０歳代～８０歳代までの老若男女のみなさんが、仲良くレッスンしています。 \n入会金 3\,240円\n月謝（月４回）　１科目　/　 ２科目\n———————————————\n初級コース　　 4\,320円 　/　7\,560円\n———————————————\n中級コース　　 4\,860円 　/　8\,640円 \n※ サルサレッスンは、１レッスン1\,080円です。\n個人レッスンは、１レッスン（25分）2\,700円～です。
URL:https://dance.gdp22.com/event/dance-31297/2026-04-21/
LOCATION:ダンス教室ハピネス（熊本）\, 熊本県熊本市中央区上通町5-10桜井ビル3F\, 熊本\, 860-0845
CATEGORIES:社交ダンス スタンダード
ATTACH;FMTTYPE=image/jpeg:https://dance.gdp22.com/wp-content/uploads/main.jpg
END:VEVENT
BEGIN:VEVENT
DTSTART;TZID=Asia/Tokyo:20260421T200000
DTEND;TZID=Asia/Tokyo:20260421T210000
DTSTAMP:20260421T130750
CREATED:20220928T032139Z
LAST-MODIFIED:20221121T042925Z
UID:10289724-1776801600-1776805200@dance.gdp22.com
SUMMARY:Salsa Level 1.5 8-9pm
DESCRIPTION:中級サルサクラス \nMambOki LDC(沖縄)
URL:https://dance.gdp22.com/event/salsa-level-2-9-10pm-2/2026-04-21/
LOCATION:MambOki LDC(沖縄)\, 沖縄県宜野湾市宇地泊７３５\, 宜野湾\, 901-2227\, 日本
CATEGORIES:サルサ全般
END:VEVENT
BEGIN:VEVENT
DTSTART;TZID=Asia/Tokyo:20260422T150000
DTEND;TZID=Asia/Tokyo:20260422T170000
DTSTAMP:20260421T130750
CREATED:20220829T035740Z
LAST-MODIFIED:20220829T035740Z
UID:10259693-1776870000-1776877200@dance.gdp22.com
SUMMARY:キューバン・サルサ初中級
DESCRIPTION:カフェルンビータ（京都） \n詳細はWEB参照
URL:https://dance.gdp22.com/event/dance-31655/2026-04-22/
LOCATION:カフェルンビータ（京都）\, 京都府京都市中京区山崎町２５８−１９ 珠光ビル三条 ３F\, 京都\, 604-8032\, 日本
CATEGORIES:キューバン
END:VEVENT
BEGIN:VEVENT
DTSTART;TZID=Asia/Tokyo:20260422T190000
DTEND;TZID=Asia/Tokyo:20260422T210000
DTSTAMP:20260421T130750
CREATED:20220615T021813Z
LAST-MODIFIED:20220812T050713Z
UID:10252959-1776884400-1776891600@dance.gdp22.com
SUMMARY:インテンシブクラス3か月コース (初級～初中級） By Ryoko
DESCRIPTION:Studio Lesson ①\n毎週水曜日19:00-21:00\nインテンシブクラス3か月コース (初級～初中級）＠Studio501\n（Shine/Pair）\n​\n基本が踊れるようになったらサルサの基本や音取り、踊り自体のメカニズムや、体の動かし方を学ぶ、少しずつ難易度を上げていつか上級者に？ \n​ \n【インテンシブクラス3ヶ月コース】 \nサルサは誰でもどこでもいつでも踊れる楽しいダンスですが、ステップ、アイソレーション、スピン、ターン、などを強化することファンダメンタルトレーニングを取り入れ、基礎ステップ基礎のペアでも踊るメカニズムを覚えると、楽しさの世界が変わります！自分の体を完全にコントロールできるようになると、後は新しいステップやルーティンを楽しく学ぶだけでぐいぐい体に入ります！ \n​ \n8月インテンシブクラス3カ月コース開講 \n期間日時：毎週水曜日　19:00-21:00 \n月謝: \n8月3\,10\,17\,25\,31日　5回　15\,500円 \n9月14\,21\,28日　3回　12500円 \n※9/7は亮子インド遠征のためお休み \n10月5\,12\,19\,26日　4回　14000円 \n​内容： \nファンダメンタルトレーニングで体の使い方を学び、即サルサの基礎的なシャインステップやペアルーティンに取り入れてます。 \n毎回のレッスンでは、内容をしっかり覚え家でも練習しやすいようにシャインステップを1個、ペアのルーティンを1個しかやりません。 \nどのレベルでも一番使う頻度の高い基礎を3か月積み上げることでレベルが踊りのクオリティが格段に上がります。 \n対象：初級、初中級レベルに最適。中上級の方で基礎を学びなおしたい方にもご満足いただける内容です。 \n人数：男女10名まで。お申し込み先着順。
URL:https://dance.gdp22.com/event/dance-7459/2026-04-22/
LOCATION:五反田STUDIO501\, 東京都品川区大崎5-4-12 八重苅ビル１F&B1F\, 五反田\, 141-0032\, 日本
CATEGORIES:サルサon2
ORGANIZER;CN="Ryoko%EF%BC%88%E5%A4%A7%E5%8E%9F%E4%BA%AE%E5%AD%90%EF%BC%89":MAILTO:olryoko@yahoo.co.jp
END:VEVENT
BEGIN:VEVENT
DTSTART;TZID=Asia/Tokyo:20260422T193000
DTEND;TZID=Asia/Tokyo:20260422T203000
DTSTAMP:20260421T130750
CREATED:20241216T232438Z
LAST-MODIFIED:20241216T232438Z
UID:10248248-1776886200-1776889800@dance.gdp22.com
SUMMARY:毎週水曜日  銀座ラスリサス(Bachata)初級~初中級 By RIE
DESCRIPTION:オープンクラス\n☆毎週水曜日  銀座ラスリサス\n※別途エントランス¥1\,000(1drink付き)かかります。 \n※20:30~はフリータイムです。
URL:https://dance.gdp22.com/event/dance-10469/2026-04-22/
LOCATION:銀座ラス・リサス\, 東京都中央区銀座8-12-6 小野商ビルB1F\, 銀座\, 104-0061\, 日本
CATEGORIES:バチャータ全般
ATTACH;FMTTYPE=image/jpeg:https://dance.gdp22.com/wp-content/uploads/003-4.jpg
ORGANIZER;CN="RIE":MAILTO:narie925@gmail.com
END:VEVENT
BEGIN:VEVENT
DTSTART;TZID=Asia/Tokyo:20260422T194000
DTEND;TZID=Asia/Tokyo:20260422T203000
DTSTAMP:20260421T130750
CREATED:20241216T232054Z
LAST-MODIFIED:20241216T232054Z
UID:10224259-1776886800-1776889800@dance.gdp22.com
SUMMARY:Naomi Salsa Lesson 初中級 @ 横浜 Night Fire
DESCRIPTION:毎月第二・第四週水曜日レッスン担当していますNaomiです！\n月2回の開催ですが、毎回和気あいあいと盛り上がっている水曜日です。\n初心者大歓迎！皆さんと楽しい時間を共有し是非一緒に楽しみましょう♪\n4月よりレッスン枠が2コマとなりました。\n予てよりリクエストいただいていたレッスン内容を設定しました。\n引き続きどうぞ宜しくお願いいたします。\n\n18：30 Open\n18：45～19：30　基礎ステップ＆ペアワーク\n19：40～20：30　初中級ペアワーク\n20：30～23：00　Social time　DJあり(毎回入れ替わり)\n\n１Lesson　2\,000円W1D\n２Lesson　2\,500円W1D\nSocialtime 1\,500円W1D\n参加費\n１Lesson 2\,000円W1D\n２Lesson 2\,500円W1D\nフリータイムのみ 1\,500円W1D \n横浜ナイトファイヤー Naomi Salsa Lessonナイトファイヤー　バーレストラン(京浜急行線黄金町駅下車３分)
URL:https://dance.gdp22.com/event/dance-6836/2026-04-22/
LOCATION:横浜 Night Fire\, 神奈川県横浜市中区末吉町4-75 末吉ショッピングセンター 2F\, 横浜\, 231-0055\, 日本
CATEGORIES:サルサon1
ATTACH;FMTTYPE=image/jpeg:https://dance.gdp22.com/wp-content/uploads/283917744_5121564091284764_8529800063734172793_n-1-1-1.jpg
END:VEVENT
BEGIN:VEVENT
DTSTART;TZID=Asia/Tokyo:20260422T200000
DTEND;TZID=Asia/Tokyo:20260422T210000
DTSTAMP:20260421T130750
CREATED:20220531T013242Z
LAST-MODIFIED:20220531T020125Z
UID:10214516-1776888000-1776891600@dance.gdp22.com
SUMMARY:Salsa ON1 初中級 by Yukiko
DESCRIPTION:Salsa ON1 初中級 by Yukiko\nSalsa ON1 初中級	1\,000円\n※別途クラブエントランス1\,000円/w1d
URL:https://dance.gdp22.com/event/dance-6201/2026-04-22/
LOCATION:新宿クラブ レオン(B1F)\, 東京都新宿区新宿５－１７－６ Ｂ１\, 東京\, 160-0022\, 日本
CATEGORIES:サルサon1
ATTACH;FMTTYPE=image/jpeg:https://dance.gdp22.com/wp-content/uploads/event_Wed_2205s-1.jpg
END:VEVENT
BEGIN:VEVENT
DTSTART;TZID=Asia/Tokyo:20260422T200000
DTEND;TZID=Asia/Tokyo:20260422T233000
DTSTAMP:20260421T130750
CREATED:20220919T050822Z
LAST-MODIFIED:20220919T050822Z
UID:10265892-1776888000-1776900600@dance.gdp22.com
SUMMARY:Bachata Wednesdays
DESCRIPTION:Bachata lessons & Mini social time \n20:00-21:00 Beginner lesson\n21:30-22:30 Intermediate lesson\n22:30- Mini social time  \nLocation: Bailando バイランド\nPrice: 1\,500yen (1drink)/lesson \nLet’s enjoy bachata with us!
URL:https://dance.gdp22.com/event/bachata-wednesdays/2026-04-22/
LOCATION:Bailando(沖縄)\, 沖縄県沖縄市中央１丁目１３−６ 2F\, 沖縄市\, 904-0004\, 日本
CATEGORIES:ソーシャル,バチャータ全般
ATTACH;FMTTYPE=image/jpeg:https://dance.gdp22.com/wp-content/uploads/306919486_10166537096895565_8524204520440190774_n.jpg
END:VEVENT
BEGIN:VEVENT
DTSTART;TZID=Asia/Tokyo:20260423T191500
DTEND;TZID=Asia/Tokyo:20260423T203000
DTSTAMP:20260421T130750
CREATED:20220819T033046Z
LAST-MODIFIED:20220829T152900Z
UID:10253496-1776971700-1776976200@dance.gdp22.com
SUMMARY:Camelia Closed Class (初中級）木曜日
DESCRIPTION:Studio Camelia Closed Class (初中級） \n◆毎週木曜日19:15～20:30 \n◆毎週土曜日19:15～20:30 \n要予約 \nお月謝 ￥12000\nビジター1レッスン ￥2500 \n基礎から応用まで、振り付けを通して様々なテクニックを身に付け、振付けだけでなく、ソーシャルで自由自在に踊れるようになるためのトレーニングクラス \nパフォーマンスチームKOTSUBAKIとしての活動も行います
URL:https://dance.gdp22.com/event/dance-30808/2026-04-23/
LOCATION:Studio Camelia(愛媛）\, 愛媛県松山市小村町353-39\, 愛媛\, 791-1125\, 日本
CATEGORIES:振り付け・パフォーマンスクラス全般,サルサ全般
ATTACH;FMTTYPE=image/jpeg:https://dance.gdp22.com/wp-content/uploads/image-21.jpg
ORGANIZER;CN="%E5%B1%B1%E5%8F%A3%E7%BE%8E%E4%BB%A3":MAILTO:studiocamelia34@gmail.com
END:VEVENT
BEGIN:VEVENT
DTSTART;TZID=Asia/Tokyo:20260423T193000
DTEND;TZID=Asia/Tokyo:20260423T203000
DTSTAMP:20260421T130750
CREATED:20220603T013655Z
LAST-MODIFIED:20220603T013655Z
UID:10219333-1776972600-1776976200@dance.gdp22.com
SUMMARY:BETO (CALI-COLOMBIA) サルサOn1 Level2
DESCRIPTION:BETO SENSEY SALSA 2006年にコロンビアよりカリサルサ普及のため来日。\n元世界チャンピオンとして自身の躍動感溢れるパフォーマンス、また個人のレべルに合わせた丁寧な指導により日本チャンピオンぺアを育てるなど、年齢に関わらず生徒たちから絶大な人気を誇る日本サルサ界のトップダンサー。\n19:30-20:30 サルサOn1 Level2 2500円\n連続2レッスン受講の場合は3500円
URL:https://dance.gdp22.com/event/dance-6705/2026-04-23/
LOCATION:新宿スタジオレオン(2F)\, 東京都新宿区新宿 5-17-6　2F\, 新宿\, 160-0022\, 日本
CATEGORIES:サルサon1
ATTACH;FMTTYPE=image/jpeg:https://dance.gdp22.com/wp-content/uploads/img_BETO.jpg
END:VEVENT
BEGIN:VEVENT
DTSTART;TZID=Asia/Tokyo:20260423T194500
DTEND;TZID=Asia/Tokyo:20260423T210000
DTSTAMP:20260421T130750
CREATED:20250426T084811Z
LAST-MODIFIED:20250426T084811Z
UID:10283198-1776973500-1776978000@dance.gdp22.com
SUMMARY:SON CUBANO
DESCRIPTION:19:45～21:00\n￥1\,100\n今月から久しぶりのSONです。\n古きよき美しいキューバ音楽ソンをエレガントに\n躍れるようにレッスンしましょう
URL:https://dance.gdp22.com/event/dance-31372-2/2026-04-23/
LOCATION:Dance&Dining桜井通り（熊本）\, 熊本県熊本市中央区上通町5-10桜井ビル4F\, 熊本\, 860-0845
CATEGORIES:ソンギター・トレス,ソーシャル,カシーノスタイル,サルサ全般
END:VEVENT
BEGIN:VEVENT
DTSTART;TZID=Asia/Tokyo:20260423T203000
DTEND;TZID=Asia/Tokyo:20260423T211500
DTSTAMP:20260421T130750
CREATED:20220930T042124Z
LAST-MODIFIED:20221014T161458Z
UID:10278635-1776976200-1776978900@dance.gdp22.com
SUMMARY:キューバンカシーノ 初中級 LaHabana
DESCRIPTION:料金・詳細は公式参照 \nhttps://www.lahabana.co.jp/price/?studioid=173&anchor/#block \nLaHabana(名古屋)
URL:https://dance.gdp22.com/event/dance-36352/2026-04-23/
LOCATION:LaHabana(名古屋)\, 名古屋市中区錦2-6-22 若山ビル3F\, 名古屋\, 463-0003\, 日本
CATEGORIES:カシーノスタイル
END:VEVENT
BEGIN:VEVENT
DTSTART;TZID=Asia/Tokyo:20260423T203000
DTEND;TZID=Asia/Tokyo:20260423T213000
DTSTAMP:20260421T130750
CREATED:20220608T031137Z
LAST-MODIFIED:20220812T034900Z
UID:10222005-1776976200-1776979800@dance.gdp22.com
SUMMARY:Sensual Bachataレベル2 by Shu&You
DESCRIPTION:Sensual Bachata■ Level.2\n○テクニック\n男性は、毎月のルーティンを覚えた上で、女性に負荷をかけない\nアプローチテクニック方法を学んで頂けます。\n女性は、細かいリードの対応(フォロー)を学びながら\nSensual特有の女性の踊り方を学んで頂けます。\n同じ内容のリードでも各男性でのアプローチの違いがあります、\n順応力のあるフォローの方法も学び、受け身だけのフォローではなく、\nリードに対応しながらも表現力のある女性の踊り方も学んで頂けます。\n○繰り返し練習\n毎月同じ内容を1カ月間おこないます。\n内容は毎月第一金曜に更新します。\n毎回違う内容ではなく、1カ月間【同じ事】を繰り返し、【深掘り練習】\nをして頂けます、\n繰り返し学ぶ事により習得率が上がります。\n○ 最新テクニック\n流行のルーティン、最新のトレンドのムーブメントも練習します。\n\n東京目黒スタジオLaCelula\nSensual Bachataレベル2\nレベル0-3 ¥2000／1回\n月謝制8レッスン¥14000\n作品クラス¥10000／1ヶ月
URL:https://dance.gdp22.com/event/dance-7047-2022-06-16/2026-04-23/
LOCATION:目黒スタジオLaCelula\, 東京都目黒区下目黒2－2－8メディアビル1F\, 目黒区\, 153-0064\, 日本
CATEGORIES:センシュアルバチャータ
ATTACH;FMTTYPE=image/jpeg:https://dance.gdp22.com/wp-content/uploads/2078D6B2-3B15-44E2-A61D-6F25B88167F8-226x300-1.jpeg
ORGANIZER;CN="Shu(Shu%EF%BC%86You)":MAILTO:shuandyou@gmail.com
END:VEVENT
BEGIN:VEVENT
DTSTART;TZID=Asia/Tokyo:20260423T213000
DTEND;TZID=Asia/Tokyo:20260423T223000
DTSTAMP:20260421T130750
CREATED:20220812T033830Z
LAST-MODIFIED:20220812T035456Z
UID:10254023-1776979800-1776983400@dance.gdp22.com
SUMMARY:Sensual Bachata作品クラス by Shu&You
DESCRIPTION:Sensual Bachata■ Level.2\n○テクニック\n男性は、毎月のルーティンを覚えた上で、女性に負荷をかけない\nアプローチテクニック方法を学んで頂けます。\n女性は、細かいリードの対応(フォロー)を学びながら\nSensual特有の女性の踊り方を学んで頂けます。\n同じ内容のリードでも各男性でのアプローチの違いがあります、\n順応力のあるフォローの方法も学び、受け身だけのフォローではなく、\nリードに対応しながらも表現力のある女性の踊り方も学んで頂けます。\n○繰り返し練習\n毎月同じ内容を1カ月間おこないます。\n内容は毎月第一金曜に更新します。\n毎回違う内容ではなく、1カ月間【同じ事】を繰り返し、【深掘り練習】\nをして頂けます、\n繰り返し学ぶ事により習得率が上がります。\n○ 最新テクニック\n流行のルーティン、最新のトレンドのムーブメントも練習します。\n\n東京目黒スタジオLaCelula\nSensual Bachataレベル2\nレベル0-3 ¥2000／1回\n月謝制8レッスン¥14000\n作品クラス¥10000／1ヶ月
URL:https://dance.gdp22.com/event/dance-29647-2022-08-18/2026-04-23/
LOCATION:目黒スタジオLaCelula\, 東京都目黒区下目黒2－2－8メディアビル1F\, 目黒区\, 153-0064\, 日本
CATEGORIES:センシュアルバチャータ
ATTACH;FMTTYPE=image/jpeg:https://dance.gdp22.com/wp-content/uploads/2078D6B2-3B15-44E2-A61D-6F25B88167F8-226x300-1.jpeg
ORGANIZER;CN="Shu(Shu%EF%BC%86You)":MAILTO:shuandyou@gmail.com
END:VEVENT
BEGIN:VEVENT
DTSTART;TZID=Asia/Tokyo:20260424T133000
DTEND;TZID=Asia/Tokyo:20260424T142000
DTSTAMP:20260421T130750
CREATED:20220826T024037Z
LAST-MODIFIED:20220903T163030Z
UID:10256173-1777037400-1777040400@dance.gdp22.com
SUMMARY:ハピネス中・上級コース（スタンダード）
DESCRIPTION:ダンス教室ハピネスは、平成８年にスタートしました。\n笑顔と笑い声が絶えない、アットホームな雰囲気の楽しい教室です。\n２０歳代～８０歳代までの老若男女のみなさんが、仲良くレッスンしています。 \n入会金 3\,240円\n月謝（月４回）　１科目　/　 ２科目\n——————————————————–\n初級コース　　 4\,320円 　/　7\,560円\n——————————————————–\n中級コース　　 4\,860円 　/　8\,640円 \n※ サルサレッスンは、１レッスン1\,080円です。\n個人レッスンは、１レッスン（25分）2\,700円～です。
URL:https://dance.gdp22.com/event/dance-31311/2026-04-24/
LOCATION:ダンス教室ハピネス（熊本）\, 熊本県熊本市中央区上通町5-10桜井ビル3F\, 熊本\, 860-0845
CATEGORIES:社交ダンス スタンダード
ATTACH;FMTTYPE=image/jpeg:https://dance.gdp22.com/wp-content/uploads/main.jpg
END:VEVENT
BEGIN:VEVENT
DTSTART;TZID=Asia/Tokyo:20260424T143000
DTEND;TZID=Asia/Tokyo:20260424T152000
DTSTAMP:20260421T130750
CREATED:20220826T024151Z
LAST-MODIFIED:20220903T162451Z
UID:10256429-1777041000-1777044000@dance.gdp22.com
SUMMARY:ハピネス中・上級コース（ラテン）
DESCRIPTION:ダンス教室ハピネスは、平成８年にスタートしました。\n笑顔と笑い声が絶えない、アットホームな雰囲気の楽しい教室です。\n２０歳代～８０歳代までの老若男女のみなさんが、仲良くレッスンしています。 \n入会金 3\,240円\n月謝（月４回）　１科目　/　 ２科目\n——————————————————–\n初級コース　　 4\,320円 　/　7\,560円\n——————————————————–\n中級コース　　 4\,860円 　/　8\,640円 \n※ サルサレッスンは、１レッスン1\,080円です。\n個人レッスンは、１レッスン（25分）2\,700円～です。
URL:https://dance.gdp22.com/event/dance-31323/2026-04-24/
LOCATION:ダンス教室ハピネス（熊本）\, 熊本県熊本市中央区上通町5-10桜井ビル3F\, 熊本\, 860-0845
CATEGORIES:社交ダンス ラテン
ATTACH;FMTTYPE=image/jpeg:https://dance.gdp22.com/wp-content/uploads/main.jpg
END:VEVENT
BEGIN:VEVENT
DTSTART;TZID=Asia/Tokyo:20260424T193000
DTEND;TZID=Asia/Tokyo:20260424T235900
DTSTAMP:20260421T130750
CREATED:20220921T030840Z
LAST-MODIFIED:20221002T161257Z
UID:10264107-1777059000-1777075140@dance.gdp22.com
SUMMARY:Friday beginner party @ shallwedancecafe
DESCRIPTION:19:30-初中級バチャータレッスン\n20:00-初中級サルサレッスン\nLucho&Maki\n2レッスン¥2000\n1レッスン¥1500(パーティ付) \n20:30-24:00Party \n先着10人まで¥500 1drink\n20人まで¥1000 2drink\n40人まで¥1500 1drink\n40人から¥2000 1drink \nShall We Dance Cafe(大阪)
URL:https://dance.gdp22.com/event/frlday-beglnner-party/2026-04-24/
LOCATION:Shall We Dance Cafe(大阪)\, 大阪府大阪市北区兎我野町４−９\, 大阪\, 530-0056\, 日本
CATEGORIES:ソーシャル,バチャータ全般,サルサ全般
ORGANIZER;CN="Lucho (y Maki)":MAILTO:luchosalsadancelesson@gmail.com
END:VEVENT
BEGIN:VEVENT
DTSTART;TZID=Asia/Tokyo:20260424T203000
DTEND;TZID=Asia/Tokyo:20260424T213000
DTSTAMP:20260421T130750
CREATED:20220608T031137Z
LAST-MODIFIED:20220812T035021Z
UID:10252056-1777062600-1777066200@dance.gdp22.com
SUMMARY:Sensual Bachataレベル2初中級 by Shu&You
DESCRIPTION:Sensual Bachata■ Level.2\n○テクニック\n男性は、毎月のルーティンを覚えた上で、女性に負荷をかけない\nアプローチテクニック方法を学んで頂けます。\n女性は、細かいリードの対応(フォロー)を学びながら\nSensual特有の女性の踊り方を学んで頂けます。\n同じ内容のリードでも各男性でのアプローチの違いがあります、\n順応力のあるフォローの方法も学び、受け身だけのフォローではなく、\nリードに対応しながらも表現力のある女性の踊り方も学んで頂けます。\n○繰り返し練習\n毎月同じ内容を1カ月間おこないます。\n内容は毎月第一金曜に更新します。\n毎回違う内容ではなく、1カ月間【同じ事】を繰り返し、【深掘り練習】\nをして頂けます、\n繰り返し学ぶ事により習得率が上がります。\n○ 最新テクニック\n流行のルーティン、最新のトレンドのムーブメントも練習します。\n\n東京目黒スタジオLaCelula\nSensual Bachataレベル2\nレベル0-3 ¥2000／1回\n月謝制8レッスン¥14000\n作品クラス¥10000／1ヶ月
URL:https://dance.gdp22.com/event/dance-7047/2026-04-24/
LOCATION:目黒スタジオLaCelula\, 東京都目黒区下目黒2－2－8メディアビル1F\, 目黒区\, 153-0064\, 日本
CATEGORIES:センシュアルバチャータ
ATTACH;FMTTYPE=image/jpeg:https://dance.gdp22.com/wp-content/uploads/2078D6B2-3B15-44E2-A61D-6F25B88167F8-226x300-1.jpeg
ORGANIZER;CN="Shu(Shu%EF%BC%86You)":MAILTO:shuandyou@gmail.com
END:VEVENT
BEGIN:VEVENT
DTSTART;TZID=Asia/Tokyo:20260424T213000
DTEND;TZID=Asia/Tokyo:20260424T223000
DTSTAMP:20260421T130750
CREATED:20220812T033830Z
LAST-MODIFIED:20220812T035530Z
UID:10252313-1777066200-1777069800@dance.gdp22.com
SUMMARY:Sensual Bachata作品クラス by Shu&You
DESCRIPTION:Sensual Bachata■ Level.2\n○テクニック\n男性は、毎月のルーティンを覚えた上で、女性に負荷をかけない\nアプローチテクニック方法を学んで頂けます。\n女性は、細かいリードの対応(フォロー)を学びながら\nSensual特有の女性の踊り方を学んで頂けます。\n同じ内容のリードでも各男性でのアプローチの違いがあります、\n順応力のあるフォローの方法も学び、受け身だけのフォローではなく、\nリードに対応しながらも表現力のある女性の踊り方も学んで頂けます。\n○繰り返し練習\n毎月同じ内容を1カ月間おこないます。\n内容は毎月第一金曜に更新します。\n毎回違う内容ではなく、1カ月間【同じ事】を繰り返し、【深掘り練習】\nをして頂けます、\n繰り返し学ぶ事により習得率が上がります。\n○ 最新テクニック\n流行のルーティン、最新のトレンドのムーブメントも練習します。\n\n東京目黒スタジオLaCelula\nSensual Bachataレベル2\nレベル0-3 ¥2000／1回\n月謝制8レッスン¥14000\n作品クラス¥10000／1ヶ月
URL:https://dance.gdp22.com/event/dance-29647/2026-04-24/
LOCATION:目黒スタジオLaCelula\, 東京都目黒区下目黒2－2－8メディアビル1F\, 目黒区\, 153-0064\, 日本
CATEGORIES:センシュアルバチャータ
ATTACH;FMTTYPE=image/jpeg:https://dance.gdp22.com/wp-content/uploads/2078D6B2-3B15-44E2-A61D-6F25B88167F8-226x300-1.jpeg
ORGANIZER;CN="Shu(Shu%EF%BC%86You)":MAILTO:shuandyou@gmail.com
END:VEVENT
BEGIN:VEVENT
DTSTART;TZID=Asia/Tokyo:20260425T134500
DTEND;TZID=Asia/Tokyo:20260425T143000
DTSTAMP:20260421T130750
CREATED:20220930T040017Z
LAST-MODIFIED:20221014T160853Z
UID:10271893-1777124700-1777127400@dance.gdp22.com
SUMMARY:サルサ キューバスタイル 中級 LaHabana
DESCRIPTION:料金・詳細は公式参照 \nhttps://www.lahabana.co.jp/price/?studioid=173&anchor/#block \nLaHabana(名古屋)
URL:https://dance.gdp22.com/event/dance-36284/2026-04-25/
LOCATION:LaHabana(名古屋)\, 名古屋市中区錦2-6-22 若山ビル3F\, 名古屋\, 463-0003\, 日本
CATEGORIES:キューバン
END:VEVENT
BEGIN:VEVENT
DTSTART;TZID=Asia/Tokyo:20260425T140000
DTEND;TZID=Asia/Tokyo:20260425T145000
DTSTAMP:20260421T130750
CREATED:20220826T024320Z
LAST-MODIFIED:20220903T162854Z
UID:10256966-1777125600-1777128600@dance.gdp22.com
SUMMARY:ハピネス中・上級コース（スタンダード）
DESCRIPTION:ダンス教室ハピネスは、平成８年にスタートしました。\n笑顔と笑い声が絶えない、アットホームな雰囲気の楽しい教室です。\n２０歳代～８０歳代までの老若男女のみなさんが、仲良くレッスンしています。 \n入会金 3\,240円\n月謝（月４回）　１科目　/　 ２科目\n——————————————————–\n初級コース　　 4\,320円 　/　7\,560円\n——————————————————–\n中級コース　　 4\,860円 　/　8\,640円 \n※ サルサレッスンは、１レッスン1\,080円です。\n個人レッスンは、１レッスン（25分）2\,700円～です。
URL:https://dance.gdp22.com/event/dance-31335/2026-04-25/
LOCATION:ダンス教室ハピネス（熊本）\, 熊本県熊本市中央区上通町5-10桜井ビル3F\, 熊本\, 860-0845
CATEGORIES:社交ダンス スタンダード
ATTACH;FMTTYPE=image/jpeg:https://dance.gdp22.com/wp-content/uploads/main.jpg
END:VEVENT
BEGIN:VEVENT
DTSTART;TZID=Asia/Tokyo:20260425T140000
DTEND;TZID=Asia/Tokyo:20260425T170000
DTSTAMP:20260421T130750
CREATED:20220731T175910Z
LAST-MODIFIED:20241216T124816Z
UID:10252529-1777125600-1777136400@dance.gdp22.com
SUMMARY:アフタヌーンサルサKaori＠ルシファー　(第4土曜)
DESCRIPTION:亀戸エキチカでサルサ！！️サルサ！！️サルサ！！️\nコロナ渦で、太ってしまった方、運動不足の方、ストレス解消にサルサはもってこいですよ!\n音楽に合わせて動けば、心も体も軽やかに～\n初めての方も基礎から教えますので、安心していらしてくださいね。\nオープン　　　14：00\nレッスン　　　14：15～15：30\nフリータイム　15：30～17：00\nエントランス2500円（レッスン＆1ドリンク込み）\nフリータイムからも同じ料金になります。\n緊急事態宣言中でのアルコール提供はございません。\n女性がおひとりでも安心の明るい雰囲気の店内で、 ドリンク以外の食べ物は持ち込みOK！\nマスク着用でお願いします。換気や手指の消毒します。\n＊＊＊＊＊＊＊＊＊＊＊＊＊＊＊\nLucifer（ルシファー）\nJR亀戸駅　北口から徒歩 4分 〒136-0071 江東区亀戸2ｰ25-3 小黒ビル403\n090-4665-0647 lucifer@ymobile.ne.jp
URL:https://dance.gdp22.com/event/dance-26822/2026-04-25/
LOCATION:亀戸ルシファーLucifer\, 東京都江東区亀戸2ｰ25-3小黒ビル403\, 亀戸\, 136-0071\, 日本
CATEGORIES:サルサon1
ATTACH;FMTTYPE=image/jpeg:https://dance.gdp22.com/wp-content/uploads/6609942c655da5404b10159292264956.jpg
END:VEVENT
BEGIN:VEVENT
DTSTART;TZID=Asia/Tokyo:20260425T150000
DTEND;TZID=Asia/Tokyo:20260425T154500
DTSTAMP:20260421T130750
CREATED:20220620T031522Z
LAST-MODIFIED:20220620T031522Z
UID:10226950-1777129200-1777131900@dance.gdp22.com
SUMMARY:Perfect Salsa  初中級 By MORI
DESCRIPTION:Perfect Salsa \n初中級 \nMORI \nhttps://www.studio-casino.com/%E4%BD%93%E9%A8%93%E3%83%AC%E3%83%83%E3%82%B9%E3%83%B3-%E5%88%9D%E3%82%81%E3%81%A6%E3%81%AE%E6%96%B9/%E6%96%99%E9%87%91/
URL:https://dance.gdp22.com/event/dance-7842/2026-04-25/
LOCATION:六本木ダンススタジオカシーノ\, 東京都港区六本木5-2-4第二鳥勝ビル四階\, 六本木\, 106-0032\, 日本
CATEGORIES:サルサ全般
END:VEVENT
BEGIN:VEVENT
DTSTART;TZID=Asia/Tokyo:20260425T150000
DTEND;TZID=Asia/Tokyo:20260425T154500
DTSTAMP:20260421T130750
CREATED:20220620T031742Z
LAST-MODIFIED:20220620T031742Z
UID:10226701-1777129200-1777131900@dance.gdp22.com
SUMMARY:Perfect Salsa  中級shine By KAORU
DESCRIPTION:Perfect Salsa \n中級shine \nKAORU \nhttps://www.studio-casino.com/%E4%BD%93%E9%A8%93%E3%83%AC%E3%83%83%E3%82%B9%E3%83%B3-%E5%88%9D%E3%82%81%E3%81%A6%E3%81%AE%E6%96%B9/%E6%96%99%E9%87%91/
URL:https://dance.gdp22.com/event/dance-7854/2026-04-25/
LOCATION:六本木ダンススタジオカシーノ\, 東京都港区六本木5-2-4第二鳥勝ビル四階\, 六本木\, 106-0032\, 日本
CATEGORIES:サルサ全般
END:VEVENT
BEGIN:VEVENT
DTSTART;TZID=Asia/Tokyo:20260425T150000
DTEND;TZID=Asia/Tokyo:20260425T155000
DTSTAMP:20260421T130750
CREATED:20220826T024433Z
LAST-MODIFIED:20220903T162325Z
UID:10257226-1777129200-1777132200@dance.gdp22.com
SUMMARY:ハピネス中・上級コース（ラテン）
DESCRIPTION:ダンス教室ハピネスは、平成８年にスタートしました。\n笑顔と笑い声が絶えない、アットホームな雰囲気の楽しい教室です。\n２０歳代～８０歳代までの老若男女のみなさんが、仲良くレッスンしています。 \n入会金 3\,240円\n月謝（月４回）　１科目　/　 ２科目\n——————————————————–\n初級コース　　 4\,320円 　/　7\,560円\n——————————————————–\n中級コース　　 4\,860円 　/　8\,640円 \n※ サルサレッスンは、１レッスン1\,080円です。\n個人レッスンは、１レッスン（25分）2\,700円～です。
URL:https://dance.gdp22.com/event/dance-31347/2026-04-25/
LOCATION:ダンス教室ハピネス（熊本）\, 熊本県熊本市中央区上通町5-10桜井ビル3F\, 熊本\, 860-0845
CATEGORIES:社交ダンス ラテン
ATTACH;FMTTYPE=image/jpeg:https://dance.gdp22.com/wp-content/uploads/main.jpg
END:VEVENT
BEGIN:VEVENT
DTSTART;TZID=Asia/Tokyo:20260425T170000
DTEND;TZID=Asia/Tokyo:20260425T235900
DTSTAMP:20260421T130750
CREATED:20220921T030523Z
LAST-MODIFIED:20221002T161654Z
UID:10264461-1777136400-1777161540@dance.gdp22.com
SUMMARY:Saturday Party @ shallwedancecafe
DESCRIPTION:17:00- 初中級バチャータレッスン\n18:00-初中級サルサレッスン\nRico\n19:00-24:00 Party\n先着10人まで¥500 1drink\n20人まで¥1000 2drink\n40人まで¥1500 1drink\n40人から¥2000 1drink \nShall We Dance Cafe(大阪)
URL:https://dance.gdp22.com/event/saturday-party/2026-04-25/
LOCATION:Shall We Dance Cafe(大阪)\, 大阪府大阪市北区兎我野町４−９\, 大阪\, 530-0056\, 日本
CATEGORIES:ソーシャル,バチャータ全般,サルサ全般
END:VEVENT
BEGIN:VEVENT
DTSTART;TZID=Asia/Tokyo:20260425T191500
DTEND;TZID=Asia/Tokyo:20260425T203000
DTSTAMP:20260421T130750
CREATED:20220819T033247Z
LAST-MODIFIED:20220829T153541Z
UID:10255143-1777144500-1777149000@dance.gdp22.com
SUMMARY:Camelia Closed Class (初中級）土曜日
DESCRIPTION:Studio Camelia　Closed Class (初中級） \n◆毎週木曜日19:15～20:30 \n◆毎週土曜日19:15～20:30 \n要予約 \nお月謝 ￥12000\nビジター1レッスン ￥2500 \n基礎から応用まで、振り付けを通して様々なテクニックを身に付け、振付けだけでなく、ソーシャルで自由自在に踊れるようになるためのトレーニングクラス \nパフォーマンスチームKOTSUBAKIとしての活動も行います
URL:https://dance.gdp22.com/event/dance-30821/2026-04-25/
LOCATION:Studio Camelia(愛媛）\, 愛媛県松山市小村町353-39\, 愛媛\, 791-1125\, 日本
CATEGORIES:振り付け・パフォーマンスクラス全般,サルサ全般
ATTACH;FMTTYPE=image/jpeg:https://dance.gdp22.com/wp-content/uploads/image-22.jpg
ORGANIZER;CN="%E5%B1%B1%E5%8F%A3%E7%BE%8E%E4%BB%A3":MAILTO:studiocamelia34@gmail.com
END:VEVENT
END:VCALENDAR