BEGIN:VCALENDAR
VERSION:2.0
PRODID:-//Dancing Pono (ダンシングポノ) - ECPv6.15.12//NONSGML v1.0//EN
CALSCALE:GREGORIAN
METHOD:PUBLISH
X-ORIGINAL-URL:https://dance.gdp22.com
X-WR-CALDESC:Dancing Pono (ダンシングポノ) のイベント
REFRESH-INTERVAL;VALUE=DURATION:PT1H
X-Robots-Tag:noindex
X-PUBLISHED-TTL:PT1H
BEGIN:VTIMEZONE
TZID:Asia/Tokyo
BEGIN:STANDARD
TZOFFSETFROM:+0900
TZOFFSETTO:+0900
TZNAME:JST
DTSTART:20250101T000000
END:STANDARD
END:VTIMEZONE
BEGIN:VEVENT
DTSTART;TZID=Asia/Tokyo:20260420T201500
DTEND;TZID=Asia/Tokyo:20260420T210000
DTSTAMP:20260421T055607
CREATED:20220930T041005Z
LAST-MODIFIED:20221014T162626Z
UID:10275392-1776716100-1776718800@dance.gdp22.com
SUMMARY:サルサペア 初中級 LaHabana
DESCRIPTION:料金・詳細は公式参照 \nhttps://www.lahabana.co.jp/price/?studioid=173&anchor/#block \nLaHabana(名古屋)
URL:https://dance.gdp22.com/event/dance-36310/2026-04-20/
LOCATION:LaHabana(名古屋)\, 名古屋市中区錦2-6-22 若山ビル3F\, 名古屋\, 463-0003\, 日本
CATEGORIES:サルサ全般
END:VEVENT
BEGIN:VEVENT
DTSTART;TZID=Asia/Tokyo:20260420T200000
DTEND;TZID=Asia/Tokyo:20260420T220000
DTSTAMP:20260421T055607
CREATED:20220926T185645Z
LAST-MODIFIED:20220926T185645Z
UID:10269662-1776715200-1776722400@dance.gdp22.com
SUMMARY:Kizomba / Bachata lessons @ Bailando
DESCRIPTION:毎週月曜 \nエントランス1000円1ドリンク付 \n毎月最初の月曜日はビギナーズデイです\nKizomba101　 20：00～\nBachata101   　21:00〜22：00 \n(Bachata Boot camp 22:00~) \n  \n 
URL:https://dance.gdp22.com/event/kizomba-bachata-lessons-bailando/2026-04-20/
LOCATION:Bailando(沖縄)\, 沖縄県沖縄市中央１丁目１３−６ 2F\, 沖縄市\, 904-0004\, 日本
END:VEVENT
BEGIN:VEVENT
DTSTART;TZID=Asia/Tokyo:20260420T200000
DTEND;TZID=Asia/Tokyo:20260420T213000
DTSTAMP:20260421T055607
CREATED:20220708T023054Z
LAST-MODIFIED:20220729T045837Z
UID:10234807-1776715200-1776720600@dance.gdp22.com
SUMMARY:レディースシャインクラス By HIRO
DESCRIPTION:料金詳細は画像参照 \nHIRO&TAKU月謝クラスで行う身体づくりの基礎内容に加え、\nシャインステップ・スタイリングの基礎〜実践まで、\n毎回行う基礎練習・月毎のテーマを決めての練習・最終的には一曲を通しての踊りこみ練習まで、\n覚えるだけではなく踊れる様に！を目標に練習していきます。 \n\n\nこんな方にお勧め >> \n\nシャインに自信がない。\nペアでもシャインでも、自分の姿勢がキマッテいない気がする。\nダンスとして魅せる！にはという悩みのある方。etc…\n\n人数／女性１０名まで\nオーディション／有\n※基本的に集中クラス終了者レベル以上の方、それ以外の方はオープンクラスへ参加して頂き、参加希望をお伝え下さい。\nレベルチェック・顔合わせ後、最終参加決定をお知らせします。参加希望の方はメールにてお問い合わせ下さい。
URL:https://dance.gdp22.com/event/dance-11304/2026-04-20/
LOCATION:恵比寿スタジオJ\, 東京都渋谷区東3-22-9 小倉ビルB1\, 恵比寿\, 150-0011\, 日本
CATEGORIES:サルサ全般
ATTACH;FMTTYPE=image/png:https://dance.gdp22.com/wp-content/uploads/schedule_info2-1.png
END:VEVENT
BEGIN:VEVENT
DTSTART;TZID=Asia/Tokyo:20260420T193000
DTEND;TZID=Asia/Tokyo:20260420T213000
DTSTAMP:20260421T055607
CREATED:20230327T024524Z
LAST-MODIFIED:20230401T025052Z
UID:10297101-1776713400-1776720600@dance.gdp22.com
SUMMARY:【振り付けで基礎を学ぶ】BACHATA CHOREO CLASS (センシュアルバチャータ)
DESCRIPTION:【振り付けで基礎を学ぶ】BACHATA CHOREO CLASS (センシュアルバチャータ) \n新宿ワークル　19:30～21:30 \nセンシュアルバチャータ　(3か月クール) \n3\,000円/回 4月/7月/10月/1月スタート \n「週1回3ヶ月で1自踊れるようになる」 \n★こんな人にオススメ\n・バチャータ初中級者\n・月2回以上通える方\n・体験有り 1500円/1H\n・途中から参加もOK！！ \nDANNY先生のクローズドクラスです。 \n新しい振付につきバチャータ好きのメンバーを大募集！ \n曲は NEGRO MATE DANI Jで踊ります。 \nロマンティックな曲に合わせて、リード＆フォローで2時間みっちり踊り込みます。 \nStudio Worcle新宿で毎週月曜19:30から開催中。 \n期間中いつから始めてもOK！ \n体験レッスンもやってるので、1人でも気軽に参加してね。 \n予約はメールかLINEのQRコードから！ \nMAIL – dhkspyder@gmail.com \n★期間：月程度\n★料金： ¥3100/1回（スタジオ代込み）\n★時間： 19:30～21:30（月曜日）\n★場所： Studio Worcle新宿（新宿区西新宿7-16-7 フジビル21）
URL:https://dance.gdp22.com/event/dance-44333/2026-04-20/
LOCATION:新宿ワークル\, 東京都新宿区西新宿７丁目１６−７ 第２１フジビル\, 新宿\, 〒160-0023\, 日本
CATEGORIES:センシュアルバチャータ,バチャータ全般
ATTACH;FMTTYPE=image/jpeg:https://dance.gdp22.com/wp-content/uploads/unnamed-file.jpg
ORGANIZER;CN="Danny%EF%BC%88%E3%83%80%E3%83%8B%E3%83%BC%EF%BC%89":MAILTO:DHKSPYDER@gmail.com
END:VEVENT
BEGIN:VEVENT
DTSTART;TZID=Asia/Tokyo:20260420T193000
DTEND;TZID=Asia/Tokyo:20260420T211000
DTSTAMP:20260421T055607
CREATED:20220711T025154Z
LAST-MODIFIED:20240217T044001Z
UID:10234557-1776713400-1776719400@dance.gdp22.com
SUMMARY:バーレスクオープンクラス初中級）ショースタイルクラス By La Keiko
DESCRIPTION:初中級）ショースタイルクラス \n毎週月曜19:30-21:10  \n浜松町/麻布十番他（詳細は問い合わせ） \n  \n2024年1月15日〜オープンクラススタート​ \nストレッチ、エクササイズ、基礎の立ち方、女性らしい動きに加え、ショーの華やかさを加えた振付を行います。 \n３月以降はパフォーマンスクラスとなります/月謝制 １００００円。出演に向けた振付・フォーメーションをつけます。多数出演依頼あり。。 \n過去の振付例　https://www.youtube.com/watch?v=A0NUc6MdxQE \n​​ \n\n\n​ \n※パフォーマンスクラスは、アマチュアとしてイベントでのショーへの参加を目標とします。参加条件はページ下方をご覧ください
URL:https://dance.gdp22.com/event/dance-12876/2026-04-20/
CATEGORIES:バーレスク
ATTACH;FMTTYPE=image/png:https://dance.gdp22.com/wp-content/uploads/12806212_10153980196139820_3203791609487-1.png
ORGANIZER;CN="La KEIKO":MAILTO:lakeiko218@gmail.com
END:VEVENT
BEGIN:VEVENT
DTSTART;TZID=Asia/Tokyo:20260420T130000
DTEND;TZID=Asia/Tokyo:20260420T140000
DTSTAMP:20260421T055607
CREATED:20220930T033716Z
LAST-MODIFIED:20221014T155409Z
UID:10274850-1776690000-1776693600@dance.gdp22.com
SUMMARY:サルサ (カシーノスタイル) 中級 LaHabana
DESCRIPTION:料金・詳細は公式参照 \nhttps://www.lahabana.co.jp/price/?studioid=173&anchor/#block \nLaHabana(名古屋)
URL:https://dance.gdp22.com/event/dance-36170/2026-04-20/
LOCATION:LaHabana(名古屋)\, 名古屋市中区錦2-6-22 若山ビル3F\, 名古屋\, 463-0003\, 日本
CATEGORIES:カシーノスタイル
END:VEVENT
BEGIN:VEVENT
DTSTART;TZID=Asia/Tokyo:20260420T130000
DTEND;TZID=Asia/Tokyo:20260420T140000
DTSTAMP:20260421T055607
CREATED:20220930T033716Z
LAST-MODIFIED:20230508T045643Z
UID:10302188-1776690000-1776693600@dance.gdp22.com
SUMMARY:サルサ (カシーノスタイル) 中級 LaHabana
DESCRIPTION:料金・詳細は公式参照 \nhttps://www.lahabana.co.jp/price/?studioid=173&anchor/#block \nLaHabana(名古屋)
URL:https://dance.gdp22.com/event/dance-36170-2023-05-15/2026-04-20/
LOCATION:LaHabana(名古屋)\, 名古屋市中区錦2-6-22 若山ビル3F\, 名古屋\, 463-0003\, 日本
CATEGORIES:カシーノスタイル
END:VEVENT
BEGIN:VEVENT
DTSTART;TZID=Asia/Tokyo:20260419T190000
DTEND;TZID=Asia/Tokyo:20260419T200000
DTSTAMP:20260421T055607
CREATED:20220722T015253Z
LAST-MODIFIED:20220729T060833Z
UID:10246351-1776625200-1776628800@dance.gdp22.com
SUMMARY:GABANAサルサ3（on1)Every Sunday  By HIROSHI
DESCRIPTION:【毎週日曜日】サルサ　Every Sunday　初心者歓迎 \nメロウな日曜湘南サルサは、毎週日曜日に開催しています。 \n特に、日曜日レッスンは初心者大歓迎。初心者にやさしいサルサ(on1)レッスンを開講しています。 \n◆16:00～17:00◆lesson(on1・入門) \n◇17:00～18:00◇lesson(on1・初心者) \n◆18:00～19:00◆フリータイム1◆￥1600/1d \n◇19:00～20:00◇lesson(on1・中級) \n◆20:00～◆フリータイム2◆￥1600/1d \n  \n1レッスン￥2500/1d(チャージ込)\n※2レッスン受講の場合通常￥5000のところ￥4000/1dとなります。
URL:https://dance.gdp22.com/event/dance-16768/2026-04-19/
LOCATION:藤沢LATIN GABANA\, 神奈川県藤沢市南藤沢23-10 光会館ビル4F\, 藤沢\, 251-0055\, 日本
CATEGORIES:サルサon1
ATTACH;FMTTYPE=image/jpeg:https://dance.gdp22.com/wp-content/uploads/image-15.jpg
END:VEVENT
BEGIN:VEVENT
DTSTART;TZID=Asia/Tokyo:20260419T183000
DTEND;TZID=Asia/Tokyo:20260419T191500
DTSTAMP:20260421T055607
CREATED:20220930T044221Z
LAST-MODIFIED:20221014T161405Z
UID:10274324-1776623400-1776626100@dance.gdp22.com
SUMMARY:キューバンカシーノ サルサMIX 初中級 LaHabana
DESCRIPTION:料金・詳細は公式参照 \nhttps://www.lahabana.co.jp/price/?studioid=173&anchor/#block \nLaHabana(名古屋)
URL:https://dance.gdp22.com/event/dance-36454/2026-04-19/
LOCATION:LaHabana(名古屋)\, 名古屋市中区錦2-6-22 若山ビル3F\, 名古屋\, 463-0003\, 日本
CATEGORIES:カシーノスタイル
END:VEVENT
BEGIN:VEVENT
DTSTART;TZID=Asia/Tokyo:20260419T150000
DTEND;TZID=Asia/Tokyo:20260419T163000
DTSTAMP:20260421T055607
CREATED:20220708T032945Z
LAST-MODIFIED:20221116T034230Z
UID:10285524-1776610800-1776616200@dance.gdp22.com
SUMMARY:Advanceクラス（日曜）
DESCRIPTION:料金詳細は画像参照
URL:https://dance.gdp22.com/event/dance-11959/2026-04-19/
LOCATION:恵比寿スタジオJ\, 東京都渋谷区東3-22-9 小倉ビルB1\, 恵比寿\, 150-0011\, 日本
CATEGORIES:サルサ全般
ATTACH;FMTTYPE=image/png:https://dance.gdp22.com/wp-content/uploads/schedule_info2-11.png
END:VEVENT
BEGIN:VEVENT
DTSTART;TZID=Asia/Tokyo:20260419T130000
DTEND;TZID=Asia/Tokyo:20260419T141500
DTSTAMP:20260421T055607
CREATED:20220708T032828Z
LAST-MODIFIED:20221116T034651Z
UID:10284973-1776603600-1776608100@dance.gdp22.com
SUMMARY:Upper集中クラス（日曜）
DESCRIPTION:料金詳細は画像参照 \n集中クラスの内容に加え、更に難易度の高いペアワーク、シャイン、スタイリング、ムーブメントを目指します。 \n６ヶ月周期でメニューも毎回変わりますので、続けて受講されても更なる実力アップが期待できます。\nまた、６ヶ月周期に合わせて、周期ごとのメニューに合わせた成果パフォーマンスを発表します。\n発表の場に出る出ないは自由ですので、パフォーマンスに出られないと言う方でも、\n振り付けをまるまる覚える事で、難易度の高い技、ムーブメント等を確実に身につけられます。 \n\n\nこんな方にお勧め >> \n\n長年サルサをやっているが、上達しない。\n難易度の高いペアワーク 正確なリード＆フォローを身につけたい方\n（女性は回転数の多いターンができないなど、、）\n難易度の高いシャインやフットワークを得たい方。\nスタイリッシュに魅せる踊りを目指したい方。\nHIRO&TAKUパフォーマンスチームに参加希望の方\n\n\n人数／男女各６名まで\nオーディション／有　（対象レベル初中級）\n\nオープンクラスへ参加して頂き、参加希望をお伝え下さい。\nレベルチェック・顔合わせ後、最終参加決定をお知らせす。
URL:https://dance.gdp22.com/event/dance-11946/2026-04-19/
LOCATION:恵比寿スタジオJ\, 東京都渋谷区東3-22-9 小倉ビルB1\, 恵比寿\, 150-0011\, 日本
CATEGORIES:サルサ全般
ATTACH;FMTTYPE=image/png:https://dance.gdp22.com/wp-content/uploads/schedule_info2-10.png
END:VEVENT
BEGIN:VEVENT
DTSTART;TZID=Asia/Tokyo:20260419T120000
DTEND;TZID=Asia/Tokyo:20260419T124500
DTSTAMP:20260421T055607
CREATED:20220930T043934Z
LAST-MODIFIED:20221014T160414Z
UID:10273417-1776600000-1776602700@dance.gdp22.com
SUMMARY:キューバンカシーノ 初中級 LaHabana
DESCRIPTION:料金・詳細は公式参照 \nhttps://www.lahabana.co.jp/price/?studioid=173&anchor/#block \nLaHabana(名古屋)
URL:https://dance.gdp22.com/event/dance-36430/2026-04-19/
LOCATION:LaHabana(名古屋)\, 名古屋市中区錦2-6-22 若山ビル3F\, 名古屋\, 463-0003\, 日本
CATEGORIES:カシーノスタイル
END:VEVENT
BEGIN:VEVENT
DTSTART;TZID=Asia/Tokyo:20260418T191500
DTEND;TZID=Asia/Tokyo:20260418T203000
DTSTAMP:20260421T055607
CREATED:20220819T033247Z
LAST-MODIFIED:20220829T153541Z
UID:10255142-1776539700-1776544200@dance.gdp22.com
SUMMARY:Camelia Closed Class (初中級）土曜日
DESCRIPTION:Studio Camelia　Closed Class (初中級） \n◆毎週木曜日19:15～20:30 \n◆毎週土曜日19:15～20:30 \n要予約 \nお月謝 ￥12000\nビジター1レッスン ￥2500 \n基礎から応用まで、振り付けを通して様々なテクニックを身に付け、振付けだけでなく、ソーシャルで自由自在に踊れるようになるためのトレーニングクラス \nパフォーマンスチームKOTSUBAKIとしての活動も行います
URL:https://dance.gdp22.com/event/dance-30821/2026-04-18/
LOCATION:Studio Camelia(愛媛）\, 愛媛県松山市小村町353-39\, 愛媛\, 791-1125\, 日本
CATEGORIES:振り付け・パフォーマンスクラス全般,サルサ全般
ATTACH;FMTTYPE=image/jpeg:https://dance.gdp22.com/wp-content/uploads/image-22.jpg
ORGANIZER;CN="%E5%B1%B1%E5%8F%A3%E7%BE%8E%E4%BB%A3":MAILTO:studiocamelia34@gmail.com
END:VEVENT
BEGIN:VEVENT
DTSTART;TZID=Asia/Tokyo:20260418T170000
DTEND;TZID=Asia/Tokyo:20260418T235900
DTSTAMP:20260421T055607
CREATED:20220921T030523Z
LAST-MODIFIED:20221002T161654Z
UID:10264460-1776531600-1776556740@dance.gdp22.com
SUMMARY:Saturday Party @ shallwedancecafe
DESCRIPTION:17:00- 初中級バチャータレッスン\n18:00-初中級サルサレッスン\nRico\n19:00-24:00 Party\n先着10人まで¥500 1drink\n20人まで¥1000 2drink\n40人まで¥1500 1drink\n40人から¥2000 1drink \nShall We Dance Cafe(大阪)
URL:https://dance.gdp22.com/event/saturday-party/2026-04-18/
LOCATION:Shall We Dance Cafe(大阪)\, 大阪府大阪市北区兎我野町４−９\, 大阪\, 530-0056\, 日本
CATEGORIES:ソーシャル,バチャータ全般,サルサ全般
END:VEVENT
BEGIN:VEVENT
DTSTART;TZID=Asia/Tokyo:20260418T150000
DTEND;TZID=Asia/Tokyo:20260418T155000
DTSTAMP:20260421T055607
CREATED:20220826T024433Z
LAST-MODIFIED:20220903T162325Z
UID:10257225-1776524400-1776527400@dance.gdp22.com
SUMMARY:ハピネス中・上級コース（ラテン）
DESCRIPTION:ダンス教室ハピネスは、平成８年にスタートしました。\n笑顔と笑い声が絶えない、アットホームな雰囲気の楽しい教室です。\n２０歳代～８０歳代までの老若男女のみなさんが、仲良くレッスンしています。 \n入会金 3\,240円\n月謝（月４回）　１科目　/　 ２科目\n——————————————————–\n初級コース　　 4\,320円 　/　7\,560円\n——————————————————–\n中級コース　　 4\,860円 　/　8\,640円 \n※ サルサレッスンは、１レッスン1\,080円です。\n個人レッスンは、１レッスン（25分）2\,700円～です。
URL:https://dance.gdp22.com/event/dance-31347/2026-04-18/
LOCATION:ダンス教室ハピネス（熊本）\, 熊本県熊本市中央区上通町5-10桜井ビル3F\, 熊本\, 860-0845
CATEGORIES:社交ダンス ラテン
ATTACH;FMTTYPE=image/jpeg:https://dance.gdp22.com/wp-content/uploads/main.jpg
END:VEVENT
BEGIN:VEVENT
DTSTART;TZID=Asia/Tokyo:20260418T150000
DTEND;TZID=Asia/Tokyo:20260418T154500
DTSTAMP:20260421T055607
CREATED:20220620T031742Z
LAST-MODIFIED:20220620T031742Z
UID:10226700-1776524400-1776527100@dance.gdp22.com
SUMMARY:Perfect Salsa  中級shine By KAORU
DESCRIPTION:Perfect Salsa \n中級shine \nKAORU \nhttps://www.studio-casino.com/%E4%BD%93%E9%A8%93%E3%83%AC%E3%83%83%E3%82%B9%E3%83%B3-%E5%88%9D%E3%82%81%E3%81%A6%E3%81%AE%E6%96%B9/%E6%96%99%E9%87%91/
URL:https://dance.gdp22.com/event/dance-7854/2026-04-18/
LOCATION:六本木ダンススタジオカシーノ\, 東京都港区六本木5-2-4第二鳥勝ビル四階\, 六本木\, 106-0032\, 日本
CATEGORIES:サルサ全般
END:VEVENT
BEGIN:VEVENT
DTSTART;TZID=Asia/Tokyo:20260418T150000
DTEND;TZID=Asia/Tokyo:20260418T154500
DTSTAMP:20260421T055607
CREATED:20220620T031522Z
LAST-MODIFIED:20220620T031522Z
UID:10226949-1776524400-1776527100@dance.gdp22.com
SUMMARY:Perfect Salsa  初中級 By MORI
DESCRIPTION:Perfect Salsa \n初中級 \nMORI \nhttps://www.studio-casino.com/%E4%BD%93%E9%A8%93%E3%83%AC%E3%83%83%E3%82%B9%E3%83%B3-%E5%88%9D%E3%82%81%E3%81%A6%E3%81%AE%E6%96%B9/%E6%96%99%E9%87%91/
URL:https://dance.gdp22.com/event/dance-7842/2026-04-18/
LOCATION:六本木ダンススタジオカシーノ\, 東京都港区六本木5-2-4第二鳥勝ビル四階\, 六本木\, 106-0032\, 日本
CATEGORIES:サルサ全般
END:VEVENT
BEGIN:VEVENT
DTSTART;TZID=Asia/Tokyo:20260418T140000
DTEND;TZID=Asia/Tokyo:20260418T145000
DTSTAMP:20260421T055607
CREATED:20220826T024320Z
LAST-MODIFIED:20220903T162854Z
UID:10256965-1776520800-1776523800@dance.gdp22.com
SUMMARY:ハピネス中・上級コース（スタンダード）
DESCRIPTION:ダンス教室ハピネスは、平成８年にスタートしました。\n笑顔と笑い声が絶えない、アットホームな雰囲気の楽しい教室です。\n２０歳代～８０歳代までの老若男女のみなさんが、仲良くレッスンしています。 \n入会金 3\,240円\n月謝（月４回）　１科目　/　 ２科目\n——————————————————–\n初級コース　　 4\,320円 　/　7\,560円\n——————————————————–\n中級コース　　 4\,860円 　/　8\,640円 \n※ サルサレッスンは、１レッスン1\,080円です。\n個人レッスンは、１レッスン（25分）2\,700円～です。
URL:https://dance.gdp22.com/event/dance-31335/2026-04-18/
LOCATION:ダンス教室ハピネス（熊本）\, 熊本県熊本市中央区上通町5-10桜井ビル3F\, 熊本\, 860-0845
CATEGORIES:社交ダンス スタンダード
ATTACH;FMTTYPE=image/jpeg:https://dance.gdp22.com/wp-content/uploads/main.jpg
END:VEVENT
BEGIN:VEVENT
DTSTART;TZID=Asia/Tokyo:20260418T134500
DTEND;TZID=Asia/Tokyo:20260418T143000
DTSTAMP:20260421T055607
CREATED:20220930T040017Z
LAST-MODIFIED:20221014T160853Z
UID:10271892-1776519900-1776522600@dance.gdp22.com
SUMMARY:サルサ キューバスタイル 中級 LaHabana
DESCRIPTION:料金・詳細は公式参照 \nhttps://www.lahabana.co.jp/price/?studioid=173&anchor/#block \nLaHabana(名古屋)
URL:https://dance.gdp22.com/event/dance-36284/2026-04-18/
LOCATION:LaHabana(名古屋)\, 名古屋市中区錦2-6-22 若山ビル3F\, 名古屋\, 463-0003\, 日本
CATEGORIES:キューバン
END:VEVENT
BEGIN:VEVENT
DTSTART;TZID=Asia/Tokyo:20260417T213000
DTEND;TZID=Asia/Tokyo:20260417T223000
DTSTAMP:20260421T055607
CREATED:20220812T033830Z
LAST-MODIFIED:20220812T035530Z
UID:10252312-1776461400-1776465000@dance.gdp22.com
SUMMARY:Sensual Bachata作品クラス by Shu&You
DESCRIPTION:Sensual Bachata■ Level.2\n○テクニック\n男性は、毎月のルーティンを覚えた上で、女性に負荷をかけない\nアプローチテクニック方法を学んで頂けます。\n女性は、細かいリードの対応(フォロー)を学びながら\nSensual特有の女性の踊り方を学んで頂けます。\n同じ内容のリードでも各男性でのアプローチの違いがあります、\n順応力のあるフォローの方法も学び、受け身だけのフォローではなく、\nリードに対応しながらも表現力のある女性の踊り方も学んで頂けます。\n○繰り返し練習\n毎月同じ内容を1カ月間おこないます。\n内容は毎月第一金曜に更新します。\n毎回違う内容ではなく、1カ月間【同じ事】を繰り返し、【深掘り練習】\nをして頂けます、\n繰り返し学ぶ事により習得率が上がります。\n○ 最新テクニック\n流行のルーティン、最新のトレンドのムーブメントも練習します。\n\n東京目黒スタジオLaCelula\nSensual Bachataレベル2\nレベル0-3 ¥2000／1回\n月謝制8レッスン¥14000\n作品クラス¥10000／1ヶ月
URL:https://dance.gdp22.com/event/dance-29647/2026-04-17/
LOCATION:目黒スタジオLaCelula\, 東京都目黒区下目黒2－2－8メディアビル1F\, 目黒区\, 153-0064\, 日本
CATEGORIES:センシュアルバチャータ
ATTACH;FMTTYPE=image/jpeg:https://dance.gdp22.com/wp-content/uploads/2078D6B2-3B15-44E2-A61D-6F25B88167F8-226x300-1.jpeg
ORGANIZER;CN="Shu(Shu%EF%BC%86You)":MAILTO:shuandyou@gmail.com
END:VEVENT
BEGIN:VEVENT
DTSTART;TZID=Asia/Tokyo:20260417T203000
DTEND;TZID=Asia/Tokyo:20260417T213000
DTSTAMP:20260421T055607
CREATED:20220608T031137Z
LAST-MODIFIED:20220812T035021Z
UID:10252055-1776457800-1776461400@dance.gdp22.com
SUMMARY:Sensual Bachataレベル2初中級 by Shu&You
DESCRIPTION:Sensual Bachata■ Level.2\n○テクニック\n男性は、毎月のルーティンを覚えた上で、女性に負荷をかけない\nアプローチテクニック方法を学んで頂けます。\n女性は、細かいリードの対応(フォロー)を学びながら\nSensual特有の女性の踊り方を学んで頂けます。\n同じ内容のリードでも各男性でのアプローチの違いがあります、\n順応力のあるフォローの方法も学び、受け身だけのフォローではなく、\nリードに対応しながらも表現力のある女性の踊り方も学んで頂けます。\n○繰り返し練習\n毎月同じ内容を1カ月間おこないます。\n内容は毎月第一金曜に更新します。\n毎回違う内容ではなく、1カ月間【同じ事】を繰り返し、【深掘り練習】\nをして頂けます、\n繰り返し学ぶ事により習得率が上がります。\n○ 最新テクニック\n流行のルーティン、最新のトレンドのムーブメントも練習します。\n\n東京目黒スタジオLaCelula\nSensual Bachataレベル2\nレベル0-3 ¥2000／1回\n月謝制8レッスン¥14000\n作品クラス¥10000／1ヶ月
URL:https://dance.gdp22.com/event/dance-7047/2026-04-17/
LOCATION:目黒スタジオLaCelula\, 東京都目黒区下目黒2－2－8メディアビル1F\, 目黒区\, 153-0064\, 日本
CATEGORIES:センシュアルバチャータ
ATTACH;FMTTYPE=image/jpeg:https://dance.gdp22.com/wp-content/uploads/2078D6B2-3B15-44E2-A61D-6F25B88167F8-226x300-1.jpeg
ORGANIZER;CN="Shu(Shu%EF%BC%86You)":MAILTO:shuandyou@gmail.com
END:VEVENT
BEGIN:VEVENT
DTSTART;TZID=Asia/Tokyo:20260417T193000
DTEND;TZID=Asia/Tokyo:20260417T235900
DTSTAMP:20260421T055607
CREATED:20220921T030840Z
LAST-MODIFIED:20221002T161257Z
UID:10264106-1776454200-1776470340@dance.gdp22.com
SUMMARY:Friday beginner party @ shallwedancecafe
DESCRIPTION:19:30-初中級バチャータレッスン\n20:00-初中級サルサレッスン\nLucho&Maki\n2レッスン¥2000\n1レッスン¥1500(パーティ付) \n20:30-24:00Party \n先着10人まで¥500 1drink\n20人まで¥1000 2drink\n40人まで¥1500 1drink\n40人から¥2000 1drink \nShall We Dance Cafe(大阪)
URL:https://dance.gdp22.com/event/frlday-beglnner-party/2026-04-17/
LOCATION:Shall We Dance Cafe(大阪)\, 大阪府大阪市北区兎我野町４−９\, 大阪\, 530-0056\, 日本
CATEGORIES:ソーシャル,バチャータ全般,サルサ全般
ORGANIZER;CN="Lucho (y Maki)":MAILTO:luchosalsadancelesson@gmail.com
END:VEVENT
BEGIN:VEVENT
DTSTART;TZID=Asia/Tokyo:20260417T143000
DTEND;TZID=Asia/Tokyo:20260417T152000
DTSTAMP:20260421T055607
CREATED:20220826T024151Z
LAST-MODIFIED:20220903T162451Z
UID:10256428-1776436200-1776439200@dance.gdp22.com
SUMMARY:ハピネス中・上級コース（ラテン）
DESCRIPTION:ダンス教室ハピネスは、平成８年にスタートしました。\n笑顔と笑い声が絶えない、アットホームな雰囲気の楽しい教室です。\n２０歳代～８０歳代までの老若男女のみなさんが、仲良くレッスンしています。 \n入会金 3\,240円\n月謝（月４回）　１科目　/　 ２科目\n——————————————————–\n初級コース　　 4\,320円 　/　7\,560円\n——————————————————–\n中級コース　　 4\,860円 　/　8\,640円 \n※ サルサレッスンは、１レッスン1\,080円です。\n個人レッスンは、１レッスン（25分）2\,700円～です。
URL:https://dance.gdp22.com/event/dance-31323/2026-04-17/
LOCATION:ダンス教室ハピネス（熊本）\, 熊本県熊本市中央区上通町5-10桜井ビル3F\, 熊本\, 860-0845
CATEGORIES:社交ダンス ラテン
ATTACH;FMTTYPE=image/jpeg:https://dance.gdp22.com/wp-content/uploads/main.jpg
END:VEVENT
BEGIN:VEVENT
DTSTART;TZID=Asia/Tokyo:20260417T133000
DTEND;TZID=Asia/Tokyo:20260417T142000
DTSTAMP:20260421T055607
CREATED:20220826T024037Z
LAST-MODIFIED:20220903T163030Z
UID:10256172-1776432600-1776435600@dance.gdp22.com
SUMMARY:ハピネス中・上級コース（スタンダード）
DESCRIPTION:ダンス教室ハピネスは、平成８年にスタートしました。\n笑顔と笑い声が絶えない、アットホームな雰囲気の楽しい教室です。\n２０歳代～８０歳代までの老若男女のみなさんが、仲良くレッスンしています。 \n入会金 3\,240円\n月謝（月４回）　１科目　/　 ２科目\n——————————————————–\n初級コース　　 4\,320円 　/　7\,560円\n——————————————————–\n中級コース　　 4\,860円 　/　8\,640円 \n※ サルサレッスンは、１レッスン1\,080円です。\n個人レッスンは、１レッスン（25分）2\,700円～です。
URL:https://dance.gdp22.com/event/dance-31311/2026-04-17/
LOCATION:ダンス教室ハピネス（熊本）\, 熊本県熊本市中央区上通町5-10桜井ビル3F\, 熊本\, 860-0845
CATEGORIES:社交ダンス スタンダード
ATTACH;FMTTYPE=image/jpeg:https://dance.gdp22.com/wp-content/uploads/main.jpg
END:VEVENT
BEGIN:VEVENT
DTSTART;TZID=Asia/Tokyo:20260416T213000
DTEND;TZID=Asia/Tokyo:20260416T223000
DTSTAMP:20260421T055607
CREATED:20220812T033830Z
LAST-MODIFIED:20220812T035456Z
UID:10254022-1776375000-1776378600@dance.gdp22.com
SUMMARY:Sensual Bachata作品クラス by Shu&You
DESCRIPTION:Sensual Bachata■ Level.2\n○テクニック\n男性は、毎月のルーティンを覚えた上で、女性に負荷をかけない\nアプローチテクニック方法を学んで頂けます。\n女性は、細かいリードの対応(フォロー)を学びながら\nSensual特有の女性の踊り方を学んで頂けます。\n同じ内容のリードでも各男性でのアプローチの違いがあります、\n順応力のあるフォローの方法も学び、受け身だけのフォローではなく、\nリードに対応しながらも表現力のある女性の踊り方も学んで頂けます。\n○繰り返し練習\n毎月同じ内容を1カ月間おこないます。\n内容は毎月第一金曜に更新します。\n毎回違う内容ではなく、1カ月間【同じ事】を繰り返し、【深掘り練習】\nをして頂けます、\n繰り返し学ぶ事により習得率が上がります。\n○ 最新テクニック\n流行のルーティン、最新のトレンドのムーブメントも練習します。\n\n東京目黒スタジオLaCelula\nSensual Bachataレベル2\nレベル0-3 ¥2000／1回\n月謝制8レッスン¥14000\n作品クラス¥10000／1ヶ月
URL:https://dance.gdp22.com/event/dance-29647-2022-08-18/2026-04-16/
LOCATION:目黒スタジオLaCelula\, 東京都目黒区下目黒2－2－8メディアビル1F\, 目黒区\, 153-0064\, 日本
CATEGORIES:センシュアルバチャータ
ATTACH;FMTTYPE=image/jpeg:https://dance.gdp22.com/wp-content/uploads/2078D6B2-3B15-44E2-A61D-6F25B88167F8-226x300-1.jpeg
ORGANIZER;CN="Shu(Shu%EF%BC%86You)":MAILTO:shuandyou@gmail.com
END:VEVENT
BEGIN:VEVENT
DTSTART;TZID=Asia/Tokyo:20260416T203000
DTEND;TZID=Asia/Tokyo:20260416T213000
DTSTAMP:20260421T055607
CREATED:20220608T031137Z
LAST-MODIFIED:20220812T034900Z
UID:10222004-1776371400-1776375000@dance.gdp22.com
SUMMARY:Sensual Bachataレベル2 by Shu&You
DESCRIPTION:Sensual Bachata■ Level.2\n○テクニック\n男性は、毎月のルーティンを覚えた上で、女性に負荷をかけない\nアプローチテクニック方法を学んで頂けます。\n女性は、細かいリードの対応(フォロー)を学びながら\nSensual特有の女性の踊り方を学んで頂けます。\n同じ内容のリードでも各男性でのアプローチの違いがあります、\n順応力のあるフォローの方法も学び、受け身だけのフォローではなく、\nリードに対応しながらも表現力のある女性の踊り方も学んで頂けます。\n○繰り返し練習\n毎月同じ内容を1カ月間おこないます。\n内容は毎月第一金曜に更新します。\n毎回違う内容ではなく、1カ月間【同じ事】を繰り返し、【深掘り練習】\nをして頂けます、\n繰り返し学ぶ事により習得率が上がります。\n○ 最新テクニック\n流行のルーティン、最新のトレンドのムーブメントも練習します。\n\n東京目黒スタジオLaCelula\nSensual Bachataレベル2\nレベル0-3 ¥2000／1回\n月謝制8レッスン¥14000\n作品クラス¥10000／1ヶ月
URL:https://dance.gdp22.com/event/dance-7047-2022-06-16/2026-04-16/
LOCATION:目黒スタジオLaCelula\, 東京都目黒区下目黒2－2－8メディアビル1F\, 目黒区\, 153-0064\, 日本
CATEGORIES:センシュアルバチャータ
ATTACH;FMTTYPE=image/jpeg:https://dance.gdp22.com/wp-content/uploads/2078D6B2-3B15-44E2-A61D-6F25B88167F8-226x300-1.jpeg
ORGANIZER;CN="Shu(Shu%EF%BC%86You)":MAILTO:shuandyou@gmail.com
END:VEVENT
BEGIN:VEVENT
DTSTART;TZID=Asia/Tokyo:20260416T203000
DTEND;TZID=Asia/Tokyo:20260416T211500
DTSTAMP:20260421T055607
CREATED:20220930T042124Z
LAST-MODIFIED:20221014T161458Z
UID:10278634-1776371400-1776374100@dance.gdp22.com
SUMMARY:キューバンカシーノ 初中級 LaHabana
DESCRIPTION:料金・詳細は公式参照 \nhttps://www.lahabana.co.jp/price/?studioid=173&anchor/#block \nLaHabana(名古屋)
URL:https://dance.gdp22.com/event/dance-36352/2026-04-16/
LOCATION:LaHabana(名古屋)\, 名古屋市中区錦2-6-22 若山ビル3F\, 名古屋\, 463-0003\, 日本
CATEGORIES:カシーノスタイル
END:VEVENT
BEGIN:VEVENT
DTSTART;TZID=Asia/Tokyo:20260416T200000
DTEND;TZID=Asia/Tokyo:20260416T210000
DTSTAMP:20260421T055607
CREATED:20220928T032139Z
LAST-MODIFIED:20221121T042925Z
UID:10289723-1776369600-1776373200@dance.gdp22.com
SUMMARY:Salsa Level 1.5 8-9pm
DESCRIPTION:中級サルサクラス \nMambOki LDC(沖縄)
URL:https://dance.gdp22.com/event/salsa-level-2-9-10pm-2/2026-04-16/
LOCATION:MambOki LDC(沖縄)\, 沖縄県宜野湾市宇地泊７３５\, 宜野湾\, 901-2227\, 日本
CATEGORIES:サルサ全般
END:VEVENT
BEGIN:VEVENT
DTSTART;TZID=Asia/Tokyo:20260416T194500
DTEND;TZID=Asia/Tokyo:20260416T210000
DTSTAMP:20260421T055607
CREATED:20250426T084811Z
LAST-MODIFIED:20250426T084811Z
UID:10283197-1776368700-1776373200@dance.gdp22.com
SUMMARY:SON CUBANO
DESCRIPTION:19:45～21:00\n￥1\,100\n今月から久しぶりのSONです。\n古きよき美しいキューバ音楽ソンをエレガントに\n躍れるようにレッスンしましょう
URL:https://dance.gdp22.com/event/dance-31372-2/2026-04-16/
LOCATION:Dance&Dining桜井通り（熊本）\, 熊本県熊本市中央区上通町5-10桜井ビル4F\, 熊本\, 860-0845
CATEGORIES:ソンギター・トレス,ソーシャル,カシーノスタイル,サルサ全般
END:VEVENT
BEGIN:VEVENT
DTSTART;TZID=Asia/Tokyo:20260416T193000
DTEND;TZID=Asia/Tokyo:20260416T203000
DTSTAMP:20260421T055607
CREATED:20220613T022831Z
LAST-MODIFIED:20220727T024659Z
UID:10221903-1776367800-1776371400@dance.gdp22.com
SUMMARY:Citta De La Salsa in 川崎 Lesson ByNamio Salsa
DESCRIPTION:【Citta De La Salsa in 川崎】\n★川崎citta atticでのサルサイベントが\nNamio Naomi先生のレッスンとともに\n毎月第1、第3木曜日に復活開催です〜！ \n★Open/19:30 　　　Close/23:00\n￥1\,500（1D）Lesson ＋￥1\,000\nNaomi Salasa On1 初中級lesson　19:30〜20:30 (￥1\,000）\nSalsa Party　20:30〜23:00￥1500(w1d)\nDJ You (Salsa&Bachata) \n★会場：川崎LA CIITA DELLA内　ATTIC BAR　2F\nhttp://clubcitta-attic.com/\n住所：川崎市川崎区小川町5-7 CIITA DELLA川崎内ATTIC BAR(2F) \n★川崎にも、サルサを熱く！楽しく！気軽に踊れるイベントがありますよ！\n川崎 CLUB CITTA の2F ATTIC BARにてサルサパーティー開催！！\n★会場は天井が高く開放感ある素敵なDJバーで音響設備も抜群です！\n★初心者の方にも優しく、On1メインで踊りやすい曲で楽しめます！\n初めての方、お一人の方、女性同士の方でも安心して踊れます。\nゆったりと2時間半、たっぷり踊れます！\n毎月第1\,第3木曜日の夜は、東京と横浜の中間川崎、Citta De La Salsaへ是非遊びにいらしてください！\n※マスクの着用、検温、消毒にご協力ください。\n※大きな声での会話等はお控えください。
URL:https://dance.gdp22.com/event/dance-7213/2026-04-16/
LOCATION:川崎citta attic\, 神奈川県川崎市川崎区小川町 5-7 2F\, 川崎\, 210-0023\, 日本
CATEGORIES:サルサon1
ATTACH;FMTTYPE=image/jpeg:https://dance.gdp22.com/wp-content/uploads/283857304_4848189995287350_5414652923899820490_ncitta.jpg
END:VEVENT
END:VCALENDAR