BEGIN:VCALENDAR
VERSION:2.0
PRODID:-//Dancing Pono (ダンシングポノ) - ECPv6.15.12//NONSGML v1.0//EN
CALSCALE:GREGORIAN
METHOD:PUBLISH
X-WR-CALNAME:Dancing Pono (ダンシングポノ)
X-ORIGINAL-URL:https://dance.gdp22.com
X-WR-CALDESC:Dancing Pono (ダンシングポノ) のイベント
REFRESH-INTERVAL;VALUE=DURATION:PT1H
X-Robots-Tag:noindex
X-PUBLISHED-TTL:PT1H
BEGIN:VTIMEZONE
TZID:Asia/Tokyo
BEGIN:STANDARD
TZOFFSETFROM:+0900
TZOFFSETTO:+0900
TZNAME:JST
DTSTART:20220101T000000
END:STANDARD
END:VTIMEZONE
BEGIN:VEVENT
DTSTART;TZID=Asia/Tokyo:20231024T190000
DTEND;TZID=Asia/Tokyo:20231024T230000
DTSTAMP:20260421T075700
CREATED:20231005T022022Z
LAST-MODIFIED:20231005T225932Z
UID:10205753-1698174000-1698188400@dance.gdp22.com
SUMMARY:KIZOMBA ROOM　Palloween
DESCRIPTION:10月はハロウィン月間！\nただハロウィン当日ではないので、パロウィンになります。\nおもいおもいのハロウィンコスでお越し下さい！\n着替えブースもあります。\nコスチュームでない方ももちろん大歓迎！\n入門から上級まで、雰囲気ある鏡のある広いスタジオで練習出来て楽しめるイベントです。\n全国での指導経験豊富でわかりやすいと評判のShunsukeによるレッスンと本格派DJによるフリータイム。\nレベルに関わらず、どなたも気軽にお寄り下さい！\n☆受付は2Fスタジオレオンになりますのでスタジオレオンに直接お越し下さい。\n☆キゾンバルームはフード・ドリンク持ち込み自由です。\n談話、飲食スペースある、スタジオレオンで、飲食しながら、緩く火曜の夜をお過ごし下さい。\n19 : 00～19:30 無料初心者 　　　　　　　　　　(Shunsuke)\n19 : 30～20 : 30 オールレベル 　　　　　　　　　　(Shunsuke)\n20：45～23：00　Party DJ　NAMIN\nEntrance ￥1500\n（飲食持ち込み自由）\nlesson ￥1000\nPLACE　スタジオレオン\n（クラブレオンのビル2F）\nDJ紹介\n日本でのキゾンバ草創期より海外のワークショップやパーティーに積極的に参加し、特にヨーロッパのキゾンバパーティーでDJが曲を加工したり、絶妙に曲と曲を繋ぐことにより会場全体を盛り上げる姿に魅了されDJ技術を学ぶきっかけとなる。\nキゾンバのみならず、サルサ、バチャータにも造詣が深い。\nピアノで培った音へのこだわり、リズムへの理解から最適な選曲とスムーズな曲の繋ぎを得意とする。キゾンバの数々のジャンルをバランス良くかけ、誰でも楽しめる選曲をモットーとする。\n皆様のお越しをお待ちしております。
URL:https://dance.gdp22.com/event/dance-53500/2023-10-24/
LOCATION:新宿スタジオレオン(2F)\, 東京都新宿区新宿 5-17-6　2F\, 新宿\, 160-0022\, 日本
CATEGORIES:ハロウィンパーティー,キゾンバ,ソーシャル
ATTACH;FMTTYPE=image/jpeg:https://dance.gdp22.com/wp-content/uploads/384682406_1720383288387772_2974722290873242026_n.jpg
END:VEVENT
BEGIN:VEVENT
DTSTART;TZID=Asia/Tokyo:20231027T193000
DTEND;TZID=Asia/Tokyo:20231027T230000
DTSTAMP:20260421T075700
CREATED:20231002T022649Z
LAST-MODIFIED:20231002T023226Z
UID:10191328-1698435000-1698447600@dance.gdp22.com
SUMMARY:kizomba120％　Halloween　day1-4(octber event)
DESCRIPTION:10月はハロウィン月間。\nハロウィンコスでお越し下さい。そうでない方も勿論大歓迎！\n毎週金曜日は\n『KIZOMBA　120％』初心者大歓迎\n☆受付は換気十分な2Fスタジオレオンになりますのでスタジオレオンに直接お越し下さい。\n☆キゾンバ120％はフード・ドリンク持ち込み自由です。\n飲食しながらごゆっくりと金曜の夜をお過ごし下さい。\n19 : 30～20 : 30 kizomba lesson 　　　　　　　　　　(Shunsuke)\n20：30～23：00　Party (キゾンバ、サルサ等)\nParty only ￥1500（持ち込み自由）\nlesson & Party ￥2000(持ち込み自由)\nPLACE　スタジオレオン（クラブレオンのビル2F）\n皆様のお越しをお待ちしております。
URL:https://dance.gdp22.com/event/dance-53283/2023-10-27/
LOCATION:新宿スタジオレオン(2F)\, 東京都新宿区新宿 5-17-6　2F\, 新宿\, 160-0022\, 日本
CATEGORIES:ハロウィンパーティー,キゾンバ
ATTACH;FMTTYPE=image/jpeg:https://dance.gdp22.com/wp-content/uploads/384189759_1720368468389254_4264845256511244320_n.jpg
END:VEVENT
BEGIN:VEVENT
DTSTART;TZID=Asia/Tokyo:20241031T193000
DTEND;TZID=Asia/Tokyo:20241031T230000
DTSTAMP:20260421T075700
CREATED:20241026T012512Z
LAST-MODIFIED:20241026T012534Z
UID:10205960-1730403000-1730415600@dance.gdp22.com
SUMMARY:大江戸★Halloween Night in pepe〜番外編〜
DESCRIPTION:大江戸★Halloween Night in pepe〜番外編〜\nhttps://www.facebook.com/events/2147870122276307 \n  \n大江戸で大人のソーシャルご一緒に〜！Halloween企画第2弾！8月に続き六本木pepeでの開催も3回目となります！ \n今回のOpening LessonはLUCA先生が初登場！キレッキレのダンスでオーディエンスを魅了なさる先生にリズミカルに動けるためのアイソレーションを教えていただきます。\nパフォーマンスは2組。前回5月の初出演も大絶賛、pepeのベテランOn2ダンサー陣も目がハートLUCA先生リーダーを務めるショーガールズ、Blue Spirits latinaが魅惑のステージを、さらには、現役プロ競技ダンス選手のLUCA先生がリーダーのAKI先生と迫真のラテンダンスを舞います。期待度MAX！素晴らしいエンタテイメントに今からワクワク乞うご期待！\nフロア盛り上げは絶賛活躍中、音にこだわるDJ Blueが担当！On2だけではありません。守備範囲は広くオールスタイルで踊っていただけます。\nカウンターには晴珈琲 晴ちゃんもスタンバイ、お土産珈琲だけじゃありません美味しいアレも呑めますよ〜\n敷居は高くありません。ベテランさんはもちろん初心者さんも和やかにご一緒しましょう\n折しも Real Halloween！素晴らしい仮装大賞をご用意します ぜひ獲得下さい。\nされど仮装変装はなくても大丈夫！お気軽にお出かけください！お待ちしています\n◆日 時:10月31日（木）19:30-23:00◆タイムスケジュール（予定）19:30 Door open19:40 Lesson アイソレーション by LUCA20:10 DJ time by DJ Blue21:30 Showtime、仮装大賞、集合写真21:50 DJ time23:00 close＊状況により23:30迄延長の可能性有り\n◆場 所: Studio pepe港区六本木7-17-2ビジネスアパートメンツ B1Fhttps://studio-pepe.com/access.html?fbclid\n◆会 費:Entrance 2\,000円 w1drinkLesson （別途）500円＊2杯目からはキャッシュオンアルコール500円〜、ソフトドリンク400円\n◆Lesson 紹介〜表現力強化〜 by LUCAリズミカルに動く為に必要なアイソレーションどんなジャンルにも必要なアイソレーション・身体の部位に分けてリズミカルに動かしていきましょう♪30分だけですが皆様のダンスが更に楽しくなるように、身体や心を解放させていきますね(^^)\n◆パフォーマー紹介（順不同）①LUCA & Blue Spirits Latina(ルカ&ブルースピリッツラティーナ)リーダー LUCAはダンサーとして表現したい事を踊れるようになる為に、10代からストリートダンス・20代後半から社交ダンス・30代からバレエを学び今に至る。競技選手として大会に出場したり、ダンサーとしてだけではなく、パーソナルトレーナーとしても活躍する、・身体・表現力・世界観への研究が大好きなLUCAがリーダーを務める、Blue Spirits Latinaの特徴は、ラテンダンスの身体の使い方を通して、Jazzやストリート系まで踊りこなしStylishかつ品格あるパワフルなパフォーマンスが特徴です。\nダンス以外にもフィットネスコンテンツも企画したり、元気でパワフルでお洒落が好きなレディースチームです。広尾にあるキューバンレストラン*HAVANA 1950 Tokyo* が誕生し、長年やりたかったペアダンスも取り入れた華やかな見応えタップリなshowを実現し、月に1度ディナーショーにも出演中です。\n②LUCA & AKI (ルカ&アキ)2022年結成。競技ダンサーとしてデビューし、初の大会では全日本ファイナリストに残る。競技で活躍する傍ら、Blue Spirits Latinaと共に広尾HAVANA1950にてディナーショーにも出演中。パワフルかつ心が踊るダンスをお届けいたします。\n◆DJ紹介★DJ Blue殆どのスタイルを踊り、パフォ経験もあり2012年銀座ラスリサスからDJ活動。幼少期からジャンルレスで「良い選曲／音楽」の追求と、これら本質をフルに引き出す「良い音」を作り込めるノウハウを生かした唯一無二な音楽クオリティで音楽の本質を提供。その効果は聞き飽きた定番曲でも新たな発見・感動を与え、NewYork International Salsa Congress、Japan Salsa Congress、オンラインイベントなどで初めて耳にした世界のダンサー、同業者達からも素晴らしいクオリティと高評価を頂き、2017～2019年間は多くの海外サルサ＆バチャータダンサーイベントでDJ。2020年から世界中に猛威を振るった「アレ」の影響で３年間休業を余儀なくされ2023年から復帰。復帰後は更に感動を与える音楽を届ける試みを行いつつ緩く活動中。\n◆その他●【重要】スタジオ内土足厳禁！フロア床を新品に張り替えました。土足厳禁！となりました。ダンスシューズ又は上履きに履き替えお上がりください。ご協力をお願いします。＊37℃以上熱がある方、コロナが疑われる方、体調不調の方は参加をお控えください。＊マナー違反など発生した場合は退場をお願いします。その場合入場料の返金はありません。＊飲食持ち込み不可。\n★主催：大江戸サルサ 玲耶(Reiya)https://smcb.jp/communities/34748
URL:https://dance.gdp22.com/event/dance-76227/
LOCATION:六本木スタジオペペ\, 東京都港区六本木７丁目１７−１２ 六本木ビジネスアパートメンツ\, 六本木\, 106-0032\, 日本
CATEGORIES:ハロウィンパーティー,サルサ
ATTACH;FMTTYPE=image/jpeg:https://dance.gdp22.com/wp-content/uploads/1031.jpg
END:VEVENT
BEGIN:VEVENT
DTSTART;TZID=Asia/Tokyo:20250130T193000
DTEND;TZID=Asia/Tokyo:20250130T230000
DTSTAMP:20260421T075700
CREATED:20250106T123713Z
LAST-MODIFIED:20250123T021106Z
UID:10236999-1738265400-1738278000@dance.gdp22.com
SUMMARY:大江戸★Social night in pepe
DESCRIPTION:大江戸★Social night in pepe\nhttps://www.facebook.com/events/3594569637356317 \n大江戸で大人のソーシャルご一緒に〜！\n第5木曜日限定！今年もpepeの第5木曜日は大江戸が登板させていただきます。\n今回のOpening Lessonはなんと、アルゼンチンタンゴ！！\n元アジアチャンピオンのGYU先生をゲストにお招きします。\n数々のタンゴシーンで実績を作られていらしたGYU先生がパートナーでもある奥様のMihoさんと、タンゴに一番大切な基礎をレクチャーくださいます。\n難しいことは一切無し。先ず息を吸って吐いて身体の自然な揺れから第一歩を踏み出してみましょう。すべてのペアダンスにも通じます。余りにナチュラルな動きに心地良さを感じるはずです。\n息の合ったお二人のタンゴ愛溢れるデモンストレーションは必見！\n大人の男女のドラマ、溜め息混じりの夢の世界へと暫し惹き込まれてください。\nそしてSalsaSocialフロア盛り上げは絶賛活躍中、音にこだわるDJ Blueが担当！On2だけではありません。守備範囲は広くオールスタイルで楽しく踊っていただけます。\nカウンターには晴珈琲 晴ちゃんもスタンバイ。お土産珈琲だけじゃありません☕美味しいアレも呑めますよ〜??\n受付横にはカラフルなブラジルのスニーカー タイグラもご紹介??。サルサラバーにも愛用者急増中。Mariちゃんが笑顔でお迎えします。\npepeと言っても決して敷居は高くありません。\nベテランさんはもちろん初心者さんも和やかにご一緒しましょう\nお誘いあわせてのご参加お待ちしています??\n◆日 時:1月30日（木）19:00-23:00\n◆タイムスケジュール\n19:00 Door open\n19:10 Lesson アルゼンチンタンゴ基礎 by GYU\n20:00 DJ time by DJ Blue\n21:00 Showtime、アルゼンチンタンゴペアソロ\nGYU&Miho、集合写真\n21:20 DJ time\n23:00 close\n◆場 所: Studio pepe\n港区六本木7-17-2\nビジネスアパートメンツ B1F \nスタジオへのアクセス \n\n◆会 費:\nEntrance 2\,000円 w1drink\nLesson （別途）1000円\n＊2杯目からはキャッシュオン\nアルコール500円〜、ソフトドリンク400円\n◆レッスン紹介:\n『アルゼンチンタンゴの基礎』\n呼吸、身体の揺れ、歩く、基本ステップ、ソロの動きからペアワークへ、音に乗って\n◆講師並びにパフォーマー紹介:\n★GYU\nGYUは、世界的に認められたアルゼンチンタンゴダンサーで、2007年アジアチャンピオン、世界選手権三度のファイナリストの輝かしい経歴を持つ。ダンサーとしての卓越した技術と表現力で、国内外の舞台で観客を魅了し続けている。9年間にわたり主宰したスタジオ「タンゲーラ」は、惜しまれつつ閉店したが、その間に数多くのプロダンサーを輩出し、日本のタンゴシーンに大きな足跡を残した。現在は日本最大級のタンゴコンペティション「ダリエンソカップ」を主催するオーガナイザーとしても活躍。この大会は若手ダンサーの登竜門として注目を集め、日本のタンゴ文化の発展に貢献している。国際的なタンゴイベントのプロデュースや社会貢献活動にも精力的に取り組み、タンゴを通じた文化交流の促進に尽力している。現在はパートナーであるMihoと活動中。\n◆DJ紹介:\n★DJ Blue\n殆どのスタイルを踊り、パフォ経験もあり2012年銀座ラスリサスからDJ活動。幼少期からジャンルレスで「良い選曲／音楽」の追求と、これら本質をフルに引き出す「良い音」を作り込めるノウハウを生かした唯一無二な音楽クオリティで音楽の本質を提供。その効果は聞き飽きた定番曲でも新たな発見・感動を与え、NewYork International Salsa Congress、Japan Salsa Congress、オンラインイベントなどで初めて耳にした世界のダンサー、同業者達からも素晴らしいクオリティと高評価を頂き、2017～2019年の間は多くの海外サルサ＆バチャータダンサー来日イベントでDJ。2020年から世界中に猛威を振るった「アレ」の影響で３年間休業を余儀なくされ2023年から復帰。復帰後は更に感動を与える音楽を届ける試みを行いつつ緩く活動中。\n◆出店紹介\n★晴珈琲（Studio pepe 常設）\n業界内外から引っ張り凧！晴珈琲の晴子さんが心豊かな癒しをご提供。\n『封を開けた瞬間の良い香りには誰もが驚くほど。リピートの方も初めての方もぜひ❣️です。コーヒーカクテル ぺぺオレ(ラム酒✕珈琲)も人気急上昇中。併せてお試し頂けると嬉しいです。』☕? 当日は踊りも楽しみます。\n★スニーカー\nブラジル直輸入のスニーカーTAYGRA（タイグラ）は軽くて柔らかく、履き心地抜群！！デザインもとっても華やか！！数に限りがありますが、受付横カウンターに展示致します。試し履き大歓迎です！ご興味ある方是非見に来て下さいね！ by Mari\n◆その他\n●【重要】スタジオ内土足厳禁！\nフロア床を新品に張り替えました。土足厳禁！となりました。ダンスシューズ又は上履きに履き替えお上がりください。ご協力をお願いします。\n＊37℃以上熱がある方、コロナが疑われる方、体調不調の方は参加をお控えください。\n＊マナー違反など発生した場合は退場をお願いします。その場合入場料の返金はありません。\n＊飲食持ち込み不可。\n★主催：大江戸サルサ 玲耶(Reiya)\nhttps://smcb.jp/communities/34748
URL:https://dance.gdp22.com/event/coming-soon-2/
LOCATION:六本木スタジオペペ\, 東京都港区六本木７丁目１７−１２ 六本木ビジネスアパートメンツ\, 六本木\, 106-0032\, 日本
CATEGORIES:ハロウィンパーティー,サルサ
ATTACH;FMTTYPE=image/jpeg:https://dance.gdp22.com/wp-content/uploads/0130.jpg
END:VEVENT
BEGIN:VEVENT
DTSTART;TZID=Asia/Tokyo:20250131T193000
DTEND;TZID=Asia/Tokyo:20250131T233000
DTSTAMP:20260421T075700
CREATED:20250106T123806Z
LAST-MODIFIED:20250114T041513Z
UID:10237000-1738351800-1738366200@dance.gdp22.com
SUMMARY:Mambo Jungle
DESCRIPTION:Mambo Jungle\nhttps://www.facebook.com/events/496777196313358 \n?Mambo Jungle?\n——————————————\n●今年の開催予定\n1/31金曜日\n●今回ゲスト・ソーシャルダンサー\nGuest Social Dancer\nJimmy \, Taku\, Chie \, ちゃんかな!!\nDJ JONA \, DJ BLUE \,\n●今回のコラボレッスンは\nJonathanとSakurako!!!\nお楽しみ下さい??\n——————————————\nOur Regular content\n▶︎毎回　みんなでシャインを踊ろう?♪\nAnimation time\nDance NY on2 shine (Salsa steps) with everybody around 22:30 every event.\n今年から毎回22：30頃にみんなでシャイン(NY Mambo on2の1人で踊れるサルサのステップ)\nを踊る時間を作ります。\n4種類ほどのステップをお覚えて、みんなで楽しみましょう！\n“シャインってどんなのか試してみたい！”\n“レッスンに間に合わない”\n“NY Mambo On2のレッスン受けたいけど一歩が出ない”\nそんな方いませんか？☺️\nどの時間に来ても楽しくて遊べるイベントになること間違いな〜し?\n➖➖イベント詳細 / Details➖➖➖\n●1/31（金）\n@pepe2\n※スタジオの意向により、他の全ての利用料金の改定により、5/26よりイベント料金に変更があります。\nご理解いただければ幸いです?✨✨\nLesson ¥1\,000\nParty ¥2\,000/1D\n■19:30-21:00\nLesson by Jonathan & Sakurako\nNY Mambo On2 Sihne✖️Afro Cuban &\nPair work\n———————————-\n■21:00〜DJ Time by DJ BLUE & Dj Jona\n■22:30 Animation Time\n(みんなでシャインを踊ろう！)\n■23:30 End\n——————————————\n★Orgernizer\n☪️Jonathan Shimokado\nSalsa on2の本場NYにて、On2のメソッドを作り上げたEddie Torres氏に師事。\nそして、Adolfo Indacochea氏に師事。たくさんのトレーニングを積み上げた後、帰国。\n帰国後も、海外のワークショップでAdolfo氏のアシスタントを務め、交流を続けている。\n2000年\n日本のSalsa on2の基盤を作った人として知られ世界のサルサコングレスイベントなどでゲストダンサーとして招かれ指導している\nまた、日本と海外の架け橋として\n数々の世界トップダンサーを\n初来日成功させ、オーガナイザーとして\nも海外ダンサーイベントやツアーを\nなど行い、日本全国やアジアに\n紹介するなど、また、有名なサルサバンドの\nバックダンサーを勤め、海外で\n日本人トップダンサーとして\n知られている。\nADOLFO INDACOCHEA 公認インストラクター\n日本初アジア初弟子.\nJSC公認インストラクター.\n日本サルサ協会主催の\nJapan Salsa Cup 2008\nペア初代チャンピオンである\n日本初のON2ダンスチームとしてWolrdSalsaChampion 2009\nに選ばれるなど\n国内外での大な活躍を認められ表彰される。\nBack in 2000\, Jonathan started to be known not only as a pioneer of Japanese NY On 2 Salsa / Mambo but also as a pioneer of event promotor who invited foreign dancers and DJs to contribute to fostering the Japanese salsa world by creating and improving the environment for salsa lovers in Japan.\n————————–\n☪️Sakurako\n１６歳からジャズダンスを習い始める。\n2005年NY\nブロードウェイダンススタジオにて\nMaria Torresのラテンジャズのクラスを受けて、ラテンの音楽に初めて触れた。\nそして\nペアでサルサを初めて踊った時のダンスパートナーとのエネルギー交換とラテンのリズムに強烈な魅力を感じたのがサルサとの出会い。\nMelanie TorresのSabor Latinaというサルサレディースチームに所属。Club Cacheや地元の野外イベントなどでショーを経験。\n●2009年〜2016年\nサルサダンサーのMitsue氏に師事。\nそこでOn1\,On2\,Cuan\,Bachtaなどあらゆるラテンダンスを学び、アシスタントを経て、師のMITSALSAのインストラクターとなる。\n２０１７年独立\nサルサが出来上がっていくまでの歴史の深さと幅広さに魅了され続けていくなかで、特にルーツであるキューバ音楽とダンスの魅力されキューバのアフロキューバン、ポピュラーダンスを学び直し、キューばバダンスの魅力を生かしな \n☪️ Dj blue\n殆どのスタイルを踊り、パフォ経験もあり2012年銀座ラスリサスからDJ活動。幼少期からジャンルレスで「良い選曲／音楽」の追求と、これら本質をフルに引き出す「良い音」を作り込めるノウハウを生かした唯一無二な音楽クオリティで音楽の本質を提供。その効果は聞き飽きた定番曲でも新たな発見・感動を与え、NewYork International Salsa Congress、Japan Salsa Congress、オンラインイベントなどで初めて耳にした世界のダンサー、同業者達からも素晴らしいクオリティと高評価を頂き、2017～2019年の間は多くの海外サルサ＆バチャータダンサー来日イベントでDJ。2020年から世界中に猛威を振るった「アレ」の影響で３年間休業を余儀なくされ2023年から復帰。復帰後は更に感動を与える音楽を届ける試みを行いつつ緩く活動中。
URL:https://dance.gdp22.com/event/coming-soon-3/
LOCATION:六本木スタジオペペ\, 東京都港区六本木７丁目１７−１２ 六本木ビジネスアパートメンツ\, 六本木\, 106-0032\, 日本
CATEGORIES:ハロウィンパーティー,サルサ
ATTACH;FMTTYPE=image/jpeg:https://dance.gdp22.com/wp-content/uploads/0131.jpg
END:VEVENT
BEGIN:VEVENT
DTSTART;TZID=Asia/Tokyo:20250529T193000
DTEND;TZID=Asia/Tokyo:20250529T230000
DTSTAMP:20260421T075700
CREATED:20250513T054237Z
LAST-MODIFIED:20250513T054237Z
UID:10286094-1748547000-1748559600@dance.gdp22.com
SUMMARY:大江戸★Social night in pepe
DESCRIPTION:大江戸★Social Night in pepe\nhttps://www.facebook.com/events/672389602431973/ \n大江戸で大人のソーシャルご一緒に！\n第5木曜日限定！pepeの第5木曜日は大江戸が登板させていただきます。\n今回のOpening LessonはKimi先生。\nOn2は未経験、敷居が高い、と尻込みしがちな初心者の方も大丈夫！\n「しなやかなリード & さりげないフォロースタイリング」をテーマにOn1ペアのレッスンをしていただきます。\n経験の浅い男性女性の皆さんも安心してご参加ください。\nもちろんベテランさんも大歓迎！\nそしてSocial timeフロア盛り上げは、音にこだわるDJ Blueが担当！\nOn2だけではありません。守備範囲は広くオールスタイルで楽しく踊っていただけます。\nカウンターには晴珈琲 晴ちゃんもスタンバイ。お土産の珈琲はもちろん、美味しいアレも呑めますよ〜??\n受付横ではカラフルなブラジルのスニーカー タイグラもご紹介??。サルサラバーにも愛用者急増中。Mariちゃんが笑顔でお迎えします。\npepeと言っても決して敷居は高くありません。アットホームなパーティーにします。\nベテランさんはもちろん初心者さんも是非ご一緒しましょう。\nお誘いあわせてお出かけください。\nお待ちしています??\n◆日 時:5月29日（木）19:30-23:00\n◆Time Schedule\n19:30 Door open\n19:40 Lesson Salsa On1 by Kimi\n20:30 DJ time by DJ Blue\n21:30 Showtime 集合写真\n21:40 DJ time\n23:00 Closed\n◆場 所: Studio pepe\n港区六本木7-17-2\nビジネスアパートメンツ B1F \nスタジオへのアクセス \n\n◆会 費:\nEntrance 2\,000円 w1drink\nLesson （別途）1000円\n＊2杯目からはキャッシュオン\nアルコール500円〜、ソフトドリンク400円\n◆レッスン紹介:\n★Salsa On1 ペア by Kimi\n「しなやかなリード & 何気ないフォロースタイリング」\n◆インストラクター紹介:\n★Kimi\n高校時代より、ジャズダンス、クラシックバレエを始め、その頃から地元のイベントやショー等で活動を開始する。2003年にサルサダンスに出会い2005年よりSalsalionのインストラクターとして活動を開始。\n現在は、東京のサルサクラブを中心に定期レッスン、イベント、パーティーなどで活躍中！初心者でも安心して受けられる、優しく丁寧なレッスンが好評を得ている。\nhttp://www.kmicco.com/jp/\n【取得ライセンス】\n・日本サルサ協会認定　サルサダンス指導員エグザミナー\n・JMFA認定 ママヨガインストラクター\n・全国ラジオ体操連盟公認ラジオ体操指導員\n・SSS認定 ハイヒールマイスター\n◆パフォーマンス紹介:\n★Las Sirenas（ラス・シレナス）\nインストラクターKimi振付け指導のレディースシャインチーム。\n今回のナンバーはサルサOn1シャインです。\nサルサ経験はバラバラのメンバーですが、みんな仲良しで練習後、パフォーマンス後の乾杯が大好きなメンバーです。\nご来場の皆さまに少しでも楽しんでいただけるように練習がんばってます。\n会場で生の声援をいただければ幸いです。\n心を込めて踊りますので応援よろしくお願いします！\n◆DJ紹介:\n★DJ Blue\n殆どのスタイルを踊り、パフォ経験もあり2012年銀座ラスリサスからDJ活動。幼少期からジャンルレスで「良い選曲／音楽」の追求と、これら本質をフルに引き出す「良い音」を作り込めるノウハウを生かした唯一無二な音楽クオリティで音楽の本質を提供。その効果は聞き飽きた定番曲でも新たな発見・感動を与え、NewYork International Salsa Congress、Japan Salsa Congress、オンラインイベントなどで初めて耳にした世界のダンサー、同業者達からも素晴らしいクオリティと高評価を頂き、2017～2019年の間は多くの海外サルサ＆バチャータダンサー来日イベントでDJ。2020年から世界中に猛威を振るった「アレ」の影響で３年間休業を余儀なくされ2023年から復帰。復帰後は更に感動を与える音楽を届ける試みを行いつつ緩く活動中。\n◆出店紹介\n★晴珈琲（Studio pepe 常設）\n業界内外から引っ張り凧！晴珈琲の晴子さんが心豊かな癒しをご提供。\n『封を開けた瞬間の良い香りには誰もが驚くほど。リピートの方も初めての方もぜひ❣️です。コーヒーカクテル ぺぺオレ(ラム酒✕珈琲)も人気急上昇中。併せてお試し頂けると嬉しいです。』☕? 当日は踊りも楽しみます。\n★スニーカー\nブラジル直輸入のスニーカーTAYGRA（タイグラ）は軽くて柔らかく、履き心地抜群！！デザインもとっても華やか！！試し履き大歓迎です！ご興味ある方是非お声がけください！ by Mari\n◆その他\n●【重要】スタジオ内土足厳禁！\nダンスシューズ又は上履きに履き替えお上がりください。ご協力をお願いします。\n＊マナー違反など発生した場合は退場をお願いします。その場合入場料の返金はありません。\n＊飲食持ち込み不可。\n●風邪症状の方、体調不調の方は参加をお控えください。\n★主催：大江戸サルサ 玲耶(Reiya)\nhttps://smcb.jp/communities/34748
URL:https://dance.gdp22.com/event/dance-95922/
LOCATION:六本木スタジオペペ\, 東京都港区六本木７丁目１７−１２ 六本木ビジネスアパートメンツ\, 六本木\, 106-0032\, 日本
CATEGORIES:ハロウィンパーティー,サルサ
ATTACH;FMTTYPE=image/jpeg:https://dance.gdp22.com/wp-content/uploads/0529-1.jpg
END:VEVENT
BEGIN:VEVENT
DTSTART;TZID=Asia/Tokyo:20250530T193000
DTEND;TZID=Asia/Tokyo:20250530T230000
DTSTAMP:20260421T075700
CREATED:20250513T054400Z
LAST-MODIFIED:20250513T054400Z
UID:10286093-1748633400-1748646000@dance.gdp22.com
SUMMARY:Ritmo y Sabor Vol.4
DESCRIPTION:Ritmo y Sabor Vol.4\nhttps://www.facebook.com/events/701280758935982 \n?いつもありがとうございます?\n「リズムを身体で深く感じ、遊び心もプラス、音楽と一体となるサルサへ！ 」というコンセプトの元にこれまで3回続けてきた ”Ritmo y Sabor” のイベント！お陰様でご好評を頂いておりまして、5月30日（金）にSTUDIO PEPEで開催の機会をいただきました。ありがとうございます！\n皆様お友達お誘い合わせ＆万象繰り合わせの上お越し頂ければと思います！\n宜しくお願いいたします！\n⭐️⭐️イベント詳細⭐️⭐️\n★日時：5月30日（金）19:30〜\n・19:30 – 20:30 NY on2 Salsa lesson by k-sk (Hya-Que)\, Jonathan\, and Jimi\n・20:30 – 23:30 Full social dance time (DJ Sochi y DJ Jonathan)\n★場所： STUDIO PEPE\n東京都港区六本木7-17-12 ビジネスアパートメンツB1\n★入場料: 2\,000円 (w/1drink)\n★レッスン: 1\,000円\nレッスン後のパーティーもk-sk (Hya-Que)\, Jonathan\, Jimi全員フルパワーでお付き合いいたします！5月最後の熱い週末！みんなで思いっ切り盛り上がりましょう！\n?DJにはJonathanの他に全国各地で大活躍中のSochi（ソチ）さんを招いてのダブルDJ体制！\n?レッスンはご存じk-sk (Hya-Que)を始めとして、JonathanとJimiも含めた海外サルサ経験 (特にNY on2 salsa) の長い3人による全局面サポート体制、勿論コンガやクラーベス、カウベルの音も飛び交う（笑いも）いつもの絶妙な(?)チームワーク！\nどんな事でも遠慮なく質問してください！\n⭐️⭐️レッスン内容⭐️⭐️\n今回はいろんな楽器のリズムを分析しながら、そのノリやビートを応用できる様なシャインステップを3人が色々紹介していきます。自然と体を動かしたくなるラテン音楽のリズムを解析してわかり易く解説、そしてダンスへのアプリケーション方法を伝授！音楽やリズムへの理解を深めたい、熱いリズムを体で感じたい、体で表現する方法を模索している、等のご要望にお答えいたします！\nコンガを中心にリズムを学び、New York on2のステップと組み合わせながら、よりミュージカルでリズミックなサルサを体験！リズムに乗って自然に動く感覚や遊び心をプラスし、打楽器のビートに身を委ねましょう！\n⭐️⭐️DJ Sochi（ソチ）⭐️⭐️\n横浜(ハマ)の人気ソーシャルイベン【HamaCial Night☆】のほか、六本木pepe2にて隔月(奇数月)開催の【Salsamo Social Dance Club】の主催DJ。東京、横浜を中心として名古屋、大阪等日本各地で活動中！！！ペアダンス目線の選曲でフロアを熱くクールに盛り上げます。\n⭐️⭐️k-sk (Hya-Que) / (ヒャクエ) ⭐️⭐️\nアメリカ本土でサルサを学び独自の方法論を基礎から積み重ねる。\n圧倒的に日本人離れしたリズム感とムーブメントを持ち「dance in music」を体現する数少ないダンサー。絶対的な音楽感でサルサの楽しさを魅せる。\n⭐️⭐️Jonathan⭐️⭐️\nSalsa on2の本場NYにて、On2のメソッドを作り上げたEddie Torres氏に師事。そして、Adolfo Indacochea氏に師事。たくさんのトレーニングを積み上げた後、帰国。 帰国後も、海外のワークショップでAdolfo氏のアシスタントを務め、交流を続けている。\n2000年より日本のSalsa on2の基盤を作った人として知られ世界のサルサコングレスイベントなどでゲストダンサーとして招かれ指導している。\nまた、日本と海外の架け橋として数々の世界トップダンサーを初来日成功させ、オーガナイザーとしても海外ダンサーイベントやツアーなどを行い、日本全国やアジアに紹介し、また有名サルサバンドのバックダンサーを勤め、海外で日本人トップダンサーとして知られている。\nADOLFO INDACOCHEA 公認インストラクター、日本初アジア初弟子。\nJSC公認インストラクター.\n日本サルサ協会主催のJapan Salsa Cup 2008ペア初代チャンピオン\n日本初のON2ダンスチームとしてWolrdSalsaChampion 2009に選ばれるなど国内外での大な活躍を認められ表彰される。\n⭐️⭐️Jimi (AKA Hajime)⭐️⭐️\n1998年に森若菜氏の元でNY styleを学び始め、2000年に米国Bostonに移住してApril Genovese（Santo Rico\, ET\, Yamulee）に師事し、週末のNYCでSanto Rico\, Eddie Torres\, Frankie Martinez等のレッスンやソーシャルに参加した。2002年から2年間日本に滞在し、海外ダンサーを招致する等日本のNY styleの黎明期を支えるも2004年に再び渡米。その後LA \, NYC等のコングレス出演やクラブ等でのパフォーマンスも精力的に行った他、クラスやプライベートを指導した経験を携え2021年に再帰国。\nBostonとNYC仕込みの安定した実力・経験をベースに、パートナー、音楽、フロアとの一体感を重視した独自のスタイルを持つ。また、ラテン/サルサ文化を還元する為にダンスフロア以外でも（バーカウンター等）積極的に活躍中。
URL:https://dance.gdp22.com/event/ritmo-y-sabor-vol-4/
LOCATION:六本木スタジオペペ\, 東京都港区六本木７丁目１７−１２ 六本木ビジネスアパートメンツ\, 六本木\, 106-0032\, 日本
CATEGORIES:ハロウィンパーティー,サルサ
ATTACH;FMTTYPE=image/jpeg:https://dance.gdp22.com/wp-content/uploads/0530-1.jpg
END:VEVENT
BEGIN:VEVENT
DTSTART;TZID=Asia/Tokyo:20250731T193000
DTEND;TZID=Asia/Tokyo:20250731T230000
DTSTAMP:20260421T075700
CREATED:20250715T084052Z
LAST-MODIFIED:20250730T065430Z
UID:10292590-1753990200-1754002800@dance.gdp22.com
SUMMARY:大江戸★Social night in pepe
DESCRIPTION:【リフトパフォーマンス必見！】大江戸★Social Night\nhttps://www.facebook.com/events/s/%E3%83%AA%E3%83%95%E3%83%88%E3%83%8F%E3%83%95%E3%82%A9%E3%83%BC%E3%83%9E%E3%83%B3%E3%82%B9%E5%BF%85%E8%A6%8B%E5%A4%A7%E6%B1%9F%E6%88%B8social-night-in/1074685014729861/?rdid=w9faZjwIfVGYeGez&share_url=https%3A%2F%2Fwww.facebook.com%2Fshare%2F1B2D9u9wsz%2F%3Fal_applink_data%3D%257B%2522qpl_join_id%2522%253A%2522B49EE75D-7128-4502-AEE9-EC9BAA6DF853%2522%257D%26from_xma_click%3Dxma_e2ee%26tam_xma_content_type%3D2000%26is_fb_content%3Dtrue%26forward%3Dfalse%26ts%3D1753304453513%26pl%3D1 \n  \n大江戸で大人のソーシャルご一緒に！第5木曜日限定！六本木pepeにて開催\nOpening Lessonはアルゼンチンタンゴ！隔週土曜の大江戸クラスLessonも好評継続中、元アジアチャンピオンのGYU先生をお招きします。\n数々のタンゴシーンで実績を作られていらしたGYU先生がパートナーでもある奥様のMiho先生と、タンゴに一番大切な基礎をレクチャーくださいます。難しいことは一切無し。先ず息を吸って吐いて身体の自然な揺れから第一歩を踏み出してみましょう。すべてのペアダンスにも通じます。余りにナチュラルな動きに心地良さを感じるはずです。\nデモンストレーションも必見！！GYU&RITAによるダイナミックなリフトパフォーマンスをお披露目いただけることになりました。普段なかなか観る機会もありません。これは見逃せません！\nそしてSocial timeはもちろんSalsa！本イベントはミロンガではありません。通常のSalsa イベントになります。1、2曲Tangoもかけますフロア盛り上げは、絶賛活躍中、音にこだわるDJ Blue！On2だけではありません。守備範囲は広くオールスタイルで楽しく踊っていただけます。\npepeと言っても決して敷居は高くありません。ベテランさんはもちろん初心者さんも和やかにご一緒しましょう。お誘いあわせてのご参加お待ちしています\n◆日 時:7月31日（木）19:30-23:00\n◆タイムスケジュール19:30 Door open19:35 Lesson アルゼンチンタンゴ基礎 by GYU&Miho20:30 DJ time by DJ Blue21:30 ShowtimeGYU&RITA Lift Performance集合写真21:40 DJ time23:00 close\n◆場 所: Studio pepe港区六本木7-17-2ビジネスアパートメンツ B1Fhttps://studio-pepe.com/access.html?fbclid\n◆会 費:Entrance 2\,000円 w1drinkLesson （別途）1000円＊2杯目からはキャッシュオン＊物価高騰によりDrink少し値上げとなりました。悪しからずご了承ください\n◆レッスン紹介:『アルゼンチンタンゴの基礎』呼吸、身体の揺れ、歩く、基本ステップ、ソロの動きからペアワークへ、音に乗って\n◆講師並びにパフォーマー紹介:★GYUGYUは、世界的に認められたアルゼンチンタンゴダンサーで、2007年アジアチャンピオン、世界選手権三度のファイナリストの輝かしい経歴を持つ。ダンサーとしての卓越した技術と表現力で、国内外の舞台で観客を魅了し続けている。9年間にわたり主宰したスタジオ「タンゲーラ」は、惜しまれつつ閉店したが、その間に数多くのプロダンサーを輩出し、日本のタンゴシーンに大きな足跡を残した。現在は日本最大級のタンゴコンペティション「ダリエンソカップ」を主催するオーガナイザーとしても活躍。この大会は若手ダンサーの登竜門として注目を集め、日本のタンゴ文化の発展に貢献している。国際的なタンゴイベントのプロデュースや社会貢献活動にも精力的に取り組み、タンゴを通じた文化交流の促進に尽力している。現在はパートナーであるMihoと活動中。\n◆DJ紹介:★DJ Blue殆どのスタイルを踊り、パフォ経験もあり2012年銀座ラスリサスからDJ活動。幼少期からジャンルレスで「良い選曲／音楽」の追求と、これら本質をフルに引き出す「良い音」を作り込めるノウハウを生かした唯一無二な音楽クオリティで音楽の本質を提供。その効果は聞き飽きた定番曲でも新たな発見・感動を与え、NewYork International Salsa Congress、Japan Salsa Congress、オンラインイベントなどで初めて耳にした世界のダンサー、同業者達からも素晴らしいクオリティと高評価を頂き、2017～2019年の間は多くの海外サルサ＆バチャータダンサー来日イベントでDJ。2020年から世界中に猛威を振るった「アレ」の影響で３年間休業を余儀なくされ2023年から復帰。復帰後は更に感動を与える音楽を届ける試みを行いつつ緩く活動中。\n◆その他●【重要】スタジオ内土足厳禁！ダンスシューズ又は上履きに履き替えお上がりください。ご協力をお願いします。＊37℃以上熱がある方、体調不調の方は参加をお控えください。＊マナー違反など発生した場合は退場をお願いします。その場合入場料の返金はありません。＊飲食持ち込み不可。\n★主催：大江戸サルサ 玲耶 (Reiya)https://smcb.jp/communities/34748
URL:https://dance.gdp22.com/event/dance-102519/
LOCATION:六本木スタジオペペ\, 東京都港区六本木７丁目１７−１２ 六本木ビジネスアパートメンツ\, 六本木\, 106-0032\, 日本
CATEGORIES:ハロウィンパーティー,サルサ
ATTACH;FMTTYPE=image/jpeg:https://dance.gdp22.com/wp-content/uploads/0731-1.jpg
END:VEVENT
BEGIN:VEVENT
DTSTART;TZID=Asia/Tokyo:20251030T193000
DTEND;TZID=Asia/Tokyo:20251030T230000
DTSTAMP:20260421T075700
CREATED:20251020T174646Z
LAST-MODIFIED:20251027T223847Z
UID:10296926-1761852600-1761865200@dance.gdp22.com
SUMMARY:大江戸★Halloween Night
DESCRIPTION:https://www.facebook.com/events/874264991833885/?acontext=%7B%22source%22:%2229%22\,%22ref_notif_type%22:%22plan_user_invited%22\,%22action_history%22:%22null%22%7D \n大江戸で大人のソーシャルご一緒に！\n第5木曜日限定！六本木pepeにて開催\nそして折しもHalloween前夜\n化け化け仮装大歓迎、されどなくても大歓迎〜（笑）お気軽にお出かけください☠️ \nOpening LessonはBachata ！\n第1、第3木曜のpepeでクラスLesson担当のEri先生とJeremy先生にセンシュアルバチャータの基礎をわかりやすくご指導いただきます。 \nセンシュアルは難しい、距離が近すぎて抵抗がある、、そう思っているアナタ！\n概念から変わります。決して難しくもいやらしくも（笑）ありません。\n入門、未経験者も歓迎します。騙されたと思って（笑）ご参加ください。 \nパフォーマンスはEri先生率いるチーム In Tenso Japan。新ナンバーをお披露目くださいます！華やかなナンバーとか！楽しみ！✨✨\n躍動感溢れるパフォーマンスをお楽しみください。 \nSocial timeはSalsa、Bachata ミックスです。フロア盛り上げは、絶賛活躍中、音にこだわるDJ Blue！On2だけではありません。守備範囲は広くサルサもオールスタイルで楽しく踊っていただけます。 \nそしてカウンターには晴珈琲の晴ちゃんが控えます。珈琲はもちろん、ぺぺオレ（晴珈琲✕ラム酒のカクテル）ももちろんいただけます \npepeと言っても決して敷居は高くありません。ベテランさんはもちろん初心者さんも和やかにご一緒しましょう。\nお誘いあわせてのご参加お待ちしています \n◆日 時:10月30日（木）19:40-23:00 \n◆タイムスケジュール\n19:40 Door open\n19:40 Lesson Bachata by Eri & Jeremy\n20:40 DJ time by DJ Blue\n21:40 Performance、集合写真\n21:50 DJ time\n23:00 close \n◆場 所: Studio pepe\n港区六本木7-17-2\nビジネスアパートメンツ B1F \nスタジオへのアクセス \n \n◆会 費:\nEntrance 2\,000円 w1drink\nLesson （別途）1000円\n＊2杯目からはキャッシュオン\n＊物価高騰によりDrink少し値上げとなりました。悪しからずご了承ください \n◆レッスン紹介:\n『バチャータセンシュアルの基礎』\n講師: Eri & Jeremy \n◆講師紹介:\n★Eri\nTokyo Bachata Sensation 主宰。\nTokyo Bachata Festivalのオーガナイザー。\nNY留学中にSalsaと出会う。\n2013年よりBachataを始めAtaca y Le AlemanaプロデュースIsland TouchTokyoで国内外数多くのパフォーマンスを経験。\n2019年BarcelonaにてSensual Bachata創始者のKorke and Judithに師事し認定講師Level.1の資格を取得。\n2019年同じくTraditional Bachata certification by Alex and Desiree取得\n2020年　Sara Panero Ladies styling certification取得。\n2021年　Korke &Judith Bachata Sensual Certification Level2取得。\n2022年　Judith Ladies styling teachers certification 取得。\n毎月第一第三木曜日Pepeと第一水曜日にJBAにてBachata Lessonを担当。\n韓国で大人気のチームInTensoの日本ブランチ主宰。\n質問しやすい雰囲気と丁寧な指導に定評がある。 \n★Jeremy（ジェレミー）\n他のダンス未経験で2017年にバチャータを始め、2年でフィリピンでのコンペやシンガポールのJack&Jill(2019年)で優勝。現在は東京で毎月バチャータを教えながら、世界のアーティストから学び続けています。 \n◆パフォーマンス紹介:\n★ InTenso Japan\n韓国最大のパフォーマンスチームの日本ブランチ。主宰のJuneが作り出す見応え抜群のコレオに惹かれたメンバーが集まりました。応援宜しくお願い致します。 \n◆DJ紹介:\n★DJ Blue\n殆どのスタイルを踊り、パフォ経験もあり2012年銀座ラスリサスからDJ活動。幼少期からジャンルレスで「良い選曲／音楽」の追求と、これら本質をフルに引き出す「良い音」を作り込めるノウハウを生かした唯一無二な音楽クオリティで音楽の本質を提供。その効果は聞き飽きた定番曲でも新たな発見・感動を与え、NewYork International Salsa Congress、Japan Salsa Congress、オンラインイベントなどで初めて耳にした世界のダンサー、同業者達からも素晴らしいクオリティと高評価を頂き、2017～2019年の間は多くの海外サルサ＆バチャータダンサー来日イベントでDJ。2020年から世界中に猛威を振るった「アレ」の影響で３年間休業を余儀なくされ2023年から復帰。復帰後は更に感動を与える音楽を届ける試みを行いつつ緩く活動中。 \n◆その他\n●【重要】スタジオ内土足厳禁！\nダンスシューズ又は上履きに履き替えお上がりください。ご協力をお願いします。\n＊37℃以上熱がある方、体調不調の方は参加をお控えください。\n＊マナー違反など発生した場合は退場をお願いします。その場合入場料の返金はありません。\n＊飲食持ち込み不可。 \n★主催：大江戸サルサ 玲耶 (Reiya)\nhttps://smcb.jp/communities/34748
URL:https://dance.gdp22.com/event/dance-111776/
LOCATION:六本木スタジオペペ\, 東京都港区六本木７丁目１７−１２ 六本木ビジネスアパートメンツ\, 六本木\, 106-0032\, 日本
CATEGORIES:ハロウィンパーティー,サルサ
ATTACH;FMTTYPE=image/png:https://dance.gdp22.com/wp-content/uploads/1030-4.png
END:VEVENT
BEGIN:VEVENT
DTSTART;TZID=Asia/Tokyo:20260129T193000
DTEND;TZID=Asia/Tokyo:20260129T230000
DTSTAMP:20260421T075700
CREATED:20260112T015211Z
LAST-MODIFIED:20260120T082207Z
UID:10300866-1769715000-1769727600@dance.gdp22.com
SUMMARY:大江戸★Social night in pepe
DESCRIPTION:大江戸★Social Night\nhttps://www.facebook.com/events/1398729171703517 \n大江戸で大人のソーシャルご一緒に！\n第5木曜日限定！六本木pepeにて開催、2026年今年の第一弾。\nOpening LessonはBachata ！\n第1、第3木曜のpepeでオープンクラスLesson担当のEri先生にセンシュアルバチャータの基礎をわかりやすくご指導いただきます。\nセンシュアルは難しい、距離が近すぎて抵抗がある、、そう思っているアナタ！\n概念から変わります。決して難しくもいやらしくも（笑）ありません。\n入門、未経験者も歓迎します。騙されたと思ってご参加ください。\nEri先生とTaiki先生にはデモンストレーションもお願いしました。\nしなやかで躍動感溢れるBachataをお楽しみください。\nSocial timeはSalsa、Bachata ミックス。\nフロア盛り上げは、絶賛活躍中、音にこだわるDJ Blue！On2だけではありません。守備範囲は広くサルサもオールスタイルで楽しく踊っていただけます。\nそしてカウンターには晴珈琲の晴ちゃんが控えます。珈琲はもちろん、大人気ぺぺオレ（晴珈琲✕ラム酒のカクテル）ももちろんいただけます?\npepeと言っても決して敷居は高くありません。ベテランさんはもちろん初心者さんも和やかにご一緒しましょう。\nお誘いあわせてのご参加お待ちしています??\n◆日 時:1月29日（木）19:30-23:00\n◆タイムスケジュール\n19:30 Door open、 DJ time\n19:40 Lesson Bachata by Eri & Taiki\n20:40 フリーデモ Eri & Taiki 、集合写真\n20:50 DJ time\n23:00 close\n◆場 所: Studio pepe\n港区六本木7-17-2\nビジネスアパートメンツ B1F \nスタジオへのアクセス \n\n◆会 費:\nEntrance 2\,000円 w1drink\nLesson （別途）1000円\n＊2杯目からはキャッシュオン\n＊物価高騰によりDrink少し値上げとなりました。悪しからずご了承ください?\n◆レッスン紹介:\n『バチャータセンシュアルの基礎』\n講師: Eri & Taiki\n◆講師紹介:\n★Eri\nKorke & JudithのBachata Sensualメソッドに基づき指導するバチャータインストラクター。\n韓国最大級のバチャータグループ InTenso の日本ブランチリーダーとしても活動。\nまた、Tokyo Bachata Festival、Japan Bachata Festival の主催者として、日本のBachataシーンの発展に尽力している。\n2013年にバチャータを開始。\nAtaca y La Alemana（Island Touch） に所属し、国内外で多数のパフォーマンスを経験。\n2019年、Barcelonaにて Korke & Judith に師事し、Bachata Sensual認定講師資格を取得。Pro Club Memberとなる。\n同年、Traditional Bachataの認定資格を Alex & Desiree より取得。\n2020年、Sara Panero および Judith によるLadies Styling Certificationを取得。\n2021年、Korke & Judith Bachata Sensual Certificate Level 2 を取得。\n★Taiki\n元ストリートダンサーで、ラテンアメリカでの仕事を機にサルサとバチャータを始める。\nサルサはキューバンやOn2を踊り、バチャータもアーバンスタイル、センシュアルスタイルを踊る。\nスペインやメキシコでのダンス修行の経験もあり、コンペやソーシャルなど、なんでも楽しんで踊っています。\n是非ソーシャルでもたくさん踊ってください！\n◆DJ紹介:\n★DJ Blue\n殆どのスタイルを踊り、パフォ経験もあり2012年銀座ラスリサスからDJ活動。幼少期からジャンルレスで「良い選曲／音楽」の追求と、これら本質をフルに引き出す「良い音」を作り込めるノウハウを生かした唯一無二な音楽クオリティで音楽の本質を提供。その効果は聞き飽きた定番曲でも新たな発見・感動を与え、NewYork International Salsa Congress、Japan Salsa Congress、オンラインイベントなどで初めて耳にした世界のダンサー、同業者達からも素晴らしいクオリティと高評価を頂き、2017～2019年の間は多くの海外サルサ＆バチャータダンサー来日イベントでDJ。2020年から世界中に猛威を振るった「アレ」の影響で３年間休業を余儀なくされ2023年から復帰。復帰後は更に感動を与える音楽を届ける試みを行いつつ緩く活動中。\n◆その他\n●【重要】スタジオ内土足厳禁！\nダンスシューズ又は上履きに履き替えお上がりください。ご協力をお願いします。\n＊37℃以上熱がある方、体調不調の方は参加をお控えください。\n＊マナー違反など発生した場合は退場をお願いします。その場合入場料の返金はありません。\n＊飲食持ち込み不可。\n★主催：大江戸サルサ 玲耶 (Reiya)\nhttps://smcb.jp/communities/34748
URL:https://dance.gdp22.com/event/dance-120101/
LOCATION:六本木スタジオペペ\, 東京都港区六本木７丁目１７−１２ 六本木ビジネスアパートメンツ\, 六本木\, 106-0032\, 日本
CATEGORIES:ハロウィンパーティー,サルサ
ATTACH;FMTTYPE=image/jpeg:https://dance.gdp22.com/wp-content/uploads/0129-1.jpg
END:VEVENT
END:VCALENDAR