BEGIN:VCALENDAR
VERSION:2.0
PRODID:-//Dancing Pono (ダンシングポノ) - ECPv6.15.12//NONSGML v1.0//EN
CALSCALE:GREGORIAN
METHOD:PUBLISH
X-WR-CALNAME:Dancing Pono (ダンシングポノ)
X-ORIGINAL-URL:https://dance.gdp22.com
X-WR-CALDESC:Dancing Pono (ダンシングポノ) のイベント
REFRESH-INTERVAL;VALUE=DURATION:PT1H
X-Robots-Tag:noindex
X-PUBLISHED-TTL:PT1H
BEGIN:VTIMEZONE
TZID:Asia/Tokyo
BEGIN:STANDARD
TZOFFSETFROM:+0900
TZOFFSETTO:+0900
TZNAME:JST
DTSTART:20250101T000000
END:STANDARD
END:VTIMEZONE
BEGIN:VEVENT
DTSTART;TZID=Asia/Tokyo:20260421T121000
DTEND;TZID=Asia/Tokyo:20260421T125500
DTSTAMP:20260420T235819
CREATED:20221114T033501Z
LAST-MODIFIED:20221114T033501Z
UID:10286444-1776773400-1776776100@dance.gdp22.com
SUMMARY:＜レディースサルサ＞ 美ストレッチ＆サルサエクササイズ 女性限定！お子様連れOK！
DESCRIPTION:＜レディースサルサ＞\n美ストレッチ＆サルサエクササイズ\n女性限定！お子様連れOK！\n12:10-12:55　1500円 \n初回のみ要予約\n初回体験レッスン\n1000円
URL:https://dance.gdp22.com/event/dance-39520/2026-04-21/
LOCATION:三軒茶屋リーフ300スタジオ\, 東京都世田谷区太子堂3-14-8 太子堂COMPLEX 3F 300号室 三軒茶屋リーフ３００スタジオ\, 世田谷\, 154-0004\, 日本
CATEGORIES:サルサ,ストレッチ,基礎トレーニング,サルサ全般,基礎トレーニング全般
ORGANIZER;CN="Kimi (Salsalion)":MAILTO:japan@kmicco.com
END:VEVENT
BEGIN:VEVENT
DTSTART;TZID=Asia/Tokyo:20260421T121500
DTEND;TZID=Asia/Tokyo:20260421T125500
DTSTAMP:20260420T235819
CREATED:20220704T020648Z
LAST-MODIFIED:20220704T020648Z
UID:10232504-1776773700-1776776100@dance.gdp22.com
SUMMARY:レディースサルサ By Kimi
DESCRIPTION:＜レディースサルサ＞\n美ストレッチ＆サルサエクササイズ\n女性限定！お子様連れOK！\n12:10-12:55　1500円
URL:https://dance.gdp22.com/event/dance-10122/2026-04-21/
LOCATION:三軒茶屋リーフ300スタジオ\, 東京都世田谷区太子堂3-14-8 太子堂COMPLEX 3F 300号室 三軒茶屋リーフ３００スタジオ\, 世田谷\, 154-0004\, 日本
CATEGORIES:ストレッチ,サルサ全般
ORGANIZER;CN="Kimi (Salsalion)":MAILTO:japan@kmicco.com
END:VEVENT
BEGIN:VEVENT
DTSTART;TZID=Asia/Tokyo:20260421T130000
DTEND;TZID=Asia/Tokyo:20260421T134500
DTSTAMP:20260420T235819
CREATED:20220704T021312Z
LAST-MODIFIED:20220704T021312Z
UID:10232754-1776776400-1776779100@dance.gdp22.com
SUMMARY:レディースサルサ By Kimi
DESCRIPTION:＜レディースサルサ＞\nステップ\n初級～初中級 振り付けクラス\n13:00-13:45\n月謝制：10000円 特典あり
URL:https://dance.gdp22.com/event/dance-10135/2026-04-21/
LOCATION:三軒茶屋リーフ300スタジオ\, 東京都世田谷区太子堂3-14-8 太子堂COMPLEX 3F 300号室 三軒茶屋リーフ３００スタジオ\, 世田谷\, 154-0004\, 日本
CATEGORIES:サルサ全般
ORGANIZER;CN="Kimi (Salsalion)":MAILTO:japan@kmicco.com
END:VEVENT
BEGIN:VEVENT
DTSTART;TZID=Asia/Tokyo:20260421T130000
DTEND;TZID=Asia/Tokyo:20260421T134500
DTSTAMP:20260420T235819
CREATED:20221114T033828Z
LAST-MODIFIED:20221114T033828Z
UID:10286719-1776776400-1776779100@dance.gdp22.com
SUMMARY:＜レディースサルサ＞ ステップ 初級～初中級 振り付けクラス
DESCRIPTION:＜レディースサルサ＞\nステップ\n初級～初中級 振り付けクラス\n13:00-13:45\n月謝制：10000円 特典あり \n\n登録制\n経験3カ月～
URL:https://dance.gdp22.com/event/dance-39534/2026-04-21/
LOCATION:三軒茶屋リーフ300スタジオ\, 東京都世田谷区太子堂3-14-8 太子堂COMPLEX 3F 300号室 三軒茶屋リーフ３００スタジオ\, 世田谷\, 154-0004\, 日本
CATEGORIES:サルサ,サルサ全般
ORGANIZER;CN="Kimi (Salsalion)":MAILTO:japan@kmicco.com
END:VEVENT
BEGIN:VEVENT
DTSTART;TZID=Asia/Tokyo:20260421T150000
DTEND;TZID=Asia/Tokyo:20260421T154500
DTSTAMP:20260420T235819
CREATED:20220930T044635Z
LAST-MODIFIED:20221014T170523Z
UID:10276446-1776783600-1776786300@dance.gdp22.com
SUMMARY:初めてのサルサ レディース スタイル LaHabana
DESCRIPTION:料金・詳細は公式参照 \nhttps://www.lahabana.co.jp/price/?studioid=173&anchor/#block \nLaHabana(名古屋)
URL:https://dance.gdp22.com/event/dance-36466/2026-04-21/
LOCATION:LaHabana 栄校 Sahara (名古屋)\, 愛知県名古屋市中区錦3丁目7-12 錦クリスタルビル4F\, 名古屋\, 460-0003\, 日本
CATEGORIES:サルサ全般
END:VEVENT
BEGIN:VEVENT
DTSTART;TZID=Asia/Tokyo:20260421T190000
DTEND;TZID=Asia/Tokyo:20260421T230000
DTSTAMP:20260420T235819
CREATED:20220712T161324Z
LAST-MODIFIED:20220712T161817Z
UID:10240192-1776798000-1776812400@dance.gdp22.com
SUMMARY:SUPER TUESDAY“AMUSEMENT PARK LEON”@新宿スタジオレオン
DESCRIPTION:☆☆☆大好評！クラブレオン・スタジオレオン合同新企画！！\n世界方式が東京に上陸。★★★\n☆2Fのキゾンバルーム（スタジオレオン）ではキゾンバがかかります。\n☆キゾンバルームにご入場頂いた方は、スタジオレオン(サルサ、バチャータ)はエントランスフリーになります。\n☆受付は2Fスタジオレオン(広い方のスタジオ)になりますのでスタジオレオンに直接お越し下さい。\n☆キゾンバルームはフード・ドリンク持ち込み自由です。(クラブレオンは持ち込み厳禁)\n飲食しながらごゆっくりと特別な火曜の夜をお過ごし下さい。 \n19 : 00～20 : 30 kizomba lesson 　(Shunsuke)\n20：45～23：00　Party DJ　NAMIN \nParty only ￥1500（持ち込み自由）\nlesson & Party ￥2500\nlesson only ￥2000 \nPLACE　スタジオレオンBルーム（クラブレオンのビル2Fの広い部屋） \nDJ紹介\n日本でのキゾンバ草創期より海外のワークショップやパーティーに積極的に参加し、\n特にヨーロッパのキゾンバパーティーでDJが曲を加工したり、絶妙に曲と曲を繋ぐことにより\n会場全体を盛り上げる姿に魅了されDJ技術を学ぶきっかけとなる。\nキゾンバのみならず、サルサ、バチャータにも造詣が深い。\nピアノで培った音へのこだわり、リズムへの理解から最適な選曲とスムーズな曲の繋ぎを得意とする。\nキゾンバの数々のジャンルをバランス良くかけ、誰でも楽しめる選曲をモットーとする。 \n※受付の際、手洗い、アルコール殺菌、検温、チェックシート記入をお願いしております。\nご協力の程宜しくお願い申し上げます。\n皆様のお越しをお待ちしております。
URL:https://dance.gdp22.com/event/dance-13648/2026-04-21/
LOCATION:新宿スタジオレオン(2F)\, 東京都新宿区新宿 5-17-6　2F\, 新宿\, 160-0022\, 日本
CATEGORIES:バチャータ全般,キゾンバ全般,サルサ全般
ATTACH;FMTTYPE=image/jpeg:https://dance.gdp22.com/wp-content/uploads/event_Thu_2021.jpg
END:VEVENT
BEGIN:VEVENT
DTSTART;TZID=Asia/Tokyo:20260421T193000
DTEND;TZID=Asia/Tokyo:20260421T230000
DTSTAMP:20260420T235819
CREATED:20220404T063634Z
LAST-MODIFIED:20230108T055413Z
UID:10209265-1776799800-1776812400@dance.gdp22.com
SUMMARY:お祭りマンボ♪ 第3週 DJ Miguel
DESCRIPTION:お祭りマンボ🍀\n第3週 DJ Miguel \nMambo好きによるMamboを心の底から楽しむためのイベント♡\n人気DJが選りすぐりの曲でMamboラバーの皆様をお迎えいたします🎧\n毎週(火)と第3(土)はみんなで楽しく弾けましょ♪\nみんなで祭りを楽しもう☺️\n合言葉は「祭りへ行こー‼️」 \n〈イベント名〉　　お祭りマンボ\n〈時間〉　　　　　(火) 19:30～23:00\n〈場所〉　　　　　スタジオJBA\n〈エントランス〉 1500円w2d (22:00~ 1000円 w1d)\n※お茶&ミネラルウォーター無料\n※追加ドリンク1杯 200円\n※前日までの参加ポチでドリンクチケットが3枚になります🎫\n※お手元に残っているドリンクチケットは7枚で、1回エントランスフリーに使えます(ドリンクは別途ご購入をお願いします)\n※お祭りマンボロゴ入りのチケットのみ有効です \n☆☆☆ DJプロフィール☆☆☆\n【 DJ Miguel 】\n・2013年よりインターネットラジオサイト『 Radio Tokyo Latino 』を設立。\nMCではスペイン語と日本語を同時に操る才能を発揮しながら、独自の選曲による幅広いラテン音楽を、日本のみならず世界へ発信し続けている。\n・2014年よりDJ活動を開始。自らLAスタイルとNYスタイルのサルサを学んでいる経験から、スタイルやジャンルに偏らない、オールマイティで常に客層に合わせた選曲を心がけている。\n・現在は六本木の各サルサクラブDJ、各種イベントDJを務め、他のDJ陣も唸らすほど、その圧倒的な選曲の良さに定評を得ている。 \n【開催場所】スタジオJBA \n<a href="TOP \nhttps://studiojba.com/“>TOP</blockquote&gt;\n【主催】お祭りマンボ
URL:https://dance.gdp22.com/event/dance-2993/2026-04-21/
LOCATION:小伝馬町スタジオJBA\, 東京都中央区日本橋大伝馬町１１−８ ＨＡＴビル B1F\, 小伝馬町\, 103-0011\, 日本
CATEGORIES:サルサon2,サルサ全般
ATTACH;FMTTYPE=image/jpeg:https://dance.gdp22.com/wp-content/uploads/123fab731083fc68ae94e8e4d6054de5.jpg
END:VEVENT
BEGIN:VEVENT
DTSTART;TZID=Asia/Tokyo:20260421T200000
DTEND;TZID=Asia/Tokyo:20260421T210000
DTSTAMP:20260420T235819
CREATED:20220928T032139Z
LAST-MODIFIED:20221121T042925Z
UID:10289724-1776801600-1776805200@dance.gdp22.com
SUMMARY:Salsa Level 1.5 8-9pm
DESCRIPTION:中級サルサクラス \nMambOki LDC(沖縄)
URL:https://dance.gdp22.com/event/salsa-level-2-9-10pm-2/2026-04-21/
LOCATION:MambOki LDC(沖縄)\, 沖縄県宜野湾市宇地泊７３５\, 宜野湾\, 901-2227\, 日本
CATEGORIES:サルサ全般
END:VEVENT
BEGIN:VEVENT
DTSTART;TZID=Asia/Tokyo:20260422T094500
DTEND;TZID=Asia/Tokyo:20260422T110000
DTSTAMP:20260420T235819
CREATED:20220819T032622Z
LAST-MODIFIED:20220829T152626Z
UID:10255592-1776851100-1776855600@dance.gdp22.com
SUMMARY:Camelia Open Class（初級）サルサ
DESCRIPTION:Studio Camelia Open Class（初級）\n◆毎週水曜日 9:45〜11:00 \n（サルサ） \n◆毎週土曜日13:45～15:00 \n（バチャータ） \n要予約 \nチケット制　￥15000 \n10枚綴り　5ヶ月間有効 \n1ﾚｯｽﾝあたり￥1500 \nビジターレッスン ¥2000 \n※ボディメイクレッスンと併せて受講の場合割引あり \n入門クラスを受講修了者、サルサ経験者のためのクラス \nベーシックステップ \nボディムーブメント \nターンパターン \nスタイリング \nシャイン \nパートナーワーク \nなど、ソーシャルダンスを踊るための基礎から応用まで
URL:https://dance.gdp22.com/event/dance-30782/2026-04-22/
LOCATION:Studio Camelia(愛媛）\, 愛媛県松山市小村町353-39\, 愛媛\, 791-1125\, 日本
CATEGORIES:サルサ全般
ATTACH;FMTTYPE=image/jpeg:https://dance.gdp22.com/wp-content/uploads/image-19.jpg
ORGANIZER;CN="%E5%B1%B1%E5%8F%A3%E7%BE%8E%E4%BB%A3":MAILTO:studiocamelia34@gmail.com
END:VEVENT
BEGIN:VEVENT
DTSTART;TZID=Asia/Tokyo:20260422T123000
DTEND;TZID=Asia/Tokyo:20260422T131500
DTSTAMP:20260420T235819
CREATED:20220930T044937Z
LAST-MODIFIED:20221014T165750Z
UID:10276730-1776861000-1776863700@dance.gdp22.com
SUMMARY:ソン LaHabana
DESCRIPTION:料金・詳細は公式参照 \nhttps://www.lahabana.co.jp/price/?studioid=173&anchor/#block \nLaHabana(名古屋)
URL:https://dance.gdp22.com/event/dance-36480/2026-04-22/
LOCATION:LaHabana 栄校 Sahara (名古屋)\, 愛知県名古屋市中区錦3丁目7-12 錦クリスタルビル4F\, 名古屋\, 460-0003\, 日本
CATEGORIES:サルサ全般
END:VEVENT
BEGIN:VEVENT
DTSTART;TZID=Asia/Tokyo:20260422T190000
DTEND;TZID=Asia/Tokyo:20260422T194500
DTSTAMP:20260420T235819
CREATED:20220620T022004Z
LAST-MODIFIED:20220620T022004Z
UID:10224054-1776884400-1776887100@dance.gdp22.com
SUMMARY:Perfect Salsa  初級 By KAORU
DESCRIPTION:Perfect Salsa \n初級 \nKAORU \nhttps://www.studio-casino.com/%E4%BD%93%E9%A8%93%E3%83%AC%E3%83%83%E3%82%B9%E3%83%B3-%E5%88%9D%E3%82%81%E3%81%A6%E3%81%AE%E6%96%B9/%E6%96%99%E9%87%91/
URL:https://dance.gdp22.com/event/dance-7731/2026-04-22/
LOCATION:六本木ダンススタジオカシーノ\, 東京都港区六本木5-2-4第二鳥勝ビル四階\, 六本木\, 106-0032\, 日本
CATEGORIES:サルサ全般
END:VEVENT
BEGIN:VEVENT
DTSTART;TZID=Asia/Tokyo:20260422T190000
DTEND;TZID=Asia/Tokyo:20260422T194500
DTSTAMP:20260420T235819
CREATED:20220930T045115Z
LAST-MODIFIED:20221014T170751Z
UID:10277261-1776884400-1776887100@dance.gdp22.com
SUMMARY:サルサムーブメント LaHabana
DESCRIPTION:料金・詳細は公式参照 \nhttps://www.lahabana.co.jp/price/?studioid=173&anchor/#block \nLaHabana(名古屋)
URL:https://dance.gdp22.com/event/dance-36492/2026-04-22/
LOCATION:LaHabana 栄校 Sahara (名古屋)\, 愛知県名古屋市中区錦3丁目7-12 錦クリスタルビル4F\, 名古屋\, 460-0003\, 日本
CATEGORIES:サルサ全般
END:VEVENT
BEGIN:VEVENT
DTSTART;TZID=Asia/Tokyo:20260422T193000
DTEND;TZID=Asia/Tokyo:20260422T230000
DTSTAMP:20260420T235819
CREATED:20220919T060902Z
LAST-MODIFIED:20220929T175601Z
UID:10265361-1776886200-1776898800@dance.gdp22.com
SUMMARY:TAMU Salsa lesson ＆ Party
DESCRIPTION:毎週水曜　サルサ基礎/ペアワーク\n●時間\n19:30〜20:00 lesson\n20:30〜23:00 party \n⚫︎料金\nlesson party ¥2000(w1drink)\nparty only ¥1100(w1drink) \n●会場／大阪 サルサ エル リンコン ラティーノ なんば 難波 心斎橋\n中央区心斎橋筋2-6-8 シャンペンジャムビル4F \nきめ細かいアドバイスが好評のTAMU先生のレッスン❣⃛\nパーティタイムも気軽に質問等に答えてくれたり、踊ってくれたりと\n初心者の方からベテランさんまで楽しめます。 \nまた、みなさんとてもフレンドリーで初めての方でもすぐに馴染んでいただける\nアットホームなレッスン&パーティです☺️ \nEL RINCON LATINO(大阪)
URL:https://dance.gdp22.com/event/dance-34876/2026-04-22/
LOCATION:EL RINCON LATINO(大阪)\, 大阪府大阪市中央区心斎橋筋２丁目６−８ シャンペンジャムビル 4F\, 大阪\, 542-0085\, 日本
CATEGORIES:サルサon1,サルサ全般
ATTACH;FMTTYPE=image/jpeg:https://dance.gdp22.com/wp-content/uploads/b8149babd26f7df0def1ebb385ea59f9d6d92583-1.jpg
END:VEVENT
BEGIN:VEVENT
DTSTART;TZID=Asia/Tokyo:20260422T193000
DTEND;TZID=Asia/Tokyo:20260422T233000
DTSTAMP:20260420T235819
CREATED:20220921T031650Z
LAST-MODIFIED:20221002T161000Z
UID:10265621-1776886200-1776900600@dance.gdp22.com
SUMMARY:Freshman  初級 @ shallwedancecafe
DESCRIPTION:Wednesday – Freshman 初級 \n19:30 Bachata Lesson \n20:20 Salsa Lesson \n21:00 Social Party \n料金は公式を要参照 \nShall We Dance Cafe(大阪)
URL:https://dance.gdp22.com/event/dance-35051/2026-04-22/
LOCATION:Shall We Dance Cafe(大阪)\, 大阪府大阪市北区兎我野町４−９\, 大阪\, 530-0056\, 日本
CATEGORIES:ソーシャル,バチャータ全般,サルサ全般
END:VEVENT
BEGIN:VEVENT
DTSTART;TZID=Asia/Tokyo:20260422T194500
DTEND;TZID=Asia/Tokyo:20260422T204500
DTSTAMP:20260420T235819
CREATED:20220720T025000Z
LAST-MODIFIED:20220729T054346Z
UID:10241500-1776887100-1776890700@dance.gdp22.com
SUMMARY:サルサーベーシック（基礎）By Merlino
DESCRIPTION:ダンスクラス（月4回）\n小学生まで 6\,600円／月謝\n中学生以上 8\,250円／月謝\n＊1回ずつのドロップインはダンススクールでは受け付けておりません。\nダンス取り放題（月何回でもOK）\n小学生 9\,900 円／月謝\n中学生 12\,100 円／月謝\n高校生・大学生16\,500 円／月謝\n大人22\,000円／月謝\nフィットネスクラス\nメンバーシップ 全クラス（スタジオ、オンライン） 受け放題\n11\,000 円／月謝\n1回ずつ 2\,750 円（スタジオ・オンラインとも）\nオンラインのみの受け放題（3週までのミニマム月10回のレッスン）\n11\,000円／月謝\nダンス＆フィットネスクラス取り放題（オンラインレッスンも含む）\n高校生・大学生 24\,200円／月謝\n大人 26\,400円／月謝\nダンスチケットメンバー\nダンス　7回分（使用日から5か月で使い切りでどのクラスにも使えます）\n高校生以上 ／22\,000円\nプライベートレッスン\n15分　2\,200円\n（30分以上でご予約ください）\n※料金は税込み表示です。
URL:https://dance.gdp22.com/event/dance-15470/2026-04-22/
LOCATION:守谷M-Style\, 茨城県守谷市御所ケ丘1-4-2\, 守谷\, 302-0119\, 日本
CATEGORIES:サルサ全般
END:VEVENT
BEGIN:VEVENT
DTSTART;TZID=Asia/Tokyo:20260422T195000
DTEND;TZID=Asia/Tokyo:20260422T211500
DTSTAMP:20260420T235819
CREATED:20250426T084454Z
LAST-MODIFIED:20250426T084454Z
UID:10282938-1776887400-1776892500@dance.gdp22.com
SUMMARY:初級 Salsa&Bachata
DESCRIPTION:初級 Salsa&Bachata\n19:50～21:15\n￥1\,100\nサルサとバチャータが自然と踊れるように、音の取り方、一人で踊れるシャイン、ペアで踊るリード&フォローをレッスンします。
URL:https://dance.gdp22.com/event/dance-31359-2/2026-04-22/
LOCATION:Dance&Dining桜井通り（熊本）\, 熊本県熊本市中央区上通町5-10桜井ビル4F\, 熊本\, 860-0845
CATEGORIES:バチャータ,ソーシャル,バチャータ全般,サルサ全般
ATTACH;FMTTYPE=image/jpeg:https://dance.gdp22.com/wp-content/uploads/com_party.jpg
END:VEVENT
BEGIN:VEVENT
DTSTART;TZID=Asia/Tokyo:20260422T200000
DTEND;TZID=Asia/Tokyo:20260422T210000
DTSTAMP:20260420T235819
CREATED:20220708T030225Z
LAST-MODIFIED:20220708T183454Z
UID:10236148-1776888000-1776891600@dance.gdp22.com
SUMMARY:オープンクラス By TAKU
DESCRIPTION:いつでも、一度だけでも、初心者からのサルサ教室\nサルサ初めての方は、まずこのオープンクラスを受けてください。\nサルサクラブで踊る為のテクニックが中心のクラス \n \n毎回行う基本内容に加え、ターンの際の身体の使い方、音楽に合わせてのフットワーク、\nペアルーティンでのリード＆フォローの仕方などポイントを分かりやすくレッスンします。\n全く初めての方、細かい事が気になる方、ルーティンを増やしたい方など、どなたでも気軽に参加できます。 \nオープンクラスのスケジュール・料金につきましては\nこちらのページにて詳しく説明しております。\n→レッスンスケジュール \n・海外遠征等でレッスンがお休みの場合があります。詳しくは、休講案内をご覧下さい。\n・全てのオープンクラスでポイントカード使用可。\n１レッスンにつき１スタンプ、１５スタンプで１レッスン無料（入場料別）
URL:https://dance.gdp22.com/event/dance-11321/2026-04-22/
LOCATION:渋谷ワークル\, 東京都渋谷区桜丘町１４−１０ 渋谷コープB1\, 渋谷\, 〒150-0031\, 日本
CATEGORIES:サルサ全般
ATTACH;FMTTYPE=image/png:https://dance.gdp22.com/wp-content/uploads/schedule_info2-7.png
END:VEVENT
BEGIN:VEVENT
DTSTART;TZID=Asia/Tokyo:20260422T201000
DTEND;TZID=Asia/Tokyo:20260422T211000
DTSTAMP:20260420T235819
CREATED:20220603T013218Z
LAST-MODIFIED:20220603T020846Z
UID:10218913-1776888600-1776892200@dance.gdp22.com
SUMMARY:ルエダ・デ・カシーノ(みんなで踊るサルサ) レッスン by サマンサ
DESCRIPTION:ルエダ・デ・カシーノ(みんなで踊るサルサ) レッスン by サマンサ\n今、世界中で人気の『ルエダ・デ・カシーノ』のレッスン。\nたくさんのサルサダンスLOVERを世の中に輩出したサマンサ先生が、 丁寧にわかりやすくレッスンします。\nもちろん、初心者の方も大歓迎です。\n『ルエダ・デ・カシーノ』とは、複数のペアが輪になって同時に踊るキューバ発祥のストリートダンス。\nリーダーの掛け声で、次々と技を繰り出したり、パートナーをチェンジするのが特徴で、 仲間と遊び感覚でどこでも楽しめます。\nもちろん、ペアダンスにも役立つので、一石二鳥のレッスンとなります。\nこの機会に、レオンのルエダチーム、いよいよ発足です！メンバー大募集中。\n　Fee：2\,000円
URL:https://dance.gdp22.com/event/dance-6693/2026-04-22/
LOCATION:新宿スタジオレオン(2F)\, 東京都新宿区新宿 5-17-6　2F\, 新宿\, 160-0022\, 日本
CATEGORIES:サルサ全般
END:VEVENT
BEGIN:VEVENT
DTSTART;TZID=Asia/Tokyo:20260422T211500
DTEND;TZID=Asia/Tokyo:20260422T221500
DTSTAMP:20260420T235819
CREATED:20220819T031602Z
LAST-MODIFIED:20220829T152347Z
UID:10255880-1776892500-1776896100@dance.gdp22.com
SUMMARY:Camelia Open Class（入門）水曜日
DESCRIPTION:Studio Camelia Open Class（入門）\n◆毎週水曜日21:15～22:15 \n（6月より新規スタート） \n◆毎週土曜日12:30～13:30 \n要予約 \nチケット制　￥12000 \n10枚綴り　5ヶ月間有効 \n1ﾚｯｽﾝあたり￥1200 \nビジターレッスン　￥1500 \nサルサを踊るために必要な基本的な動きを身に付けるためのクラス \n修了後は初級クラスへ進んでいただきます。
URL:https://dance.gdp22.com/event/dance-30754/2026-04-22/
LOCATION:Studio Camelia(愛媛）\, 愛媛県松山市小村町353-39\, 愛媛\, 791-1125\, 日本
CATEGORIES:サルサ全般
ATTACH;FMTTYPE=image/jpeg:https://dance.gdp22.com/wp-content/uploads/image-17.jpg
ORGANIZER;CN="%E5%B1%B1%E5%8F%A3%E7%BE%8E%E4%BB%A3":MAILTO:studiocamelia34@gmail.com
END:VEVENT
BEGIN:VEVENT
DTSTART;TZID=Asia/Tokyo:20260423T181000
DTEND;TZID=Asia/Tokyo:20260423T185500
DTSTAMP:20260420T235819
CREATED:20220930T045604Z
LAST-MODIFIED:20221014T170651Z
UID:10278089-1776967800-1776970500@dance.gdp22.com
SUMMARY:初めてのサルサ レディース スタイル LaHabana
DESCRIPTION:料金・詳細は公式参照 \nhttps://www.lahabana.co.jp/price/?studioid=173&anchor/#block \nLaHabana(名古屋)
URL:https://dance.gdp22.com/event/dance-36528/2026-04-23/
LOCATION:LaHabana 栄校 Sahara (名古屋)\, 愛知県名古屋市中区錦3丁目7-12 錦クリスタルビル4F\, 名古屋\, 460-0003\, 日本
CATEGORIES:サルサ全般
END:VEVENT
BEGIN:VEVENT
DTSTART;TZID=Asia/Tokyo:20260423T191500
DTEND;TZID=Asia/Tokyo:20260423T203000
DTSTAMP:20260420T235819
CREATED:20220819T033046Z
LAST-MODIFIED:20220829T152900Z
UID:10253496-1776971700-1776976200@dance.gdp22.com
SUMMARY:Camelia Closed Class (初中級）木曜日
DESCRIPTION:Studio Camelia Closed Class (初中級） \n◆毎週木曜日19:15～20:30 \n◆毎週土曜日19:15～20:30 \n要予約 \nお月謝 ￥12000\nビジター1レッスン ￥2500 \n基礎から応用まで、振り付けを通して様々なテクニックを身に付け、振付けだけでなく、ソーシャルで自由自在に踊れるようになるためのトレーニングクラス \nパフォーマンスチームKOTSUBAKIとしての活動も行います
URL:https://dance.gdp22.com/event/dance-30808/2026-04-23/
LOCATION:Studio Camelia(愛媛）\, 愛媛県松山市小村町353-39\, 愛媛\, 791-1125\, 日本
CATEGORIES:振り付け・パフォーマンスクラス全般,サルサ全般
ATTACH;FMTTYPE=image/jpeg:https://dance.gdp22.com/wp-content/uploads/image-21.jpg
ORGANIZER;CN="%E5%B1%B1%E5%8F%A3%E7%BE%8E%E4%BB%A3":MAILTO:studiocamelia34@gmail.com
END:VEVENT
BEGIN:VEVENT
DTSTART;TZID=Asia/Tokyo:20260423T193500
DTEND;TZID=Asia/Tokyo:20260423T210000
DTSTAMP:20260420T235819
CREATED:20241216T232410Z
LAST-MODIFIED:20241216T232410Z
UID:10248735-1776972900-1776978000@dance.gdp22.com
SUMMARY:東京サルサコネクション(木曜1 )By ルイ
DESCRIPTION:東京サルサコネクション \n木曜日(第五は除く)\n19:35- 入門レッスン\n21:00- 初級レッスン\n22:30- END \n土曜日\n15:40- 初級レッスン\n17:00- 入門レッスン\n17:55- END\n入門クラスは全く初めての状態からサルサを\n楽しめるようになるまでを丁寧にサポートします！初心者大歓迎です。 \n入門を卒業後の初級クラスは、複雑なルーティンにチャレンジしながら\nよりカッコよく、美しく踊るコツを楽しくお伝えします。 \n初回体験\n1\,000円\n４枚チケット（期限２ヶ月）\n通常 　12\,000円\nU35割 10\,000円\nU25割 9\,000円\n8枚チケット（期限4ヶ月）\n通常　 20\,000円\nU35割 18\,000円\nU25割 16\,000円\n12枚チケット（期限6ヶ月）\n通常　 27\,000円\nU35割 24\,000円\nU25割 22\,000円\n単発利用\n3\,500円
URL:https://dance.gdp22.com/event/dance-8838/2026-04-23/
LOCATION:新宿スタジオレス\, 東京都新宿区百人町1-23-4　D-SQUARE Shinjuku ７階\, 新宿\, 169-0073\, 日本
CATEGORIES:サルサ全般
ATTACH;FMTTYPE=image/jpeg:https://dance.gdp22.com/wp-content/uploads/original2.jpeg
END:VEVENT
BEGIN:VEVENT
DTSTART;TZID=Asia/Tokyo:20260423T194500
DTEND;TZID=Asia/Tokyo:20260423T210000
DTSTAMP:20260420T235819
CREATED:20250426T084811Z
LAST-MODIFIED:20250426T084811Z
UID:10283198-1776973500-1776978000@dance.gdp22.com
SUMMARY:SON CUBANO
DESCRIPTION:19:45～21:00\n￥1\,100\n今月から久しぶりのSONです。\n古きよき美しいキューバ音楽ソンをエレガントに\n躍れるようにレッスンしましょう
URL:https://dance.gdp22.com/event/dance-31372-2/2026-04-23/
LOCATION:Dance&Dining桜井通り（熊本）\, 熊本県熊本市中央区上通町5-10桜井ビル4F\, 熊本\, 860-0845
CATEGORIES:ソンギター・トレス,ソーシャル,カシーノスタイル,サルサ全般
END:VEVENT
BEGIN:VEVENT
DTSTART;TZID=Asia/Tokyo:20260423T200000
DTEND;TZID=Asia/Tokyo:20260423T210000
DTSTAMP:20260420T235819
CREATED:20221116T040933Z
LAST-MODIFIED:20221116T040933Z
UID:10287978-1776974400-1776978000@dance.gdp22.com
SUMMARY:オープンクラス（木曜）
DESCRIPTION:
URL:https://dance.gdp22.com/event/dance-39951/2026-04-23/
LOCATION:恵比寿スタジオJ\, 東京都渋谷区東3-22-9 小倉ビルB1\, 恵比寿\, 150-0011\, 日本
CATEGORIES:サルサ,サルサ全般
ATTACH;FMTTYPE=image/png:https://dance.gdp22.com/wp-content/uploads/schedule_info2-13.png
END:VEVENT
BEGIN:VEVENT
DTSTART;TZID=Asia/Tokyo:20260423T200000
DTEND;TZID=Asia/Tokyo:20260423T210000
DTSTAMP:20260420T235819
CREATED:20221116T041435Z
LAST-MODIFIED:20221116T041506Z
UID:10288248-1776974400-1776978000@dance.gdp22.com
SUMMARY:集中クラス（木曜）
DESCRIPTION:初級
URL:https://dance.gdp22.com/event/dance-39965/2026-04-23/
LOCATION:恵比寿スタジオJ\, 東京都渋谷区東3-22-9 小倉ビルB1\, 恵比寿\, 150-0011\, 日本
CATEGORIES:サルサ,サルサ全般
ATTACH;FMTTYPE=image/png:https://dance.gdp22.com/wp-content/uploads/schedule_info2-13.png
END:VEVENT
BEGIN:VEVENT
DTSTART;TZID=Asia/Tokyo:20260423T200000
DTEND;TZID=Asia/Tokyo:20260423T220000
DTSTAMP:20260420T235819
CREATED:20221111T040100Z
LAST-MODIFIED:20221111T040100Z
UID:10288792-1776974400-1776981600@dance.gdp22.com
SUMMARY:オンライン月謝制パフォーマンスコース
DESCRIPTION:Online Class\n毎週木曜日20:00-22:00\nパフォーマンス月謝制クラス 通称:Gota Maze Project (初中級～中級）＠Zoom\n​（Shine）\n\nSalsaには東京だけでもほぼ毎日イベントがあり、世界で毎週末国際イベントが行われています。イベントではパフォーマンスが行われることが多くパフォーマーの需要がとどまるところを知りません。 \nまた上達のために自分に追い込みをかけたい方や、自分の情熱を表現できるようになりたい方におすすめです。 \n​当スクールでは海外からのからの出演依頼も多いので、旅行もかねて楽しむことができます。 \nレッスン生は東京、地方、海外といろんな場所から参加されますので基本的にオンラインで行います。\n​\n【パフォーマンス月謝性クラス Gota Maze Project】 \n​ \n日時：毎週木曜日　20:00-22:00 \n月謝: \n8月4回　14000円 \n9月3回　12500円 \n※9/8は亮子インド遠征のためお休み \n10月4回　14000円 \n​秋以降のスケジュールは受講生にご連絡致します。​ \nレベル:初中級以上 \n人数・性別：制限なし
URL:https://dance.gdp22.com/event/dance-39436/2026-04-23/
LOCATION:オンラインレッスン(zoomなど）
CATEGORIES:サルサ全般
ORGANIZER;CN="Ryoko%EF%BC%88%E5%A4%A7%E5%8E%9F%E4%BA%AE%E5%AD%90%EF%BC%89":MAILTO:olryoko@yahoo.co.jp
END:VEVENT
BEGIN:VEVENT
DTSTART;TZID=Asia/Tokyo:20260423T210000
DTEND;TZID=Asia/Tokyo:20260423T223000
DTSTAMP:20260420T235819
CREATED:20241216T232411Z
LAST-MODIFIED:20241216T232411Z
UID:10248793-1776978000-1776983400@dance.gdp22.com
SUMMARY:東京サルサコネクション(木曜2) By ルイ
DESCRIPTION:東京サルサコネクション \n木曜日(第五は除く)\n19:35- 入門レッスン\n21:00- 初級レッスン\n22:30- END \n土曜日\n15:40- 初級レッスン\n17:00- 入門レッスン\n17:55- END \n入門クラスは全く初めての状態からサルサを\n楽しめるようになるまでを丁寧にサポートします！初心者大歓迎です。 \n入門を卒業後の初級クラスは、複雑なルーティンにチャレンジしながら\nよりカッコよく、美しく踊るコツを楽しくお伝えします。 \n初回体験\n1\,000円\n４枚チケット（期限２ヶ月）\n通常 　12\,000円\nU35割 10\,000円\nU25割 9\,000円\n8枚チケット（期限4ヶ月）\n通常　 20\,000円\nU35割 18\,000円\nU25割 16\,000円\n12枚チケット（期限6ヶ月）\n通常　 27\,000円\nU35割 24\,000円\nU25割 22\,000円\n単発利用\n3\,500円
URL:https://dance.gdp22.com/event/dance-8869/2026-04-23/
LOCATION:新宿スタジオレス\, 東京都新宿区百人町1-23-4　D-SQUARE Shinjuku ７階\, 新宿\, 169-0073\, 日本
CATEGORIES:サルサ全般
END:VEVENT
BEGIN:VEVENT
DTSTART;TZID=Asia/Tokyo:20260423T214500
DTEND;TZID=Asia/Tokyo:20260423T220000
DTSTAMP:20260420T235819
CREATED:20221116T041946Z
LAST-MODIFIED:20221116T041946Z
UID:10289098-1776980700-1776981600@dance.gdp22.com
SUMMARY:EXPERTクラス（木曜）
DESCRIPTION:上級
URL:https://dance.gdp22.com/event/dance-40006/2026-04-23/
LOCATION:恵比寿スタジオJ\, 東京都渋谷区東3-22-9 小倉ビルB1\, 恵比寿\, 150-0011\, 日本
CATEGORIES:サルサ,サルサ全般
ATTACH;FMTTYPE=image/png:https://dance.gdp22.com/wp-content/uploads/schedule_info2-13.png
END:VEVENT
BEGIN:VEVENT
DTSTART;TZID=Asia/Tokyo:20260424T123000
DTEND;TZID=Asia/Tokyo:20260424T133000
DTSTAMP:20260420T235819
CREATED:20220624T015600Z
LAST-MODIFIED:20220729T024944Z
UID:10224957-1777033800-1777037400@dance.gdp22.com
SUMMARY:はじめてのサルサクラス By HIDE
DESCRIPTION:チケット制 10\,000円 / ４回分 \n（1回あたり2\,500円） \n​ \n​ \n23歳以下で、学生の方は学生割引価格！ \n（24歳のお誕生日まで有効。学生証をご持参ください。）\n8\,000円 / 4回分 \n​ \n​ \n​ \n​ \n​ \n​ \n＊初回は1回分の料金で体験レッスンが可能です。 \n​ \n​ \n＊１チケットあたり2ヶ月間利用可能です。もし2ヶ月過ぎてしまった場合は再度チケットの購入をお願い致します。 \n​ \n​ \n​＊レッスン料は、現金でお願い致します。 \n​ \n​ \n​＊ご自身のご都合で途中で受講をお辞めになった場合、お支払いいただいたものはお返し出来ませんので、ご了承ください。 \n​ \n​ \n​​※現在コロナウイルスの感染対策として、換気の良いスタジオで、マスク着用、ペア時の手の消毒を徹底しております。是非、ご協力のほどお願い致します。
URL:https://dance.gdp22.com/event/dance-8531/2026-04-24/
LOCATION:BUZZ  渋谷東口SQUARE\, 東京都渋谷区渋谷2-22-8 名取ビル1階\, 渋谷\, 150-0002\, 日本
CATEGORIES:サルサ全般
END:VEVENT
BEGIN:VEVENT
DTSTART;TZID=Asia/Tokyo:20260424T190000
DTEND;TZID=Asia/Tokyo:20260424T220000
DTSTAMP:20260420T235819
CREATED:20220926T034152Z
LAST-MODIFIED:20221007T123410Z
UID:10270829-1777057200-1777068000@dance.gdp22.com
SUMMARY:たかさきSALSA EVENTS
DESCRIPTION:【料金制等】 \nワンコイン練習会費￥500 \n別途エントランス制￥1000 \n※飲食物の持込み原則不可（飲食店営業のため） \n※マイドリンク（マイボトル・ペットボトル等）のみ持込み可（ゴミは持帰り） \n【予約制】 \n予約方法：Jomo WellnessのLINE公式アカウントに友だち登録のうえ参加メッセージ（希望日と練習会出欠）をお願いします（締切：イベント前日18時） \n​ \nLINE公式アカウント⇩ \nhttps://lin.ee/xp3O80c \n※友だち登録とイベント参加予約は新型コロナウイルス感染拡大防止対策を踏まえた連絡手段（入場条件）としておりますので、ご協力をお願いいたします \n​ \n※各イベント・ワンコイン練習会・予約制プライベートレッスン詳細\n↓\nhttps://www.erikubota.com/ \nJomo Wellness(群馬)
URL:https://dance.gdp22.com/event/dance-35543/2026-04-24/
LOCATION:Jomo Wellness(群馬)\, 群馬県高崎市八島町32-2 岩崎ビル3F\, 高崎\, 370-0849\, 日本
CATEGORIES:ソーシャル,サルサ全般
ATTACH;FMTTYPE=image/png:https://dance.gdp22.com/wp-content/uploads/4258b291b301061548b3df74098f73f7-2.png
END:VEVENT
END:VCALENDAR