BEGIN:VCALENDAR
VERSION:2.0
PRODID:-//Dancing Pono (ダンシングポノ) - ECPv6.15.12//NONSGML v1.0//EN
CALSCALE:GREGORIAN
METHOD:PUBLISH
X-ORIGINAL-URL:https://dance.gdp22.com
X-WR-CALDESC:Dancing Pono (ダンシングポノ) のイベント
REFRESH-INTERVAL;VALUE=DURATION:PT1H
X-Robots-Tag:noindex
X-PUBLISHED-TTL:PT1H
BEGIN:VTIMEZONE
TZID:Asia/Tokyo
BEGIN:STANDARD
TZOFFSETFROM:+0900
TZOFFSETTO:+0900
TZNAME:JST
DTSTART:20230101T000000
END:STANDARD
END:VTIMEZONE
BEGIN:VEVENT
DTSTART;TZID=Asia/Tokyo:20241101T190000
DTEND;TZID=Asia/Tokyo:20241101T230000
DTSTAMP:20260424T053544
CREATED:20220404T054447Z
LAST-MODIFIED:20220811T090345Z
UID:10166491-1730487600-1730502000@dance.gdp22.com
SUMMARY:MIU'S FRIDAY@JBA
DESCRIPTION:毎月　奇数週、1.3.5週の金曜日の夜はMIU’s Fridayにお越しください\n\nDJタイムを長くたっぷり3時間 \n  \n\n\n●タイムテーブル（例）\n1900から1930まで初級サルサorキソンバ入門\n1930から2000までバチャータ\n2000から2300 までソーシャルDJタイム \n\n\nそしてアルコールは1ドリンクではなくワイン飲み放題に変わりました\n（ゴミ対策のために缶を減らすことにしました。）\nもちろん持ち込みも自由なので飲みたい方はご自身でおもちいただき潰しておいて帰ってくださいませ(^^)\nたくさんワインもっていきますのでこれからもどうぞよろしくお願いいたします\nワイン各種飲み放題ソフトドリンク飲み放題🥤スナック食べ放題\n（レッスンありはプラス1000円 ）\nみなさん是非遊びに来てください(≧∇≦)\nバチャータたっぷり踊れますサルサももちろんかかりますキゾンバももちろんかかります \n\n\n\nレッスン＆パーティー　２５００円\nパーティーのみ　１５００円\n\n\nスタジオJBA　東京都中央区日本橋大伝馬町１１－８ＨＡＴビル \n  \n\n感染予防対策にいつもご協力ありがとうございます
URL:https://dance.gdp22.com/event/mius-fridayjba/2024-11-01/
LOCATION:小伝馬町スタジオJBA\, 東京都中央区日本橋大伝馬町１１−８ ＨＡＴビル B1F\, 小伝馬町\, 103-0011\, 日本
CATEGORIES:サルサon1,センシュアルバチャータ,サルサon2,キゾンバ全般
ATTACH;FMTTYPE=image/jpeg:https://dance.gdp22.com/wp-content/uploads/MIU-scaled.jpg
END:VEVENT
BEGIN:VEVENT
DTSTART;TZID=Asia/Tokyo:20241101T190000
DTEND;TZID=Asia/Tokyo:20241101T235900
DTSTAMP:20260424T053544
CREATED:20220831T030957Z
LAST-MODIFIED:20220831T030957Z
UID:10177261-1730487600-1730505540@dance.gdp22.com
SUMMARY:ON1＆バチャータ・ナイト
DESCRIPTION:カフェルンビータ（京都） \n詳細はWEB参照
URL:https://dance.gdp22.com/event/dance-32775/2024-11-01/
LOCATION:カフェルンビータ（京都）\, 京都府京都市中京区山崎町２５８−１９ 珠光ビル三条 ３F\, 京都\, 604-8032\, 日本
CATEGORIES:サルサon1,ソーシャル,バチャータ全般
END:VEVENT
BEGIN:VEVENT
DTSTART;TZID=Asia/Tokyo:20241102T140000
DTEND;TZID=Asia/Tokyo:20241102T150000
DTSTAMP:20260424T053544
CREATED:20220624T022601Z
LAST-MODIFIED:20220729T025605Z
UID:10173538-1730556000-1730559600@dance.gdp22.com
SUMMARY:Salsa On1 Master Class By HIDE&PEKO
DESCRIPTION:Salsa On1 Master Class\n​スタジオとオンライン受講が選べる！\n​　毎週 土曜日　\n14:00 – 15:00 (1h) \n​講師：HIDE\, PEKO\n​@BUZZ  渋谷東口SQUARE \n受講生募集中！サルサ経験者向けのクラスです！ \n​​ご自宅で、オンラインでの受講も可能です。オンラインの方は割引がございます。 \n単発受講と得なチケット制とで選べます！
URL:https://dance.gdp22.com/event/salsa-on1-master-class-by-hidepeko/2024-11-02/
LOCATION:BUZZ  渋谷東口SQUARE\, 東京都渋谷区渋谷2-22-8 名取ビル1階\, 渋谷\, 150-0002\, 日本
CATEGORIES:サルサon1
ATTACH;FMTTYPE=image/png:https://dance.gdp22.com/wp-content/uploads/0f9f8fa4ea0751f6bcf2dcdf531f8488.png
END:VEVENT
BEGIN:VEVENT
DTSTART;TZID=Asia/Tokyo:20241102T180000
DTEND;TZID=Asia/Tokyo:20241102T184500
DTSTAMP:20260424T053544
CREATED:20220620T032714Z
LAST-MODIFIED:20220620T032714Z
UID:10184279-1730570400-1730573100@dance.gdp22.com
SUMMARY:Salsa振付クラス  Pair on1　By MIKA
DESCRIPTION:Salsa振付クラス \nPair on1 \nMIKA \nhttps://www.studio-casino.com/%E4%BD%93%E9%A8%93%E3%83%AC%E3%83%83%E3%82%B9%E3%83%B3-%E5%88%9D%E3%82%81%E3%81%A6%E3%81%AE%E6%96%B9/%E6%96%99%E9%87%91/
URL:https://dance.gdp22.com/event/dance-7894/2024-11-02/
LOCATION:六本木ダンススタジオカシーノ\, 東京都港区六本木5-2-4第二鳥勝ビル四階\, 六本木\, 106-0032\, 日本
CATEGORIES:サルサon1
END:VEVENT
BEGIN:VEVENT
DTSTART;TZID=Asia/Tokyo:20241102T180000
DTEND;TZID=Asia/Tokyo:20241102T190000
DTSTAMP:20260424T053544
CREATED:20220926T034614Z
LAST-MODIFIED:20221007T123321Z
UID:10178684-1730570400-1730574000@dance.gdp22.com
SUMMARY:たかさきSALSA EVENTS 夕方の部
DESCRIPTION:【料金制等】 \nワンコイン練習会費￥500 \n別途エントランス制￥1000 \n※飲食物の持込み原則不可（飲食店営業のため） \n※マイドリンク（マイボトル・ペットボトル等）のみ持込み可（ゴミは持帰り） \n【予約制】 \n予約方法：Jomo WellnessのLINE公式アカウントに友だち登録のうえ参加メッセージ（希望日と練習会出欠）をお願いします（締切：イベント前日18時） \n​ \nLINE公式アカウント⇩ \nhttps://lin.ee/xp3O80c \n※友だち登録とイベント参加予約は新型コロナウイルス感染拡大防止対策を踏まえた連絡手段（入場条件）としておりますので、ご協力をお願いいたします \n​ \n※各イベント・ワンコイン練習会・予約制プライベートレッスン詳細\n↓\nhttps://www.erikubota.com/ \n夕方の部※無料 \n18:00-19:00 サルサ検定6級：ERI \n（奇数月On1/偶数月On2） \nJomo Wellness(群馬)
URL:https://dance.gdp22.com/event/dance-35556/2024-11-02/
LOCATION:Jomo Wellness(群馬)\, 群馬県高崎市八島町32-2 岩崎ビル3F\, 高崎\, 370-0849\, 日本
CATEGORIES:サルサon1,サルサon2
ATTACH;FMTTYPE=image/png:https://dance.gdp22.com/wp-content/uploads/4258b291b301061548b3df74098f73f7-3.png
END:VEVENT
BEGIN:VEVENT
DTSTART;TZID=Asia/Tokyo:20241102T190000
DTEND;TZID=Asia/Tokyo:20241102T200000
DTSTAMP:20260424T053544
CREATED:20220722T014317Z
LAST-MODIFIED:20220729T061542Z
UID:10192747-1730574000-1730577600@dance.gdp22.com
SUMMARY:GABANAサルサ（on1）Saturday  By HIROSHI
DESCRIPTION:サルサ（on1）Every Saturday By HIROSHI\n【毎週土曜日と祝前日】はイベントデーです！\n\n\n\n◆On1レッスン（オールレベル）19：00～20：00 \n◆￥2\,500（１ドリンク付・税込） \n\nParty Time ＝ Dj Timeからの参加は2\,000円1ドリンク付・税込 \n———————————– \n【第１土曜日】 \n特典：２ドリンク目から500円（税込） \n———————————– \n【第２土曜日】Lady’s Day \n特典：女性は２ドリンク付 \n———————————– \n【第３土曜日】Couple Day \n特典：男女カップルでご来店なら女性は２ドリンクにします。 \n———————————– \n【第４と第５土曜日/祝前日】Noche Latina \n特典：２ドリンク目から500円（税込） \n 
URL:https://dance.gdp22.com/event/dance-16636/2024-11-02/
LOCATION:藤沢LATIN GABANA\, 神奈川県藤沢市南藤沢23-10 光会館ビル4F\, 藤沢\, 251-0055\, 日本
CATEGORIES:サルサon1
ATTACH;FMTTYPE=image/jpeg:https://dance.gdp22.com/wp-content/uploads/image-12.jpg
END:VEVENT
BEGIN:VEVENT
DTSTART;TZID=Asia/Tokyo:20241102T190000
DTEND;TZID=Asia/Tokyo:20241102T230000
DTSTAMP:20260424T053544
CREATED:20220404T053825Z
LAST-MODIFIED:20220718T164716Z
UID:10166346-1730574000-1730588400@dance.gdp22.com
SUMMARY:Atarumba@JBA
DESCRIPTION:毎月第1土曜日、第3木曜日 ALL　DJタイム \n\n１９：００スタート～２３：００昇天フィニッシュ！バキューン！\n 参加費 １５００円 Ｗソフトドリンク、おつまみ、日本酒☆☆☆\n 選曲 ＡＴＡＲＵ\n お好きなドリンクをお持ちになってお越しくださいね☆ \nスタジオ内でも１ドリンク２００円で購入出来ます（ビール、チューハイ、赤白ワイン）\n\n\n\n\n今年で８年目、ＪＢＡスタジオ最古の昇天イベント☆アタルンバ♪ \nますますガンガン盛り上がってます！お気軽にお越し下さいね＾＾ \n踊らね～奴は、、バキューン！！皆殺しだ、、　　　　　　　　　　　　　　　　　　　　　　　　　　　\n\n\n\n\n主催 ＡＴＡＲＵ
URL:https://dance.gdp22.com/event/atarumbajba/2024-11-02/
LOCATION:小伝馬町スタジオJBA\, 東京都中央区日本橋大伝馬町１１−８ ＨＡＴビル B1F\, 小伝馬町\, 103-0011\, 日本
CATEGORIES:サルサon1,センシュアルバチャータ
ATTACH;FMTTYPE=image/jpeg:https://dance.gdp22.com/wp-content/uploads/ataru01-scaled.jpg
END:VEVENT
BEGIN:VEVENT
DTSTART;TZID=Asia/Tokyo:20241102T200000
DTEND;TZID=Asia/Tokyo:20241102T233000
DTSTAMP:20260424T053544
CREATED:20220330T001314Z
LAST-MODIFIED:20241218T232824Z
UID:10209887-1730577600-1730590200@dance.gdp22.com
SUMMARY:Mambongo (マンボンゴ）
DESCRIPTION:毎月第1土曜　Mambongo (マンボンゴ） \n詳細はこちら\nhttps://studio-pepe.com
URL:https://dance.gdp22.com/event/dance-2575-2022-05-07/2024-11-02/
LOCATION:六本木スタジオペペ\, 東京都港区六本木７丁目１７−１２ 六本木ビジネスアパートメンツ\, 六本木\, 106-0032\, 日本
CATEGORIES:サルサon1,センシュアルバチャータ,サルサon2,バチャータ全般
ATTACH;FMTTYPE=image/jpeg:https://dance.gdp22.com/wp-content/uploads/0402.jpg
END:VEVENT
BEGIN:VEVENT
DTSTART;TZID=Asia/Tokyo:20241102T200000
DTEND;TZID=Asia/Tokyo:20241102T233000
DTSTAMP:20260424T053544
CREATED:20220330T001314Z
LAST-MODIFIED:20241028T193035Z
UID:10172195-1730577600-1730590200@dance.gdp22.com
SUMMARY:Mambongo (マンボンゴ）
DESCRIPTION:11/2(土)　Mambongo\nhttps://www.facebook.com/events/865170702404317 \n  \n◆◆◆Mambongo! 11/2 Sat◆◆◆\n★Bachata Lesson「リズム＆ペアワーク」Instructor : MITSUEどのスタイルのバチャータでも楽しめるポイントにフォーカスしていきます。バチャータ特有のリズム感を体で感じ、表現し、より自然にペアで踊れるようになるためのレッスンです初心者大歓迎！バチャータ大好きなダンサーにとっても自分のスタイルをさらにブラッシュアップできる内容です\n\nSPECIAL SHOWCASEBrillantes　JEIO BootCamp Japan Team\nDJ Ryo\,Sochi\nタイムスケジュール19:00 受付スタート19:10-20:10 Lesson MITSUE20:15-23:30 Party 22:00 Performance\n選曲:Salsa70%Bachata30%..etc\nChargeLesson+Party ¥3\,000 with 1drinkParty ¥2\,000 with 1drink\n\nVenue 六本木Studio pepe港区六本木7-17-2　ビジネスアパートメンツB1[MAP]http://www.studio-pepe.com/access.htmlAddress: 7-17-12-B1\,Roppongi\, Minato-ku Tokyo(Tokyo Metro Hibiya Line Roppongi Station 2-minute walk from Exit 2)\n\n\n-お願い-スタジオペペは「下足禁止」が原則となっています。ダンスシューズ、上履きをご用意ください。\n 
URL:https://dance.gdp22.com/event/dance-2575-2022-05-07-2024-11-02/
LOCATION:六本木スタジオペペ\, 東京都港区六本木７丁目１７−１２ 六本木ビジネスアパートメンツ\, 六本木\, 106-0032\, 日本
CATEGORIES:サルサon1,センシュアルバチャータ,サルサon2,バチャータ全般
ATTACH;FMTTYPE=image/jpeg:https://dance.gdp22.com/wp-content/uploads/1102-2.jpg
END:VEVENT
BEGIN:VEVENT
DTSTART;TZID=Asia/Tokyo:20241103T130000
DTEND;TZID=Asia/Tokyo:20241103T160000
DTSTAMP:20260424T053544
CREATED:20220806T152356Z
LAST-MODIFIED:20220806T152356Z
UID:10175469-1730638800-1730649600@dance.gdp22.com
SUMMARY:日曜昼間のレッスン＆ミニパーティ（第1週）
DESCRIPTION:サルサを踊りに行きたいけど、夜は外に出られないという方に朗報！\n 毎週日曜日の昼間にレッスン込みのミニパーティーを開催しております。\n ＜＜　初心者歓迎！日曜昼間のレッスン＆ミニパーティ　＞＞\n【日付】毎週日曜日 【時間】13:00-16:00 【料金】￥2\,000（１ドリンク＆レッスン付き）
URL:https://dance.gdp22.com/event/dance-28728/2024-11-03/
LOCATION:銀座ラス・リサス\, 東京都中央区銀座8-12-6 小野商ビルB1F\, 銀座\, 104-0061\, 日本
CATEGORIES:サルサon1,サルサ全般
END:VEVENT
BEGIN:VEVENT
DTSTART;TZID=Asia/Tokyo:20241103T140000
DTEND;TZID=Asia/Tokyo:20241103T144500
DTSTAMP:20260424T053544
CREATED:20220620T033345Z
LAST-MODIFIED:20220620T033345Z
UID:10184708-1730642400-1730645100@dance.gdp22.com
SUMMARY:Salsa振付クラス  Pair on1　By MIKA
DESCRIPTION:Salsa振付クラス \nPair on1 \nMIKA \nhttps://www.studio-casino.com/%E4%BD%93%E9%A8%93%E3%83%AC%E3%83%83%E3%82%B9%E3%83%B3-%E5%88%9D%E3%82%81%E3%81%A6%E3%81%AE%E6%96%B9/%E6%96%99%E9%87%91/
URL:https://dance.gdp22.com/event/dance-7934/2024-11-03/
LOCATION:六本木ダンススタジオカシーノ\, 東京都港区六本木5-2-4第二鳥勝ビル四階\, 六本木\, 106-0032\, 日本
CATEGORIES:サルサon1
END:VEVENT
BEGIN:VEVENT
DTSTART;TZID=Asia/Tokyo:20241103T150000
DTEND;TZID=Asia/Tokyo:20241103T160000
DTSTAMP:20260424T053544
CREATED:20220603T011007Z
LAST-MODIFIED:20220729T015534Z
UID:10170927-1730646000-1730649600@dance.gdp22.com
SUMMARY:スタジオレオンAオープンクラス サルサ On1 (初級) by SHINJI
DESCRIPTION:“日曜日”週末にまとめてサルサ&バチャータを\nカリキュラム方式で集中的にマスターしましょう!\nオープンクラス　ルームA\nサルサ On1　アシスタント (&SHINJI)\n(初級)\n1 Lesson ¥2\,000-\n2 Lesson ¥3\,500-\n(受講後は、そのまま地下1Fのクラブレオンに、入場料無料でフリータイムを楽しめます。イベント時除く)
URL:https://dance.gdp22.com/event/dance-6615/2024-11-03/
LOCATION:新宿スタジオレオン(2F)\, 東京都新宿区新宿 5-17-6　2F\, 新宿\, 160-0022\, 日本
CATEGORIES:サルサon1
END:VEVENT
BEGIN:VEVENT
DTSTART;TZID=Asia/Tokyo:20241103T153000
DTEND;TZID=Asia/Tokyo:20241103T233000
DTSTAMP:20260424T053544
CREATED:20230512T035051Z
LAST-MODIFIED:20230512T035512Z
UID:10205612-1730647800-1730676600@dance.gdp22.com
SUMMARY:仙台　サルサレッスン＆パーティー
DESCRIPTION:○レッスン\n15:30~17:00 初心〜初中級\nレッスン1000円（party参加者は500円）\nKAORI キューバンSalsa\n○PARTY\n17:00〜19:30　DJTIME DJ Chef\n料金：フリードリンク +エントランスチャージ\n飲み放題\nSOFT　　2000円(税込)\n＋Wine　 2500円(税込)\n＋Beer他 3000円(税込)\n※18：30以降のご入場は各プラン全て500円引き \n場所:ビストロ・バンディード\n宮城県仙台市若林区新寺３丁目１ー５７弁慶仙台東口ビル1.2階 \n【注意事項】\n・37.5℃以上の発熱、倦怠感、咳などの風邪の症状がある方の入場はご遠慮ください。\n・中学生以上高校生未満のお子様は、保護者同伴であれば入場可能です。\n・場内では、常時マスクを着用し、ペアダンス中の会話は極力お控えください。(不織布マスク推奨)\n・感染予防、近隣住人への配慮のため、大声で騒ぐ等の行為はお控えください。\n・床保護のためダンスシューズ、ダンススニーカーを着用ください。（ヒールカバーを着用ください。ピンヒールは禁止です）\n・許可のない撮影、またSNS等への投稿は、プライバシーの問題もあるためお控えください。\n・感染予防のため、途中休憩、換気を行なう場合がございます。
URL:https://dance.gdp22.com/event/dance-45569/2024-11-03/
LOCATION:Bistro Bandido(仙台)\, 宮城県仙台市若林区新寺３丁目１ー５７弁慶仙台東口ビル1.2階\, 984-0051\, 日本
CATEGORIES:サルサon1,サルサon2,サルサ,メレンゲ,キューバン,バチャータ,ソーシャル,カシーノスタイル
END:VEVENT
BEGIN:VEVENT
DTSTART;TZID=Asia/Tokyo:20241103T160000
DTEND;TZID=Asia/Tokyo:20241103T164500
DTSTAMP:20260424T053544
CREATED:20220620T033938Z
LAST-MODIFIED:20220620T033938Z
UID:10172471-1730649600-1730652300@dance.gdp22.com
SUMMARY:Salsa振付クラス  Pair on1　By MIKA
DESCRIPTION:Salsa振付クラス \nPair on1 \nMIKA \nhttps://www.studio-casino.com/%E4%BD%93%E9%A8%93%E3%83%AC%E3%83%83%E3%82%B9%E3%83%B3-%E5%88%9D%E3%82%81%E3%81%A6%E3%81%AE%E6%96%B9/%E6%96%99%E9%87%91/
URL:https://dance.gdp22.com/event/dance-7965/2024-11-03/
LOCATION:六本木ダンススタジオカシーノ\, 東京都港区六本木5-2-4第二鳥勝ビル四階\, 六本木\, 106-0032\, 日本
CATEGORIES:サルサon1
END:VEVENT
BEGIN:VEVENT
DTSTART;TZID=Asia/Tokyo:20241103T160000
DTEND;TZID=Asia/Tokyo:20241103T170000
DTSTAMP:20260424T053544
CREATED:20220603T010809Z
LAST-MODIFIED:20220729T015741Z
UID:10170780-1730649600-1730653200@dance.gdp22.com
SUMMARY:スタジオレオンBオープンクラス サルサ On1 (初級) by SHINJI
DESCRIPTION:“日曜日”週末にまとめてサルサ&バチャータを\nカリキュラム方式で集中的にマスターしましょう!\nオープンクラス　ルームB\nサルサ On1　SHINJI\n(初級)\n1 Lesson ¥2\,000-\n2 Lesson ¥3\,500-\n3 Lesson ¥4\,000-
URL:https://dance.gdp22.com/event/dance-6603/2024-11-03/
LOCATION:新宿スタジオレオン(2F)\, 東京都新宿区新宿 5-17-6　2F\, 新宿\, 160-0022\, 日本
CATEGORIES:サルサon1
END:VEVENT
BEGIN:VEVENT
DTSTART;TZID=Asia/Tokyo:20241103T160000
DTEND;TZID=Asia/Tokyo:20241103T170000
DTSTAMP:20260424T053544
CREATED:20220722T014549Z
LAST-MODIFIED:20220729T060500Z
UID:10192886-1730649600-1730653200@dance.gdp22.com
SUMMARY:GABANAサルサ1（on1）Every Sunday  By HIROSHI
DESCRIPTION:【毎週日曜日】サルサ　Every Sunday　初心者歓迎 \nメロウな日曜湘南サルサは、毎週日曜日に開催しています。 \n特に、日曜日レッスンは初心者大歓迎。初心者にやさしいサルサ(on1)レッスンを開講しています。 \n◆16:00～17:00◆lesson(on1・入門) \n◇17:00～18:00◇lesson(on1・初心者) \n◆18:00～19:00◆フリータイム1◆￥1600/1d \n◇19:00～20:00◇lesson(on1・中級) \n◆20:00～◆フリータイム2◆￥1600/1d \n  \n1レッスン￥2500/1d(チャージ込)\n※2レッスン受講の場合通常￥5000のところ￥4000/1dとなります。
URL:https://dance.gdp22.com/event/dance-16649/2024-11-03/
LOCATION:藤沢LATIN GABANA\, 神奈川県藤沢市南藤沢23-10 光会館ビル4F\, 藤沢\, 251-0055\, 日本
CATEGORIES:サルサon1
ATTACH;FMTTYPE=image/jpeg:https://dance.gdp22.com/wp-content/uploads/image-13.jpg
END:VEVENT
BEGIN:VEVENT
DTSTART;TZID=Asia/Tokyo:20241103T170000
DTEND;TZID=Asia/Tokyo:20241103T180000
DTSTAMP:20260424T053544
CREATED:20220722T014926Z
LAST-MODIFIED:20220729T060600Z
UID:10193025-1730653200-1730656800@dance.gdp22.com
SUMMARY:GABANAサルサ2（on1)Every Sunday  By HIROSHI
DESCRIPTION:【毎週日曜日】サルサ　Every Sunday　初心者歓迎 \nメロウな日曜湘南サルサは、毎週日曜日に開催しています。 \n特に、日曜日レッスンは初心者大歓迎。初心者にやさしいサルサ(on1)レッスンを開講しています。 \n◆16:00～17:00◆lesson(on1・入門) \n◇17:00～18:00◇lesson(on1・初心者) \n◆18:00～19:00◆フリータイム1◆￥1600/1d \n◇19:00～20:00◇lesson(on1・中級) \n◆20:00～◆フリータイム2◆￥1600/1d \n  \n1レッスン￥2500/1d(チャージ込)\n※2レッスン受講の場合通常￥5000のところ￥4000/1dとなります。
URL:https://dance.gdp22.com/event/dance-16662/2024-11-03/
LOCATION:藤沢LATIN GABANA\, 神奈川県藤沢市南藤沢23-10 光会館ビル4F\, 藤沢\, 251-0055\, 日本
CATEGORIES:サルサon1
ATTACH;FMTTYPE=image/jpeg:https://dance.gdp22.com/wp-content/uploads/image-14.jpg
END:VEVENT
BEGIN:VEVENT
DTSTART;TZID=Asia/Tokyo:20241103T184500
DTEND;TZID=Asia/Tokyo:20241103T233000
DTSTAMP:20260424T053544
CREATED:20220330T001644Z
LAST-MODIFIED:20241028T193116Z
UID:10172198-1730659500-1730676600@dance.gdp22.com
SUMMARY:PEPE BACHATA SOCIAL
DESCRIPTION:11/3(日)　PEPE BACHATA SOCIAL\nhttps://www.facebook.com/events/2836852606495669/ \n  \nPEPE BACHATA SOCIALEnglish below\n六本木の人気スポット、スタジオPEPEでバチャータを楽しもう！踊りやすいフロアと広々のスペースで沢山踊りましょう\n選曲はバチャータを中心にサルサやキゾンバも流しますレッスンはRyu & Chloeによるキゾンバ、そしてRyu & Mayuによるセンシュアルバチャータバチャータです\n華やかなゲストダンサーがフロア盛り上げてくれますDaleEmmaMarMio Nour\n■日時：毎週日曜日（第3、第5を除く）18:45 オープン19:00 キゾンバ又はドミニカンバチャータレッスン19:40 センシュアルバチャータレッスン20:30-23:30ソーシャル\n■場所：Studio PEPE港区六本木7-17-12 ビジネスアパートメンツB1https://studio-pepe.com\n■料金-入場料: ¥2000w1d-1 Lesson料金: ¥1000-2 Lesson料金: ¥1500※振替チケットご利用可能※レッスンのみの参加不可\n情報【IG】instagram.com/ryu_palante/【FB】https://www.facebook.com/ryu.kameda【HP】https://palantedc.jimdofree.com【Line】https://line.me/ti/p/83bBEgYn4Q【Mail】palantedc@yahoo.co.jp【Blog】https://ameblo.jp/bachata-republic/【TikTok】https://www.tiktok.com/@ryupalante【Spotify】http://bit.ly/3UicPZn【Meetup】 https://meetu.ps/c/4HJgr/z5TCT/a【YouTube】https://youtube.com/@RyuPalante【Dance Shoes】https://bit.ly/3RSVW5Q\nENGLISHPEPE BACHATA SOCIALBachata social held a Studio PEPE in Roppongi.\n■Date: Every Sunday (Except for the 3rd and 5th)18:45 Open19:00 Kizomba or Dominican Bachata Lesson 19:40 Sensual Bachata Lesson 20:30-23:30 Social\n■Place: Studio PEPETokyo to Minayo Ku 7-17-12business apartments B1https://studio-pepe.com\n■Fee-Entrance fee: 2000w1d-1 Lesson fee: 1000yen-2 Lesson fee: 1500yen\nInfo【IG】instagram.com/ryu_palante/【FB】https://www.facebook.com/ryu.kameda【HP】https://palantedc.jimdofree.com【Line】https://line.me/ti/p/83bBEgYn4Q【Mail】palantedc@yahoo.co.jp【Blog】https://ameblo.jp/bachata-republic/【TikTok】https://www.tiktok.com/@ryupalante【Spotify】http://bit.ly/3UicPZn【Meetup】 https://meetu.ps/c/4HJgr/z5TCT/a【YouTube】https://youtube.com/@RyuPalante【Dance Shoes】https://bit.ly/3RSVW5Q
URL:https://dance.gdp22.com/event/pepe-bachata-social-2024-06-02-2024-09-01-2024-11-03/
LOCATION:六本木スタジオペペ\, 東京都港区六本木７丁目１７−１２ 六本木ビジネスアパートメンツ\, 六本木\, 106-0032\, 日本
CATEGORIES:サルサon1,センシュアルバチャータ,サルサon2,ドミニカンバチャータ
ATTACH;FMTTYPE=image/jpeg:https://dance.gdp22.com/wp-content/uploads/1103-3.jpg
END:VEVENT
BEGIN:VEVENT
DTSTART;TZID=Asia/Tokyo:20241103T190000
DTEND;TZID=Asia/Tokyo:20241103T200000
DTSTAMP:20260424T053544
CREATED:20220722T015253Z
LAST-MODIFIED:20220729T060833Z
UID:10193164-1730660400-1730664000@dance.gdp22.com
SUMMARY:GABANAサルサ3（on1)Every Sunday  By HIROSHI
DESCRIPTION:【毎週日曜日】サルサ　Every Sunday　初心者歓迎 \nメロウな日曜湘南サルサは、毎週日曜日に開催しています。 \n特に、日曜日レッスンは初心者大歓迎。初心者にやさしいサルサ(on1)レッスンを開講しています。 \n◆16:00～17:00◆lesson(on1・入門) \n◇17:00～18:00◇lesson(on1・初心者) \n◆18:00～19:00◆フリータイム1◆￥1600/1d \n◇19:00～20:00◇lesson(on1・中級) \n◆20:00～◆フリータイム2◆￥1600/1d \n  \n1レッスン￥2500/1d(チャージ込)\n※2レッスン受講の場合通常￥5000のところ￥4000/1dとなります。
URL:https://dance.gdp22.com/event/dance-16768/2024-11-03/
LOCATION:藤沢LATIN GABANA\, 神奈川県藤沢市南藤沢23-10 光会館ビル4F\, 藤沢\, 251-0055\, 日本
CATEGORIES:サルサon1
ATTACH;FMTTYPE=image/jpeg:https://dance.gdp22.com/wp-content/uploads/image-15.jpg
END:VEVENT
BEGIN:VEVENT
DTSTART;TZID=Asia/Tokyo:20241104T190000
DTEND;TZID=Asia/Tokyo:20241104T193000
DTSTAMP:20260424T053544
CREATED:20220704T014754Z
LAST-MODIFIED:20220729T033809Z
UID:10173749-1730746800-1730748600@dance.gdp22.com
SUMMARY:サルサOn1スタイル (入門ステップ）By Kimi
DESCRIPTION:★初心者さんいらっしゃい★\n19:00-19:30　入門ステップ　無料 \n※レッスン後はDJタイム\n※別途エントランス1500円1ドリンク付き\n但し 6級カード提示で200円OFF
URL:https://dance.gdp22.com/event/dance-10069/2024-11-04/
LOCATION:銀座ラス・リサス\, 東京都中央区銀座8-12-6 小野商ビルB1F\, 銀座\, 104-0061\, 日本
CATEGORIES:サルサon1
ORGANIZER;CN="Kimi (Salsalion)":MAILTO:japan@kmicco.com
END:VEVENT
BEGIN:VEVENT
DTSTART;TZID=Asia/Tokyo:20241104T193000
DTEND;TZID=Asia/Tokyo:20241104T203000
DTSTAMP:20260424T053544
CREATED:20220704T015326Z
LAST-MODIFIED:20220704T015326Z
UID:10173799-1730748600-1730752200@dance.gdp22.com
SUMMARY:サルサOn1スタイル(初心～初級ペア) By Kimi
DESCRIPTION:19:30-20:30　初心～初級ペア　1000円 \n※レッスン後はDJタイム\n※別途エントランス1500円1ドリンク付き\n但し 6級カード提示で200円OFF
URL:https://dance.gdp22.com/event/dance-10086/2024-11-04/
LOCATION:銀座ラス・リサス\, 東京都中央区銀座8-12-6 小野商ビルB1F\, 銀座\, 104-0061\, 日本
CATEGORIES:サルサon1
ORGANIZER;CN="Kimi (Salsalion)":MAILTO:japan@kmicco.com
END:VEVENT
BEGIN:VEVENT
DTSTART;TZID=Asia/Tokyo:20241104T203000
DTEND;TZID=Asia/Tokyo:20241104T204000
DTSTAMP:20260424T053544
CREATED:20220704T015547Z
LAST-MODIFIED:20220729T034320Z
UID:10173832-1730752200-1730752800@dance.gdp22.com
SUMMARY:サルサOn1スタイル(サルサダンス検定6級） By Kimi
DESCRIPTION:20:30-20:40　サルサダンス検定6級 \n※レッスン後はDJタイム\n※別途エントランス1500円1ドリンク付き\n但し 6級カード提示で200円OFF
URL:https://dance.gdp22.com/event/dance-10098/2024-11-04/
LOCATION:銀座ラス・リサス\, 東京都中央区銀座8-12-6 小野商ビルB1F\, 銀座\, 104-0061\, 日本
CATEGORIES:サルサon1
ORGANIZER;CN="Kimi (Salsalion)":MAILTO:japan@kmicco.com
END:VEVENT
BEGIN:VEVENT
DTSTART;TZID=Asia/Tokyo:20241105T131500
DTEND;TZID=Asia/Tokyo:20241105T143000
DTSTAMP:20260424T053544
CREATED:20220718T015242Z
LAST-MODIFIED:20220907T032920Z
UID:10189098-1730812500-1730817000@dance.gdp22.com
SUMMARY:平日昼間のSalsa lesson ＆ Party By Zakiyama
DESCRIPTION:銀座ラスリサスでの平日お昼間のSalsa lesson&Party!!\n毎週火曜日開催です。\nお昼間が都合の良い方、又は外出中やテレワークでちょっと休憩で踊りたい方(笑)\nお近くにいる方は是非お立ち寄りください? \n13:00 Open\n13:15-14:30 Salsa On1 lesson by Zakiyama \n初めての方も大歓迎\nエントランス:2000yen(レッスン込み)/1D付き
URL:https://dance.gdp22.com/event/dance-14642/2024-11-05/
LOCATION:銀座ラス・リサス\, 東京都中央区銀座8-12-6 小野商ビルB1F\, 銀座\, 104-0061\, 日本
CATEGORIES:サルサon1
END:VEVENT
BEGIN:VEVENT
DTSTART;TZID=Asia/Tokyo:20241105T193000
DTEND;TZID=Asia/Tokyo:20241105T210000
DTSTAMP:20260424T053544
CREATED:20221025T090633Z
LAST-MODIFIED:20221025T092331Z
UID:10203966-1730835000-1730840400@dance.gdp22.com
SUMMARY:門仲サルサ部
DESCRIPTION:基本的に毎週火曜日19:30から21:00までやっています。 \n初心者の方を中心にサルサの練習を有志でまったりしています。 \nサルサ未経験者の方大歓迎です。 \n気軽にサルサを始められる登竜門を目指しています \n月に1度、いろいろなラテンバーやクラブにみんなで遠征に行っています。 \nそのためお休みなることがあるので、詳細はお問い合わせください。 \nFacebookページCafe Itouleよりお問い合わせください。 \n 
URL:https://dance.gdp22.com/event/dance-38717/2024-11-05/
LOCATION:門前仲町Cafe Itoule (カフェ イトゥール)\, 江東区永代2-31-16\, 東京\, 135-0034\, 日本
CATEGORIES:サルサon1
END:VEVENT
BEGIN:VEVENT
DTSTART;TZID=Asia/Tokyo:20241105T200000
DTEND;TZID=Asia/Tokyo:20241105T210000
DTSTAMP:20260424T053544
CREATED:20220722T011521Z
LAST-MODIFIED:20220729T061044Z
UID:10192610-1730836800-1730840400@dance.gdp22.com
SUMMARY:GABANAサルサ（on1）Tuesday   By HIROSHI
DESCRIPTION:【火曜日】サルサ（on1）Tuesday By HIROSHI \n◆lesson(on1：Salsa初級) \n◆20:00～21:00 \n◆￥2500/1d(ﾁｬｰｼﾞ込) \n※急な内容変更もあります。 \n  \nグループレッスン終わりでパーティータイムです \n→ ￥2\,000（１ドリンク付・税込）
URL:https://dance.gdp22.com/event/dance-16541/2024-11-05/
LOCATION:藤沢LATIN GABANA\, 神奈川県藤沢市南藤沢23-10 光会館ビル4F\, 藤沢\, 251-0055\, 日本
CATEGORIES:サルサon1
ATTACH;FMTTYPE=image/jpeg:https://dance.gdp22.com/wp-content/uploads/image-11.jpg
END:VEVENT
BEGIN:VEVENT
DTSTART;TZID=Asia/Tokyo:20241106T150000
DTEND;TZID=Asia/Tokyo:20241106T170000
DTSTAMP:20260424T053544
CREATED:20220622T080259Z
LAST-MODIFIED:20220622T081845Z
UID:10172976-1730905200-1730912400@dance.gdp22.com
SUMMARY:ランタンサルサ
DESCRIPTION:ランタンサルサ \n初心者の方大歓迎、もちろん経験者も \n基本的に第1\,3水曜日 15:00-17:00 \n2022年8月は不定期になります。お問あわせください。
URL:https://dance.gdp22.com/event/dance-8255-2022-07-06/2024-11-06/
LOCATION:渋谷ライブハウスLANTERN（ランタン）\, 東京都渋谷区円山町１８−２ 藤田ハイツ B1\, 渋谷\, 150-0044\, 日本
CATEGORIES:サルサon1
END:VEVENT
BEGIN:VEVENT
DTSTART;TZID=Asia/Tokyo:20241106T190000
DTEND;TZID=Asia/Tokyo:20241106T193000
DTSTAMP:20260424T053544
CREATED:20220706T022105Z
LAST-MODIFIED:20220729T042942Z
UID:10186611-1730919600-1730921400@dance.gdp22.com
SUMMARY:毎週水曜日  銀座ラスリサス(サルサon1) 初心者~初級(無料)By RIE
DESCRIPTION:オープンクラス\n☆毎週水曜日  銀座ラスリサス\n※別途エントランス¥1\,000(1drink付き)かかります。 \n※20:30~はフリータイムです。
URL:https://dance.gdp22.com/event/dance-10281/2024-11-06/
LOCATION:銀座ラス・リサス\, 東京都中央区銀座8-12-6 小野商ビルB1F\, 銀座\, 104-0061\, 日本
CATEGORIES:サルサon1
ATTACH;FMTTYPE=image/jpeg:https://dance.gdp22.com/wp-content/uploads/003.jpg
ORGANIZER;CN="RIE":MAILTO:narie925@gmail.com
END:VEVENT
BEGIN:VEVENT
DTSTART;TZID=Asia/Tokyo:20241106T193000
DTEND;TZID=Asia/Tokyo:20241106T203000
DTSTAMP:20260424T053544
CREATED:20220706T023500Z
LAST-MODIFIED:20220729T043604Z
UID:10186678-1730921400-1730925000@dance.gdp22.com
SUMMARY:毎週水曜日  銀座ラスリサス(サルサon1)初級~初中級 By RIE
DESCRIPTION:オープンクラス\n☆毎週水曜日  銀座ラスリサス　\n※別途エントランス¥1\,000(1drink付き)かかります。 \n※20:30~はフリータイムです。
URL:https://dance.gdp22.com/event/dance-10438/2024-11-06/
LOCATION:銀座ラス・リサス\, 東京都中央区銀座8-12-6 小野商ビルB1F\, 銀座\, 104-0061\, 日本
CATEGORIES:サルサon1
ATTACH;FMTTYPE=image/jpeg:https://dance.gdp22.com/wp-content/uploads/003-1.jpg
ORGANIZER;CN="RIE":MAILTO:narie925@gmail.com
END:VEVENT
BEGIN:VEVENT
DTSTART;TZID=Asia/Tokyo:20241106T193000
DTEND;TZID=Asia/Tokyo:20241106T230000
DTSTAMP:20260424T053544
CREATED:20220919T060902Z
LAST-MODIFIED:20220929T175601Z
UID:10199190-1730921400-1730934000@dance.gdp22.com
SUMMARY:TAMU Salsa lesson ＆ Party
DESCRIPTION:毎週水曜　サルサ基礎/ペアワーク\n●時間\n19:30〜20:00 lesson\n20:30〜23:00 party \n⚫︎料金\nlesson party ¥2000(w1drink)\nparty only ¥1100(w1drink) \n●会場／大阪 サルサ エル リンコン ラティーノ なんば 難波 心斎橋\n中央区心斎橋筋2-6-8 シャンペンジャムビル4F \nきめ細かいアドバイスが好評のTAMU先生のレッスン❣⃛\nパーティタイムも気軽に質問等に答えてくれたり、踊ってくれたりと\n初心者の方からベテランさんまで楽しめます。 \nまた、みなさんとてもフレンドリーで初めての方でもすぐに馴染んでいただける\nアットホームなレッスン&パーティです☺️ \nEL RINCON LATINO(大阪)
URL:https://dance.gdp22.com/event/dance-34876/2024-11-06/
LOCATION:EL RINCON LATINO(大阪)\, 大阪府大阪市中央区心斎橋筋２丁目６−８ シャンペンジャムビル 4F\, 大阪\, 542-0085\, 日本
CATEGORIES:サルサon1,サルサ全般
ATTACH;FMTTYPE=image/jpeg:https://dance.gdp22.com/wp-content/uploads/b8149babd26f7df0def1ebb385ea59f9d6d92583-1.jpg
END:VEVENT
BEGIN:VEVENT
DTSTART;TZID=Asia/Tokyo:20241106T200000
DTEND;TZID=Asia/Tokyo:20241106T210000
DTSTAMP:20260424T053544
CREATED:20220531T013242Z
LAST-MODIFIED:20220531T020125Z
UID:10169752-1730923200-1730926800@dance.gdp22.com
SUMMARY:Salsa ON1 初中級 by Yukiko
DESCRIPTION:Salsa ON1 初中級 by Yukiko\nSalsa ON1 初中級	1\,000円\n※別途クラブエントランス1\,000円/w1d
URL:https://dance.gdp22.com/event/dance-6201/2024-11-06/
LOCATION:新宿クラブ レオン(B1F)\, 東京都新宿区新宿５－１７－６ Ｂ１\, 東京\, 160-0022\, 日本
CATEGORIES:サルサon1
ATTACH;FMTTYPE=image/jpeg:https://dance.gdp22.com/wp-content/uploads/event_Wed_2205s-1.jpg
END:VEVENT
END:VCALENDAR