BEGIN:VCALENDAR
VERSION:2.0
PRODID:-//Dancing Pono (ダンシングポノ) - ECPv6.15.12//NONSGML v1.0//EN
CALSCALE:GREGORIAN
METHOD:PUBLISH
X-WR-CALNAME:Dancing Pono (ダンシングポノ)
X-ORIGINAL-URL:https://dance.gdp22.com
X-WR-CALDESC:Dancing Pono (ダンシングポノ) のイベント
REFRESH-INTERVAL;VALUE=DURATION:PT1H
X-Robots-Tag:noindex
X-PUBLISHED-TTL:PT1H
BEGIN:VTIMEZONE
TZID:Asia/Tokyo
BEGIN:STANDARD
TZOFFSETFROM:+0900
TZOFFSETTO:+0900
TZNAME:JST
DTSTART:20260101T000000
END:STANDARD
END:VTIMEZONE
BEGIN:VEVENT
DTSTART;TZID=Asia/Tokyo:20270501T140000
DTEND;TZID=Asia/Tokyo:20270501T150000
DTSTAMP:20260423T164909
CREATED:20220624T022601Z
LAST-MODIFIED:20220729T025605Z
UID:10226504-1809180000-1809183600@dance.gdp22.com
SUMMARY:Salsa On1 Master Class By HIDE&PEKO
DESCRIPTION:Salsa On1 Master Class\n​スタジオとオンライン受講が選べる！\n​　毎週 土曜日　\n14:00 – 15:00 (1h) \n​講師：HIDE\, PEKO\n​@BUZZ  渋谷東口SQUARE \n受講生募集中！サルサ経験者向けのクラスです！ \n​​ご自宅で、オンラインでの受講も可能です。オンラインの方は割引がございます。 \n単発受講と得なチケット制とで選べます！
URL:https://dance.gdp22.com/event/salsa-on1-master-class-by-hidepeko/2027-05-01/
LOCATION:BUZZ  渋谷東口SQUARE\, 東京都渋谷区渋谷2-22-8 名取ビル1階\, 渋谷\, 150-0002\, 日本
CATEGORIES:サルサon1
ATTACH;FMTTYPE=image/png:https://dance.gdp22.com/wp-content/uploads/0f9f8fa4ea0751f6bcf2dcdf531f8488.png
END:VEVENT
BEGIN:VEVENT
DTSTART;TZID=Asia/Tokyo:20270501T180000
DTEND;TZID=Asia/Tokyo:20270501T184500
DTSTAMP:20260423T164909
CREATED:20220620T032714Z
LAST-MODIFIED:20220620T032714Z
UID:10228000-1809194400-1809197100@dance.gdp22.com
SUMMARY:Salsa振付クラス  Pair on1　By MIKA
DESCRIPTION:Salsa振付クラス \nPair on1 \nMIKA \nhttps://www.studio-casino.com/%E4%BD%93%E9%A8%93%E3%83%AC%E3%83%83%E3%82%B9%E3%83%B3-%E5%88%9D%E3%82%81%E3%81%A6%E3%81%AE%E6%96%B9/%E6%96%99%E9%87%91/
URL:https://dance.gdp22.com/event/dance-7894/2027-05-01/
LOCATION:六本木ダンススタジオカシーノ\, 東京都港区六本木5-2-4第二鳥勝ビル四階\, 六本木\, 106-0032\, 日本
CATEGORIES:サルサon1
END:VEVENT
BEGIN:VEVENT
DTSTART;TZID=Asia/Tokyo:20270501T180000
DTEND;TZID=Asia/Tokyo:20270501T190000
DTSTAMP:20260423T164909
CREATED:20220926T034614Z
LAST-MODIFIED:20221007T123321Z
UID:10272667-1809194400-1809198000@dance.gdp22.com
SUMMARY:たかさきSALSA EVENTS 夕方の部
DESCRIPTION:【料金制等】 \nワンコイン練習会費￥500 \n別途エントランス制￥1000 \n※飲食物の持込み原則不可（飲食店営業のため） \n※マイドリンク（マイボトル・ペットボトル等）のみ持込み可（ゴミは持帰り） \n【予約制】 \n予約方法：Jomo WellnessのLINE公式アカウントに友だち登録のうえ参加メッセージ（希望日と練習会出欠）をお願いします（締切：イベント前日18時） \n​ \nLINE公式アカウント⇩ \nhttps://lin.ee/xp3O80c \n※友だち登録とイベント参加予約は新型コロナウイルス感染拡大防止対策を踏まえた連絡手段（入場条件）としておりますので、ご協力をお願いいたします \n​ \n※各イベント・ワンコイン練習会・予約制プライベートレッスン詳細\n↓\nhttps://www.erikubota.com/ \n夕方の部※無料 \n18:00-19:00 サルサ検定6級：ERI \n（奇数月On1/偶数月On2） \nJomo Wellness(群馬)
URL:https://dance.gdp22.com/event/dance-35556/2027-05-01/
LOCATION:Jomo Wellness(群馬)\, 群馬県高崎市八島町32-2 岩崎ビル3F\, 高崎\, 370-0849\, 日本
CATEGORIES:サルサon1,サルサon2
ATTACH;FMTTYPE=image/png:https://dance.gdp22.com/wp-content/uploads/4258b291b301061548b3df74098f73f7-3.png
END:VEVENT
BEGIN:VEVENT
DTSTART;TZID=Asia/Tokyo:20270501T190000
DTEND;TZID=Asia/Tokyo:20270501T200000
DTSTAMP:20260423T164909
CREATED:20220722T014317Z
LAST-MODIFIED:20220729T061542Z
UID:10244909-1809198000-1809201600@dance.gdp22.com
SUMMARY:GABANAサルサ（on1）Saturday  By HIROSHI
DESCRIPTION:サルサ（on1）Every Saturday By HIROSHI\n【毎週土曜日と祝前日】はイベントデーです！\n\n\n\n◆On1レッスン（オールレベル）19：00～20：00 \n◆￥2\,500（１ドリンク付・税込） \n\nParty Time ＝ Dj Timeからの参加は2\,000円1ドリンク付・税込 \n———————————– \n【第１土曜日】 \n特典：２ドリンク目から500円（税込） \n———————————– \n【第２土曜日】Lady’s Day \n特典：女性は２ドリンク付 \n———————————– \n【第３土曜日】Couple Day \n特典：男女カップルでご来店なら女性は２ドリンクにします。 \n———————————– \n【第４と第５土曜日/祝前日】Noche Latina \n特典：２ドリンク目から500円（税込） \n 
URL:https://dance.gdp22.com/event/dance-16636/2027-05-01/
LOCATION:藤沢LATIN GABANA\, 神奈川県藤沢市南藤沢23-10 光会館ビル4F\, 藤沢\, 251-0055\, 日本
CATEGORIES:サルサon1
ATTACH;FMTTYPE=image/jpeg:https://dance.gdp22.com/wp-content/uploads/image-12.jpg
END:VEVENT
BEGIN:VEVENT
DTSTART;TZID=Asia/Tokyo:20270501T190000
DTEND;TZID=Asia/Tokyo:20270501T230000
DTSTAMP:20260423T164909
CREATED:20220404T053825Z
LAST-MODIFIED:20220718T164716Z
UID:10208878-1809198000-1809212400@dance.gdp22.com
SUMMARY:Atarumba@JBA
DESCRIPTION:毎月第1土曜日、第3木曜日 ALL　DJタイム \n\n１９：００スタート～２３：００昇天フィニッシュ！バキューン！\n 参加費 １５００円 Ｗソフトドリンク、おつまみ、日本酒☆☆☆\n 選曲 ＡＴＡＲＵ\n お好きなドリンクをお持ちになってお越しくださいね☆ \nスタジオ内でも１ドリンク２００円で購入出来ます（ビール、チューハイ、赤白ワイン）\n\n\n\n\n今年で８年目、ＪＢＡスタジオ最古の昇天イベント☆アタルンバ♪ \nますますガンガン盛り上がってます！お気軽にお越し下さいね＾＾ \n踊らね～奴は、、バキューン！！皆殺しだ、、　　　　　　　　　　　　　　　　　　　　　　　　　　　\n\n\n\n\n主催 ＡＴＡＲＵ
URL:https://dance.gdp22.com/event/atarumbajba/2027-05-01/
LOCATION:小伝馬町スタジオJBA\, 東京都中央区日本橋大伝馬町１１−８ ＨＡＴビル B1F\, 小伝馬町\, 103-0011\, 日本
CATEGORIES:サルサon1,センシュアルバチャータ
ATTACH;FMTTYPE=image/jpeg:https://dance.gdp22.com/wp-content/uploads/ataru01-scaled.jpg
END:VEVENT
BEGIN:VEVENT
DTSTART;TZID=Asia/Tokyo:20270501T200000
DTEND;TZID=Asia/Tokyo:20270501T233000
DTSTAMP:20260423T164909
CREATED:20220330T001314Z
LAST-MODIFIED:20241218T232824Z
UID:10209546-1809201600-1809214200@dance.gdp22.com
SUMMARY:Mambongo (マンボンゴ）
DESCRIPTION:毎月第1土曜　Mambongo (マンボンゴ） \n詳細はこちら\nhttps://studio-pepe.com
URL:https://dance.gdp22.com/event/dance-2575-2022-05-07/2027-05-01/
LOCATION:六本木スタジオペペ\, 東京都港区六本木７丁目１７−１２ 六本木ビジネスアパートメンツ\, 六本木\, 106-0032\, 日本
CATEGORIES:サルサon1,センシュアルバチャータ,サルサon2,バチャータ全般
ATTACH;FMTTYPE=image/jpeg:https://dance.gdp22.com/wp-content/uploads/0402.jpg
END:VEVENT
BEGIN:VEVENT
DTSTART;TZID=Asia/Tokyo:20270502T130000
DTEND;TZID=Asia/Tokyo:20270502T160000
DTSTAMP:20260423T164909
CREATED:20220806T152356Z
LAST-MODIFIED:20220806T152356Z
UID:10250897-1809262800-1809273600@dance.gdp22.com
SUMMARY:日曜昼間のレッスン＆ミニパーティ（第1週）
DESCRIPTION:サルサを踊りに行きたいけど、夜は外に出られないという方に朗報！\n 毎週日曜日の昼間にレッスン込みのミニパーティーを開催しております。\n ＜＜　初心者歓迎！日曜昼間のレッスン＆ミニパーティ　＞＞\n【日付】毎週日曜日 【時間】13:00-16:00 【料金】￥2\,000（１ドリンク＆レッスン付き）
URL:https://dance.gdp22.com/event/dance-28728/2027-05-02/
LOCATION:銀座ラス・リサス\, 東京都中央区銀座8-12-6 小野商ビルB1F\, 銀座\, 104-0061\, 日本
CATEGORIES:サルサon1,サルサ全般
END:VEVENT
BEGIN:VEVENT
DTSTART;TZID=Asia/Tokyo:20270502T140000
DTEND;TZID=Asia/Tokyo:20270502T144500
DTSTAMP:20260423T164909
CREATED:20220620T033345Z
LAST-MODIFIED:20220620T033345Z
UID:10228806-1809266400-1809269100@dance.gdp22.com
SUMMARY:Salsa振付クラス  Pair on1　By MIKA
DESCRIPTION:Salsa振付クラス \nPair on1 \nMIKA \nhttps://www.studio-casino.com/%E4%BD%93%E9%A8%93%E3%83%AC%E3%83%83%E3%82%B9%E3%83%B3-%E5%88%9D%E3%82%81%E3%81%A6%E3%81%AE%E6%96%B9/%E6%96%99%E9%87%91/
URL:https://dance.gdp22.com/event/dance-7934/2027-05-02/
LOCATION:六本木ダンススタジオカシーノ\, 東京都港区六本木5-2-4第二鳥勝ビル四階\, 六本木\, 106-0032\, 日本
CATEGORIES:サルサon1
END:VEVENT
BEGIN:VEVENT
DTSTART;TZID=Asia/Tokyo:20270502T140000
DTEND;TZID=Asia/Tokyo:20270502T170000
DTSTAMP:20260423T164909
CREATED:20260330T092532Z
LAST-MODIFIED:20260330T154055Z
UID:10305362-1809266400-1809277200@dance.gdp22.com
SUMMARY:ゆるサルサンデー｜サルサ最初の一歩　vol.4
DESCRIPTION:ゆるサルサンデー｜サルサ最初の一歩　vol.4 \n  \n  \n\n\n第一日曜の午後、世界一ゆるーいサルサon1を初体験しませんか？\n⸻\nこんな人にオススメ\n・バチャータからペアダンスを始めたけど、サルサも踊ってみたい・南米で見た“楽しそうなサルサ”を自分も踊ってみたい・旅行先でペアダンスを踊るという“素敵な趣味”を持ちたい・とにかく「サルサってなに？」から知りたい\n⸻\n 世界一ゆる〜いレッスン\n難しいことは一切言いません。ただ 基本ルーティンを“ゆっくり・丁寧に”身体に染み込ませるだけ。\nレッスン中、好きなドリンクでリラックスしながら受けてOK\n⸻\n スケジュール\n 4/5(日) 14:00〜17:00 両国スペースポノ（旧ハッピーターン）\n14:00　オープン14:20〜15:20　世界一ゆる〜い on1 サルサレッスン（by ニーダ）15:20〜17:00　パーティー（なんでも質問OKの練習会）17:00ごろ　終了\n⸻\n 内容\n・メレンゲで基礎ルーティン練習・カウントで基礎ルーティン練習・ゆっくりの音楽で基礎ルーティン練習・希望者にワンポイントアドバイス（遠慮なくなんでも聞いてください）\n⸻\n 料金\nレッスン & パーティー：1\,500円パーティーのみ：1\,000円\n※飲み物持ち込みOK※プロが作る生ビール・カクテルも販売\n⸻\n ニーダプロフィール\nサルサイベントオーガナイザーとして「TAXI DE SALSA」を主催。サルサDJ、六本木スタジオぺぺのバーテンダーとしても活動。\n\n初心者向けレッスンでは、やさしく・わかりやすく・“できる楽しさ” を最優先にしています。\n\n個人的に初心者の方には「これだけ覚えればok」として\nシンプルでわかりやすく、アットホームなレッスンを心がけます。\n\n⸻\n【開催の理由】\nバチャータからペアダンスを始めた Kさん から「サルサもやってみたい！」という嬉しいメッセージが。\n\nさらに\n「お酒を飲みながら、ゆるくやれたら最高です」\n\nというリクエストまでいただきました。\n\n同じように“最初の一歩”を踏み出したい人にも来てもらえたら、第一日曜日に“ゆるサルサンデー”として開催しております。\n一緒に、最初の一歩を踏み出しましょう！\n⸻\n#ゆるサルサンデー #サルサ初心者 #ダンシングポノ\n  \n 
URL:https://dance.gdp22.com/event/dance-127866/2027-05-02/
LOCATION:両国スペースポノ(旧ハッピーターン)\, 墨田区両国4-18-4 グレイス両国203号\, 両国\, 130-0026
CATEGORIES:サルサon1
ATTACH;FMTTYPE=image/png:https://dance.gdp22.com/wp-content/uploads/Gemini_Generated_Image_qvkwyjqvkwyjqvkw-scaled.png
END:VEVENT
BEGIN:VEVENT
DTSTART;TZID=Asia/Tokyo:20270502T150000
DTEND;TZID=Asia/Tokyo:20270502T160000
DTSTAMP:20260423T164909
CREATED:20220603T011007Z
LAST-MODIFIED:20220729T015534Z
UID:10216369-1809270000-1809273600@dance.gdp22.com
SUMMARY:スタジオレオンAオープンクラス サルサ On1 (初級) by SHINJI
DESCRIPTION:“日曜日”週末にまとめてサルサ&バチャータを\nカリキュラム方式で集中的にマスターしましょう!\nオープンクラス　ルームA\nサルサ On1　アシスタント (&SHINJI)\n(初級)\n1 Lesson ¥2\,000-\n2 Lesson ¥3\,500-\n(受講後は、そのまま地下1Fのクラブレオンに、入場料無料でフリータイムを楽しめます。イベント時除く)
URL:https://dance.gdp22.com/event/dance-6615/2027-05-02/
LOCATION:新宿スタジオレオン(2F)\, 東京都新宿区新宿 5-17-6　2F\, 新宿\, 160-0022\, 日本
CATEGORIES:サルサon1
END:VEVENT
BEGIN:VEVENT
DTSTART;TZID=Asia/Tokyo:20270502T153000
DTEND;TZID=Asia/Tokyo:20270502T233000
DTSTAMP:20260423T164909
CREATED:20230512T035051Z
LAST-MODIFIED:20230512T035512Z
UID:10301890-1809271800-1809300600@dance.gdp22.com
SUMMARY:仙台　サルサレッスン＆パーティー
DESCRIPTION:○レッスン\n15:30~17:00 初心〜初中級\nレッスン1000円（party参加者は500円）\nKAORI キューバンSalsa\n○PARTY\n17:00〜19:30　DJTIME DJ Chef\n料金：フリードリンク +エントランスチャージ\n飲み放題\nSOFT　　2000円(税込)\n＋Wine　 2500円(税込)\n＋Beer他 3000円(税込)\n※18：30以降のご入場は各プラン全て500円引き \n場所:ビストロ・バンディード\n宮城県仙台市若林区新寺３丁目１ー５７弁慶仙台東口ビル1.2階 \n【注意事項】\n・37.5℃以上の発熱、倦怠感、咳などの風邪の症状がある方の入場はご遠慮ください。\n・中学生以上高校生未満のお子様は、保護者同伴であれば入場可能です。\n・場内では、常時マスクを着用し、ペアダンス中の会話は極力お控えください。(不織布マスク推奨)\n・感染予防、近隣住人への配慮のため、大声で騒ぐ等の行為はお控えください。\n・床保護のためダンスシューズ、ダンススニーカーを着用ください。（ヒールカバーを着用ください。ピンヒールは禁止です）\n・許可のない撮影、またSNS等への投稿は、プライバシーの問題もあるためお控えください。\n・感染予防のため、途中休憩、換気を行なう場合がございます。
URL:https://dance.gdp22.com/event/dance-45569/2027-05-02/
LOCATION:Bistro Bandido(仙台)\, 宮城県仙台市若林区新寺３丁目１ー５７弁慶仙台東口ビル1.2階\, 984-0051\, 日本
CATEGORIES:サルサon1,サルサon2,サルサ,メレンゲ,キューバン,バチャータ,ソーシャル,カシーノスタイル
END:VEVENT
BEGIN:VEVENT
DTSTART;TZID=Asia/Tokyo:20270502T160000
DTEND;TZID=Asia/Tokyo:20270502T164500
DTSTAMP:20260423T164909
CREATED:20220620T033938Z
LAST-MODIFIED:20220620T033938Z
UID:10229554-1809273600-1809276300@dance.gdp22.com
SUMMARY:Salsa振付クラス  Pair on1　By MIKA
DESCRIPTION:Salsa振付クラス \nPair on1 \nMIKA \nhttps://www.studio-casino.com/%E4%BD%93%E9%A8%93%E3%83%AC%E3%83%83%E3%82%B9%E3%83%B3-%E5%88%9D%E3%82%81%E3%81%A6%E3%81%AE%E6%96%B9/%E6%96%99%E9%87%91/
URL:https://dance.gdp22.com/event/dance-7965/2027-05-02/
LOCATION:六本木ダンススタジオカシーノ\, 東京都港区六本木5-2-4第二鳥勝ビル四階\, 六本木\, 106-0032\, 日本
CATEGORIES:サルサon1
END:VEVENT
BEGIN:VEVENT
DTSTART;TZID=Asia/Tokyo:20270502T160000
DTEND;TZID=Asia/Tokyo:20270502T170000
DTSTAMP:20260423T164909
CREATED:20220603T010809Z
LAST-MODIFIED:20220729T015741Z
UID:10216865-1809273600-1809277200@dance.gdp22.com
SUMMARY:スタジオレオンBオープンクラス サルサ On1 (初級) by SHINJI
DESCRIPTION:“日曜日”週末にまとめてサルサ&バチャータを\nカリキュラム方式で集中的にマスターしましょう!\nオープンクラス　ルームB\nサルサ On1　SHINJI\n(初級)\n1 Lesson ¥2\,000-\n2 Lesson ¥3\,500-\n3 Lesson ¥4\,000-
URL:https://dance.gdp22.com/event/dance-6603/2027-05-02/
LOCATION:新宿スタジオレオン(2F)\, 東京都新宿区新宿 5-17-6　2F\, 新宿\, 160-0022\, 日本
CATEGORIES:サルサon1
END:VEVENT
BEGIN:VEVENT
DTSTART;TZID=Asia/Tokyo:20270502T160000
DTEND;TZID=Asia/Tokyo:20270502T170000
DTSTAMP:20260423T164909
CREATED:20220722T014549Z
LAST-MODIFIED:20220729T060500Z
UID:10245588-1809273600-1809277200@dance.gdp22.com
SUMMARY:GABANAサルサ1（on1）Every Sunday  By HIROSHI
DESCRIPTION:【毎週日曜日】サルサ　Every Sunday　初心者歓迎 \nメロウな日曜湘南サルサは、毎週日曜日に開催しています。 \n特に、日曜日レッスンは初心者大歓迎。初心者にやさしいサルサ(on1)レッスンを開講しています。 \n◆16:00～17:00◆lesson(on1・入門) \n◇17:00～18:00◇lesson(on1・初心者) \n◆18:00～19:00◆フリータイム1◆￥1600/1d \n◇19:00～20:00◇lesson(on1・中級) \n◆20:00～◆フリータイム2◆￥1600/1d \n  \n1レッスン￥2500/1d(チャージ込)\n※2レッスン受講の場合通常￥5000のところ￥4000/1dとなります。
URL:https://dance.gdp22.com/event/dance-16649/2027-05-02/
LOCATION:藤沢LATIN GABANA\, 神奈川県藤沢市南藤沢23-10 光会館ビル4F\, 藤沢\, 251-0055\, 日本
CATEGORIES:サルサon1
ATTACH;FMTTYPE=image/jpeg:https://dance.gdp22.com/wp-content/uploads/image-13.jpg
END:VEVENT
BEGIN:VEVENT
DTSTART;TZID=Asia/Tokyo:20270502T170000
DTEND;TZID=Asia/Tokyo:20270502T180000
DTSTAMP:20260423T164909
CREATED:20220722T014926Z
LAST-MODIFIED:20220729T060600Z
UID:10245843-1809277200-1809280800@dance.gdp22.com
SUMMARY:GABANAサルサ2（on1)Every Sunday  By HIROSHI
DESCRIPTION:【毎週日曜日】サルサ　Every Sunday　初心者歓迎 \nメロウな日曜湘南サルサは、毎週日曜日に開催しています。 \n特に、日曜日レッスンは初心者大歓迎。初心者にやさしいサルサ(on1)レッスンを開講しています。 \n◆16:00～17:00◆lesson(on1・入門) \n◇17:00～18:00◇lesson(on1・初心者) \n◆18:00～19:00◆フリータイム1◆￥1600/1d \n◇19:00～20:00◇lesson(on1・中級) \n◆20:00～◆フリータイム2◆￥1600/1d \n  \n1レッスン￥2500/1d(チャージ込)\n※2レッスン受講の場合通常￥5000のところ￥4000/1dとなります。
URL:https://dance.gdp22.com/event/dance-16662/2027-05-02/
LOCATION:藤沢LATIN GABANA\, 神奈川県藤沢市南藤沢23-10 光会館ビル4F\, 藤沢\, 251-0055\, 日本
CATEGORIES:サルサon1
ATTACH;FMTTYPE=image/jpeg:https://dance.gdp22.com/wp-content/uploads/image-14.jpg
END:VEVENT
BEGIN:VEVENT
DTSTART;TZID=Asia/Tokyo:20270502T184500
DTEND;TZID=Asia/Tokyo:20270502T233000
DTSTAMP:20260423T164909
CREATED:20260331T095807Z
LAST-MODIFIED:20260331T095807Z
UID:10235455-1809283500-1809300600@dance.gdp22.com
SUMMARY:PEPE BACHATA SOCIAL
DESCRIPTION:4/5(日)　PEPE BACHATA SOCIAL\nhttps://www.facebook.com/events/1580990433017774/ \n  \nPEPE BACHATA SOCIAL English below\n六本木の人気スポット、スタジオPEPEでバチャータを楽しもう！踊りやすいフロアと広々のスペースで沢山踊りましょう\n選曲はDJ Ryuセレクトのバチャータを中心にサルサやキゾンバも流しますレッスンはRyu & MayuによるSENSUAL BACHATA とRyuによるDOMINICAN BACHATA FOOTWORKです\n華やかなゲストダンサーがフロア盛り上げてくれますBattaDaleEmaHikaruKaiNatsumiYoshieYuiYuka\n■日時：第1、第2、第4日曜日18:45 オープン19:00 ドミニカンバチャータ又はキゾンバレッスン19:40 センシュアルバチャータレッスン20:30-23:30ソーシャル\n■場所：Studio PEPEhttps://maps.app.goo.gl/DgyaQU9uX9hPHLXT6\n■料金 （1ドリンク付）-レッスン2コマ：¥3\,500 （パーティー込み）-レッスン1コマ：¥3\,000 （パーティー込み）-パーティーのみ：¥2\,000お支払いは現金のみとなりました。振替チケットご利用可能。\n\nPEPE BACHATA SOCIALBachata social held a Studio PEPE in Roppongi.\n■Date: 1st\, 2nd & 4th Sundays18:45 Open19:00 Dominican Bachata or Kizomba Lesson 19:40 Sensual Bachata Lesson 20:30-23:30 Social\n■Place: Studio PEPEhttps://maps.app.goo.gl/DgyaQU9uX9hPHLXT6\n■Fee (1 drink included)-2 Lesson: 3\,500yen (Party included)-1 Lesson: 3\,000yen (Party included)-Party only: 2000yen Cash only Furikae tickets can be used\nInfohttps://linktr.ee/palantedance
URL:https://dance.gdp22.com/event/pepe-bachata-social-2024-06-02-2024-09-01-2024-11-03-2025-01-05-12/2027-05-02/
LOCATION:六本木スタジオペペ\, 東京都港区六本木７丁目１７−１２ 六本木ビジネスアパートメンツ\, 六本木\, 106-0032\, 日本
CATEGORIES:サルサon1,センシュアルバチャータ,サルサon2,ドミニカンバチャータ
ATTACH;FMTTYPE=image/jpeg:https://dance.gdp22.com/wp-content/uploads/0405-2.jpg
END:VEVENT
BEGIN:VEVENT
DTSTART;TZID=Asia/Tokyo:20270502T190000
DTEND;TZID=Asia/Tokyo:20270502T200000
DTSTAMP:20260423T164909
CREATED:20220722T015253Z
LAST-MODIFIED:20220729T060833Z
UID:10246405-1809284400-1809288000@dance.gdp22.com
SUMMARY:GABANAサルサ3（on1)Every Sunday  By HIROSHI
DESCRIPTION:【毎週日曜日】サルサ　Every Sunday　初心者歓迎 \nメロウな日曜湘南サルサは、毎週日曜日に開催しています。 \n特に、日曜日レッスンは初心者大歓迎。初心者にやさしいサルサ(on1)レッスンを開講しています。 \n◆16:00～17:00◆lesson(on1・入門) \n◇17:00～18:00◇lesson(on1・初心者) \n◆18:00～19:00◆フリータイム1◆￥1600/1d \n◇19:00～20:00◇lesson(on1・中級) \n◆20:00～◆フリータイム2◆￥1600/1d \n  \n1レッスン￥2500/1d(チャージ込)\n※2レッスン受講の場合通常￥5000のところ￥4000/1dとなります。
URL:https://dance.gdp22.com/event/dance-16768/2027-05-02/
LOCATION:藤沢LATIN GABANA\, 神奈川県藤沢市南藤沢23-10 光会館ビル4F\, 藤沢\, 251-0055\, 日本
CATEGORIES:サルサon1
ATTACH;FMTTYPE=image/jpeg:https://dance.gdp22.com/wp-content/uploads/image-15.jpg
END:VEVENT
BEGIN:VEVENT
DTSTART;TZID=Asia/Tokyo:20270503T190000
DTEND;TZID=Asia/Tokyo:20270503T193000
DTSTAMP:20260423T164909
CREATED:20220704T014754Z
LAST-MODIFIED:20220729T033809Z
UID:10232132-1809370800-1809372600@dance.gdp22.com
SUMMARY:サルサOn1スタイル (入門ステップ）By Kimi
DESCRIPTION:★初心者さんいらっしゃい★\n19:00-19:30　入門ステップ　無料 \n※レッスン後はDJタイム\n※別途エントランス1500円1ドリンク付き\n但し 6級カード提示で200円OFF
URL:https://dance.gdp22.com/event/dance-10069/2027-05-03/
LOCATION:銀座ラス・リサス\, 東京都中央区銀座8-12-6 小野商ビルB1F\, 銀座\, 104-0061\, 日本
CATEGORIES:サルサon1
ORGANIZER;CN="Kimi (Salsalion)":MAILTO:japan@kmicco.com
END:VEVENT
BEGIN:VEVENT
DTSTART;TZID=Asia/Tokyo:20270503T193000
DTEND;TZID=Asia/Tokyo:20270503T203000
DTSTAMP:20260423T164909
CREATED:20220704T015326Z
LAST-MODIFIED:20220704T015326Z
UID:10232299-1809372600-1809376200@dance.gdp22.com
SUMMARY:サルサOn1スタイル(初心～初級ペア) By Kimi
DESCRIPTION:19:30-20:30　初心～初級ペア　1000円 \n※レッスン後はDJタイム\n※別途エントランス1500円1ドリンク付き\n但し 6級カード提示で200円OFF
URL:https://dance.gdp22.com/event/dance-10086/2027-05-03/
LOCATION:銀座ラス・リサス\, 東京都中央区銀座8-12-6 小野商ビルB1F\, 銀座\, 104-0061\, 日本
CATEGORIES:サルサon1
ORGANIZER;CN="Kimi (Salsalion)":MAILTO:japan@kmicco.com
END:VEVENT
BEGIN:VEVENT
DTSTART;TZID=Asia/Tokyo:20270503T203000
DTEND;TZID=Asia/Tokyo:20270503T204000
DTSTAMP:20260423T164909
CREATED:20220704T015547Z
LAST-MODIFIED:20220729T034320Z
UID:10232415-1809376200-1809376800@dance.gdp22.com
SUMMARY:サルサOn1スタイル(サルサダンス検定6級） By Kimi
DESCRIPTION:20:30-20:40　サルサダンス検定6級 \n※レッスン後はDJタイム\n※別途エントランス1500円1ドリンク付き\n但し 6級カード提示で200円OFF
URL:https://dance.gdp22.com/event/dance-10098/2027-05-03/
LOCATION:銀座ラス・リサス\, 東京都中央区銀座8-12-6 小野商ビルB1F\, 銀座\, 104-0061\, 日本
CATEGORIES:サルサon1
ORGANIZER;CN="Kimi (Salsalion)":MAILTO:japan@kmicco.com
END:VEVENT
BEGIN:VEVENT
DTSTART;TZID=Asia/Tokyo:20270504T131500
DTEND;TZID=Asia/Tokyo:20270504T143000
DTSTAMP:20260423T164909
CREATED:20220718T015242Z
LAST-MODIFIED:20220907T032920Z
UID:10238732-1809436500-1809441000@dance.gdp22.com
SUMMARY:平日昼間のSalsa lesson ＆ Party By Zakiyama
DESCRIPTION:銀座ラスリサスでの平日お昼間のSalsa lesson&Party!!\n毎週火曜日開催です。\nお昼間が都合の良い方、又は外出中やテレワークでちょっと休憩で踊りたい方(笑)\nお近くにいる方は是非お立ち寄りください? \n13:00 Open\n13:15-14:30 Salsa On1 lesson by Zakiyama \n初めての方も大歓迎\nエントランス:2000yen(レッスン込み)/1D付き
URL:https://dance.gdp22.com/event/dance-14642/2027-05-04/
LOCATION:銀座ラス・リサス\, 東京都中央区銀座8-12-6 小野商ビルB1F\, 銀座\, 104-0061\, 日本
CATEGORIES:サルサon1
END:VEVENT
BEGIN:VEVENT
DTSTART;TZID=Asia/Tokyo:20270504T193000
DTEND;TZID=Asia/Tokyo:20270504T210000
DTSTAMP:20260423T164909
CREATED:20221025T090633Z
LAST-MODIFIED:20221025T092331Z
UID:10282083-1809459000-1809464400@dance.gdp22.com
SUMMARY:門仲サルサ部
DESCRIPTION:基本的に毎週火曜日19:30から21:00までやっています。 \n初心者の方を中心にサルサの練習を有志でまったりしています。 \nサルサ未経験者の方大歓迎です。 \n気軽にサルサを始められる登竜門を目指しています \n月に1度、いろいろなラテンバーやクラブにみんなで遠征に行っています。 \nそのためお休みなることがあるので、詳細はお問い合わせください。 \nFacebookページCafe Itouleよりお問い合わせください。 \n 
URL:https://dance.gdp22.com/event/dance-38717/2027-05-04/
LOCATION:門前仲町Cafe Itoule (カフェ イトゥール)\, 江東区永代2-31-16\, 東京\, 135-0034\, 日本
CATEGORIES:サルサon1
END:VEVENT
BEGIN:VEVENT
DTSTART;TZID=Asia/Tokyo:20270504T200000
DTEND;TZID=Asia/Tokyo:20270504T210000
DTSTAMP:20260423T164909
CREATED:20220722T011521Z
LAST-MODIFIED:20220729T061044Z
UID:10247278-1809460800-1809464400@dance.gdp22.com
SUMMARY:GABANAサルサ（on1）Tuesday   By HIROSHI
DESCRIPTION:【火曜日】サルサ（on1）Tuesday By HIROSHI \n◆lesson(on1：Salsa初級) \n◆20:00～21:00 \n◆￥2500/1d(ﾁｬｰｼﾞ込) \n※急な内容変更もあります。 \n  \nグループレッスン終わりでパーティータイムです \n→ ￥2\,000（１ドリンク付・税込）
URL:https://dance.gdp22.com/event/dance-16541/2027-05-04/
LOCATION:藤沢LATIN GABANA\, 神奈川県藤沢市南藤沢23-10 光会館ビル4F\, 藤沢\, 251-0055\, 日本
CATEGORIES:サルサon1
ATTACH;FMTTYPE=image/jpeg:https://dance.gdp22.com/wp-content/uploads/image-11.jpg
END:VEVENT
BEGIN:VEVENT
DTSTART;TZID=Asia/Tokyo:20270505T150000
DTEND;TZID=Asia/Tokyo:20270505T170000
DTSTAMP:20260423T164909
CREATED:20220622T080259Z
LAST-MODIFIED:20220622T081845Z
UID:10263030-1809529200-1809536400@dance.gdp22.com
SUMMARY:ランタンサルサ
DESCRIPTION:ランタンサルサ \n初心者の方大歓迎、もちろん経験者も \n基本的に第1\,3水曜日 15:00-17:00 \n2022年8月は不定期になります。お問あわせください。
URL:https://dance.gdp22.com/event/dance-8255-2022-07-06/2027-05-05/
LOCATION:渋谷ライブハウスLANTERN（ランタン）\, 東京都渋谷区円山町１８−２ 藤田ハイツ B1\, 渋谷\, 150-0044\, 日本
CATEGORIES:サルサon1
END:VEVENT
BEGIN:VEVENT
DTSTART;TZID=Asia/Tokyo:20270505T190000
DTEND;TZID=Asia/Tokyo:20270505T193000
DTSTAMP:20260423T164909
CREATED:20220706T022105Z
LAST-MODIFIED:20220729T042942Z
UID:10233086-1809543600-1809545400@dance.gdp22.com
SUMMARY:毎週水曜日  銀座ラスリサス(サルサon1) 初心者~初級(無料)By RIE
DESCRIPTION:オープンクラス\n☆毎週水曜日  銀座ラスリサス\n※別途エントランス¥1\,000(1drink付き)かかります。 \n※20:30~はフリータイムです。
URL:https://dance.gdp22.com/event/dance-10281/2027-05-05/
LOCATION:銀座ラス・リサス\, 東京都中央区銀座8-12-6 小野商ビルB1F\, 銀座\, 104-0061\, 日本
CATEGORIES:サルサon1
ATTACH;FMTTYPE=image/jpeg:https://dance.gdp22.com/wp-content/uploads/003.jpg
ORGANIZER;CN="RIE":MAILTO:narie925@gmail.com
END:VEVENT
BEGIN:VEVENT
DTSTART;TZID=Asia/Tokyo:20270505T193000
DTEND;TZID=Asia/Tokyo:20270505T203000
DTSTAMP:20260423T164909
CREATED:20220706T023500Z
LAST-MODIFIED:20220729T043604Z
UID:10233143-1809545400-1809549000@dance.gdp22.com
SUMMARY:毎週水曜日  銀座ラスリサス(サルサon1)初級~初中級 By RIE
DESCRIPTION:オープンクラス\n☆毎週水曜日  銀座ラスリサス　\n※別途エントランス¥1\,000(1drink付き)かかります。 \n※20:30~はフリータイムです。
URL:https://dance.gdp22.com/event/dance-10438/2027-05-05/
LOCATION:銀座ラス・リサス\, 東京都中央区銀座8-12-6 小野商ビルB1F\, 銀座\, 104-0061\, 日本
CATEGORIES:サルサon1
ATTACH;FMTTYPE=image/jpeg:https://dance.gdp22.com/wp-content/uploads/003-1.jpg
ORGANIZER;CN="RIE":MAILTO:narie925@gmail.com
END:VEVENT
BEGIN:VEVENT
DTSTART;TZID=Asia/Tokyo:20270505T193000
DTEND;TZID=Asia/Tokyo:20270505T230000
DTSTAMP:20260423T164909
CREATED:20220919T060902Z
LAST-MODIFIED:20220929T175601Z
UID:10265415-1809545400-1809558000@dance.gdp22.com
SUMMARY:TAMU Salsa lesson ＆ Party
DESCRIPTION:毎週水曜　サルサ基礎/ペアワーク\n●時間\n19:30〜20:00 lesson\n20:30〜23:00 party \n⚫︎料金\nlesson party ¥2000(w1drink)\nparty only ¥1100(w1drink) \n●会場／大阪 サルサ エル リンコン ラティーノ なんば 難波 心斎橋\n中央区心斎橋筋2-6-8 シャンペンジャムビル4F \nきめ細かいアドバイスが好評のTAMU先生のレッスン❣⃛\nパーティタイムも気軽に質問等に答えてくれたり、踊ってくれたりと\n初心者の方からベテランさんまで楽しめます。 \nまた、みなさんとてもフレンドリーで初めての方でもすぐに馴染んでいただける\nアットホームなレッスン&パーティです☺️ \nEL RINCON LATINO(大阪)
URL:https://dance.gdp22.com/event/dance-34876/2027-05-05/
LOCATION:EL RINCON LATINO(大阪)\, 大阪府大阪市中央区心斎橋筋２丁目６−８ シャンペンジャムビル 4F\, 大阪\, 542-0085\, 日本
CATEGORIES:サルサon1,サルサ全般
ATTACH;FMTTYPE=image/jpeg:https://dance.gdp22.com/wp-content/uploads/b8149babd26f7df0def1ebb385ea59f9d6d92583-1.jpg
END:VEVENT
BEGIN:VEVENT
DTSTART;TZID=Asia/Tokyo:20270505T200000
DTEND;TZID=Asia/Tokyo:20270505T210000
DTSTAMP:20260423T164909
CREATED:20220531T013242Z
LAST-MODIFIED:20220531T020125Z
UID:10214570-1809547200-1809550800@dance.gdp22.com
SUMMARY:Salsa ON1 初中級 by Yukiko
DESCRIPTION:Salsa ON1 初中級 by Yukiko\nSalsa ON1 初中級	1\,000円\n※別途クラブエントランス1\,000円/w1d
URL:https://dance.gdp22.com/event/dance-6201/2027-05-05/
LOCATION:新宿クラブ レオン(B1F)\, 東京都新宿区新宿５－１７－６ Ｂ１\, 東京\, 160-0022\, 日本
CATEGORIES:サルサon1
ATTACH;FMTTYPE=image/jpeg:https://dance.gdp22.com/wp-content/uploads/event_Wed_2205s-1.jpg
END:VEVENT
BEGIN:VEVENT
DTSTART;TZID=Asia/Tokyo:20270506T133000
DTEND;TZID=Asia/Tokyo:20270506T150000
DTSTAMP:20260423T164909
CREATED:20220706T025354Z
LAST-MODIFIED:20220919T021220Z
UID:10233257-1809610200-1809615600@dance.gdp22.com
SUMMARY:お昼のレッスン(SalsaOn1)@藤沢マリソル By RIE
DESCRIPTION:SALSA&BACHATA\nお昼のレッスン@藤沢 \n毎週木曜の午後に藤沢MARISOLにてRIEのレッスンが始まりました！！ \nたっぷり１時間半、鏡のある広々したスタジオでサルサ＆バチャータが学べます。 \n毎週木曜日 13:30-15:00  (休講の場合は、別途お知らせいたします。) \n第1・３木曜日→Salsa on1 \n第2・４木曜日→Bachata \nレッスン料　¥2000 \n  \nDance Studio MARISOL \n神奈川県藤沢市鵠沼東4-6-3F
URL:https://dance.gdp22.com/event/dance-10482/2027-05-06/
LOCATION:ダンススタジオマリソル（藤沢）\, 神奈川県藤沢市鵠沼東４−６ 3F\, 藤沢\, 日本
CATEGORIES:サルサon1
ATTACH;FMTTYPE=image/jpeg:https://dance.gdp22.com/wp-content/uploads/002.jpg
ORGANIZER;CN="RIE":MAILTO:narie925@gmail.com
END:VEVENT
BEGIN:VEVENT
DTSTART;TZID=Asia/Tokyo:20270506T173000
DTEND;TZID=Asia/Tokyo:20270506T183000
DTSTAMP:20260423T164909
CREATED:20220624T021411Z
LAST-MODIFIED:20220801T081835Z
UID:10230490-1809624600-1809628200@dance.gdp22.com
SUMMARY:Salsa Kids Class By HIDE＆PEKO
DESCRIPTION:Salsa Kids Class\n\n\n\n​受講生随時募集中！\n\n​  毎週 木曜日  17:30 – 18:30（1h） \n\n\n​@Studio Mission 渋谷 \n\n\n​講師：HIDE\, PEKO\n\n\n月謝 ¥8\,000- / 4回 \n\n\n​初回は1000円で体験レッスンができます！\n\n\n​対象者：6才から12才までの男女 \n\n\n​＊月初めのレッスンで、その月の月謝のお支払いをお願いいたします。 \n\n\n＊受講者のご都合でお休みされる場合は、月謝の返還は致しかねます。（コロナウイルスが理由の場合も同等です。東京都からのジムなどの休業要請が出た場合は休講となります。その場合は開講できなかった分を返金致します。） \n\n\n​＊レッスンに集中して頂けるように、保護者のご見学はお断りしておりますので、ご了承ください。 \n\n\n子どもならではの柔軟な身体と吸収率を使って、楽しいだけではなく、しっかりと踊れるように指導いたします。​ \nサルサのジャンルは「Salsa On1 / LAスタイル」です。 \n​サルサのステップ、ムーブメント、ターン、ペアワークを振り付けを通じて全てのダンスジャンルの基礎となる技術を学んでいきます！
URL:https://dance.gdp22.com/event/dance-8554/2027-05-06/
LOCATION:渋谷studioMISSION\, 東京都渋谷区道玄坂2-10-12 新大宗ビル4号館 B2F 7F 8F 9F\, 渋谷\, 150-0043\, 日本
CATEGORIES:サルサon1
ATTACH;FMTTYPE=image/png:https://dance.gdp22.com/wp-content/uploads/Blessings-on-your-Babys-Baptism.png
END:VEVENT
END:VCALENDAR