BEGIN:VCALENDAR
VERSION:2.0
PRODID:-//Dancing Pono (ダンシングポノ) - ECPv6.15.12//NONSGML v1.0//EN
CALSCALE:GREGORIAN
METHOD:PUBLISH
X-ORIGINAL-URL:https://dance.gdp22.com
X-WR-CALDESC:Dancing Pono (ダンシングポノ) のイベント
REFRESH-INTERVAL;VALUE=DURATION:PT1H
X-Robots-Tag:noindex
X-PUBLISHED-TTL:PT1H
BEGIN:VTIMEZONE
TZID:Asia/Tokyo
BEGIN:STANDARD
TZOFFSETFROM:+0900
TZOFFSETTO:+0900
TZNAME:JST
DTSTART:20250101T000000
END:STANDARD
END:VTIMEZONE
BEGIN:VEVENT
DTSTART;TZID=Asia/Tokyo:20260301T130000
DTEND;TZID=Asia/Tokyo:20260301T160000
DTSTAMP:20260422T205630
CREATED:20220806T152356Z
LAST-MODIFIED:20220806T152356Z
UID:10250883-1772370000-1772380800@dance.gdp22.com
SUMMARY:日曜昼間のレッスン＆ミニパーティ（第1週）
DESCRIPTION:サルサを踊りに行きたいけど、夜は外に出られないという方に朗報！\n 毎週日曜日の昼間にレッスン込みのミニパーティーを開催しております。\n ＜＜　初心者歓迎！日曜昼間のレッスン＆ミニパーティ　＞＞\n【日付】毎週日曜日 【時間】13:00-16:00 【料金】￥2\,000（１ドリンク＆レッスン付き）
URL:https://dance.gdp22.com/event/dance-28728/2026-03-01/
LOCATION:銀座ラス・リサス\, 東京都中央区銀座8-12-6 小野商ビルB1F\, 銀座\, 104-0061\, 日本
CATEGORIES:サルサon1,サルサ全般
END:VEVENT
BEGIN:VEVENT
DTSTART;TZID=Asia/Tokyo:20260301T140000
DTEND;TZID=Asia/Tokyo:20260301T144500
DTSTAMP:20260422T205630
CREATED:20220620T033345Z
LAST-MODIFIED:20220620T033345Z
UID:10228745-1772373600-1772376300@dance.gdp22.com
SUMMARY:Salsa振付クラス  Pair on1　By MIKA
DESCRIPTION:Salsa振付クラス \nPair on1 \nMIKA \nhttps://www.studio-casino.com/%E4%BD%93%E9%A8%93%E3%83%AC%E3%83%83%E3%82%B9%E3%83%B3-%E5%88%9D%E3%82%81%E3%81%A6%E3%81%AE%E6%96%B9/%E6%96%99%E9%87%91/
URL:https://dance.gdp22.com/event/dance-7934/2026-03-01/
LOCATION:六本木ダンススタジオカシーノ\, 東京都港区六本木5-2-4第二鳥勝ビル四階\, 六本木\, 106-0032\, 日本
CATEGORIES:サルサon1
END:VEVENT
BEGIN:VEVENT
DTSTART;TZID=Asia/Tokyo:20260301T150000
DTEND;TZID=Asia/Tokyo:20260301T160000
DTSTAMP:20260422T205630
CREATED:20220603T011007Z
LAST-MODIFIED:20220729T015534Z
UID:10216308-1772377200-1772380800@dance.gdp22.com
SUMMARY:スタジオレオンAオープンクラス サルサ On1 (初級) by SHINJI
DESCRIPTION:“日曜日”週末にまとめてサルサ&バチャータを\nカリキュラム方式で集中的にマスターしましょう!\nオープンクラス　ルームA\nサルサ On1　アシスタント (&SHINJI)\n(初級)\n1 Lesson ¥2\,000-\n2 Lesson ¥3\,500-\n(受講後は、そのまま地下1Fのクラブレオンに、入場料無料でフリータイムを楽しめます。イベント時除く)
URL:https://dance.gdp22.com/event/dance-6615/2026-03-01/
LOCATION:新宿スタジオレオン(2F)\, 東京都新宿区新宿 5-17-6　2F\, 新宿\, 160-0022\, 日本
CATEGORIES:サルサon1
END:VEVENT
BEGIN:VEVENT
DTSTART;TZID=Asia/Tokyo:20260301T153000
DTEND;TZID=Asia/Tokyo:20260301T233000
DTSTAMP:20260422T205630
CREATED:20230512T035051Z
LAST-MODIFIED:20230512T035512Z
UID:10301829-1772379000-1772407800@dance.gdp22.com
SUMMARY:仙台　サルサレッスン＆パーティー
DESCRIPTION:○レッスン\n15:30~17:00 初心〜初中級\nレッスン1000円（party参加者は500円）\nKAORI キューバンSalsa\n○PARTY\n17:00〜19:30　DJTIME DJ Chef\n料金：フリードリンク +エントランスチャージ\n飲み放題\nSOFT　　2000円(税込)\n＋Wine　 2500円(税込)\n＋Beer他 3000円(税込)\n※18：30以降のご入場は各プラン全て500円引き \n場所:ビストロ・バンディード\n宮城県仙台市若林区新寺３丁目１ー５７弁慶仙台東口ビル1.2階 \n【注意事項】\n・37.5℃以上の発熱、倦怠感、咳などの風邪の症状がある方の入場はご遠慮ください。\n・中学生以上高校生未満のお子様は、保護者同伴であれば入場可能です。\n・場内では、常時マスクを着用し、ペアダンス中の会話は極力お控えください。(不織布マスク推奨)\n・感染予防、近隣住人への配慮のため、大声で騒ぐ等の行為はお控えください。\n・床保護のためダンスシューズ、ダンススニーカーを着用ください。（ヒールカバーを着用ください。ピンヒールは禁止です）\n・許可のない撮影、またSNS等への投稿は、プライバシーの問題もあるためお控えください。\n・感染予防のため、途中休憩、換気を行なう場合がございます。
URL:https://dance.gdp22.com/event/dance-45569/2026-03-01/
LOCATION:Bistro Bandido(仙台)\, 宮城県仙台市若林区新寺３丁目１ー５７弁慶仙台東口ビル1.2階\, 984-0051\, 日本
CATEGORIES:サルサon1,サルサon2,サルサ,メレンゲ,キューバン,バチャータ,ソーシャル,カシーノスタイル
END:VEVENT
BEGIN:VEVENT
DTSTART;TZID=Asia/Tokyo:20260301T160000
DTEND;TZID=Asia/Tokyo:20260301T164500
DTSTAMP:20260422T205630
CREATED:20220620T033938Z
LAST-MODIFIED:20220620T033938Z
UID:10229493-1772380800-1772383500@dance.gdp22.com
SUMMARY:Salsa振付クラス  Pair on1　By MIKA
DESCRIPTION:Salsa振付クラス \nPair on1 \nMIKA \nhttps://www.studio-casino.com/%E4%BD%93%E9%A8%93%E3%83%AC%E3%83%83%E3%82%B9%E3%83%B3-%E5%88%9D%E3%82%81%E3%81%A6%E3%81%AE%E6%96%B9/%E6%96%99%E9%87%91/
URL:https://dance.gdp22.com/event/dance-7965/2026-03-01/
LOCATION:六本木ダンススタジオカシーノ\, 東京都港区六本木5-2-4第二鳥勝ビル四階\, 六本木\, 106-0032\, 日本
CATEGORIES:サルサon1
END:VEVENT
BEGIN:VEVENT
DTSTART;TZID=Asia/Tokyo:20260301T160000
DTEND;TZID=Asia/Tokyo:20260301T170000
DTSTAMP:20260422T205630
CREATED:20220603T010809Z
LAST-MODIFIED:20220729T015741Z
UID:10216804-1772380800-1772384400@dance.gdp22.com
SUMMARY:スタジオレオンBオープンクラス サルサ On1 (初級) by SHINJI
DESCRIPTION:“日曜日”週末にまとめてサルサ&バチャータを\nカリキュラム方式で集中的にマスターしましょう!\nオープンクラス　ルームB\nサルサ On1　SHINJI\n(初級)\n1 Lesson ¥2\,000-\n2 Lesson ¥3\,500-\n3 Lesson ¥4\,000-
URL:https://dance.gdp22.com/event/dance-6603/2026-03-01/
LOCATION:新宿スタジオレオン(2F)\, 東京都新宿区新宿 5-17-6　2F\, 新宿\, 160-0022\, 日本
CATEGORIES:サルサon1
END:VEVENT
BEGIN:VEVENT
DTSTART;TZID=Asia/Tokyo:20260301T160000
DTEND;TZID=Asia/Tokyo:20260301T170000
DTSTAMP:20260422T205630
CREATED:20220722T014549Z
LAST-MODIFIED:20220729T060500Z
UID:10245527-1772380800-1772384400@dance.gdp22.com
SUMMARY:GABANAサルサ1（on1）Every Sunday  By HIROSHI
DESCRIPTION:【毎週日曜日】サルサ　Every Sunday　初心者歓迎 \nメロウな日曜湘南サルサは、毎週日曜日に開催しています。 \n特に、日曜日レッスンは初心者大歓迎。初心者にやさしいサルサ(on1)レッスンを開講しています。 \n◆16:00～17:00◆lesson(on1・入門) \n◇17:00～18:00◇lesson(on1・初心者) \n◆18:00～19:00◆フリータイム1◆￥1600/1d \n◇19:00～20:00◇lesson(on1・中級) \n◆20:00～◆フリータイム2◆￥1600/1d \n  \n1レッスン￥2500/1d(チャージ込)\n※2レッスン受講の場合通常￥5000のところ￥4000/1dとなります。
URL:https://dance.gdp22.com/event/dance-16649/2026-03-01/
LOCATION:藤沢LATIN GABANA\, 神奈川県藤沢市南藤沢23-10 光会館ビル4F\, 藤沢\, 251-0055\, 日本
CATEGORIES:サルサon1
ATTACH;FMTTYPE=image/jpeg:https://dance.gdp22.com/wp-content/uploads/image-13.jpg
END:VEVENT
BEGIN:VEVENT
DTSTART;TZID=Asia/Tokyo:20260301T170000
DTEND;TZID=Asia/Tokyo:20260301T180000
DTSTAMP:20260422T205630
CREATED:20220722T014926Z
LAST-MODIFIED:20220729T060600Z
UID:10245782-1772384400-1772388000@dance.gdp22.com
SUMMARY:GABANAサルサ2（on1)Every Sunday  By HIROSHI
DESCRIPTION:【毎週日曜日】サルサ　Every Sunday　初心者歓迎 \nメロウな日曜湘南サルサは、毎週日曜日に開催しています。 \n特に、日曜日レッスンは初心者大歓迎。初心者にやさしいサルサ(on1)レッスンを開講しています。 \n◆16:00～17:00◆lesson(on1・入門) \n◇17:00～18:00◇lesson(on1・初心者) \n◆18:00～19:00◆フリータイム1◆￥1600/1d \n◇19:00～20:00◇lesson(on1・中級) \n◆20:00～◆フリータイム2◆￥1600/1d \n  \n1レッスン￥2500/1d(チャージ込)\n※2レッスン受講の場合通常￥5000のところ￥4000/1dとなります。
URL:https://dance.gdp22.com/event/dance-16662/2026-03-01/
LOCATION:藤沢LATIN GABANA\, 神奈川県藤沢市南藤沢23-10 光会館ビル4F\, 藤沢\, 251-0055\, 日本
CATEGORIES:サルサon1
ATTACH;FMTTYPE=image/jpeg:https://dance.gdp22.com/wp-content/uploads/image-14.jpg
END:VEVENT
BEGIN:VEVENT
DTSTART;TZID=Asia/Tokyo:20260301T184500
DTEND;TZID=Asia/Tokyo:20260301T233000
DTSTAMP:20260422T205630
CREATED:20260227T063711Z
LAST-MODIFIED:20260227T063711Z
UID:10235441-1772390700-1772407800@dance.gdp22.com
SUMMARY:PEPE BACHATA SOCIAL
DESCRIPTION:3/1(日)　PEPE BACHATA SOCIAL\nhttps://www.facebook.com/events/1865504947276361/ \n  \nPEPE BACHATA SOCIAL English below\n六本木の人気スポット、スタジオPEPEでバチャータを楽しもう！踊りやすいフロアと広々のスペースで沢山踊りましょう\n選曲はDJ Ryuセレクトのバチャータを中心にサルサやキゾンバも流しますレッスンはRyu & MayuによるSENSUAL BACHATA とRyuによるTRADITIONAL BACHATA FOOTWORKです\n華やかなゲストダンサーがフロア盛り上げてくれますBattaDaleKeitaNatsumiYoshieYuiYuka\n■日時：第1、第2、第4日曜日18:45 オープン19:00 トラディショナルバチャータ又はキゾンバレッスン19:40 センシュアルバチャータレッスン20:30-23:30ソーシャル\n■場所：Studio PEPEhttps://maps.app.goo.gl/DgyaQU9uX9hPHLXT6\n■料金 （1ドリンク付）-レッスン2コマ：¥3\,500 （パーティー込み）-レッスン1コマ：¥3\,000 （パーティー込み）-パーティーのみ：¥2\,000お支払いは現金のみとなりました。振替チケットご利用可能。\n\nPEPE BACHATA SOCIALBachata social held a Studio PEPE in Roppongi.\n■Date: 1st\, 2nd & 4th Sundays18:45 Open19:00 Tradicional Bachata or Kizomba Lesson19:40 Sensual Bachata Lesson20:30-23:30 Social\n■Place: Studio PEPEhttps://maps.app.goo.gl/DgyaQU9uX9hPHLXT6\n■Fee (1 drink included)-2 Lesson: 3\,500yen (Party included)-1 Lesson: 3\,000yen (Party included)-Party only: 2000yenCash onlyFurikae tickets can be used\nInfohttps://linktr.ee/palantedance
URL:https://dance.gdp22.com/event/pepe-bachata-social-2024-06-02-2024-09-01-2024-11-03-2025-01-05-11/
LOCATION:六本木スタジオペペ\, 東京都港区六本木７丁目１７−１２ 六本木ビジネスアパートメンツ\, 六本木\, 106-0032\, 日本
CATEGORIES:サルサon1,センシュアルバチャータ,サルサon2,ドミニカンバチャータ
ATTACH;FMTTYPE=image/jpeg:https://dance.gdp22.com/wp-content/uploads/0301-2.jpg
END:VEVENT
BEGIN:VEVENT
DTSTART;TZID=Asia/Tokyo:20260301T190000
DTEND;TZID=Asia/Tokyo:20260301T200000
DTSTAMP:20260422T205630
CREATED:20220722T015253Z
LAST-MODIFIED:20220729T060833Z
UID:10246344-1772391600-1772395200@dance.gdp22.com
SUMMARY:GABANAサルサ3（on1)Every Sunday  By HIROSHI
DESCRIPTION:【毎週日曜日】サルサ　Every Sunday　初心者歓迎 \nメロウな日曜湘南サルサは、毎週日曜日に開催しています。 \n特に、日曜日レッスンは初心者大歓迎。初心者にやさしいサルサ(on1)レッスンを開講しています。 \n◆16:00～17:00◆lesson(on1・入門) \n◇17:00～18:00◇lesson(on1・初心者) \n◆18:00～19:00◆フリータイム1◆￥1600/1d \n◇19:00～20:00◇lesson(on1・中級) \n◆20:00～◆フリータイム2◆￥1600/1d \n  \n1レッスン￥2500/1d(チャージ込)\n※2レッスン受講の場合通常￥5000のところ￥4000/1dとなります。
URL:https://dance.gdp22.com/event/dance-16768/2026-03-01/
LOCATION:藤沢LATIN GABANA\, 神奈川県藤沢市南藤沢23-10 光会館ビル4F\, 藤沢\, 251-0055\, 日本
CATEGORIES:サルサon1
ATTACH;FMTTYPE=image/jpeg:https://dance.gdp22.com/wp-content/uploads/image-15.jpg
END:VEVENT
BEGIN:VEVENT
DTSTART;TZID=Asia/Tokyo:20260302T190000
DTEND;TZID=Asia/Tokyo:20260302T193000
DTSTAMP:20260422T205630
CREATED:20220704T014754Z
LAST-MODIFIED:20220729T033809Z
UID:10232071-1772478000-1772479800@dance.gdp22.com
SUMMARY:サルサOn1スタイル (入門ステップ）By Kimi
DESCRIPTION:★初心者さんいらっしゃい★\n19:00-19:30　入門ステップ　無料 \n※レッスン後はDJタイム\n※別途エントランス1500円1ドリンク付き\n但し 6級カード提示で200円OFF
URL:https://dance.gdp22.com/event/dance-10069/2026-03-02/
LOCATION:銀座ラス・リサス\, 東京都中央区銀座8-12-6 小野商ビルB1F\, 銀座\, 104-0061\, 日本
CATEGORIES:サルサon1
ORGANIZER;CN="Kimi (Salsalion)":MAILTO:japan@kmicco.com
END:VEVENT
BEGIN:VEVENT
DTSTART;TZID=Asia/Tokyo:20260302T193000
DTEND;TZID=Asia/Tokyo:20260302T203000
DTSTAMP:20260422T205630
CREATED:20220704T015326Z
LAST-MODIFIED:20220704T015326Z
UID:10232285-1772479800-1772483400@dance.gdp22.com
SUMMARY:サルサOn1スタイル(初心～初級ペア) By Kimi
DESCRIPTION:19:30-20:30　初心～初級ペア　1000円 \n※レッスン後はDJタイム\n※別途エントランス1500円1ドリンク付き\n但し 6級カード提示で200円OFF
URL:https://dance.gdp22.com/event/dance-10086/2026-03-02/
LOCATION:銀座ラス・リサス\, 東京都中央区銀座8-12-6 小野商ビルB1F\, 銀座\, 104-0061\, 日本
CATEGORIES:サルサon1
ORGANIZER;CN="Kimi (Salsalion)":MAILTO:japan@kmicco.com
END:VEVENT
BEGIN:VEVENT
DTSTART;TZID=Asia/Tokyo:20260302T203000
DTEND;TZID=Asia/Tokyo:20260302T204000
DTSTAMP:20260422T205630
CREATED:20220704T015547Z
LAST-MODIFIED:20220729T034320Z
UID:10232401-1772483400-1772484000@dance.gdp22.com
SUMMARY:サルサOn1スタイル(サルサダンス検定6級） By Kimi
DESCRIPTION:20:30-20:40　サルサダンス検定6級 \n※レッスン後はDJタイム\n※別途エントランス1500円1ドリンク付き\n但し 6級カード提示で200円OFF
URL:https://dance.gdp22.com/event/dance-10098/2026-03-02/
LOCATION:銀座ラス・リサス\, 東京都中央区銀座8-12-6 小野商ビルB1F\, 銀座\, 104-0061\, 日本
CATEGORIES:サルサon1
ORGANIZER;CN="Kimi (Salsalion)":MAILTO:japan@kmicco.com
END:VEVENT
BEGIN:VEVENT
DTSTART;TZID=Asia/Tokyo:20260303T131500
DTEND;TZID=Asia/Tokyo:20260303T143000
DTSTAMP:20260422T205630
CREATED:20220718T015242Z
LAST-MODIFIED:20220907T032920Z
UID:10238671-1772543700-1772548200@dance.gdp22.com
SUMMARY:平日昼間のSalsa lesson ＆ Party By Zakiyama
DESCRIPTION:銀座ラスリサスでの平日お昼間のSalsa lesson&Party!!\n毎週火曜日開催です。\nお昼間が都合の良い方、又は外出中やテレワークでちょっと休憩で踊りたい方(笑)\nお近くにいる方は是非お立ち寄りください? \n13:00 Open\n13:15-14:30 Salsa On1 lesson by Zakiyama \n初めての方も大歓迎\nエントランス:2000yen(レッスン込み)/1D付き
URL:https://dance.gdp22.com/event/dance-14642/2026-03-03/
LOCATION:銀座ラス・リサス\, 東京都中央区銀座8-12-6 小野商ビルB1F\, 銀座\, 104-0061\, 日本
CATEGORIES:サルサon1
END:VEVENT
BEGIN:VEVENT
DTSTART;TZID=Asia/Tokyo:20260303T190000
DTEND;TZID=Asia/Tokyo:20260303T230000
DTSTAMP:20260422T205630
CREATED:20260303T011723Z
LAST-MODIFIED:20260303T011723Z
UID:10291794-1772564400-1772578800@dance.gdp22.com
SUMMARY:ペアダンスでPono(Well-being)になろう ＼“超”入門だからこそ、今日から始めやすい！／
DESCRIPTION:＼“超”入門だからこそ、今日から始めやすい！／ \n  \n「行こうかな…どうしようかな…」と思っていた方、 \n迷ってたなら、**今日がその日！**です☺️✨ \nまた、サルサなんてもう無理、やめようと思った人にこそ来ていただきたいやさしいレッスンです。 \n  \n★入門クラス \n入門ステップ＆ペア \n  \n★基礎クラス \nスポットターン \n  \n★応用クラス \nスポットターンの応用をいれたルーティン \n  \n🟡 対象ダンスジャンル \nサルサ／バチャータ／メレンゲ（ラテンのリズムで自然に体が動く♪） \n🧡 こんな方にピッタリ！ \n・ペアダンスはじめての方 \n・久しぶりに踊ってみたい方 \n・おひとりでも、もちろんOK！ \n📍会場：両国 スペースポノ \n  \n🕢スケジュール：19:00〜 \n・19:00-19:30｜超入門クラス 無料 \nはじめてでも安心！基本のステップからゆっくり \n・19:30-20:15｜基礎クラス 1500円 \nステップ＆リード・フォロー、1つの技に集中！ \n・20:15-21:15｜応用クラス 2000円 \n入門・基礎を発展させた8クラーベ前後のルーティン \n・21:15-23:00｜パーティー 1000円 \n習ったことを試したり、おしゃべりしたり自由に♪ \n【お得なセット割】 \n・「基礎クラス(19:30〜)」と「応用クラス(20:15〜)」セット受講で500円OFFの¥3\,000（パーティー込み） \n・動画視聴付き4回パック（2ヶ月有効） ¥15\,000 \n🎶どこからでも参加OK！複数受講割あり \n  \n  \n📌 参加ポイント \n・どの回からでも参加OK（完結型） \n・予約不要／ふらっと参加大歓迎 \n・お酒やドリンク持ち込みOK（隣がローソンストア100！） \n・上履き推奨（なければ外靴の裏を拭けばOK） \n👭 お友達や同僚にもぜひご紹介ください！ \n一緒のご参加も大歓迎です😊 \n🔗 詳細はこちら： \nhttps://dance.gdp22.com/tue-kimi/ \n#サルサ #バチャータ #メレンゲ #ペアダンス #初心者歓迎 #両国 #スペースポノ #本日開催 #予約不要 #ラテンダンス
URL:https://dance.gdp22.com/event/dance-100895-35/
LOCATION:両国スペースポノ(旧ハッピーターン)\, 墨田区両国4-18-4 グレイス両国203号\, 両国\, 130-0026
CATEGORIES:サルサon1
ATTACH;FMTTYPE=image/png:https://dance.gdp22.com/wp-content/uploads/00_tue-kimi5.png
ORGANIZER;CN="Kimi (Salsalion)":MAILTO:japan@kmicco.com
END:VEVENT
BEGIN:VEVENT
DTSTART;TZID=Asia/Tokyo:20260303T193000
DTEND;TZID=Asia/Tokyo:20260303T210000
DTSTAMP:20260422T205630
CREATED:20221025T090633Z
LAST-MODIFIED:20221025T092331Z
UID:10282022-1772566200-1772571600@dance.gdp22.com
SUMMARY:門仲サルサ部
DESCRIPTION:基本的に毎週火曜日19:30から21:00までやっています。 \n初心者の方を中心にサルサの練習を有志でまったりしています。 \nサルサ未経験者の方大歓迎です。 \n気軽にサルサを始められる登竜門を目指しています \n月に1度、いろいろなラテンバーやクラブにみんなで遠征に行っています。 \nそのためお休みなることがあるので、詳細はお問い合わせください。 \nFacebookページCafe Itouleよりお問い合わせください。 \n 
URL:https://dance.gdp22.com/event/dance-38717/2026-03-03/
LOCATION:門前仲町Cafe Itoule (カフェ イトゥール)\, 江東区永代2-31-16\, 東京\, 135-0034\, 日本
CATEGORIES:サルサon1
END:VEVENT
BEGIN:VEVENT
DTSTART;TZID=Asia/Tokyo:20260303T200000
DTEND;TZID=Asia/Tokyo:20260303T210000
DTSTAMP:20260422T205630
CREATED:20220722T011521Z
LAST-MODIFIED:20220729T061044Z
UID:10247217-1772568000-1772571600@dance.gdp22.com
SUMMARY:GABANAサルサ（on1）Tuesday   By HIROSHI
DESCRIPTION:【火曜日】サルサ（on1）Tuesday By HIROSHI \n◆lesson(on1：Salsa初級) \n◆20:00～21:00 \n◆￥2500/1d(ﾁｬｰｼﾞ込) \n※急な内容変更もあります。 \n  \nグループレッスン終わりでパーティータイムです \n→ ￥2\,000（１ドリンク付・税込）
URL:https://dance.gdp22.com/event/dance-16541/2026-03-03/
LOCATION:藤沢LATIN GABANA\, 神奈川県藤沢市南藤沢23-10 光会館ビル4F\, 藤沢\, 251-0055\, 日本
CATEGORIES:サルサon1
ATTACH;FMTTYPE=image/jpeg:https://dance.gdp22.com/wp-content/uploads/image-11.jpg
END:VEVENT
BEGIN:VEVENT
DTSTART;TZID=Asia/Tokyo:20260304T190000
DTEND;TZID=Asia/Tokyo:20260304T193000
DTSTAMP:20260422T205630
CREATED:20220706T022105Z
LAST-MODIFIED:20220729T042942Z
UID:10233072-1772650800-1772652600@dance.gdp22.com
SUMMARY:毎週水曜日  銀座ラスリサス(サルサon1) 初心者~初級(無料)By RIE
DESCRIPTION:オープンクラス\n☆毎週水曜日  銀座ラスリサス\n※別途エントランス¥1\,000(1drink付き)かかります。 \n※20:30~はフリータイムです。
URL:https://dance.gdp22.com/event/dance-10281/2026-03-04/
LOCATION:銀座ラス・リサス\, 東京都中央区銀座8-12-6 小野商ビルB1F\, 銀座\, 104-0061\, 日本
CATEGORIES:サルサon1
ATTACH;FMTTYPE=image/jpeg:https://dance.gdp22.com/wp-content/uploads/003.jpg
ORGANIZER;CN="RIE":MAILTO:narie925@gmail.com
END:VEVENT
BEGIN:VEVENT
DTSTART;TZID=Asia/Tokyo:20260304T193000
DTEND;TZID=Asia/Tokyo:20260304T203000
DTSTAMP:20260422T205630
CREATED:20220706T023500Z
LAST-MODIFIED:20220729T043604Z
UID:10233129-1772652600-1772656200@dance.gdp22.com
SUMMARY:毎週水曜日  銀座ラスリサス(サルサon1)初級~初中級 By RIE
DESCRIPTION:オープンクラス\n☆毎週水曜日  銀座ラスリサス　\n※別途エントランス¥1\,000(1drink付き)かかります。 \n※20:30~はフリータイムです。
URL:https://dance.gdp22.com/event/dance-10438/2026-03-04/
LOCATION:銀座ラス・リサス\, 東京都中央区銀座8-12-6 小野商ビルB1F\, 銀座\, 104-0061\, 日本
CATEGORIES:サルサon1
ATTACH;FMTTYPE=image/jpeg:https://dance.gdp22.com/wp-content/uploads/003-1.jpg
ORGANIZER;CN="RIE":MAILTO:narie925@gmail.com
END:VEVENT
BEGIN:VEVENT
DTSTART;TZID=Asia/Tokyo:20260304T193000
DTEND;TZID=Asia/Tokyo:20260304T230000
DTSTAMP:20260422T205630
CREATED:20220919T060902Z
LAST-MODIFIED:20220929T175601Z
UID:10265354-1772652600-1772665200@dance.gdp22.com
SUMMARY:TAMU Salsa lesson ＆ Party
DESCRIPTION:毎週水曜　サルサ基礎/ペアワーク\n●時間\n19:30〜20:00 lesson\n20:30〜23:00 party \n⚫︎料金\nlesson party ¥2000(w1drink)\nparty only ¥1100(w1drink) \n●会場／大阪 サルサ エル リンコン ラティーノ なんば 難波 心斎橋\n中央区心斎橋筋2-6-8 シャンペンジャムビル4F \nきめ細かいアドバイスが好評のTAMU先生のレッスン❣⃛\nパーティタイムも気軽に質問等に答えてくれたり、踊ってくれたりと\n初心者の方からベテランさんまで楽しめます。 \nまた、みなさんとてもフレンドリーで初めての方でもすぐに馴染んでいただける\nアットホームなレッスン&パーティです☺️ \nEL RINCON LATINO(大阪)
URL:https://dance.gdp22.com/event/dance-34876/2026-03-04/
LOCATION:EL RINCON LATINO(大阪)\, 大阪府大阪市中央区心斎橋筋２丁目６−８ シャンペンジャムビル 4F\, 大阪\, 542-0085\, 日本
CATEGORIES:サルサon1,サルサ全般
ATTACH;FMTTYPE=image/jpeg:https://dance.gdp22.com/wp-content/uploads/b8149babd26f7df0def1ebb385ea59f9d6d92583-1.jpg
END:VEVENT
BEGIN:VEVENT
DTSTART;TZID=Asia/Tokyo:20260304T200000
DTEND;TZID=Asia/Tokyo:20260304T210000
DTSTAMP:20260422T205630
CREATED:20220531T013242Z
LAST-MODIFIED:20220531T020125Z
UID:10214509-1772654400-1772658000@dance.gdp22.com
SUMMARY:Salsa ON1 初中級 by Yukiko
DESCRIPTION:Salsa ON1 初中級 by Yukiko\nSalsa ON1 初中級	1\,000円\n※別途クラブエントランス1\,000円/w1d
URL:https://dance.gdp22.com/event/dance-6201/2026-03-04/
LOCATION:新宿クラブ レオン(B1F)\, 東京都新宿区新宿５－１７－６ Ｂ１\, 東京\, 160-0022\, 日本
CATEGORIES:サルサon1
ATTACH;FMTTYPE=image/jpeg:https://dance.gdp22.com/wp-content/uploads/event_Wed_2205s-1.jpg
END:VEVENT
BEGIN:VEVENT
DTSTART;TZID=Asia/Tokyo:20260305T133000
DTEND;TZID=Asia/Tokyo:20260305T150000
DTSTAMP:20260422T205630
CREATED:20220706T025354Z
LAST-MODIFIED:20220919T021220Z
UID:10233243-1772717400-1772722800@dance.gdp22.com
SUMMARY:お昼のレッスン(SalsaOn1)@藤沢マリソル By RIE
DESCRIPTION:SALSA&BACHATA\nお昼のレッスン@藤沢 \n毎週木曜の午後に藤沢MARISOLにてRIEのレッスンが始まりました！！ \nたっぷり１時間半、鏡のある広々したスタジオでサルサ＆バチャータが学べます。 \n毎週木曜日 13:30-15:00  (休講の場合は、別途お知らせいたします。) \n第1・３木曜日→Salsa on1 \n第2・４木曜日→Bachata \nレッスン料　¥2000 \n  \nDance Studio MARISOL \n神奈川県藤沢市鵠沼東4-6-3F
URL:https://dance.gdp22.com/event/dance-10482/2026-03-05/
LOCATION:ダンススタジオマリソル（藤沢）\, 神奈川県藤沢市鵠沼東４−６ 3F\, 藤沢\, 日本
CATEGORIES:サルサon1
ATTACH;FMTTYPE=image/jpeg:https://dance.gdp22.com/wp-content/uploads/002.jpg
ORGANIZER;CN="RIE":MAILTO:narie925@gmail.com
END:VEVENT
BEGIN:VEVENT
DTSTART;TZID=Asia/Tokyo:20260305T173000
DTEND;TZID=Asia/Tokyo:20260305T183000
DTSTAMP:20260422T205630
CREATED:20220624T021411Z
LAST-MODIFIED:20220801T081835Z
UID:10230429-1772731800-1772735400@dance.gdp22.com
SUMMARY:Salsa Kids Class By HIDE＆PEKO
DESCRIPTION:Salsa Kids Class\n\n\n\n​受講生随時募集中！\n\n​  毎週 木曜日  17:30 – 18:30（1h） \n\n\n​@Studio Mission 渋谷 \n\n\n​講師：HIDE\, PEKO\n\n\n月謝 ¥8\,000- / 4回 \n\n\n​初回は1000円で体験レッスンができます！\n\n\n​対象者：6才から12才までの男女 \n\n\n​＊月初めのレッスンで、その月の月謝のお支払いをお願いいたします。 \n\n\n＊受講者のご都合でお休みされる場合は、月謝の返還は致しかねます。（コロナウイルスが理由の場合も同等です。東京都からのジムなどの休業要請が出た場合は休講となります。その場合は開講できなかった分を返金致します。） \n\n\n​＊レッスンに集中して頂けるように、保護者のご見学はお断りしておりますので、ご了承ください。 \n\n\n子どもならではの柔軟な身体と吸収率を使って、楽しいだけではなく、しっかりと踊れるように指導いたします。​ \nサルサのジャンルは「Salsa On1 / LAスタイル」です。 \n​サルサのステップ、ムーブメント、ターン、ペアワークを振り付けを通じて全てのダンスジャンルの基礎となる技術を学んでいきます！
URL:https://dance.gdp22.com/event/dance-8554/2026-03-05/
LOCATION:渋谷studioMISSION\, 東京都渋谷区道玄坂2-10-12 新大宗ビル4号館 B2F 7F 8F 9F\, 渋谷\, 150-0043\, 日本
CATEGORIES:サルサon1
ATTACH;FMTTYPE=image/png:https://dance.gdp22.com/wp-content/uploads/Blessings-on-your-Babys-Baptism.png
END:VEVENT
BEGIN:VEVENT
DTSTART;TZID=Asia/Tokyo:20260305T190000
DTEND;TZID=Asia/Tokyo:20260305T230000
DTSTAMP:20260422T205630
CREATED:20220718T171509Z
LAST-MODIFIED:20220718T173436Z
UID:10243037-1772737200-1772751600@dance.gdp22.com
SUMMARY:BUENA SALSA SOCIAL CLUB＠JBA
DESCRIPTION:BUENA SALSA SOCIAL CLUB\n(ブエナ サルサ ソシアル クラブ、素敵なサルサの社交場） \n昇天イベント☆アタルンバ主催のATARUです、スタジオJBAでLAサルサ(ON1)レッスンを始めます☆\nオープンして一年の綺麗でお洒落なスタジオでペアダンス、サルサを学びませんか☆\n男女が音楽を共有、シンクロし、言葉ではない心身のコミュニケーションを取り、\n日常生活で抑えてる情念、情感を開放し、魂を昇天させるペアダンス、それがサルサです☆ \n浮き世の不景気、政治不信、蔓延する生きて行く事に対する不安感、ストレス、倦怠感、苛立ち、\nそれらを吹き飛ばし、力強く前向きに生きて行く為にもサルサを始めませんか！\n☆きっと自分の中に新たな違う自分を発見するはずです☆\n生活に情熱のソース(サルサ)をぶっかけて味わい深い人生を歩みましょう！\nそのスタートとしてレッスンはステップワークを怠る事なく、\nペアがお互いに踊りやすいと感じられるようになる事にポイントを当てて、\n復習を繰り返しながら進めて行くつもりです☆\nさあ、一歩踏み出してラテン音楽に身を任せましょう！ \nレッスンの後は２時間のフリーダンスタイムを用意してあります☆\n僕もラストまで踊りまくるので、お気軽におこし下さい。 \n————————————————————–\n★開催日：【毎月第１、２、４木曜日】\n★開催時間：１９：００～２３：００ \n【タイムテーブル】\n19:00～19:30：未経験者&超初心者の為の個人レッスン\n19:30～20:00：ストレッチ、ムーブメント、ステップワーク(メレンゲ、サルサ、バチャータ)\n20:00～21:00：初中級サルサのペアワーク\n(ルーティーンは参加者のレベルに合わせた前回の復習を含んだものになります☆)\n21:00～23:00：フリーダンスタイム\n☆曲はATARU選曲によるLAスタイル向き、珠玉の懐メロ&ロマンティカが流れます。11時昇天☆ \n【参加費】\n２時間レッスン＋フリーダンスタイムはワンドリンク付き2000円\nフリーダンスタイムオンリーはワンドリンク付きで1000円\nソフトドリンクは常備されており飲み放題です☆\n他のドリンク類の持ち込みもOKです☆ 気軽に遊びに来て下さい。
URL:https://dance.gdp22.com/event/dance-15197/2026-03-05/
LOCATION:小伝馬町スタジオJBA\, 東京都中央区日本橋大伝馬町１１−８ ＨＡＴビル B1F\, 小伝馬町\, 103-0011\, 日本
CATEGORIES:サルサon1,メレンゲ,バチャータ全般
END:VEVENT
BEGIN:VEVENT
DTSTART;TZID=Asia/Tokyo:20260305T190000
DTEND;TZID=Asia/Tokyo:20260305T230000
DTSTAMP:20260422T205630
CREATED:20251230T024153Z
LAST-MODIFIED:20251230T024153Z
UID:10300186-1772737200-1772751600@dance.gdp22.com
SUMMARY:BUENA SALSA SOCIAL CLUB＠JBA
DESCRIPTION:BUENA SALSA SOCIAL CLUB\n(ブエナ サルサ ソシアル クラブ、素敵なサルサの社交場） \n昇天イベント☆アタルンバ主催のATARUです、スタジオJBAでLAサルサ(ON1)レッスンを始めます☆\nオープンして一年の綺麗でお洒落なスタジオでペアダンス、サルサを学びませんか☆\n男女が音楽を共有、シンクロし、言葉ではない心身のコミュニケーションを取り、\n日常生活で抑えてる情念、情感を開放し、魂を昇天させるペアダンス、それがサルサです☆ \n浮き世の不景気、政治不信、蔓延する生きて行く事に対する不安感、ストレス、倦怠感、苛立ち、\nそれらを吹き飛ばし、力強く前向きに生きて行く為にもサルサを始めませんか！\n☆きっと自分の中に新たな違う自分を発見するはずです☆\n生活に情熱のソース(サルサ)をぶっかけて味わい深い人生を歩みましょう！\nそのスタートとしてレッスンはステップワークを怠る事なく、\nペアがお互いに踊りやすいと感じられるようになる事にポイントを当てて、\n復習を繰り返しながら進めて行くつもりです☆\nさあ、一歩踏み出してラテン音楽に身を任せましょう！ \nレッスンの後は２時間のフリーダンスタイムを用意してあります☆\n僕もラストまで踊りまくるので、お気軽におこし下さい。 \n————————————————————–\n★開催日：【毎月第１、２、４木曜日】\n★開催時間：１９：００～２３：００ \n【タイムテーブル】\n19:00～19:30：未経験者&超初心者の為の個人レッスン\n19:30～20:00：ストレッチ、ムーブメント、ステップワーク(メレンゲ、サルサ、バチャータ)\n20:00～21:00：初中級サルサのペアワーク\n(ルーティーンは参加者のレベルに合わせた前回の復習を含んだものになります☆)\n21:00～23:00：フリーダンスタイム\n☆曲はATARU選曲によるLAスタイル向き、珠玉の懐メロ&ロマンティカが流れます。11時昇天☆ \n【参加費】\n２時間レッスン＋フリーダンスタイムはワンドリンク付き2000円\nフリーダンスタイムオンリーはワンドリンク付きで1000円\nソフトドリンクは常備されており飲み放題です☆\n他のドリンク類の持ち込みもOKです☆ 気軽に遊びに来て下さい。
URL:https://dance.gdp22.com/event/dance-118738/2026-03-05/
LOCATION:小伝馬町スタジオJBA\, 東京都中央区日本橋大伝馬町１１−８ ＨＡＴビル B1F\, 小伝馬町\, 103-0011\, 日本
CATEGORIES:サルサon1,メレンゲ,バチャータ全般
END:VEVENT
BEGIN:VEVENT
DTSTART;TZID=Asia/Tokyo:20260305T193000
DTEND;TZID=Asia/Tokyo:20260305T203000
DTSTAMP:20260422T205630
CREATED:20220520T020853Z
LAST-MODIFIED:20220725T034938Z
UID:10211283-1772739000-1772742600@dance.gdp22.com
SUMMARY:入門・初級​ON1サルサダンス (Beginner ON1 Salsa Dance)
DESCRIPTION:木曜日 Thursday​\n19:30~20:30\n入門・初級​ON1サルサダンス\nBeginner ON1 Salsa Dance\n♪体験レッスン受講可能クラス\n♪Trial lesson is available \nサルサダンスのベーシックステップ＆\nボディームーブメントからサルサダンスペアワーク迄\n\n✨体験レッスン✨​初回のみ\n￥500ご予約が必要です\n\n\n​ご予約先pedrolosvalientes@gmail.com\n​080-2522-1108
URL:https://dance.gdp22.com/event/dance-4779/2026-03-05/
LOCATION:神戸 Dance&Art Space　SORA to UMI\, 神戸市中央区中山手通3-10-5 2F\, 神戸\, 650-0004\, 日本
CATEGORIES:サルサon1
ORGANIZER;CN="Pedro":MAILTO:​pedrolosvalientes@gmail.com
END:VEVENT
BEGIN:VEVENT
DTSTART;TZID=Asia/Tokyo:20260305T193000
DTEND;TZID=Asia/Tokyo:20260305T203000
DTSTAMP:20260422T205630
CREATED:20220603T013655Z
LAST-MODIFIED:20220603T013655Z
UID:10219326-1772739000-1772742600@dance.gdp22.com
SUMMARY:BETO (CALI-COLOMBIA) サルサOn1 Level2
DESCRIPTION:BETO SENSEY SALSA 2006年にコロンビアよりカリサルサ普及のため来日。\n元世界チャンピオンとして自身の躍動感溢れるパフォーマンス、また個人のレべルに合わせた丁寧な指導により日本チャンピオンぺアを育てるなど、年齢に関わらず生徒たちから絶大な人気を誇る日本サルサ界のトップダンサー。\n19:30-20:30 サルサOn1 Level2 2500円\n連続2レッスン受講の場合は3500円
URL:https://dance.gdp22.com/event/dance-6705/2026-03-05/
LOCATION:新宿スタジオレオン(2F)\, 東京都新宿区新宿 5-17-6　2F\, 新宿\, 160-0022\, 日本
CATEGORIES:サルサon1
ATTACH;FMTTYPE=image/jpeg:https://dance.gdp22.com/wp-content/uploads/img_BETO.jpg
END:VEVENT
BEGIN:VEVENT
DTSTART;TZID=Asia/Tokyo:20260305T193000
DTEND;TZID=Asia/Tokyo:20260305T203000
DTSTAMP:20260422T205630
CREATED:20241216T232326Z
LAST-MODIFIED:20241216T232326Z
UID:10233357-1772739000-1772742600@dance.gdp22.com
SUMMARY:Citta De La Salsa in 川崎 Lesson ByNamio Salsa
DESCRIPTION:【Citta De La Salsa in 川崎】\n★川崎citta atticでのサルサイベントが\nNamio Naomi先生のレッスンとともに\n毎月第1、第3木曜日に復活開催です〜！ \n★Open/19:30 　　　Close/23:00\n￥1\,500（1D）Lesson ＋￥1\,000\nNaomi Salasa On1 初中級lesson　19:30〜20:30 (￥1\,000）\nSalsa Party　20:30〜23:00￥1500(w1d)\nDJ You (Salsa&Bachata) \n★会場：川崎LA CIITA DELLA内　ATTIC BAR　2F\nhttp://clubcitta-attic.com/\n住所：川崎市川崎区小川町5-7 CIITA DELLA川崎内ATTIC BAR(2F) \n★川崎にも、サルサを熱く！楽しく！気軽に踊れるイベントがありますよ！\n川崎 CLUB CITTA の2F ATTIC BARにてサルサパーティー開催！！\n★会場は天井が高く開放感ある素敵なDJバーで音響設備も抜群です！\n★初心者の方にも優しく、On1メインで踊りやすい曲で楽しめます！\n初めての方、お一人の方、女性同士の方でも安心して踊れます。\nゆったりと2時間半、たっぷり踊れます！\n毎月第1\,第3木曜日の夜は、東京と横浜の中間川崎、Citta De La Salsaへ是非遊びにいらしてください！\n※マスクの着用、検温、消毒にご協力ください。\n※大きな声での会話等はお控えください。
URL:https://dance.gdp22.com/event/dance-7213/2026-03-05/
LOCATION:川崎citta attic\, 神奈川県川崎市川崎区小川町 5-7 2F\, 川崎\, 210-0023\, 日本
CATEGORIES:サルサon1
ATTACH;FMTTYPE=image/jpeg:https://dance.gdp22.com/wp-content/uploads/283857304_4848189995287350_5414652923899820490_ncitta.jpg
END:VEVENT
BEGIN:VEVENT
DTSTART;TZID=Asia/Tokyo:20260305T200000
DTEND;TZID=Asia/Tokyo:20260305T210000
DTSTAMP:20260422T205630
CREATED:20220731T191110Z
LAST-MODIFIED:20220731T195525Z
UID:10250440-1772740800-1772744400@dance.gdp22.com
SUMMARY:KEIKOsalsaON１初級
DESCRIPTION:KEIKOsalsaON１初級 \n20：00～21：00 \n2500円ｗ1ｄ \n 
URL:https://dance.gdp22.com/event/dance-26910/2026-03-05/
LOCATION:亀戸ルシファーLucifer\, 東京都江東区亀戸2ｰ25-3小黒ビル403\, 亀戸\, 136-0071\, 日本
CATEGORIES:サルサon1
ATTACH;FMTTYPE=image/jpeg:https://dance.gdp22.com/wp-content/uploads/294555312_468422838619520_7904066720175893066_n-1.jpg
END:VEVENT
BEGIN:VEVENT
DTSTART;TZID=Asia/Tokyo:20260305T203000
DTEND;TZID=Asia/Tokyo:20260305T213000
DTSTAMP:20260422T205630
CREATED:20220520T021041Z
LAST-MODIFIED:20220725T035035Z
UID:10211531-1772742600-1772746200@dance.gdp22.com
SUMMARY:初級ON1サルサダンス ​(ON1 Salsa Dance)
DESCRIPTION:​木曜日 Thursday\n20:30~21:30\n​初級ON1サルサダンス\n​ON1 Salsa Dance
URL:https://dance.gdp22.com/event/dance-4791/2026-03-05/
LOCATION:神戸 Dance&Art Space　SORA to UMI\, 神戸市中央区中山手通3-10-5 2F\, 神戸\, 650-0004\, 日本
CATEGORIES:サルサon1
ORGANIZER;CN="Pedro":MAILTO:​pedrolosvalientes@gmail.com
END:VEVENT
END:VCALENDAR