BEGIN:VCALENDAR
VERSION:2.0
PRODID:-//Dancing Pono (ダンシングポノ) - ECPv6.15.12//NONSGML v1.0//EN
CALSCALE:GREGORIAN
METHOD:PUBLISH
X-WR-CALNAME:Dancing Pono (ダンシングポノ)
X-ORIGINAL-URL:https://dance.gdp22.com
X-WR-CALDESC:Dancing Pono (ダンシングポノ) のイベント
REFRESH-INTERVAL;VALUE=DURATION:PT1H
X-Robots-Tag:noindex
X-PUBLISHED-TTL:PT1H
BEGIN:VTIMEZONE
TZID:Asia/Tokyo
BEGIN:STANDARD
TZOFFSETFROM:+0900
TZOFFSETTO:+0900
TZNAME:JST
DTSTART:20240101T000000
END:STANDARD
END:VTIMEZONE
BEGIN:VEVENT
DTSTART;TZID=Asia/Tokyo:20250901T190000
DTEND;TZID=Asia/Tokyo:20250901T193000
DTSTAMP:20260423T072946
CREATED:20220704T014754Z
LAST-MODIFIED:20220729T033809Z
UID:10232045-1756753200-1756755000@dance.gdp22.com
SUMMARY:サルサOn1スタイル (入門ステップ）By Kimi
DESCRIPTION:★初心者さんいらっしゃい★\n19:00-19:30　入門ステップ　無料 \n※レッスン後はDJタイム\n※別途エントランス1500円1ドリンク付き\n但し 6級カード提示で200円OFF
URL:https://dance.gdp22.com/event/dance-10069/2025-09-01/
LOCATION:銀座ラス・リサス\, 東京都中央区銀座8-12-6 小野商ビルB1F\, 銀座\, 104-0061\, 日本
CATEGORIES:サルサon1
ORGANIZER;CN="Kimi (Salsalion)":MAILTO:japan@kmicco.com
END:VEVENT
BEGIN:VEVENT
DTSTART;TZID=Asia/Tokyo:20250901T193000
DTEND;TZID=Asia/Tokyo:20250901T203000
DTSTAMP:20260423T072946
CREATED:20220704T015326Z
LAST-MODIFIED:20220704T015326Z
UID:10232279-1756755000-1756758600@dance.gdp22.com
SUMMARY:サルサOn1スタイル(初心～初級ペア) By Kimi
DESCRIPTION:19:30-20:30　初心～初級ペア　1000円 \n※レッスン後はDJタイム\n※別途エントランス1500円1ドリンク付き\n但し 6級カード提示で200円OFF
URL:https://dance.gdp22.com/event/dance-10086/2025-09-01/
LOCATION:銀座ラス・リサス\, 東京都中央区銀座8-12-6 小野商ビルB1F\, 銀座\, 104-0061\, 日本
CATEGORIES:サルサon1
ORGANIZER;CN="Kimi (Salsalion)":MAILTO:japan@kmicco.com
END:VEVENT
BEGIN:VEVENT
DTSTART;TZID=Asia/Tokyo:20250901T203000
DTEND;TZID=Asia/Tokyo:20250901T204000
DTSTAMP:20260423T072946
CREATED:20220704T015547Z
LAST-MODIFIED:20220729T034320Z
UID:10232395-1756758600-1756759200@dance.gdp22.com
SUMMARY:サルサOn1スタイル(サルサダンス検定6級） By Kimi
DESCRIPTION:20:30-20:40　サルサダンス検定6級 \n※レッスン後はDJタイム\n※別途エントランス1500円1ドリンク付き\n但し 6級カード提示で200円OFF
URL:https://dance.gdp22.com/event/dance-10098/2025-09-01/
LOCATION:銀座ラス・リサス\, 東京都中央区銀座8-12-6 小野商ビルB1F\, 銀座\, 104-0061\, 日本
CATEGORIES:サルサon1
ORGANIZER;CN="Kimi (Salsalion)":MAILTO:japan@kmicco.com
END:VEVENT
BEGIN:VEVENT
DTSTART;TZID=Asia/Tokyo:20250902T131500
DTEND;TZID=Asia/Tokyo:20250902T143000
DTSTAMP:20260423T072946
CREATED:20220718T015242Z
LAST-MODIFIED:20220907T032920Z
UID:10238645-1756818900-1756823400@dance.gdp22.com
SUMMARY:平日昼間のSalsa lesson ＆ Party By Zakiyama
DESCRIPTION:銀座ラスリサスでの平日お昼間のSalsa lesson&Party!!\n毎週火曜日開催です。\nお昼間が都合の良い方、又は外出中やテレワークでちょっと休憩で踊りたい方(笑)\nお近くにいる方は是非お立ち寄りください? \n13:00 Open\n13:15-14:30 Salsa On1 lesson by Zakiyama \n初めての方も大歓迎\nエントランス:2000yen(レッスン込み)/1D付き
URL:https://dance.gdp22.com/event/dance-14642/2025-09-02/
LOCATION:銀座ラス・リサス\, 東京都中央区銀座8-12-6 小野商ビルB1F\, 銀座\, 104-0061\, 日本
CATEGORIES:サルサon1
END:VEVENT
BEGIN:VEVENT
DTSTART;TZID=Asia/Tokyo:20250902T190000
DTEND;TZID=Asia/Tokyo:20250902T230000
DTSTAMP:20260423T072946
CREATED:20250901T203318Z
LAST-MODIFIED:20250901T203502Z
UID:10291768-1756839600-1756854000@dance.gdp22.com
SUMMARY:ペアダンスでPono(Well-being)になろう ＼“超”入門だからこそ、今日から始めやすい！／
DESCRIPTION:＼“超”入門だからこそ、今日から始めやすい！／ \nプロのつくるカクテルで1ドリンク無料(生ビールも可能)！！ \n「行こうかな…どうしようかな…」と思っていた方、 \n迷ってたなら、**今日がその日！**です☺️✨ \nまた、サルサなんてもう無理、やめようと思った人にこそ来ていただきたいやさしいレッスンです。 \n★入門クラスの内容（ペア） \n・基本４ステップ \n・クロスボディーリード（オープンホールド） \n・レフトターン（リーダーさせる、フォロワーする） \n★基礎クラスの内容（ペア） \n・基本４ステップ \n・ライトターン \n・レフトターン \n・クロスボディーリード \n・インサイドターン（リーダーさせる、フォロワーする） \n  \n🟡 対象ダンスジャンル \nサルサ／バチャータ／メレンゲ（ラテンのリズムで自然に体が動く♪） \n🧡 こんな方にピッタリ！ \n・ペアダンスはじめての方 \n・久しぶりに踊ってみたい方 \n・おひとりでも、もちろんOK！ \n📍会場：両国 スペースポノ \n🕢スケジュール：19:00〜 \n* 19:00〜19:45：入門クラス(45min)（初めてでも安心） \n* 19:45〜20:30：基礎クラス(45min)（ステップとリード・フォロー） \n* 20:30〜21:30：応用クラス(60min) (入門・基礎の内容をさらに応用) \n* 21:30〜23:00：パーティー(90min)　(習ったこと練習したり、雑談したり） \n※どこからでも参加OK。複数受講割あり \n★個別の料金 \n・入門のみ（45分） ¥1\,500 \n・基礎のみ（45分） ¥1\,500 \n・応用のみ（60分） ¥2\,000 \n・ソーシャルのみ ¥1\,500（キャンペーン中 ¥1\,000） \n★お得なセット価格 \n・入門＋基礎（セット割） ¥2\,500 \n・基礎＋応用（セット割） ¥3\,000 \n・全クラス受講（入門＋基礎＋応用） ¥4\,000 \n・動画視聴付き4回パック（2ヶ月有効） ¥15\,000 \n📌 参加ポイント \n・どの回からでも参加OK（完結型） \n・予約不要／ふらっと参加大歓迎 \n・お酒やドリンク持ち込みOK（隣がローソンストア100！） \n・上履き推奨（なければ外靴の裏を拭けばOK） \n👭 お友達や同僚にもぜひご紹介ください！ \n一緒のご参加も大歓迎です😊 \n🔗 詳細はこちら： \nhttps://dance.gdp22.com/tue-kimi/ \n#サルサ #バチャータ #メレンゲ #ペアダンス #初心者歓迎 #両国 #スペースポノ #本日開催 #予約不要 #ラテンダンス
URL:https://dance.gdp22.com/event/dance-100895-11/
LOCATION:両国スペースポノ(旧ハッピーターン)\, 墨田区両国4-18-4 グレイス両国203号\, 両国\, 130-0026
CATEGORIES:サルサon1
ATTACH;FMTTYPE=image/png:https://dance.gdp22.com/wp-content/uploads/00_tue-kimi4.png
ORGANIZER;CN="Kimi (Salsalion)":MAILTO:japan@kmicco.com
END:VEVENT
BEGIN:VEVENT
DTSTART;TZID=Asia/Tokyo:20250902T193000
DTEND;TZID=Asia/Tokyo:20250902T210000
DTSTAMP:20260423T072946
CREATED:20221025T090633Z
LAST-MODIFIED:20221025T092331Z
UID:10281996-1756841400-1756846800@dance.gdp22.com
SUMMARY:門仲サルサ部
DESCRIPTION:基本的に毎週火曜日19:30から21:00までやっています。 \n初心者の方を中心にサルサの練習を有志でまったりしています。 \nサルサ未経験者の方大歓迎です。 \n気軽にサルサを始められる登竜門を目指しています \n月に1度、いろいろなラテンバーやクラブにみんなで遠征に行っています。 \nそのためお休みなることがあるので、詳細はお問い合わせください。 \nFacebookページCafe Itouleよりお問い合わせください。 \n 
URL:https://dance.gdp22.com/event/dance-38717/2025-09-02/
LOCATION:門前仲町Cafe Itoule (カフェ イトゥール)\, 江東区永代2-31-16\, 東京\, 135-0034\, 日本
CATEGORIES:サルサon1
END:VEVENT
BEGIN:VEVENT
DTSTART;TZID=Asia/Tokyo:20250902T200000
DTEND;TZID=Asia/Tokyo:20250902T210000
DTSTAMP:20260423T072946
CREATED:20220722T011521Z
LAST-MODIFIED:20220729T061044Z
UID:10247191-1756843200-1756846800@dance.gdp22.com
SUMMARY:GABANAサルサ（on1）Tuesday   By HIROSHI
DESCRIPTION:【火曜日】サルサ（on1）Tuesday By HIROSHI \n◆lesson(on1：Salsa初級) \n◆20:00～21:00 \n◆￥2500/1d(ﾁｬｰｼﾞ込) \n※急な内容変更もあります。 \n  \nグループレッスン終わりでパーティータイムです \n→ ￥2\,000（１ドリンク付・税込）
URL:https://dance.gdp22.com/event/dance-16541/2025-09-02/
LOCATION:藤沢LATIN GABANA\, 神奈川県藤沢市南藤沢23-10 光会館ビル4F\, 藤沢\, 251-0055\, 日本
CATEGORIES:サルサon1
ATTACH;FMTTYPE=image/jpeg:https://dance.gdp22.com/wp-content/uploads/image-11.jpg
END:VEVENT
BEGIN:VEVENT
DTSTART;TZID=Asia/Tokyo:20250903T190000
DTEND;TZID=Asia/Tokyo:20250903T193000
DTSTAMP:20260423T072946
CREATED:20220706T022105Z
LAST-MODIFIED:20220729T042942Z
UID:10233066-1756926000-1756927800@dance.gdp22.com
SUMMARY:毎週水曜日  銀座ラスリサス(サルサon1) 初心者~初級(無料)By RIE
DESCRIPTION:オープンクラス\n☆毎週水曜日  銀座ラスリサス\n※別途エントランス¥1\,000(1drink付き)かかります。 \n※20:30~はフリータイムです。
URL:https://dance.gdp22.com/event/dance-10281/2025-09-03/
LOCATION:銀座ラス・リサス\, 東京都中央区銀座8-12-6 小野商ビルB1F\, 銀座\, 104-0061\, 日本
CATEGORIES:サルサon1
ATTACH;FMTTYPE=image/jpeg:https://dance.gdp22.com/wp-content/uploads/003.jpg
ORGANIZER;CN="RIE":MAILTO:narie925@gmail.com
END:VEVENT
BEGIN:VEVENT
DTSTART;TZID=Asia/Tokyo:20250903T193000
DTEND;TZID=Asia/Tokyo:20250903T203000
DTSTAMP:20260423T072946
CREATED:20220706T023500Z
LAST-MODIFIED:20220729T043604Z
UID:10233123-1756927800-1756931400@dance.gdp22.com
SUMMARY:毎週水曜日  銀座ラスリサス(サルサon1)初級~初中級 By RIE
DESCRIPTION:オープンクラス\n☆毎週水曜日  銀座ラスリサス　\n※別途エントランス¥1\,000(1drink付き)かかります。 \n※20:30~はフリータイムです。
URL:https://dance.gdp22.com/event/dance-10438/2025-09-03/
LOCATION:銀座ラス・リサス\, 東京都中央区銀座8-12-6 小野商ビルB1F\, 銀座\, 104-0061\, 日本
CATEGORIES:サルサon1
ATTACH;FMTTYPE=image/jpeg:https://dance.gdp22.com/wp-content/uploads/003-1.jpg
ORGANIZER;CN="RIE":MAILTO:narie925@gmail.com
END:VEVENT
BEGIN:VEVENT
DTSTART;TZID=Asia/Tokyo:20250903T193000
DTEND;TZID=Asia/Tokyo:20250903T230000
DTSTAMP:20260423T072946
CREATED:20220919T060902Z
LAST-MODIFIED:20220929T175601Z
UID:10265328-1756927800-1756940400@dance.gdp22.com
SUMMARY:TAMU Salsa lesson ＆ Party
DESCRIPTION:毎週水曜　サルサ基礎/ペアワーク\n●時間\n19:30〜20:00 lesson\n20:30〜23:00 party \n⚫︎料金\nlesson party ¥2000(w1drink)\nparty only ¥1100(w1drink) \n●会場／大阪 サルサ エル リンコン ラティーノ なんば 難波 心斎橋\n中央区心斎橋筋2-6-8 シャンペンジャムビル4F \nきめ細かいアドバイスが好評のTAMU先生のレッスン❣⃛\nパーティタイムも気軽に質問等に答えてくれたり、踊ってくれたりと\n初心者の方からベテランさんまで楽しめます。 \nまた、みなさんとてもフレンドリーで初めての方でもすぐに馴染んでいただける\nアットホームなレッスン&パーティです☺️ \nEL RINCON LATINO(大阪)
URL:https://dance.gdp22.com/event/dance-34876/2025-09-03/
LOCATION:EL RINCON LATINO(大阪)\, 大阪府大阪市中央区心斎橋筋２丁目６−８ シャンペンジャムビル 4F\, 大阪\, 542-0085\, 日本
CATEGORIES:サルサon1,サルサ全般
ATTACH;FMTTYPE=image/jpeg:https://dance.gdp22.com/wp-content/uploads/b8149babd26f7df0def1ebb385ea59f9d6d92583-1.jpg
END:VEVENT
BEGIN:VEVENT
DTSTART;TZID=Asia/Tokyo:20250903T200000
DTEND;TZID=Asia/Tokyo:20250903T210000
DTSTAMP:20260423T072946
CREATED:20220531T013242Z
LAST-MODIFIED:20220531T020125Z
UID:10214483-1756929600-1756933200@dance.gdp22.com
SUMMARY:Salsa ON1 初中級 by Yukiko
DESCRIPTION:Salsa ON1 初中級 by Yukiko\nSalsa ON1 初中級	1\,000円\n※別途クラブエントランス1\,000円/w1d
URL:https://dance.gdp22.com/event/dance-6201/2025-09-03/
LOCATION:新宿クラブ レオン(B1F)\, 東京都新宿区新宿５－１７－６ Ｂ１\, 東京\, 160-0022\, 日本
CATEGORIES:サルサon1
ATTACH;FMTTYPE=image/jpeg:https://dance.gdp22.com/wp-content/uploads/event_Wed_2205s-1.jpg
END:VEVENT
BEGIN:VEVENT
DTSTART;TZID=Asia/Tokyo:20250904T133000
DTEND;TZID=Asia/Tokyo:20250904T150000
DTSTAMP:20260423T072946
CREATED:20220706T025354Z
LAST-MODIFIED:20220919T021220Z
UID:10233237-1756992600-1756998000@dance.gdp22.com
SUMMARY:お昼のレッスン(SalsaOn1)@藤沢マリソル By RIE
DESCRIPTION:SALSA&BACHATA\nお昼のレッスン@藤沢 \n毎週木曜の午後に藤沢MARISOLにてRIEのレッスンが始まりました！！ \nたっぷり１時間半、鏡のある広々したスタジオでサルサ＆バチャータが学べます。 \n毎週木曜日 13:30-15:00  (休講の場合は、別途お知らせいたします。) \n第1・３木曜日→Salsa on1 \n第2・４木曜日→Bachata \nレッスン料　¥2000 \n  \nDance Studio MARISOL \n神奈川県藤沢市鵠沼東4-6-3F
URL:https://dance.gdp22.com/event/dance-10482/2025-09-04/
LOCATION:ダンススタジオマリソル（藤沢）\, 神奈川県藤沢市鵠沼東４−６ 3F\, 藤沢\, 日本
CATEGORIES:サルサon1
ATTACH;FMTTYPE=image/jpeg:https://dance.gdp22.com/wp-content/uploads/002.jpg
ORGANIZER;CN="RIE":MAILTO:narie925@gmail.com
END:VEVENT
BEGIN:VEVENT
DTSTART;TZID=Asia/Tokyo:20250904T173000
DTEND;TZID=Asia/Tokyo:20250904T183000
DTSTAMP:20260423T072946
CREATED:20220624T021411Z
LAST-MODIFIED:20220801T081835Z
UID:10230403-1757007000-1757010600@dance.gdp22.com
SUMMARY:Salsa Kids Class By HIDE＆PEKO
DESCRIPTION:Salsa Kids Class\n\n\n\n​受講生随時募集中！\n\n​  毎週 木曜日  17:30 – 18:30（1h） \n\n\n​@Studio Mission 渋谷 \n\n\n​講師：HIDE\, PEKO\n\n\n月謝 ¥8\,000- / 4回 \n\n\n​初回は1000円で体験レッスンができます！\n\n\n​対象者：6才から12才までの男女 \n\n\n​＊月初めのレッスンで、その月の月謝のお支払いをお願いいたします。 \n\n\n＊受講者のご都合でお休みされる場合は、月謝の返還は致しかねます。（コロナウイルスが理由の場合も同等です。東京都からのジムなどの休業要請が出た場合は休講となります。その場合は開講できなかった分を返金致します。） \n\n\n​＊レッスンに集中して頂けるように、保護者のご見学はお断りしておりますので、ご了承ください。 \n\n\n子どもならではの柔軟な身体と吸収率を使って、楽しいだけではなく、しっかりと踊れるように指導いたします。​ \nサルサのジャンルは「Salsa On1 / LAスタイル」です。 \n​サルサのステップ、ムーブメント、ターン、ペアワークを振り付けを通じて全てのダンスジャンルの基礎となる技術を学んでいきます！
URL:https://dance.gdp22.com/event/dance-8554/2025-09-04/
LOCATION:渋谷studioMISSION\, 東京都渋谷区道玄坂2-10-12 新大宗ビル4号館 B2F 7F 8F 9F\, 渋谷\, 150-0043\, 日本
CATEGORIES:サルサon1
ATTACH;FMTTYPE=image/png:https://dance.gdp22.com/wp-content/uploads/Blessings-on-your-Babys-Baptism.png
END:VEVENT
BEGIN:VEVENT
DTSTART;TZID=Asia/Tokyo:20250904T190000
DTEND;TZID=Asia/Tokyo:20250904T230000
DTSTAMP:20260423T072946
CREATED:20220718T171509Z
LAST-MODIFIED:20220718T173436Z
UID:10243031-1757012400-1757026800@dance.gdp22.com
SUMMARY:BUENA SALSA SOCIAL CLUB＠JBA
DESCRIPTION:BUENA SALSA SOCIAL CLUB\n(ブエナ サルサ ソシアル クラブ、素敵なサルサの社交場） \n昇天イベント☆アタルンバ主催のATARUです、スタジオJBAでLAサルサ(ON1)レッスンを始めます☆\nオープンして一年の綺麗でお洒落なスタジオでペアダンス、サルサを学びませんか☆\n男女が音楽を共有、シンクロし、言葉ではない心身のコミュニケーションを取り、\n日常生活で抑えてる情念、情感を開放し、魂を昇天させるペアダンス、それがサルサです☆ \n浮き世の不景気、政治不信、蔓延する生きて行く事に対する不安感、ストレス、倦怠感、苛立ち、\nそれらを吹き飛ばし、力強く前向きに生きて行く為にもサルサを始めませんか！\n☆きっと自分の中に新たな違う自分を発見するはずです☆\n生活に情熱のソース(サルサ)をぶっかけて味わい深い人生を歩みましょう！\nそのスタートとしてレッスンはステップワークを怠る事なく、\nペアがお互いに踊りやすいと感じられるようになる事にポイントを当てて、\n復習を繰り返しながら進めて行くつもりです☆\nさあ、一歩踏み出してラテン音楽に身を任せましょう！ \nレッスンの後は２時間のフリーダンスタイムを用意してあります☆\n僕もラストまで踊りまくるので、お気軽におこし下さい。 \n————————————————————–\n★開催日：【毎月第１、２、４木曜日】\n★開催時間：１９：００～２３：００ \n【タイムテーブル】\n19:00～19:30：未経験者&超初心者の為の個人レッスン\n19:30～20:00：ストレッチ、ムーブメント、ステップワーク(メレンゲ、サルサ、バチャータ)\n20:00～21:00：初中級サルサのペアワーク\n(ルーティーンは参加者のレベルに合わせた前回の復習を含んだものになります☆)\n21:00～23:00：フリーダンスタイム\n☆曲はATARU選曲によるLAスタイル向き、珠玉の懐メロ&ロマンティカが流れます。11時昇天☆ \n【参加費】\n２時間レッスン＋フリーダンスタイムはワンドリンク付き2000円\nフリーダンスタイムオンリーはワンドリンク付きで1000円\nソフトドリンクは常備されており飲み放題です☆\n他のドリンク類の持ち込みもOKです☆ 気軽に遊びに来て下さい。
URL:https://dance.gdp22.com/event/dance-15197/2025-09-04/
LOCATION:小伝馬町スタジオJBA\, 東京都中央区日本橋大伝馬町１１−８ ＨＡＴビル B1F\, 小伝馬町\, 103-0011\, 日本
CATEGORIES:サルサon1,メレンゲ,バチャータ全般
END:VEVENT
BEGIN:VEVENT
DTSTART;TZID=Asia/Tokyo:20250904T193000
DTEND;TZID=Asia/Tokyo:20250904T203000
DTSTAMP:20260423T072946
CREATED:20220520T020853Z
LAST-MODIFIED:20220725T034938Z
UID:10211257-1757014200-1757017800@dance.gdp22.com
SUMMARY:入門・初級​ON1サルサダンス (Beginner ON1 Salsa Dance)
DESCRIPTION:木曜日 Thursday​\n19:30~20:30\n入門・初級​ON1サルサダンス\nBeginner ON1 Salsa Dance\n♪体験レッスン受講可能クラス\n♪Trial lesson is available \nサルサダンスのベーシックステップ＆\nボディームーブメントからサルサダンスペアワーク迄\n\n✨体験レッスン✨​初回のみ\n￥500ご予約が必要です\n\n\n​ご予約先pedrolosvalientes@gmail.com\n​080-2522-1108
URL:https://dance.gdp22.com/event/dance-4779/2025-09-04/
LOCATION:神戸 Dance&Art Space　SORA to UMI\, 神戸市中央区中山手通3-10-5 2F\, 神戸\, 650-0004\, 日本
CATEGORIES:サルサon1
ORGANIZER;CN="Pedro":MAILTO:​pedrolosvalientes@gmail.com
END:VEVENT
BEGIN:VEVENT
DTSTART;TZID=Asia/Tokyo:20250904T193000
DTEND;TZID=Asia/Tokyo:20250904T203000
DTSTAMP:20260423T072946
CREATED:20220603T013655Z
LAST-MODIFIED:20220603T013655Z
UID:10219300-1757014200-1757017800@dance.gdp22.com
SUMMARY:BETO (CALI-COLOMBIA) サルサOn1 Level2
DESCRIPTION:BETO SENSEY SALSA 2006年にコロンビアよりカリサルサ普及のため来日。\n元世界チャンピオンとして自身の躍動感溢れるパフォーマンス、また個人のレべルに合わせた丁寧な指導により日本チャンピオンぺアを育てるなど、年齢に関わらず生徒たちから絶大な人気を誇る日本サルサ界のトップダンサー。\n19:30-20:30 サルサOn1 Level2 2500円\n連続2レッスン受講の場合は3500円
URL:https://dance.gdp22.com/event/dance-6705/2025-09-04/
LOCATION:新宿スタジオレオン(2F)\, 東京都新宿区新宿 5-17-6　2F\, 新宿\, 160-0022\, 日本
CATEGORIES:サルサon1
ATTACH;FMTTYPE=image/jpeg:https://dance.gdp22.com/wp-content/uploads/img_BETO.jpg
END:VEVENT
BEGIN:VEVENT
DTSTART;TZID=Asia/Tokyo:20250904T193000
DTEND;TZID=Asia/Tokyo:20250904T203000
DTSTAMP:20260423T072946
CREATED:20241216T232326Z
LAST-MODIFIED:20241216T232326Z
UID:10233351-1757014200-1757017800@dance.gdp22.com
SUMMARY:Citta De La Salsa in 川崎 Lesson ByNamio Salsa
DESCRIPTION:【Citta De La Salsa in 川崎】\n★川崎citta atticでのサルサイベントが\nNamio Naomi先生のレッスンとともに\n毎月第1、第3木曜日に復活開催です〜！ \n★Open/19:30 　　　Close/23:00\n￥1\,500（1D）Lesson ＋￥1\,000\nNaomi Salasa On1 初中級lesson　19:30〜20:30 (￥1\,000）\nSalsa Party　20:30〜23:00￥1500(w1d)\nDJ You (Salsa&Bachata) \n★会場：川崎LA CIITA DELLA内　ATTIC BAR　2F\nhttp://clubcitta-attic.com/\n住所：川崎市川崎区小川町5-7 CIITA DELLA川崎内ATTIC BAR(2F) \n★川崎にも、サルサを熱く！楽しく！気軽に踊れるイベントがありますよ！\n川崎 CLUB CITTA の2F ATTIC BARにてサルサパーティー開催！！\n★会場は天井が高く開放感ある素敵なDJバーで音響設備も抜群です！\n★初心者の方にも優しく、On1メインで踊りやすい曲で楽しめます！\n初めての方、お一人の方、女性同士の方でも安心して踊れます。\nゆったりと2時間半、たっぷり踊れます！\n毎月第1\,第3木曜日の夜は、東京と横浜の中間川崎、Citta De La Salsaへ是非遊びにいらしてください！\n※マスクの着用、検温、消毒にご協力ください。\n※大きな声での会話等はお控えください。
URL:https://dance.gdp22.com/event/dance-7213/2025-09-04/
LOCATION:川崎citta attic\, 神奈川県川崎市川崎区小川町 5-7 2F\, 川崎\, 210-0023\, 日本
CATEGORIES:サルサon1
ATTACH;FMTTYPE=image/jpeg:https://dance.gdp22.com/wp-content/uploads/283857304_4848189995287350_5414652923899820490_ncitta.jpg
END:VEVENT
BEGIN:VEVENT
DTSTART;TZID=Asia/Tokyo:20250904T200000
DTEND;TZID=Asia/Tokyo:20250904T210000
DTSTAMP:20260423T072946
CREATED:20220731T191110Z
LAST-MODIFIED:20220731T195525Z
UID:10250414-1757016000-1757019600@dance.gdp22.com
SUMMARY:KEIKOsalsaON１初級
DESCRIPTION:KEIKOsalsaON１初級 \n20：00～21：00 \n2500円ｗ1ｄ \n 
URL:https://dance.gdp22.com/event/dance-26910/2025-09-04/
LOCATION:亀戸ルシファーLucifer\, 東京都江東区亀戸2ｰ25-3小黒ビル403\, 亀戸\, 136-0071\, 日本
CATEGORIES:サルサon1
ATTACH;FMTTYPE=image/jpeg:https://dance.gdp22.com/wp-content/uploads/294555312_468422838619520_7904066720175893066_n-1.jpg
END:VEVENT
BEGIN:VEVENT
DTSTART;TZID=Asia/Tokyo:20250904T203000
DTEND;TZID=Asia/Tokyo:20250904T213000
DTSTAMP:20260423T072946
CREATED:20220520T021041Z
LAST-MODIFIED:20220725T035035Z
UID:10211505-1757017800-1757021400@dance.gdp22.com
SUMMARY:初級ON1サルサダンス ​(ON1 Salsa Dance)
DESCRIPTION:​木曜日 Thursday\n20:30~21:30\n​初級ON1サルサダンス\n​ON1 Salsa Dance
URL:https://dance.gdp22.com/event/dance-4791/2025-09-04/
LOCATION:神戸 Dance&Art Space　SORA to UMI\, 神戸市中央区中山手通3-10-5 2F\, 神戸\, 650-0004\, 日本
CATEGORIES:サルサon1
ORGANIZER;CN="Pedro":MAILTO:​pedrolosvalientes@gmail.com
END:VEVENT
BEGIN:VEVENT
DTSTART;TZID=Asia/Tokyo:20250905T190000
DTEND;TZID=Asia/Tokyo:20250905T230000
DTSTAMP:20260423T072946
CREATED:20220404T054447Z
LAST-MODIFIED:20220811T090345Z
UID:10208801-1757098800-1757113200@dance.gdp22.com
SUMMARY:MIU'S FRIDAY@JBA
DESCRIPTION:毎月　奇数週、1.3.5週の金曜日の夜はMIU’s Fridayにお越しください\n\nDJタイムを長くたっぷり3時間 \n  \n\n\n●タイムテーブル（例）\n1900から1930まで初級サルサorキソンバ入門\n1930から2000までバチャータ\n2000から2300 までソーシャルDJタイム \n\n\nそしてアルコールは1ドリンクではなくワイン飲み放題に変わりました\n（ゴミ対策のために缶を減らすことにしました。）\nもちろん持ち込みも自由なので飲みたい方はご自身でおもちいただき潰しておいて帰ってくださいませ(^^)\nたくさんワインもっていきますのでこれからもどうぞよろしくお願いいたします\nワイン各種飲み放題ソフトドリンク飲み放題🥤スナック食べ放題\n（レッスンありはプラス1000円 ）\nみなさん是非遊びに来てください(≧∇≦)\nバチャータたっぷり踊れますサルサももちろんかかりますキゾンバももちろんかかります \n\n\n\nレッスン＆パーティー　２５００円\nパーティーのみ　１５００円\n\n\nスタジオJBA　東京都中央区日本橋大伝馬町１１－８ＨＡＴビル \n  \n\n感染予防対策にいつもご協力ありがとうございます
URL:https://dance.gdp22.com/event/mius-fridayjba/2025-09-05/
LOCATION:小伝馬町スタジオJBA\, 東京都中央区日本橋大伝馬町１１−８ ＨＡＴビル B1F\, 小伝馬町\, 103-0011\, 日本
CATEGORIES:サルサon1,センシュアルバチャータ,サルサon2,キゾンバ全般
ATTACH;FMTTYPE=image/jpeg:https://dance.gdp22.com/wp-content/uploads/MIU-scaled.jpg
END:VEVENT
BEGIN:VEVENT
DTSTART;TZID=Asia/Tokyo:20250905T190000
DTEND;TZID=Asia/Tokyo:20250905T235900
DTSTAMP:20260423T072946
CREATED:20220831T030957Z
LAST-MODIFIED:20220831T030957Z
UID:10261759-1757098800-1757116740@dance.gdp22.com
SUMMARY:ON1＆バチャータ・ナイト
DESCRIPTION:カフェルンビータ（京都） \n詳細はWEB参照
URL:https://dance.gdp22.com/event/dance-32775/2025-09-05/
LOCATION:カフェルンビータ（京都）\, 京都府京都市中京区山崎町２５８−１９ 珠光ビル三条 ３F\, 京都\, 604-8032\, 日本
CATEGORIES:サルサon1,ソーシャル,バチャータ全般
END:VEVENT
BEGIN:VEVENT
DTSTART;TZID=Asia/Tokyo:20250906T140000
DTEND;TZID=Asia/Tokyo:20250906T150000
DTSTAMP:20260423T072946
CREATED:20220624T022601Z
LAST-MODIFIED:20220729T025605Z
UID:10226418-1757167200-1757170800@dance.gdp22.com
SUMMARY:Salsa On1 Master Class By HIDE&PEKO
DESCRIPTION:Salsa On1 Master Class\n​スタジオとオンライン受講が選べる！\n​　毎週 土曜日　\n14:00 – 15:00 (1h) \n​講師：HIDE\, PEKO\n​@BUZZ  渋谷東口SQUARE \n受講生募集中！サルサ経験者向けのクラスです！ \n​​ご自宅で、オンラインでの受講も可能です。オンラインの方は割引がございます。 \n単発受講と得なチケット制とで選べます！
URL:https://dance.gdp22.com/event/salsa-on1-master-class-by-hidepeko/2025-09-06/
LOCATION:BUZZ  渋谷東口SQUARE\, 東京都渋谷区渋谷2-22-8 名取ビル1階\, 渋谷\, 150-0002\, 日本
CATEGORIES:サルサon1
ATTACH;FMTTYPE=image/png:https://dance.gdp22.com/wp-content/uploads/0f9f8fa4ea0751f6bcf2dcdf531f8488.png
END:VEVENT
BEGIN:VEVENT
DTSTART;TZID=Asia/Tokyo:20250906T180000
DTEND;TZID=Asia/Tokyo:20250906T184500
DTSTAMP:20260423T072946
CREATED:20220620T032714Z
LAST-MODIFIED:20220620T032714Z
UID:10227914-1757181600-1757184300@dance.gdp22.com
SUMMARY:Salsa振付クラス  Pair on1　By MIKA
DESCRIPTION:Salsa振付クラス \nPair on1 \nMIKA \nhttps://www.studio-casino.com/%E4%BD%93%E9%A8%93%E3%83%AC%E3%83%83%E3%82%B9%E3%83%B3-%E5%88%9D%E3%82%81%E3%81%A6%E3%81%AE%E6%96%B9/%E6%96%99%E9%87%91/
URL:https://dance.gdp22.com/event/dance-7894/2025-09-06/
LOCATION:六本木ダンススタジオカシーノ\, 東京都港区六本木5-2-4第二鳥勝ビル四階\, 六本木\, 106-0032\, 日本
CATEGORIES:サルサon1
END:VEVENT
BEGIN:VEVENT
DTSTART;TZID=Asia/Tokyo:20250906T180000
DTEND;TZID=Asia/Tokyo:20250906T190000
DTSTAMP:20260423T072946
CREATED:20220926T034614Z
LAST-MODIFIED:20221007T123321Z
UID:10272647-1757181600-1757185200@dance.gdp22.com
SUMMARY:たかさきSALSA EVENTS 夕方の部
DESCRIPTION:【料金制等】 \nワンコイン練習会費￥500 \n別途エントランス制￥1000 \n※飲食物の持込み原則不可（飲食店営業のため） \n※マイドリンク（マイボトル・ペットボトル等）のみ持込み可（ゴミは持帰り） \n【予約制】 \n予約方法：Jomo WellnessのLINE公式アカウントに友だち登録のうえ参加メッセージ（希望日と練習会出欠）をお願いします（締切：イベント前日18時） \n​ \nLINE公式アカウント⇩ \nhttps://lin.ee/xp3O80c \n※友だち登録とイベント参加予約は新型コロナウイルス感染拡大防止対策を踏まえた連絡手段（入場条件）としておりますので、ご協力をお願いいたします \n​ \n※各イベント・ワンコイン練習会・予約制プライベートレッスン詳細\n↓\nhttps://www.erikubota.com/ \n夕方の部※無料 \n18:00-19:00 サルサ検定6級：ERI \n（奇数月On1/偶数月On2） \nJomo Wellness(群馬)
URL:https://dance.gdp22.com/event/dance-35556/2025-09-06/
LOCATION:Jomo Wellness(群馬)\, 群馬県高崎市八島町32-2 岩崎ビル3F\, 高崎\, 370-0849\, 日本
CATEGORIES:サルサon1,サルサon2
ATTACH;FMTTYPE=image/png:https://dance.gdp22.com/wp-content/uploads/4258b291b301061548b3df74098f73f7-3.png
END:VEVENT
BEGIN:VEVENT
DTSTART;TZID=Asia/Tokyo:20250906T190000
DTEND;TZID=Asia/Tokyo:20250906T200000
DTSTAMP:20260423T072946
CREATED:20220722T014317Z
LAST-MODIFIED:20220729T061542Z
UID:10244823-1757185200-1757188800@dance.gdp22.com
SUMMARY:GABANAサルサ（on1）Saturday  By HIROSHI
DESCRIPTION:サルサ（on1）Every Saturday By HIROSHI\n【毎週土曜日と祝前日】はイベントデーです！\n\n\n\n◆On1レッスン（オールレベル）19：00～20：00 \n◆￥2\,500（１ドリンク付・税込） \n\nParty Time ＝ Dj Timeからの参加は2\,000円1ドリンク付・税込 \n———————————– \n【第１土曜日】 \n特典：２ドリンク目から500円（税込） \n———————————– \n【第２土曜日】Lady’s Day \n特典：女性は２ドリンク付 \n———————————– \n【第３土曜日】Couple Day \n特典：男女カップルでご来店なら女性は２ドリンクにします。 \n———————————– \n【第４と第５土曜日/祝前日】Noche Latina \n特典：２ドリンク目から500円（税込） \n 
URL:https://dance.gdp22.com/event/dance-16636/2025-09-06/
LOCATION:藤沢LATIN GABANA\, 神奈川県藤沢市南藤沢23-10 光会館ビル4F\, 藤沢\, 251-0055\, 日本
CATEGORIES:サルサon1
ATTACH;FMTTYPE=image/jpeg:https://dance.gdp22.com/wp-content/uploads/image-12.jpg
END:VEVENT
BEGIN:VEVENT
DTSTART;TZID=Asia/Tokyo:20250906T190000
DTEND;TZID=Asia/Tokyo:20250906T230000
DTSTAMP:20260423T072946
CREATED:20220404T053825Z
LAST-MODIFIED:20220718T164716Z
UID:10208858-1757185200-1757199600@dance.gdp22.com
SUMMARY:Atarumba@JBA
DESCRIPTION:毎月第1土曜日、第3木曜日 ALL　DJタイム \n\n１９：００スタート～２３：００昇天フィニッシュ！バキューン！\n 参加費 １５００円 Ｗソフトドリンク、おつまみ、日本酒☆☆☆\n 選曲 ＡＴＡＲＵ\n お好きなドリンクをお持ちになってお越しくださいね☆ \nスタジオ内でも１ドリンク２００円で購入出来ます（ビール、チューハイ、赤白ワイン）\n\n\n\n\n今年で８年目、ＪＢＡスタジオ最古の昇天イベント☆アタルンバ♪ \nますますガンガン盛り上がってます！お気軽にお越し下さいね＾＾ \n踊らね～奴は、、バキューン！！皆殺しだ、、　　　　　　　　　　　　　　　　　　　　　　　　　　　\n\n\n\n\n主催 ＡＴＡＲＵ
URL:https://dance.gdp22.com/event/atarumbajba/2025-09-06/
LOCATION:小伝馬町スタジオJBA\, 東京都中央区日本橋大伝馬町１１−８ ＨＡＴビル B1F\, 小伝馬町\, 103-0011\, 日本
CATEGORIES:サルサon1,センシュアルバチャータ
ATTACH;FMTTYPE=image/jpeg:https://dance.gdp22.com/wp-content/uploads/ataru01-scaled.jpg
END:VEVENT
BEGIN:VEVENT
DTSTART;TZID=Asia/Tokyo:20250906T200000
DTEND;TZID=Asia/Tokyo:20250906T233000
DTSTAMP:20260423T072946
CREATED:20250813T075324Z
LAST-MODIFIED:20250813T075407Z
UID:10209526-1757188800-1757201400@dance.gdp22.com
SUMMARY:Mambongo Special Night
DESCRIPTION:Mambongo\nhttps://www.facebook.com/events/746105151500118 \n— Tokyo Latin Utopia 前夜祭 —\n🔥Karel & Jeio Welcome Night🔥\nㅤ\nNYのSalsa Queen Karel Flores と韓国のスーパーダンサー Jeio\n世界のサルサシーンで活躍する2人のスペシャルコラボがMambongoに登場‼️\nJeioの情熱あふれるAfro Movement Workshop、\nそして2人のスペシャルデモも見逃せない！\nㅤㅤ\nㅤ\n★JEIO Special Workshop★\n“Afro movement fundamental ”\nㅤ\nSalsoul Jeioの “Afro Movement Fundamental” を直接学べる貴重なチャンス！\nサルサにも生かせるアフロ系ムーブメントを通して、リズムと身体のつながりを深く掘り下げていきます。\n世界各地のフェスでも高く評価されている、人気のワークショップです🔥\nㅤ\nㅤ\n🎧ㅤDJ Angel\nㅤ\n🕒 タイムスケジュール\n19:00 Doors Open\n19:15-20:15 Workshop (Jeio)\n20:15-22:00 DJ Time\n22:00-22:10 Jeio＆Karel Social Demo\n22:10-23:30 DJ Time\nㅤ\n🌟KarelとJeioもDJタイムはソーシャルに参加しますので皆さん沢山踊ってください💃🕺✨\nㅤ\n🎟️ Entry\nLesson + Party: 5\,000 yen (includes 1 drink)\nParty only: 2\,500 yen (includes 1 drink)\nㅤ\n🌟Karelのスタジオ又はJeioのWSを受けられた方に、デモ又は9/7のショーの前列での鑑賞券を差し上げます。\nㅤ\nㅤ\n📣翌9/7(日)は、Tokyo Latin Utopiaメインパーティ開催！https://www.facebook.com/events/1114342246934085\nㅤㅤ\n※2Days Full Passを購入される方も上のリンクからお申し込みください\nㅤ\nㅤ\n📍Venue 六本木Studio pepe\n港区六本木7-17-12　ビジネスアパートメンツB1\n[MAP]http://www.studio-pepe.com/access.html\nAddress: 7-17-12-B1\,Roppongi\, Minato-ku Tokyo\n(Tokyo Metro Hibiya Line Roppongi Station 2-minute walk from Exit 2)\nㅤ\nㅤ\n-お願い-\n・スタジオペペは「下足禁止」が原則となっています。ダンスシューズ、上履きをご用意ください。\n・イベント中の写真・動画がSNS等に掲載される場合があります。\n・マナー・エチケットのご協力をお願いします。\nㅤ\nㅤ\n#Salsa #SalsaTokyo #Mambongo #Salsadancing #Salsasocial #KarelFlores #SalsoulJeio #TokyoLatinUtopia #サルサ #ラテンナイト #LatinWeekend
URL:https://dance.gdp22.com/event/dance-2575-2022-05-07-9/
LOCATION:六本木スタジオペペ\, 東京都港区六本木７丁目１７−１２ 六本木ビジネスアパートメンツ\, 六本木\, 106-0032\, 日本
CATEGORIES:サルサon1,センシュアルバチャータ,サルサon2,バチャータ全般
ATTACH;FMTTYPE=image/jpeg:https://dance.gdp22.com/wp-content/uploads/0906-1.jpg
END:VEVENT
BEGIN:VEVENT
DTSTART;TZID=Asia/Tokyo:20250907T130000
DTEND;TZID=Asia/Tokyo:20250907T160000
DTSTAMP:20260423T072946
CREATED:20220806T152356Z
LAST-MODIFIED:20220806T152356Z
UID:10250877-1757250000-1757260800@dance.gdp22.com
SUMMARY:日曜昼間のレッスン＆ミニパーティ（第1週）
DESCRIPTION:サルサを踊りに行きたいけど、夜は外に出られないという方に朗報！\n 毎週日曜日の昼間にレッスン込みのミニパーティーを開催しております。\n ＜＜　初心者歓迎！日曜昼間のレッスン＆ミニパーティ　＞＞\n【日付】毎週日曜日 【時間】13:00-16:00 【料金】￥2\,000（１ドリンク＆レッスン付き）
URL:https://dance.gdp22.com/event/dance-28728/2025-09-07/
LOCATION:銀座ラス・リサス\, 東京都中央区銀座8-12-6 小野商ビルB1F\, 銀座\, 104-0061\, 日本
CATEGORIES:サルサon1,サルサ全般
END:VEVENT
BEGIN:VEVENT
DTSTART;TZID=Asia/Tokyo:20250907T140000
DTEND;TZID=Asia/Tokyo:20250907T144500
DTSTAMP:20260423T072946
CREATED:20220620T033345Z
LAST-MODIFIED:20220620T033345Z
UID:10228720-1757253600-1757256300@dance.gdp22.com
SUMMARY:Salsa振付クラス  Pair on1　By MIKA
DESCRIPTION:Salsa振付クラス \nPair on1 \nMIKA \nhttps://www.studio-casino.com/%E4%BD%93%E9%A8%93%E3%83%AC%E3%83%83%E3%82%B9%E3%83%B3-%E5%88%9D%E3%82%81%E3%81%A6%E3%81%AE%E6%96%B9/%E6%96%99%E9%87%91/
URL:https://dance.gdp22.com/event/dance-7934/2025-09-07/
LOCATION:六本木ダンススタジオカシーノ\, 東京都港区六本木5-2-4第二鳥勝ビル四階\, 六本木\, 106-0032\, 日本
CATEGORIES:サルサon1
END:VEVENT
BEGIN:VEVENT
DTSTART;TZID=Asia/Tokyo:20250907T150000
DTEND;TZID=Asia/Tokyo:20250907T160000
DTSTAMP:20260423T072946
CREATED:20220603T011007Z
LAST-MODIFIED:20220729T015534Z
UID:10216283-1757257200-1757260800@dance.gdp22.com
SUMMARY:スタジオレオンAオープンクラス サルサ On1 (初級) by SHINJI
DESCRIPTION:“日曜日”週末にまとめてサルサ&バチャータを\nカリキュラム方式で集中的にマスターしましょう!\nオープンクラス　ルームA\nサルサ On1　アシスタント (&SHINJI)\n(初級)\n1 Lesson ¥2\,000-\n2 Lesson ¥3\,500-\n(受講後は、そのまま地下1Fのクラブレオンに、入場料無料でフリータイムを楽しめます。イベント時除く)
URL:https://dance.gdp22.com/event/dance-6615/2025-09-07/
LOCATION:新宿スタジオレオン(2F)\, 東京都新宿区新宿 5-17-6　2F\, 新宿\, 160-0022\, 日本
CATEGORIES:サルサon1
END:VEVENT
END:VCALENDAR