BEGIN:VCALENDAR
VERSION:2.0
PRODID:-//Dancing Pono (ダンシングポノ) - ECPv6.15.12//NONSGML v1.0//EN
CALSCALE:GREGORIAN
METHOD:PUBLISH
X-WR-CALNAME:Dancing Pono (ダンシングポノ)
X-ORIGINAL-URL:https://dance.gdp22.com
X-WR-CALDESC:Dancing Pono (ダンシングポノ) のイベント
REFRESH-INTERVAL;VALUE=DURATION:PT1H
X-Robots-Tag:noindex
X-PUBLISHED-TTL:PT1H
BEGIN:VTIMEZONE
TZID:Asia/Tokyo
BEGIN:STANDARD
TZOFFSETFROM:+0900
TZOFFSETTO:+0900
TZNAME:JST
DTSTART:20240101T000000
END:STANDARD
END:VTIMEZONE
BEGIN:VEVENT
DTSTART;TZID=Asia/Tokyo:20260420T130000
DTEND;TZID=Asia/Tokyo:20260420T140000
DTSTAMP:20260421T082733
CREATED:20220930T033716Z
LAST-MODIFIED:20221014T155409Z
UID:10274850-1776690000-1776693600@dance.gdp22.com
SUMMARY:サルサ (カシーノスタイル) 中級 LaHabana
DESCRIPTION:料金・詳細は公式参照 \nhttps://www.lahabana.co.jp/price/?studioid=173&anchor/#block \nLaHabana(名古屋)
URL:https://dance.gdp22.com/event/dance-36170/2026-04-20/
LOCATION:LaHabana(名古屋)\, 名古屋市中区錦2-6-22 若山ビル3F\, 名古屋\, 463-0003\, 日本
CATEGORIES:カシーノスタイル
END:VEVENT
BEGIN:VEVENT
DTSTART;TZID=Asia/Tokyo:20260420T130000
DTEND;TZID=Asia/Tokyo:20260420T140000
DTSTAMP:20260421T082733
CREATED:20220930T033716Z
LAST-MODIFIED:20230508T045643Z
UID:10302188-1776690000-1776693600@dance.gdp22.com
SUMMARY:サルサ (カシーノスタイル) 中級 LaHabana
DESCRIPTION:料金・詳細は公式参照 \nhttps://www.lahabana.co.jp/price/?studioid=173&anchor/#block \nLaHabana(名古屋)
URL:https://dance.gdp22.com/event/dance-36170-2023-05-15/2026-04-20/
LOCATION:LaHabana(名古屋)\, 名古屋市中区錦2-6-22 若山ビル3F\, 名古屋\, 463-0003\, 日本
CATEGORIES:カシーノスタイル
END:VEVENT
BEGIN:VEVENT
DTSTART;TZID=Asia/Tokyo:20260420T120000
DTEND;TZID=Asia/Tokyo:20260420T130000
DTSTAMP:20260421T082733
CREATED:20220930T033101Z
LAST-MODIFIED:20221014T155309Z
UID:10274589-1776686400-1776690000@dance.gdp22.com
SUMMARY:サルサ (カシーノスタイル) 入門初級 LaHabana
DESCRIPTION:料金・詳細については公式参照にて \nhttps://www.lahabana.co.jp/price/?studioid=173&anchor/#block \n  \nLaHabana(名古屋)
URL:https://dance.gdp22.com/event/dance-36137/2026-04-20/
LOCATION:LaHabana(名古屋)\, 名古屋市中区錦2-6-22 若山ビル3F\, 名古屋\, 463-0003\, 日本
CATEGORIES:カシーノスタイル
END:VEVENT
BEGIN:VEVENT
DTSTART;TZID=Asia/Tokyo:20260419T183000
DTEND;TZID=Asia/Tokyo:20260419T191500
DTSTAMP:20260421T082733
CREATED:20220930T044221Z
LAST-MODIFIED:20221014T161405Z
UID:10274324-1776623400-1776626100@dance.gdp22.com
SUMMARY:キューバンカシーノ サルサMIX 初中級 LaHabana
DESCRIPTION:料金・詳細は公式参照 \nhttps://www.lahabana.co.jp/price/?studioid=173&anchor/#block \nLaHabana(名古屋)
URL:https://dance.gdp22.com/event/dance-36454/2026-04-19/
LOCATION:LaHabana(名古屋)\, 名古屋市中区錦2-6-22 若山ビル3F\, 名古屋\, 463-0003\, 日本
CATEGORIES:カシーノスタイル
END:VEVENT
BEGIN:VEVENT
DTSTART;TZID=Asia/Tokyo:20260419T173000
DTEND;TZID=Asia/Tokyo:20260419T181500
DTSTAMP:20260421T082733
CREATED:20220930T044101Z
LAST-MODIFIED:20221014T160344Z
UID:10273999-1776619800-1776622500@dance.gdp22.com
SUMMARY:キューバンカシーノ 入門初級 LaHabana
DESCRIPTION:料金・詳細は公式参照 \nhttps://www.lahabana.co.jp/price/?studioid=173&anchor/#block \nLaHabana(名古屋)
URL:https://dance.gdp22.com/event/dance-36442/2026-04-19/
LOCATION:LaHabana(名古屋)\, 名古屋市中区錦2-6-22 若山ビル3F\, 名古屋\, 463-0003\, 日本
CATEGORIES:カシーノスタイル
END:VEVENT
BEGIN:VEVENT
DTSTART;TZID=Asia/Tokyo:20260419T153000
DTEND;TZID=Asia/Tokyo:20260419T233000
DTSTAMP:20260421T082733
CREATED:20230512T035051Z
LAST-MODIFIED:20230512T035512Z
UID:10301836-1776612600-1776641400@dance.gdp22.com
SUMMARY:仙台　サルサレッスン＆パーティー
DESCRIPTION:○レッスン\n15:30~17:00 初心〜初中級\nレッスン1000円（party参加者は500円）\nKAORI キューバンSalsa\n○PARTY\n17:00〜19:30　DJTIME DJ Chef\n料金：フリードリンク +エントランスチャージ\n飲み放題\nSOFT　　2000円(税込)\n＋Wine　 2500円(税込)\n＋Beer他 3000円(税込)\n※18：30以降のご入場は各プラン全て500円引き \n場所:ビストロ・バンディード\n宮城県仙台市若林区新寺３丁目１ー５７弁慶仙台東口ビル1.2階 \n【注意事項】\n・37.5℃以上の発熱、倦怠感、咳などの風邪の症状がある方の入場はご遠慮ください。\n・中学生以上高校生未満のお子様は、保護者同伴であれば入場可能です。\n・場内では、常時マスクを着用し、ペアダンス中の会話は極力お控えください。(不織布マスク推奨)\n・感染予防、近隣住人への配慮のため、大声で騒ぐ等の行為はお控えください。\n・床保護のためダンスシューズ、ダンススニーカーを着用ください。（ヒールカバーを着用ください。ピンヒールは禁止です）\n・許可のない撮影、またSNS等への投稿は、プライバシーの問題もあるためお控えください。\n・感染予防のため、途中休憩、換気を行なう場合がございます。
URL:https://dance.gdp22.com/event/dance-45569/2026-04-19/
LOCATION:Bistro Bandido(仙台)\, 宮城県仙台市若林区新寺３丁目１ー５７弁慶仙台東口ビル1.2階\, 984-0051\, 日本
CATEGORIES:サルサon1,サルサon2,サルサ,メレンゲ,キューバン,バチャータ,ソーシャル,カシーノスタイル
END:VEVENT
BEGIN:VEVENT
DTSTART;TZID=Asia/Tokyo:20260419T120000
DTEND;TZID=Asia/Tokyo:20260419T124500
DTSTAMP:20260421T082733
CREATED:20220930T043934Z
LAST-MODIFIED:20221014T160414Z
UID:10273417-1776600000-1776602700@dance.gdp22.com
SUMMARY:キューバンカシーノ 初中級 LaHabana
DESCRIPTION:料金・詳細は公式参照 \nhttps://www.lahabana.co.jp/price/?studioid=173&anchor/#block \nLaHabana(名古屋)
URL:https://dance.gdp22.com/event/dance-36430/2026-04-19/
LOCATION:LaHabana(名古屋)\, 名古屋市中区錦2-6-22 若山ビル3F\, 名古屋\, 463-0003\, 日本
CATEGORIES:カシーノスタイル
END:VEVENT
BEGIN:VEVENT
DTSTART;TZID=Asia/Tokyo:20260419T110000
DTEND;TZID=Asia/Tokyo:20260419T114500
DTSTAMP:20260421T082733
CREATED:20220930T043648Z
LAST-MODIFIED:20221014T160501Z
UID:10273154-1776596400-1776599100@dance.gdp22.com
SUMMARY:キューバンカシーノ 入門 LaHabana
DESCRIPTION:料金・詳細は公式参照 \nhttps://www.lahabana.co.jp/price/?studioid=173&anchor/#block \nLaHabana(名古屋)
URL:https://dance.gdp22.com/event/dance-36415/2026-04-19/
LOCATION:LaHabana(名古屋)\, 名古屋市中区錦2-6-22 若山ビル3F\, 名古屋\, 463-0003\, 日本
CATEGORIES:カシーノスタイル
END:VEVENT
BEGIN:VEVENT
DTSTART;TZID=Asia/Tokyo:20260416T203000
DTEND;TZID=Asia/Tokyo:20260416T211500
DTSTAMP:20260421T082733
CREATED:20220930T042124Z
LAST-MODIFIED:20221014T161458Z
UID:10278634-1776371400-1776374100@dance.gdp22.com
SUMMARY:キューバンカシーノ 初中級 LaHabana
DESCRIPTION:料金・詳細は公式参照 \nhttps://www.lahabana.co.jp/price/?studioid=173&anchor/#block \nLaHabana(名古屋)
URL:https://dance.gdp22.com/event/dance-36352/2026-04-16/
LOCATION:LaHabana(名古屋)\, 名古屋市中区錦2-6-22 若山ビル3F\, 名古屋\, 463-0003\, 日本
CATEGORIES:カシーノスタイル
END:VEVENT
BEGIN:VEVENT
DTSTART;TZID=Asia/Tokyo:20260416T194500
DTEND;TZID=Asia/Tokyo:20260416T210000
DTSTAMP:20260421T082733
CREATED:20250426T084811Z
LAST-MODIFIED:20250426T084811Z
UID:10283197-1776368700-1776373200@dance.gdp22.com
SUMMARY:SON CUBANO
DESCRIPTION:19:45～21:00\n￥1\,100\n今月から久しぶりのSONです。\n古きよき美しいキューバ音楽ソンをエレガントに\n躍れるようにレッスンしましょう
URL:https://dance.gdp22.com/event/dance-31372-2/2026-04-16/
LOCATION:Dance&Dining桜井通り（熊本）\, 熊本県熊本市中央区上通町5-10桜井ビル4F\, 熊本\, 860-0845
CATEGORIES:ソンギター・トレス,ソーシャル,カシーノスタイル,サルサ全般
END:VEVENT
BEGIN:VEVENT
DTSTART;TZID=Asia/Tokyo:20260416T193000
DTEND;TZID=Asia/Tokyo:20260416T201500
DTSTAMP:20260421T082733
CREATED:20220930T041934Z
LAST-MODIFIED:20221014T160708Z
UID:10278355-1776367800-1776370500@dance.gdp22.com
SUMMARY:キューバンカシーノ 入門初級 LaHabana
DESCRIPTION:料金・詳細は公式参照 \nhttps://www.lahabana.co.jp/price/?studioid=173&anchor/#block \nLaHabana(名古屋)
URL:https://dance.gdp22.com/event/dance-36340/2026-04-16/
LOCATION:LaHabana(名古屋)\, 名古屋市中区錦2-6-22 若山ビル3F\, 名古屋\, 463-0003\, 日本
CATEGORIES:カシーノスタイル
END:VEVENT
BEGIN:VEVENT
DTSTART;TZID=Asia/Tokyo:20260415T203000
DTEND;TZID=Asia/Tokyo:20260415T211500
DTSTAMP:20260421T082733
CREATED:20221014T164440Z
LAST-MODIFIED:20221014T164440Z
UID:10280580-1776285000-1776287700@dance.gdp22.com
SUMMARY:キューバンカシーノ & ムーブメント LaHabana
DESCRIPTION:料金・詳細は公式参照 \nhttps://www.lahabana.co.jp/price/?studioid=173&anchor/#block \nLaHabana(名古屋)
URL:https://dance.gdp22.com/event/dance-38239/2026-04-15/
LOCATION:スタジオウィング（岡崎）\, 愛知県岡崎市羽根町小豆坂3 ウィングタウン岡崎 2F\, 愛知\, 444-0814\, 日本
CATEGORIES:サルサ,キューバン,カシーノスタイル
END:VEVENT
BEGIN:VEVENT
DTSTART;TZID=Asia/Tokyo:20250111T123000
DTEND;TZID=Asia/Tokyo:20250111T163000
DTSTAMP:20260421T082733
CREATED:20241212T123009Z
LAST-MODIFIED:20241212T123009Z
UID:10203318-1736598600-1736613000@dance.gdp22.com
SUMMARY:JImmy Bosch LIVE 2025
DESCRIPTION:===========================\nSwingin‘ Mambo Jazz New Year Special LIVE\nJimmy Bosch LIVE 2025\nSaturday Lunch Salsa LIVE\nby Jimmy Bosch Salsa Quintet\n＠HAVANA 1950\, Hiroo\n2025.1.11 Saturday 12:30-16:30\n【完全予約制：　限定80名】\n=========================== \nあの感動を再び！世界的トローンボーンニスト・Jimmy Boschの踊るライブ！\n2025年1月11日（土）のランチタイム、Jimmy Boschが1950年代キューバのナイトクラブを再現した広尾のキューバンレストラン・HAVANA 1950にてダンサブルでパワフルなサルサライブを開催。\n土曜のランチタイムに美味しいキューバ料理を食べながら熱いライブを楽しみませんか？\n限定80名のプレミアムチケットとなりますのでご予約はお早めに！ \n《お願い》\n本ライブイベントは完全予約制となります。当日ご予約なしにてご来場された場合、ご入場をお断りいたしますのでご了承ください。\nまた、ご予約いただいたのち、体調不良やご都合が悪くなってご参加が難しくなった場合には事前にキャンセルのご連絡をいただけますと幸甚です。せっかくのライブですので多くの方にお楽しみいただくためにキャンセルとなった席を他の方にご提供させていただきたく、ご協力の程よろしくお願いします。 \n【開催日時】\n2025年1月11日（土）　12:30 ～ 16:30 \n【タイムテーブル】\n12:30 ドアオープン・DJタイム\n13:15 1st ステージ\n14:00 DJタイム\n15:00 2nd ステージ\n15:45 DJタイム\n16:30 ドアクローズ \n【会場】\n広尾 HAVANA 1950 \nHavana 1950 \n\n東京メトロ日比谷線広尾駅・徒歩１分 \n【チケット – 完全予約制：　限定 80名】\nお得な『スタンディング』、とりあえずテーブルとソファーが確保できる『VIPシートA』、バンドを眺めながらテーブルとソファーが確保できる『VIPシートB』の三種類。\n◆スタンディング： ￥5\,000（限定 67名）\n◆VIPシートA： ￥5\,500（限定 3名）\n◆VIPシートB： ￥6\,000（限定 10名）\n※ご予約の際にお支払いは必要ありません。\n※お支払いはイベント当日となりますので、受付で現金にてお支払いをお願いします。 \n【チケット予約】\nwww.japorican.com\n予約締切：　1月９日（木） \n【出演】\n“Jimmy Bosch Salsa Quintet”\nJimmy Bosch – Lead Vocal /Trombone\nKei Hatakeyama – Piano/Vocal\nTakashi Nakazoto – Congas/Vocal\nRyuta Okamoto – Bass\nYoshifumi Goto – Timbales \n【協賛】\n㈱Beyond Next Energy、㈱Wave、HAVANA 1950 \n【主催】\nSwingin‘ Mambo Jazz実行委員会 \n【お問合わせ】\nswinginmambojazz@gmail.com
URL:https://dance.gdp22.com/event/jimmy-bosch-live-2025/
LOCATION:広尾HAVANA1950\, 東京都渋谷区広尾5-4-12 大成鋼機ビルB1F\, 広尾\, 150-0012\, 日本
CATEGORIES:サルサon1,生演奏あり,サルサ,サルサon2,キューバン,ソーシャル,カシーノスタイル,サルサ全般
ATTACH;FMTTYPE=image/jpeg:https://dance.gdp22.com/wp-content/uploads/20241123_085316307_iOS.jpg
END:VEVENT
END:VCALENDAR