BEGIN:VCALENDAR
VERSION:2.0
PRODID:-//Dancing Pono (ダンシングポノ) - ECPv6.15.12//NONSGML v1.0//EN
CALSCALE:GREGORIAN
METHOD:PUBLISH
X-ORIGINAL-URL:https://dance.gdp22.com
X-WR-CALDESC:Dancing Pono (ダンシングポノ) のイベント
REFRESH-INTERVAL;VALUE=DURATION:PT1H
X-Robots-Tag:noindex
X-PUBLISHED-TTL:PT1H
BEGIN:VTIMEZONE
TZID:Asia/Tokyo
BEGIN:STANDARD
TZOFFSETFROM:+0900
TZOFFSETTO:+0900
TZNAME:JST
DTSTART:20220101T000000
END:STANDARD
END:VTIMEZONE
BEGIN:VEVENT
DTSTART;TZID=Asia/Tokyo:20231231T200000
DTEND;TZID=Asia/Tokyo:20240101T050000
DTSTAMP:20260426T101319
CREATED:20231221T045637Z
LAST-MODIFIED:20231221T045637Z
UID:10195198-1704052800-1704085200@dance.gdp22.com
SUMMARY:Countdown Milonga 12/31
DESCRIPTION:皆様、今年もとってもスペシャルなコラボ企画のお知らせです！！\nルーカス＆パウラ＋レネ＆ジュンコのプロデュースで、12月31日（日曜）カミニート三茶にてビッグカウントダウンミロンガパーティーを開催いたします♪\n12月31日- 1月1日の20:00-05:00 !!年末年始のスペシャルな 9時間の長ーいミロンガ !!!\nフリードリンク（ワイン、ソフトドリンク）スナックあり、何度でも出入り自由！BARもOPEN！(ビール、ジントニック、フェルネットあり）、飲食物持ち込み自由！（持ち込んだゴミは持ち帰りにご協力を）、前日までの予約でとってもリーズナブルに楽しい仲間と、世界一、年越し・年明けが過ごせます♪\nプログラムがいくつかございますので、以下ご紹介いたします↓↓↓\nこれ以外にも追加、即興でイベントが突発する可能性もございます。\n4人のスーパーDJによる9時間の競演！\nDJ : Yuko Amano 　知らない人はいない！東京のDJクイーン！\nDJ : show_setsu　関西から、満を持して登場！久々に東京でのDJing!\nDJ : Cristhian Sosa 　Efecto Tangoから世界チャンピオンがDJしにきてくれます！\nDJ : Lucas Carrizo　みんな大好き、ノリノリのタンダでみんなを踊らせる名人！\n23:00頃『TANGO SHOW / GAME DUELO CRIOLLO』\nカードに書かれたタンゴ的『お題』を守りながら踊る、純然たる即興型ショー/ゲームです！\n何が起こるか、誰にもわからないよー！日本史上初のショー、その目で確かめて楽しんでください。お見逃しなく！！\nダンサー：パウラ、ルーカス、レネ、ジュンコ\nショーの後は全員でゲームに参加、チャレンジ！！！\nふふふ！『えー！』『むずかしいいけど楽しい！』とみんなの声が聞こえてきそう！\n0:00頃『COUNTDOWN＆乾杯スパークリングワイン』\nカウントダウンの際のスパークリングワイン、もちろんご用意します！\nみんなで2024年がタンゴも仕事もプライベートも素晴らしい年になりますように、お祈りしながら乾杯し、愛と感動を分かち合いましょう！\n04:00頃『朝食タイム メディアルナ＆カフェコンレチェ』\nアルゼンチンの最も有名なミロンガの一つLa Viruta では、ミロンガ終了の1時間くらい前に朝食のメディアルナ（クロワッサン）とカフェオレが買えますが、この日は深夜にサービスで出てきますので、皆で楽しみましょう♪これを食べてから帰って寝るのが本場のミロンガ通！！です。\n【時間】\nミロンガ　20:00〜05:00！\n【料金】\n前日までの予約あり 3000円\n当日ふらっと 3500円\n参加がわかっている方は一言予約メッセージをくださるとオーガナイズの都合上有難いので前日までの予約で500円オフとさせていただきます！もちろん当日ふらっと参加も大丈夫です！！\n\n年末年始のスペシャルデー！\n愛情と友情に満ちた雰囲気＋駅超近い三茶のスタジオで楽しく素敵なひとときをご一緒しませんか？\n皆様のお越しを心よりお待ちしてます！\nプロフェッショナルな皆様のお越しももちろん大歓迎ですので、遊びに来てくださいね！！！\n愛を込めて！\nPAULA ＆ LUCAS\, RENE & JUNKO\n\n※　会場などは要主催にお問い合わせ下さい。
URL:https://dance.gdp22.com/event/countdown-milonga-12-31/
CATEGORIES:ソーシャル,アルゼンチンタンゴ
ATTACH;FMTTYPE=image/jpeg:https://dance.gdp22.com/wp-content/uploads/409401412_411135701264394_311437270119725472_n.jpg
END:VEVENT
BEGIN:VEVENT
DTSTART;TZID=Asia/Tokyo:20240102T150000
DTEND;TZID=Asia/Tokyo:20240102T170000
DTSTAMP:20260426T101319
CREATED:20220525T025310Z
LAST-MODIFIED:20220527T024453Z
UID:10169120-1704207600-1704214800@dance.gdp22.com
SUMMARY:アルゼンチンタンゴレッスン by Ezequiel & Fumi
DESCRIPTION:アルゼンチンタンゴレッスン by Ezequiel & Fumi\n　15:00-15:30 無料ｳｫｰﾐﾝｸﾞｱｯﾌﾟ＆ 基本動作\n　15:30-16:30 アルゼンチンタンゴ～入門・初級～\n　16:30-17:00 質問・練習タイム\n2500円/回\n※ﾄﾞﾘﾝｸ別、回数券制度あり
URL:https://dance.gdp22.com/event/dance-4998/2024-01-02/
LOCATION:日暮里サルー\, 東京都東日暮里6-60-9日暮里駅前ビル3F\, 日暮里\, 116-0014\, 日本
CATEGORIES:アルゼンチンタンゴ
END:VEVENT
BEGIN:VEVENT
DTSTART;TZID=Asia/Tokyo:20240102T190000
DTEND;TZID=Asia/Tokyo:20240102T194500
DTSTAMP:20260426T101319
CREATED:20220620T020413Z
LAST-MODIFIED:20220620T020413Z
UID:10182158-1704222000-1704224700@dance.gdp22.com
SUMMARY:タンゴ By DIEGO
DESCRIPTION:タンゴ \nDIEGO \nhttps://www.studio-casino.com/%E4%BD%93%E9%A8%93%E3%83%AC%E3%83%83%E3%82%B9%E3%83%B3-%E5%88%9D%E3%82%81%E3%81%A6%E3%81%AE%E6%96%B9/%E6%96%99%E9%87%91/
URL:https://dance.gdp22.com/event/dance-7693/2024-01-02/
LOCATION:六本木ダンススタジオカシーノ\, 東京都港区六本木5-2-4第二鳥勝ビル四階\, 六本木\, 106-0032\, 日本
CATEGORIES:アルゼンチンタンゴ
END:VEVENT
BEGIN:VEVENT
DTSTART;TZID=Asia/Tokyo:20240103T180000
DTEND;TZID=Asia/Tokyo:20240103T190000
DTSTAMP:20260426T101319
CREATED:20220905T033113Z
LAST-MODIFIED:20220905T033113Z
UID:10197286-1704304800-1704308400@dance.gdp22.com
SUMMARY:TANGO 振付レッスン
DESCRIPTION:ドンセサル \n毎週水曜日\nタンゴ振付クラス\nCesar\nFrom Argentina
URL:https://dance.gdp22.com/event/dance-33877/2024-01-03/
LOCATION:横浜ドン・セサル DON CESAR\, 神奈川県横浜市中区石川町1-21\, 横浜\, 231-0868\, 日本
CATEGORIES:アルゼンチンタンゴ
END:VEVENT
BEGIN:VEVENT
DTSTART;TZID=Asia/Tokyo:20240103T190000
DTEND;TZID=Asia/Tokyo:20240103T200000
DTSTAMP:20260426T101319
CREATED:20230727T185249Z
LAST-MODIFIED:20230804T131032Z
UID:10205670-1704308400-1704312000@dance.gdp22.com
SUMMARY:DON CESAR 水曜タンゴグループレッスン TANGO GROUP LESSON
DESCRIPTION:アルゼンチンタンゴダンスグループレッスンスケジュール\n8月 2日 、9日 、16日 、30日  水曜日 19:00-20:00\nAUGUST \, WEDNESDAY  2ND\, 9TH\, 16TH  AND 30TH.\nTEL：0453085007\n〒231-0868　神奈川県横浜市中区石川町1-21-1F Ｃ
URL:https://dance.gdp22.com/event/dance-49568/2024-01-03/
CATEGORIES:アルゼンチンタンゴ
ATTACH;FMTTYPE=image/png:https://dance.gdp22.com/wp-content/uploads/Copia-de-coreografia.png
END:VEVENT
BEGIN:VEVENT
DTSTART;TZID=Asia/Tokyo:20240105T190000
DTEND;TZID=Asia/Tokyo:20240105T194500
DTSTAMP:20260426T101319
CREATED:20220620T030138Z
LAST-MODIFIED:20220620T030138Z
UID:10183228-1704481200-1704483900@dance.gdp22.com
SUMMARY:タンゴ By EZEQUIEL
DESCRIPTION:タンゴ \nEZEQUIEL \nhttps://www.studio-casino.com/%E4%BD%93%E9%A8%93%E3%83%AC%E3%83%83%E3%82%B9%E3%83%B3-%E5%88%9D%E3%82%81%E3%81%A6%E3%81%AE%E6%96%B9/%E6%96%99%E9%87%91/
URL:https://dance.gdp22.com/event/dance-7796/2024-01-05/
LOCATION:六本木ダンススタジオカシーノ\, 東京都港区六本木5-2-4第二鳥勝ビル四階\, 六本木\, 106-0032\, 日本
CATEGORIES:アルゼンチンタンゴ
END:VEVENT
BEGIN:VEVENT
DTSTART;TZID=Asia/Tokyo:20240106T140000
DTEND;TZID=Asia/Tokyo:20240106T170000
DTSTAMP:20260426T101319
CREATED:20220831T032217Z
LAST-MODIFIED:20220831T032217Z
UID:10177297-1704549600-1704560400@dance.gdp22.com
SUMMARY:J-タンゴ・レッスン＆プラクティカ第1
DESCRIPTION:カフェルンビータ（京都） \n詳細はWEB参照
URL:https://dance.gdp22.com/event/dance-32799/2024-01-06/
LOCATION:カフェルンビータ（京都）\, 京都府京都市中京区山崎町２５８−１９ 珠光ビル三条 ３F\, 京都\, 604-8032\, 日本
CATEGORIES:アルゼンチンタンゴ
END:VEVENT
BEGIN:VEVENT
DTSTART;TZID=Asia/Tokyo:20240107T180000
DTEND;TZID=Asia/Tokyo:20240107T190000
DTSTAMP:20260426T101319
CREATED:20220907T165238Z
LAST-MODIFIED:20220907T165430Z
UID:10197584-1704650400-1704654000@dance.gdp22.com
SUMMARY:TANGO Beginners by Don Cesar
DESCRIPTION:ドンセサル \nイベントの場合は、イベントごとに異なります。
URL:https://dance.gdp22.com/event/tango-beginners-by-don-cesar/2024-01-07/
LOCATION:横浜ドン・セサル DON CESAR\, 神奈川県横浜市中区石川町1-21\, 横浜\, 231-0868\, 日本
CATEGORIES:アルゼンチンタンゴ
END:VEVENT
BEGIN:VEVENT
DTSTART;TZID=Asia/Tokyo:20240113T140000
DTEND;TZID=Asia/Tokyo:20240113T170000
DTSTAMP:20260426T101319
CREATED:20220831T032426Z
LAST-MODIFIED:20220831T032426Z
UID:10177328-1705154400-1705165200@dance.gdp22.com
SUMMARY:J-タンゴ・レッスン＆プラクティカ第2
DESCRIPTION:カフェルンビータ（京都） \n詳細はWEB参照
URL:https://dance.gdp22.com/event/dance-32811/2024-01-13/
LOCATION:カフェルンビータ（京都）\, 京都府京都市中京区山崎町２５８−１９ 珠光ビル三条 ３F\, 京都\, 604-8032\, 日本
CATEGORIES:アルゼンチンタンゴ
END:VEVENT
BEGIN:VEVENT
DTSTART;TZID=Asia/Tokyo:20240120T140000
DTEND;TZID=Asia/Tokyo:20240120T170000
DTSTAMP:20260426T101319
CREATED:20220831T032730Z
LAST-MODIFIED:20220831T032730Z
UID:10177359-1705759200-1705770000@dance.gdp22.com
SUMMARY:J-タンゴ・レッスン＆プラクティカ第3
DESCRIPTION:カフェルンビータ（京都） \n詳細はWEB参照
URL:https://dance.gdp22.com/event/dance-32823/2024-01-20/
LOCATION:カフェルンビータ（京都）\, 京都府京都市中京区山崎町２５８−１９ 珠光ビル三条 ３F\, 京都\, 604-8032\, 日本
CATEGORIES:アルゼンチンタンゴ
END:VEVENT
BEGIN:VEVENT
DTSTART;TZID=Asia/Tokyo:20240127T140000
DTEND;TZID=Asia/Tokyo:20240127T170000
DTSTAMP:20260426T101319
CREATED:20220831T033002Z
LAST-MODIFIED:20220831T033002Z
UID:10177390-1706364000-1706374800@dance.gdp22.com
SUMMARY:J-タンゴ・レッスン＆プラクティカ第4
DESCRIPTION:カフェルンビータ（京都） \n詳細はWEB参照
URL:https://dance.gdp22.com/event/dance-32835/2024-01-27/
LOCATION:カフェルンビータ（京都）\, 京都府京都市中京区山崎町２５８−１９ 珠光ビル三条 ３F\, 京都\, 604-8032\, 日本
CATEGORIES:アルゼンチンタンゴ
END:VEVENT
BEGIN:VEVENT
DTSTART;TZID=Asia/Tokyo:20240128T153000
DTEND;TZID=Asia/Tokyo:20240128T170000
DTSTAMP:20260426T101319
CREATED:20220905T034833Z
LAST-MODIFIED:20220905T034833Z
UID:10197498-1706455800-1706461200@dance.gdp22.com
SUMMARY:TANGO group lesson by Cesar from Argentina（ｗ/Party）
DESCRIPTION:ドンセサル \n午後2時～ milonga party
URL:https://dance.gdp22.com/event/dance-33916/2024-01-28/
LOCATION:横浜ドン・セサル DON CESAR\, 神奈川県横浜市中区石川町1-21\, 横浜\, 231-0868\, 日本
CATEGORIES:ソーシャル,アルゼンチンタンゴ
END:VEVENT
BEGIN:VEVENT
DTSTART;TZID=Asia/Tokyo:20240330T140000
DTEND;TZID=Asia/Tokyo:20240330T170000
DTSTAMP:20260426T101319
CREATED:20220831T033224Z
LAST-MODIFIED:20220831T033224Z
UID:10177413-1711807200-1711818000@dance.gdp22.com
SUMMARY:J-タンゴ・レッスン＆プラクティカ第5
DESCRIPTION:カフェルンビータ（京都） \n詳細はWEB参照
URL:https://dance.gdp22.com/event/dance-32847/2024-03-30/
LOCATION:カフェルンビータ（京都）\, 京都府京都市中京区山崎町２５８−１９ 珠光ビル三条 ３F\, 京都\, 604-8032\, 日本
CATEGORIES:アルゼンチンタンゴ
END:VEVENT
END:VCALENDAR