BEGIN:VCALENDAR
VERSION:2.0
PRODID:-//Dancing Pono (ダンシングポノ) - ECPv6.15.12//NONSGML v1.0//EN
CALSCALE:GREGORIAN
METHOD:PUBLISH
X-WR-CALNAME:Dancing Pono (ダンシングポノ)
X-ORIGINAL-URL:https://dance.gdp22.com
X-WR-CALDESC:Dancing Pono (ダンシングポノ) のイベント
REFRESH-INTERVAL;VALUE=DURATION:PT1H
X-Robots-Tag:noindex
X-PUBLISHED-TTL:PT1H
BEGIN:VTIMEZONE
TZID:Asia/Tokyo
BEGIN:STANDARD
TZOFFSETFROM:+0900
TZOFFSETTO:+0900
TZNAME:JST
DTSTART:20250101T000000
END:STANDARD
END:VTIMEZONE
BEGIN:VEVENT
DTSTART;TZID=Asia/Tokyo:20260801T140000
DTEND;TZID=Asia/Tokyo:20260801T170000
DTSTAMP:20260424T162318
CREATED:20220831T032217Z
LAST-MODIFIED:20220831T032217Z
UID:10262023-1785592800-1785603600@dance.gdp22.com
SUMMARY:J-タンゴ・レッスン＆プラクティカ第1
DESCRIPTION:カフェルンビータ（京都） \n詳細はWEB参照
URL:https://dance.gdp22.com/event/dance-32799/2026-08-01/
LOCATION:カフェルンビータ（京都）\, 京都府京都市中京区山崎町２５８−１９ 珠光ビル三条 ３F\, 京都\, 604-8032\, 日本
CATEGORIES:アルゼンチンタンゴ
END:VEVENT
BEGIN:VEVENT
DTSTART;TZID=Asia/Tokyo:20260802T180000
DTEND;TZID=Asia/Tokyo:20260802T190000
DTSTAMP:20260424T162318
CREATED:20220907T165238Z
LAST-MODIFIED:20220907T165430Z
UID:10274223-1785693600-1785697200@dance.gdp22.com
SUMMARY:TANGO Beginners by Don Cesar
DESCRIPTION:ドンセサル \nイベントの場合は、イベントごとに異なります。
URL:https://dance.gdp22.com/event/tango-beginners-by-don-cesar/2026-08-02/
LOCATION:横浜ドン・セサル DON CESAR\, 神奈川県横浜市中区石川町1-21\, 横浜\, 231-0868\, 日本
CATEGORIES:アルゼンチンタンゴ
END:VEVENT
BEGIN:VEVENT
DTSTART;TZID=Asia/Tokyo:20260804T150000
DTEND;TZID=Asia/Tokyo:20260804T170000
DTSTAMP:20260424T162318
CREATED:20220525T025310Z
LAST-MODIFIED:20220527T024453Z
UID:10214033-1785855600-1785862800@dance.gdp22.com
SUMMARY:アルゼンチンタンゴレッスン by Ezequiel & Fumi
DESCRIPTION:アルゼンチンタンゴレッスン by Ezequiel & Fumi\n　15:00-15:30 無料ｳｫｰﾐﾝｸﾞｱｯﾌﾟ＆ 基本動作\n　15:30-16:30 アルゼンチンタンゴ～入門・初級～\n　16:30-17:00 質問・練習タイム\n2500円/回\n※ﾄﾞﾘﾝｸ別、回数券制度あり
URL:https://dance.gdp22.com/event/dance-4998/2026-08-04/
LOCATION:日暮里サルー\, 東京都東日暮里6-60-9日暮里駅前ビル3F\, 日暮里\, 116-0014\, 日本
CATEGORIES:アルゼンチンタンゴ
END:VEVENT
BEGIN:VEVENT
DTSTART;TZID=Asia/Tokyo:20260804T190000
DTEND;TZID=Asia/Tokyo:20260804T194500
DTSTAMP:20260424T162318
CREATED:20220620T020413Z
LAST-MODIFIED:20220620T020413Z
UID:10223453-1785870000-1785872700@dance.gdp22.com
SUMMARY:タンゴ By DIEGO
DESCRIPTION:タンゴ \nDIEGO \nhttps://www.studio-casino.com/%E4%BD%93%E9%A8%93%E3%83%AC%E3%83%83%E3%82%B9%E3%83%B3-%E5%88%9D%E3%82%81%E3%81%A6%E3%81%AE%E6%96%B9/%E6%96%99%E9%87%91/
URL:https://dance.gdp22.com/event/dance-7693/2026-08-04/
LOCATION:六本木ダンススタジオカシーノ\, 東京都港区六本木5-2-4第二鳥勝ビル四階\, 六本木\, 106-0032\, 日本
CATEGORIES:アルゼンチンタンゴ
END:VEVENT
BEGIN:VEVENT
DTSTART;TZID=Asia/Tokyo:20260805T180000
DTEND;TZID=Asia/Tokyo:20260805T190000
DTSTAMP:20260424T162318
CREATED:20220905T033113Z
LAST-MODIFIED:20220905T033113Z
UID:10262284-1785952800-1785956400@dance.gdp22.com
SUMMARY:TANGO 振付レッスン
DESCRIPTION:ドンセサル \n毎週水曜日\nタンゴ振付クラス\nCesar\nFrom Argentina
URL:https://dance.gdp22.com/event/dance-33877/2026-08-05/
LOCATION:横浜ドン・セサル DON CESAR\, 神奈川県横浜市中区石川町1-21\, 横浜\, 231-0868\, 日本
CATEGORIES:アルゼンチンタンゴ
END:VEVENT
BEGIN:VEVENT
DTSTART;TZID=Asia/Tokyo:20260807T190000
DTEND;TZID=Asia/Tokyo:20260807T194500
DTSTAMP:20260424T162318
CREATED:20220620T030138Z
LAST-MODIFIED:20220620T030138Z
UID:10225470-1786129200-1786131900@dance.gdp22.com
SUMMARY:タンゴ By EZEQUIEL
DESCRIPTION:タンゴ \nEZEQUIEL \nhttps://www.studio-casino.com/%E4%BD%93%E9%A8%93%E3%83%AC%E3%83%83%E3%82%B9%E3%83%B3-%E5%88%9D%E3%82%81%E3%81%A6%E3%81%AE%E6%96%B9/%E6%96%99%E9%87%91/
URL:https://dance.gdp22.com/event/dance-7796/2026-08-07/
LOCATION:六本木ダンススタジオカシーノ\, 東京都港区六本木5-2-4第二鳥勝ビル四階\, 六本木\, 106-0032\, 日本
CATEGORIES:アルゼンチンタンゴ
END:VEVENT
BEGIN:VEVENT
DTSTART;TZID=Asia/Tokyo:20260807T200000
DTEND;TZID=Asia/Tokyo:20260807T220000
DTSTAMP:20260424T162318
CREATED:20250426T083905Z
LAST-MODIFIED:20250426T085036Z
UID:10283474-1786132800-1786140000@dance.gdp22.com
SUMMARY:社交ダンスパーティ
DESCRIPTION:20:00～22:00\nWaltz\,Tango\, Slowfoxtrot\, Quickstep\, Chacha\,Samba\,Rumba\,Jive\,etc\n￥1\,500(w1d)
URL:https://dance.gdp22.com/event/dance-31385-2/2026-08-07/
LOCATION:Dance&Dining桜井通り（熊本）\, 熊本県熊本市中央区上通町5-10桜井ビル4F\, 熊本\, 860-0845
CATEGORIES:ソーシャル,アルゼンチンタンゴ,社交ダンス ラテン,社交ダンス スタンダード
END:VEVENT
BEGIN:VEVENT
DTSTART;TZID=Asia/Tokyo:20260808T140000
DTEND;TZID=Asia/Tokyo:20260808T170000
DTSTAMP:20260424T162318
CREATED:20220831T032426Z
LAST-MODIFIED:20220831T032426Z
UID:10262699-1786197600-1786208400@dance.gdp22.com
SUMMARY:J-タンゴ・レッスン＆プラクティカ第2
DESCRIPTION:カフェルンビータ（京都） \n詳細はWEB参照
URL:https://dance.gdp22.com/event/dance-32811/2026-08-08/
LOCATION:カフェルンビータ（京都）\, 京都府京都市中京区山崎町２５８−１９ 珠光ビル三条 ３F\, 京都\, 604-8032\, 日本
CATEGORIES:アルゼンチンタンゴ
END:VEVENT
BEGIN:VEVENT
DTSTART;TZID=Asia/Tokyo:20260811T150000
DTEND;TZID=Asia/Tokyo:20260811T170000
DTSTAMP:20260424T162318
CREATED:20220525T025310Z
LAST-MODIFIED:20220527T024453Z
UID:10214034-1786460400-1786467600@dance.gdp22.com
SUMMARY:アルゼンチンタンゴレッスン by Ezequiel & Fumi
DESCRIPTION:アルゼンチンタンゴレッスン by Ezequiel & Fumi\n　15:00-15:30 無料ｳｫｰﾐﾝｸﾞｱｯﾌﾟ＆ 基本動作\n　15:30-16:30 アルゼンチンタンゴ～入門・初級～\n　16:30-17:00 質問・練習タイム\n2500円/回\n※ﾄﾞﾘﾝｸ別、回数券制度あり
URL:https://dance.gdp22.com/event/dance-4998/2026-08-11/
LOCATION:日暮里サルー\, 東京都東日暮里6-60-9日暮里駅前ビル3F\, 日暮里\, 116-0014\, 日本
CATEGORIES:アルゼンチンタンゴ
END:VEVENT
BEGIN:VEVENT
DTSTART;TZID=Asia/Tokyo:20260811T190000
DTEND;TZID=Asia/Tokyo:20260811T194500
DTSTAMP:20260424T162318
CREATED:20220620T020413Z
LAST-MODIFIED:20220620T020413Z
UID:10223454-1786474800-1786477500@dance.gdp22.com
SUMMARY:タンゴ By DIEGO
DESCRIPTION:タンゴ \nDIEGO \nhttps://www.studio-casino.com/%E4%BD%93%E9%A8%93%E3%83%AC%E3%83%83%E3%82%B9%E3%83%B3-%E5%88%9D%E3%82%81%E3%81%A6%E3%81%AE%E6%96%B9/%E6%96%99%E9%87%91/
URL:https://dance.gdp22.com/event/dance-7693/2026-08-11/
LOCATION:六本木ダンススタジオカシーノ\, 東京都港区六本木5-2-4第二鳥勝ビル四階\, 六本木\, 106-0032\, 日本
CATEGORIES:アルゼンチンタンゴ
END:VEVENT
BEGIN:VEVENT
DTSTART;TZID=Asia/Tokyo:20260812T180000
DTEND;TZID=Asia/Tokyo:20260812T190000
DTSTAMP:20260424T162318
CREATED:20220905T033113Z
LAST-MODIFIED:20220905T033113Z
UID:10262285-1786557600-1786561200@dance.gdp22.com
SUMMARY:TANGO 振付レッスン
DESCRIPTION:ドンセサル \n毎週水曜日\nタンゴ振付クラス\nCesar\nFrom Argentina
URL:https://dance.gdp22.com/event/dance-33877/2026-08-12/
LOCATION:横浜ドン・セサル DON CESAR\, 神奈川県横浜市中区石川町1-21\, 横浜\, 231-0868\, 日本
CATEGORIES:アルゼンチンタンゴ
END:VEVENT
BEGIN:VEVENT
DTSTART;TZID=Asia/Tokyo:20260814T190000
DTEND;TZID=Asia/Tokyo:20260814T194500
DTSTAMP:20260424T162318
CREATED:20220620T030138Z
LAST-MODIFIED:20220620T030138Z
UID:10225471-1786734000-1786736700@dance.gdp22.com
SUMMARY:タンゴ By EZEQUIEL
DESCRIPTION:タンゴ \nEZEQUIEL \nhttps://www.studio-casino.com/%E4%BD%93%E9%A8%93%E3%83%AC%E3%83%83%E3%82%B9%E3%83%B3-%E5%88%9D%E3%82%81%E3%81%A6%E3%81%AE%E6%96%B9/%E6%96%99%E9%87%91/
URL:https://dance.gdp22.com/event/dance-7796/2026-08-14/
LOCATION:六本木ダンススタジオカシーノ\, 東京都港区六本木5-2-4第二鳥勝ビル四階\, 六本木\, 106-0032\, 日本
CATEGORIES:アルゼンチンタンゴ
END:VEVENT
BEGIN:VEVENT
DTSTART;TZID=Asia/Tokyo:20260814T200000
DTEND;TZID=Asia/Tokyo:20260814T220000
DTSTAMP:20260424T162318
CREATED:20250426T083905Z
LAST-MODIFIED:20250426T085036Z
UID:10283475-1786737600-1786744800@dance.gdp22.com
SUMMARY:社交ダンスパーティ
DESCRIPTION:20:00～22:00\nWaltz\,Tango\, Slowfoxtrot\, Quickstep\, Chacha\,Samba\,Rumba\,Jive\,etc\n￥1\,500(w1d)
URL:https://dance.gdp22.com/event/dance-31385-2/2026-08-14/
LOCATION:Dance&Dining桜井通り（熊本）\, 熊本県熊本市中央区上通町5-10桜井ビル4F\, 熊本\, 860-0845
CATEGORIES:ソーシャル,アルゼンチンタンゴ,社交ダンス ラテン,社交ダンス スタンダード
END:VEVENT
BEGIN:VEVENT
DTSTART;TZID=Asia/Tokyo:20260815T140000
DTEND;TZID=Asia/Tokyo:20260815T170000
DTSTAMP:20260424T162318
CREATED:20220831T032730Z
LAST-MODIFIED:20220831T032730Z
UID:10264349-1786802400-1786813200@dance.gdp22.com
SUMMARY:J-タンゴ・レッスン＆プラクティカ第3
DESCRIPTION:カフェルンビータ（京都） \n詳細はWEB参照
URL:https://dance.gdp22.com/event/dance-32823/2026-08-15/
LOCATION:カフェルンビータ（京都）\, 京都府京都市中京区山崎町２５８−１９ 珠光ビル三条 ３F\, 京都\, 604-8032\, 日本
CATEGORIES:アルゼンチンタンゴ
END:VEVENT
BEGIN:VEVENT
DTSTART;TZID=Asia/Tokyo:20260818T150000
DTEND;TZID=Asia/Tokyo:20260818T170000
DTSTAMP:20260424T162318
CREATED:20220525T025310Z
LAST-MODIFIED:20220527T024453Z
UID:10214035-1787065200-1787072400@dance.gdp22.com
SUMMARY:アルゼンチンタンゴレッスン by Ezequiel & Fumi
DESCRIPTION:アルゼンチンタンゴレッスン by Ezequiel & Fumi\n　15:00-15:30 無料ｳｫｰﾐﾝｸﾞｱｯﾌﾟ＆ 基本動作\n　15:30-16:30 アルゼンチンタンゴ～入門・初級～\n　16:30-17:00 質問・練習タイム\n2500円/回\n※ﾄﾞﾘﾝｸ別、回数券制度あり
URL:https://dance.gdp22.com/event/dance-4998/2026-08-18/
LOCATION:日暮里サルー\, 東京都東日暮里6-60-9日暮里駅前ビル3F\, 日暮里\, 116-0014\, 日本
CATEGORIES:アルゼンチンタンゴ
END:VEVENT
BEGIN:VEVENT
DTSTART;TZID=Asia/Tokyo:20260818T190000
DTEND;TZID=Asia/Tokyo:20260818T194500
DTSTAMP:20260424T162318
CREATED:20220620T020413Z
LAST-MODIFIED:20220620T020413Z
UID:10223455-1787079600-1787082300@dance.gdp22.com
SUMMARY:タンゴ By DIEGO
DESCRIPTION:タンゴ \nDIEGO \nhttps://www.studio-casino.com/%E4%BD%93%E9%A8%93%E3%83%AC%E3%83%83%E3%82%B9%E3%83%B3-%E5%88%9D%E3%82%81%E3%81%A6%E3%81%AE%E6%96%B9/%E6%96%99%E9%87%91/
URL:https://dance.gdp22.com/event/dance-7693/2026-08-18/
LOCATION:六本木ダンススタジオカシーノ\, 東京都港区六本木5-2-4第二鳥勝ビル四階\, 六本木\, 106-0032\, 日本
CATEGORIES:アルゼンチンタンゴ
END:VEVENT
BEGIN:VEVENT
DTSTART;TZID=Asia/Tokyo:20260819T180000
DTEND;TZID=Asia/Tokyo:20260819T190000
DTSTAMP:20260424T162318
CREATED:20220905T033113Z
LAST-MODIFIED:20220905T033113Z
UID:10262286-1787162400-1787166000@dance.gdp22.com
SUMMARY:TANGO 振付レッスン
DESCRIPTION:ドンセサル \n毎週水曜日\nタンゴ振付クラス\nCesar\nFrom Argentina
URL:https://dance.gdp22.com/event/dance-33877/2026-08-19/
LOCATION:横浜ドン・セサル DON CESAR\, 神奈川県横浜市中区石川町1-21\, 横浜\, 231-0868\, 日本
CATEGORIES:アルゼンチンタンゴ
END:VEVENT
BEGIN:VEVENT
DTSTART;TZID=Asia/Tokyo:20260821T190000
DTEND;TZID=Asia/Tokyo:20260821T194500
DTSTAMP:20260424T162318
CREATED:20220620T030138Z
LAST-MODIFIED:20220620T030138Z
UID:10225472-1787338800-1787341500@dance.gdp22.com
SUMMARY:タンゴ By EZEQUIEL
DESCRIPTION:タンゴ \nEZEQUIEL \nhttps://www.studio-casino.com/%E4%BD%93%E9%A8%93%E3%83%AC%E3%83%83%E3%82%B9%E3%83%B3-%E5%88%9D%E3%82%81%E3%81%A6%E3%81%AE%E6%96%B9/%E6%96%99%E9%87%91/
URL:https://dance.gdp22.com/event/dance-7796/2026-08-21/
LOCATION:六本木ダンススタジオカシーノ\, 東京都港区六本木5-2-4第二鳥勝ビル四階\, 六本木\, 106-0032\, 日本
CATEGORIES:アルゼンチンタンゴ
END:VEVENT
BEGIN:VEVENT
DTSTART;TZID=Asia/Tokyo:20260821T200000
DTEND;TZID=Asia/Tokyo:20260821T220000
DTSTAMP:20260424T162318
CREATED:20250426T083905Z
LAST-MODIFIED:20250426T085036Z
UID:10283476-1787342400-1787349600@dance.gdp22.com
SUMMARY:社交ダンスパーティ
DESCRIPTION:20:00～22:00\nWaltz\,Tango\, Slowfoxtrot\, Quickstep\, Chacha\,Samba\,Rumba\,Jive\,etc\n￥1\,500(w1d)
URL:https://dance.gdp22.com/event/dance-31385-2/2026-08-21/
LOCATION:Dance&Dining桜井通り（熊本）\, 熊本県熊本市中央区上通町5-10桜井ビル4F\, 熊本\, 860-0845
CATEGORIES:ソーシャル,アルゼンチンタンゴ,社交ダンス ラテン,社交ダンス スタンダード
END:VEVENT
BEGIN:VEVENT
DTSTART;TZID=Asia/Tokyo:20260822T140000
DTEND;TZID=Asia/Tokyo:20260822T170000
DTSTAMP:20260424T162318
CREATED:20220831T033002Z
LAST-MODIFIED:20220831T033002Z
UID:10266782-1787407200-1787418000@dance.gdp22.com
SUMMARY:J-タンゴ・レッスン＆プラクティカ第4
DESCRIPTION:カフェルンビータ（京都） \n詳細はWEB参照
URL:https://dance.gdp22.com/event/dance-32835/2026-08-22/
LOCATION:カフェルンビータ（京都）\, 京都府京都市中京区山崎町２５８−１９ 珠光ビル三条 ３F\, 京都\, 604-8032\, 日本
CATEGORIES:アルゼンチンタンゴ
END:VEVENT
BEGIN:VEVENT
DTSTART;TZID=Asia/Tokyo:20260823T153000
DTEND;TZID=Asia/Tokyo:20260823T170000
DTSTAMP:20260424T162318
CREATED:20220905T034833Z
LAST-MODIFIED:20220905T034833Z
UID:10267970-1787499000-1787504400@dance.gdp22.com
SUMMARY:TANGO group lesson by Cesar from Argentina（ｗ/Party）
DESCRIPTION:ドンセサル \n午後2時～ milonga party
URL:https://dance.gdp22.com/event/dance-33916/2026-08-23/
LOCATION:横浜ドン・セサル DON CESAR\, 神奈川県横浜市中区石川町1-21\, 横浜\, 231-0868\, 日本
CATEGORIES:ソーシャル,アルゼンチンタンゴ
END:VEVENT
BEGIN:VEVENT
DTSTART;TZID=Asia/Tokyo:20260825T150000
DTEND;TZID=Asia/Tokyo:20260825T170000
DTSTAMP:20260424T162318
CREATED:20220525T025310Z
LAST-MODIFIED:20220527T024453Z
UID:10214036-1787670000-1787677200@dance.gdp22.com
SUMMARY:アルゼンチンタンゴレッスン by Ezequiel & Fumi
DESCRIPTION:アルゼンチンタンゴレッスン by Ezequiel & Fumi\n　15:00-15:30 無料ｳｫｰﾐﾝｸﾞｱｯﾌﾟ＆ 基本動作\n　15:30-16:30 アルゼンチンタンゴ～入門・初級～\n　16:30-17:00 質問・練習タイム\n2500円/回\n※ﾄﾞﾘﾝｸ別、回数券制度あり
URL:https://dance.gdp22.com/event/dance-4998/2026-08-25/
LOCATION:日暮里サルー\, 東京都東日暮里6-60-9日暮里駅前ビル3F\, 日暮里\, 116-0014\, 日本
CATEGORIES:アルゼンチンタンゴ
END:VEVENT
BEGIN:VEVENT
DTSTART;TZID=Asia/Tokyo:20260825T190000
DTEND;TZID=Asia/Tokyo:20260825T194500
DTSTAMP:20260424T162318
CREATED:20220620T020413Z
LAST-MODIFIED:20220620T020413Z
UID:10223456-1787684400-1787687100@dance.gdp22.com
SUMMARY:タンゴ By DIEGO
DESCRIPTION:タンゴ \nDIEGO \nhttps://www.studio-casino.com/%E4%BD%93%E9%A8%93%E3%83%AC%E3%83%83%E3%82%B9%E3%83%B3-%E5%88%9D%E3%82%81%E3%81%A6%E3%81%AE%E6%96%B9/%E6%96%99%E9%87%91/
URL:https://dance.gdp22.com/event/dance-7693/2026-08-25/
LOCATION:六本木ダンススタジオカシーノ\, 東京都港区六本木5-2-4第二鳥勝ビル四階\, 六本木\, 106-0032\, 日本
CATEGORIES:アルゼンチンタンゴ
END:VEVENT
BEGIN:VEVENT
DTSTART;TZID=Asia/Tokyo:20260826T180000
DTEND;TZID=Asia/Tokyo:20260826T190000
DTSTAMP:20260424T162318
CREATED:20220905T033113Z
LAST-MODIFIED:20220905T033113Z
UID:10262287-1787767200-1787770800@dance.gdp22.com
SUMMARY:TANGO 振付レッスン
DESCRIPTION:ドンセサル \n毎週水曜日\nタンゴ振付クラス\nCesar\nFrom Argentina
URL:https://dance.gdp22.com/event/dance-33877/2026-08-26/
LOCATION:横浜ドン・セサル DON CESAR\, 神奈川県横浜市中区石川町1-21\, 横浜\, 231-0868\, 日本
CATEGORIES:アルゼンチンタンゴ
END:VEVENT
BEGIN:VEVENT
DTSTART;TZID=Asia/Tokyo:20260828T190000
DTEND;TZID=Asia/Tokyo:20260828T194500
DTSTAMP:20260424T162318
CREATED:20220620T030138Z
LAST-MODIFIED:20220620T030138Z
UID:10225473-1787943600-1787946300@dance.gdp22.com
SUMMARY:タンゴ By EZEQUIEL
DESCRIPTION:タンゴ \nEZEQUIEL \nhttps://www.studio-casino.com/%E4%BD%93%E9%A8%93%E3%83%AC%E3%83%83%E3%82%B9%E3%83%B3-%E5%88%9D%E3%82%81%E3%81%A6%E3%81%AE%E6%96%B9/%E6%96%99%E9%87%91/
URL:https://dance.gdp22.com/event/dance-7796/2026-08-28/
LOCATION:六本木ダンススタジオカシーノ\, 東京都港区六本木5-2-4第二鳥勝ビル四階\, 六本木\, 106-0032\, 日本
CATEGORIES:アルゼンチンタンゴ
END:VEVENT
BEGIN:VEVENT
DTSTART;TZID=Asia/Tokyo:20260828T200000
DTEND;TZID=Asia/Tokyo:20260828T220000
DTSTAMP:20260424T162318
CREATED:20250426T083905Z
LAST-MODIFIED:20250426T085036Z
UID:10283477-1787947200-1787954400@dance.gdp22.com
SUMMARY:社交ダンスパーティ
DESCRIPTION:20:00～22:00\nWaltz\,Tango\, Slowfoxtrot\, Quickstep\, Chacha\,Samba\,Rumba\,Jive\,etc\n￥1\,500(w1d)
URL:https://dance.gdp22.com/event/dance-31385-2/2026-08-28/
LOCATION:Dance&Dining桜井通り（熊本）\, 熊本県熊本市中央区上通町5-10桜井ビル4F\, 熊本\, 860-0845
CATEGORIES:ソーシャル,アルゼンチンタンゴ,社交ダンス ラテン,社交ダンス スタンダード
END:VEVENT
BEGIN:VEVENT
DTSTART;TZID=Asia/Tokyo:20260829T140000
DTEND;TZID=Asia/Tokyo:20260829T170000
DTSTAMP:20260424T162318
CREATED:20220831T033224Z
LAST-MODIFIED:20220831T033224Z
UID:10209507-1788012000-1788022800@dance.gdp22.com
SUMMARY:J-タンゴ・レッスン＆プラクティカ第5
DESCRIPTION:カフェルンビータ（京都） \n詳細はWEB参照
URL:https://dance.gdp22.com/event/dance-32847/2026-08-29/
LOCATION:カフェルンビータ（京都）\, 京都府京都市中京区山崎町２５８−１９ 珠光ビル三条 ３F\, 京都\, 604-8032\, 日本
CATEGORIES:アルゼンチンタンゴ
END:VEVENT
END:VCALENDAR