BEGIN:VCALENDAR
VERSION:2.0
PRODID:-//Dancing Pono (ダンシングポノ) - ECPv6.15.12//NONSGML v1.0//EN
CALSCALE:GREGORIAN
METHOD:PUBLISH
X-ORIGINAL-URL:https://dance.gdp22.com
X-WR-CALDESC:Dancing Pono (ダンシングポノ) のイベント
REFRESH-INTERVAL;VALUE=DURATION:PT1H
X-Robots-Tag:noindex
X-PUBLISHED-TTL:PT1H
BEGIN:VTIMEZONE
TZID:Asia/Tokyo
BEGIN:STANDARD
TZOFFSETFROM:+0900
TZOFFSETTO:+0900
TZNAME:JST
DTSTART:20250101T000000
END:STANDARD
END:VTIMEZONE
BEGIN:VEVENT
DTSTART;TZID=Asia/Tokyo:20260602T150000
DTEND;TZID=Asia/Tokyo:20260602T170000
DTSTAMP:20260424T113140
CREATED:20220525T025310Z
LAST-MODIFIED:20220527T024453Z
UID:10214024-1780412400-1780419600@dance.gdp22.com
SUMMARY:アルゼンチンタンゴレッスン by Ezequiel & Fumi
DESCRIPTION:アルゼンチンタンゴレッスン by Ezequiel & Fumi\n　15:00-15:30 無料ｳｫｰﾐﾝｸﾞｱｯﾌﾟ＆ 基本動作\n　15:30-16:30 アルゼンチンタンゴ～入門・初級～\n　16:30-17:00 質問・練習タイム\n2500円/回\n※ﾄﾞﾘﾝｸ別、回数券制度あり
URL:https://dance.gdp22.com/event/dance-4998/2026-06-02/
LOCATION:日暮里サルー\, 東京都東日暮里6-60-9日暮里駅前ビル3F\, 日暮里\, 116-0014\, 日本
CATEGORIES:アルゼンチンタンゴ
END:VEVENT
BEGIN:VEVENT
DTSTART;TZID=Asia/Tokyo:20260602T190000
DTEND;TZID=Asia/Tokyo:20260602T194500
DTSTAMP:20260424T113140
CREATED:20220620T020413Z
LAST-MODIFIED:20220620T020413Z
UID:10223444-1780426800-1780429500@dance.gdp22.com
SUMMARY:タンゴ By DIEGO
DESCRIPTION:タンゴ \nDIEGO \nhttps://www.studio-casino.com/%E4%BD%93%E9%A8%93%E3%83%AC%E3%83%83%E3%82%B9%E3%83%B3-%E5%88%9D%E3%82%81%E3%81%A6%E3%81%AE%E6%96%B9/%E6%96%99%E9%87%91/
URL:https://dance.gdp22.com/event/dance-7693/2026-06-02/
LOCATION:六本木ダンススタジオカシーノ\, 東京都港区六本木5-2-4第二鳥勝ビル四階\, 六本木\, 106-0032\, 日本
CATEGORIES:アルゼンチンタンゴ
END:VEVENT
BEGIN:VEVENT
DTSTART;TZID=Asia/Tokyo:20260603T180000
DTEND;TZID=Asia/Tokyo:20260603T190000
DTSTAMP:20260424T113140
CREATED:20220905T033113Z
LAST-MODIFIED:20220905T033113Z
UID:10262275-1780509600-1780513200@dance.gdp22.com
SUMMARY:TANGO 振付レッスン
DESCRIPTION:ドンセサル \n毎週水曜日\nタンゴ振付クラス\nCesar\nFrom Argentina
URL:https://dance.gdp22.com/event/dance-33877/2026-06-03/
LOCATION:横浜ドン・セサル DON CESAR\, 神奈川県横浜市中区石川町1-21\, 横浜\, 231-0868\, 日本
CATEGORIES:アルゼンチンタンゴ
END:VEVENT
BEGIN:VEVENT
DTSTART;TZID=Asia/Tokyo:20260605T190000
DTEND;TZID=Asia/Tokyo:20260605T194500
DTSTAMP:20260424T113140
CREATED:20220620T030138Z
LAST-MODIFIED:20220620T030138Z
UID:10225461-1780686000-1780688700@dance.gdp22.com
SUMMARY:タンゴ By EZEQUIEL
DESCRIPTION:タンゴ \nEZEQUIEL \nhttps://www.studio-casino.com/%E4%BD%93%E9%A8%93%E3%83%AC%E3%83%83%E3%82%B9%E3%83%B3-%E5%88%9D%E3%82%81%E3%81%A6%E3%81%AE%E6%96%B9/%E6%96%99%E9%87%91/
URL:https://dance.gdp22.com/event/dance-7796/2026-06-05/
LOCATION:六本木ダンススタジオカシーノ\, 東京都港区六本木5-2-4第二鳥勝ビル四階\, 六本木\, 106-0032\, 日本
CATEGORIES:アルゼンチンタンゴ
END:VEVENT
BEGIN:VEVENT
DTSTART;TZID=Asia/Tokyo:20260605T200000
DTEND;TZID=Asia/Tokyo:20260605T220000
DTSTAMP:20260424T113140
CREATED:20250426T083905Z
LAST-MODIFIED:20250426T085036Z
UID:10283465-1780689600-1780696800@dance.gdp22.com
SUMMARY:社交ダンスパーティ
DESCRIPTION:20:00～22:00\nWaltz\,Tango\, Slowfoxtrot\, Quickstep\, Chacha\,Samba\,Rumba\,Jive\,etc\n￥1\,500(w1d)
URL:https://dance.gdp22.com/event/dance-31385-2/2026-06-05/
LOCATION:Dance&Dining桜井通り（熊本）\, 熊本県熊本市中央区上通町5-10桜井ビル4F\, 熊本\, 860-0845
CATEGORIES:ソーシャル,アルゼンチンタンゴ,社交ダンス ラテン,社交ダンス スタンダード
END:VEVENT
BEGIN:VEVENT
DTSTART;TZID=Asia/Tokyo:20260606T140000
DTEND;TZID=Asia/Tokyo:20260606T170000
DTSTAMP:20260424T113140
CREATED:20220831T032217Z
LAST-MODIFIED:20220831T032217Z
UID:10262021-1780754400-1780765200@dance.gdp22.com
SUMMARY:J-タンゴ・レッスン＆プラクティカ第1
DESCRIPTION:カフェルンビータ（京都） \n詳細はWEB参照
URL:https://dance.gdp22.com/event/dance-32799/2026-06-06/
LOCATION:カフェルンビータ（京都）\, 京都府京都市中京区山崎町２５８−１９ 珠光ビル三条 ３F\, 京都\, 604-8032\, 日本
CATEGORIES:アルゼンチンタンゴ
END:VEVENT
BEGIN:VEVENT
DTSTART;TZID=Asia/Tokyo:20260607T180000
DTEND;TZID=Asia/Tokyo:20260607T190000
DTSTAMP:20260424T113140
CREATED:20220907T165238Z
LAST-MODIFIED:20220907T165430Z
UID:10274221-1780855200-1780858800@dance.gdp22.com
SUMMARY:TANGO Beginners by Don Cesar
DESCRIPTION:ドンセサル \nイベントの場合は、イベントごとに異なります。
URL:https://dance.gdp22.com/event/tango-beginners-by-don-cesar/2026-06-07/
LOCATION:横浜ドン・セサル DON CESAR\, 神奈川県横浜市中区石川町1-21\, 横浜\, 231-0868\, 日本
CATEGORIES:アルゼンチンタンゴ
END:VEVENT
BEGIN:VEVENT
DTSTART;TZID=Asia/Tokyo:20260609T150000
DTEND;TZID=Asia/Tokyo:20260609T170000
DTSTAMP:20260424T113140
CREATED:20220525T025310Z
LAST-MODIFIED:20220527T024453Z
UID:10214025-1781017200-1781024400@dance.gdp22.com
SUMMARY:アルゼンチンタンゴレッスン by Ezequiel & Fumi
DESCRIPTION:アルゼンチンタンゴレッスン by Ezequiel & Fumi\n　15:00-15:30 無料ｳｫｰﾐﾝｸﾞｱｯﾌﾟ＆ 基本動作\n　15:30-16:30 アルゼンチンタンゴ～入門・初級～\n　16:30-17:00 質問・練習タイム\n2500円/回\n※ﾄﾞﾘﾝｸ別、回数券制度あり
URL:https://dance.gdp22.com/event/dance-4998/2026-06-09/
LOCATION:日暮里サルー\, 東京都東日暮里6-60-9日暮里駅前ビル3F\, 日暮里\, 116-0014\, 日本
CATEGORIES:アルゼンチンタンゴ
END:VEVENT
BEGIN:VEVENT
DTSTART;TZID=Asia/Tokyo:20260609T190000
DTEND;TZID=Asia/Tokyo:20260609T194500
DTSTAMP:20260424T113140
CREATED:20220620T020413Z
LAST-MODIFIED:20220620T020413Z
UID:10223445-1781031600-1781034300@dance.gdp22.com
SUMMARY:タンゴ By DIEGO
DESCRIPTION:タンゴ \nDIEGO \nhttps://www.studio-casino.com/%E4%BD%93%E9%A8%93%E3%83%AC%E3%83%83%E3%82%B9%E3%83%B3-%E5%88%9D%E3%82%81%E3%81%A6%E3%81%AE%E6%96%B9/%E6%96%99%E9%87%91/
URL:https://dance.gdp22.com/event/dance-7693/2026-06-09/
LOCATION:六本木ダンススタジオカシーノ\, 東京都港区六本木5-2-4第二鳥勝ビル四階\, 六本木\, 106-0032\, 日本
CATEGORIES:アルゼンチンタンゴ
END:VEVENT
BEGIN:VEVENT
DTSTART;TZID=Asia/Tokyo:20260610T180000
DTEND;TZID=Asia/Tokyo:20260610T190000
DTSTAMP:20260424T113140
CREATED:20220905T033113Z
LAST-MODIFIED:20220905T033113Z
UID:10262276-1781114400-1781118000@dance.gdp22.com
SUMMARY:TANGO 振付レッスン
DESCRIPTION:ドンセサル \n毎週水曜日\nタンゴ振付クラス\nCesar\nFrom Argentina
URL:https://dance.gdp22.com/event/dance-33877/2026-06-10/
LOCATION:横浜ドン・セサル DON CESAR\, 神奈川県横浜市中区石川町1-21\, 横浜\, 231-0868\, 日本
CATEGORIES:アルゼンチンタンゴ
END:VEVENT
BEGIN:VEVENT
DTSTART;TZID=Asia/Tokyo:20260612T190000
DTEND;TZID=Asia/Tokyo:20260612T194500
DTSTAMP:20260424T113140
CREATED:20220620T030138Z
LAST-MODIFIED:20220620T030138Z
UID:10225462-1781290800-1781293500@dance.gdp22.com
SUMMARY:タンゴ By EZEQUIEL
DESCRIPTION:タンゴ \nEZEQUIEL \nhttps://www.studio-casino.com/%E4%BD%93%E9%A8%93%E3%83%AC%E3%83%83%E3%82%B9%E3%83%B3-%E5%88%9D%E3%82%81%E3%81%A6%E3%81%AE%E6%96%B9/%E6%96%99%E9%87%91/
URL:https://dance.gdp22.com/event/dance-7796/2026-06-12/
LOCATION:六本木ダンススタジオカシーノ\, 東京都港区六本木5-2-4第二鳥勝ビル四階\, 六本木\, 106-0032\, 日本
CATEGORIES:アルゼンチンタンゴ
END:VEVENT
BEGIN:VEVENT
DTSTART;TZID=Asia/Tokyo:20260612T200000
DTEND;TZID=Asia/Tokyo:20260612T220000
DTSTAMP:20260424T113140
CREATED:20250426T083905Z
LAST-MODIFIED:20250426T085036Z
UID:10283466-1781294400-1781301600@dance.gdp22.com
SUMMARY:社交ダンスパーティ
DESCRIPTION:20:00～22:00\nWaltz\,Tango\, Slowfoxtrot\, Quickstep\, Chacha\,Samba\,Rumba\,Jive\,etc\n￥1\,500(w1d)
URL:https://dance.gdp22.com/event/dance-31385-2/2026-06-12/
LOCATION:Dance&Dining桜井通り（熊本）\, 熊本県熊本市中央区上通町5-10桜井ビル4F\, 熊本\, 860-0845
CATEGORIES:ソーシャル,アルゼンチンタンゴ,社交ダンス ラテン,社交ダンス スタンダード
END:VEVENT
BEGIN:VEVENT
DTSTART;TZID=Asia/Tokyo:20260613T140000
DTEND;TZID=Asia/Tokyo:20260613T170000
DTSTAMP:20260424T113140
CREATED:20220831T032426Z
LAST-MODIFIED:20220831T032426Z
UID:10262697-1781359200-1781370000@dance.gdp22.com
SUMMARY:J-タンゴ・レッスン＆プラクティカ第2
DESCRIPTION:カフェルンビータ（京都） \n詳細はWEB参照
URL:https://dance.gdp22.com/event/dance-32811/2026-06-13/
LOCATION:カフェルンビータ（京都）\, 京都府京都市中京区山崎町２５８−１９ 珠光ビル三条 ３F\, 京都\, 604-8032\, 日本
CATEGORIES:アルゼンチンタンゴ
END:VEVENT
BEGIN:VEVENT
DTSTART;TZID=Asia/Tokyo:20260616T150000
DTEND;TZID=Asia/Tokyo:20260616T170000
DTSTAMP:20260424T113140
CREATED:20220525T025310Z
LAST-MODIFIED:20220527T024453Z
UID:10214026-1781622000-1781629200@dance.gdp22.com
SUMMARY:アルゼンチンタンゴレッスン by Ezequiel & Fumi
DESCRIPTION:アルゼンチンタンゴレッスン by Ezequiel & Fumi\n　15:00-15:30 無料ｳｫｰﾐﾝｸﾞｱｯﾌﾟ＆ 基本動作\n　15:30-16:30 アルゼンチンタンゴ～入門・初級～\n　16:30-17:00 質問・練習タイム\n2500円/回\n※ﾄﾞﾘﾝｸ別、回数券制度あり
URL:https://dance.gdp22.com/event/dance-4998/2026-06-16/
LOCATION:日暮里サルー\, 東京都東日暮里6-60-9日暮里駅前ビル3F\, 日暮里\, 116-0014\, 日本
CATEGORIES:アルゼンチンタンゴ
END:VEVENT
BEGIN:VEVENT
DTSTART;TZID=Asia/Tokyo:20260616T190000
DTEND;TZID=Asia/Tokyo:20260616T194500
DTSTAMP:20260424T113140
CREATED:20220620T020413Z
LAST-MODIFIED:20220620T020413Z
UID:10223446-1781636400-1781639100@dance.gdp22.com
SUMMARY:タンゴ By DIEGO
DESCRIPTION:タンゴ \nDIEGO \nhttps://www.studio-casino.com/%E4%BD%93%E9%A8%93%E3%83%AC%E3%83%83%E3%82%B9%E3%83%B3-%E5%88%9D%E3%82%81%E3%81%A6%E3%81%AE%E6%96%B9/%E6%96%99%E9%87%91/
URL:https://dance.gdp22.com/event/dance-7693/2026-06-16/
LOCATION:六本木ダンススタジオカシーノ\, 東京都港区六本木5-2-4第二鳥勝ビル四階\, 六本木\, 106-0032\, 日本
CATEGORIES:アルゼンチンタンゴ
END:VEVENT
BEGIN:VEVENT
DTSTART;TZID=Asia/Tokyo:20260617T180000
DTEND;TZID=Asia/Tokyo:20260617T190000
DTSTAMP:20260424T113140
CREATED:20220905T033113Z
LAST-MODIFIED:20220905T033113Z
UID:10262277-1781719200-1781722800@dance.gdp22.com
SUMMARY:TANGO 振付レッスン
DESCRIPTION:ドンセサル \n毎週水曜日\nタンゴ振付クラス\nCesar\nFrom Argentina
URL:https://dance.gdp22.com/event/dance-33877/2026-06-17/
LOCATION:横浜ドン・セサル DON CESAR\, 神奈川県横浜市中区石川町1-21\, 横浜\, 231-0868\, 日本
CATEGORIES:アルゼンチンタンゴ
END:VEVENT
BEGIN:VEVENT
DTSTART;TZID=Asia/Tokyo:20260619T190000
DTEND;TZID=Asia/Tokyo:20260619T194500
DTSTAMP:20260424T113140
CREATED:20220620T030138Z
LAST-MODIFIED:20220620T030138Z
UID:10225463-1781895600-1781898300@dance.gdp22.com
SUMMARY:タンゴ By EZEQUIEL
DESCRIPTION:タンゴ \nEZEQUIEL \nhttps://www.studio-casino.com/%E4%BD%93%E9%A8%93%E3%83%AC%E3%83%83%E3%82%B9%E3%83%B3-%E5%88%9D%E3%82%81%E3%81%A6%E3%81%AE%E6%96%B9/%E6%96%99%E9%87%91/
URL:https://dance.gdp22.com/event/dance-7796/2026-06-19/
LOCATION:六本木ダンススタジオカシーノ\, 東京都港区六本木5-2-4第二鳥勝ビル四階\, 六本木\, 106-0032\, 日本
CATEGORIES:アルゼンチンタンゴ
END:VEVENT
BEGIN:VEVENT
DTSTART;TZID=Asia/Tokyo:20260619T200000
DTEND;TZID=Asia/Tokyo:20260619T220000
DTSTAMP:20260424T113140
CREATED:20250426T083905Z
LAST-MODIFIED:20250426T085036Z
UID:10283467-1781899200-1781906400@dance.gdp22.com
SUMMARY:社交ダンスパーティ
DESCRIPTION:20:00～22:00\nWaltz\,Tango\, Slowfoxtrot\, Quickstep\, Chacha\,Samba\,Rumba\,Jive\,etc\n￥1\,500(w1d)
URL:https://dance.gdp22.com/event/dance-31385-2/2026-06-19/
LOCATION:Dance&Dining桜井通り（熊本）\, 熊本県熊本市中央区上通町5-10桜井ビル4F\, 熊本\, 860-0845
CATEGORIES:ソーシャル,アルゼンチンタンゴ,社交ダンス ラテン,社交ダンス スタンダード
END:VEVENT
BEGIN:VEVENT
DTSTART;TZID=Asia/Tokyo:20260620T140000
DTEND;TZID=Asia/Tokyo:20260620T170000
DTSTAMP:20260424T113140
CREATED:20220831T032730Z
LAST-MODIFIED:20220831T032730Z
UID:10264347-1781964000-1781974800@dance.gdp22.com
SUMMARY:J-タンゴ・レッスン＆プラクティカ第3
DESCRIPTION:カフェルンビータ（京都） \n詳細はWEB参照
URL:https://dance.gdp22.com/event/dance-32823/2026-06-20/
LOCATION:カフェルンビータ（京都）\, 京都府京都市中京区山崎町２５８−１９ 珠光ビル三条 ３F\, 京都\, 604-8032\, 日本
CATEGORIES:アルゼンチンタンゴ
END:VEVENT
BEGIN:VEVENT
DTSTART;TZID=Asia/Tokyo:20260623T150000
DTEND;TZID=Asia/Tokyo:20260623T170000
DTSTAMP:20260424T113140
CREATED:20220525T025310Z
LAST-MODIFIED:20220527T024453Z
UID:10214027-1782226800-1782234000@dance.gdp22.com
SUMMARY:アルゼンチンタンゴレッスン by Ezequiel & Fumi
DESCRIPTION:アルゼンチンタンゴレッスン by Ezequiel & Fumi\n　15:00-15:30 無料ｳｫｰﾐﾝｸﾞｱｯﾌﾟ＆ 基本動作\n　15:30-16:30 アルゼンチンタンゴ～入門・初級～\n　16:30-17:00 質問・練習タイム\n2500円/回\n※ﾄﾞﾘﾝｸ別、回数券制度あり
URL:https://dance.gdp22.com/event/dance-4998/2026-06-23/
LOCATION:日暮里サルー\, 東京都東日暮里6-60-9日暮里駅前ビル3F\, 日暮里\, 116-0014\, 日本
CATEGORIES:アルゼンチンタンゴ
END:VEVENT
BEGIN:VEVENT
DTSTART;TZID=Asia/Tokyo:20260623T190000
DTEND;TZID=Asia/Tokyo:20260623T194500
DTSTAMP:20260424T113140
CREATED:20220620T020413Z
LAST-MODIFIED:20220620T020413Z
UID:10223447-1782241200-1782243900@dance.gdp22.com
SUMMARY:タンゴ By DIEGO
DESCRIPTION:タンゴ \nDIEGO \nhttps://www.studio-casino.com/%E4%BD%93%E9%A8%93%E3%83%AC%E3%83%83%E3%82%B9%E3%83%B3-%E5%88%9D%E3%82%81%E3%81%A6%E3%81%AE%E6%96%B9/%E6%96%99%E9%87%91/
URL:https://dance.gdp22.com/event/dance-7693/2026-06-23/
LOCATION:六本木ダンススタジオカシーノ\, 東京都港区六本木5-2-4第二鳥勝ビル四階\, 六本木\, 106-0032\, 日本
CATEGORIES:アルゼンチンタンゴ
END:VEVENT
BEGIN:VEVENT
DTSTART;TZID=Asia/Tokyo:20260624T180000
DTEND;TZID=Asia/Tokyo:20260624T190000
DTSTAMP:20260424T113140
CREATED:20220905T033113Z
LAST-MODIFIED:20220905T033113Z
UID:10262278-1782324000-1782327600@dance.gdp22.com
SUMMARY:TANGO 振付レッスン
DESCRIPTION:ドンセサル \n毎週水曜日\nタンゴ振付クラス\nCesar\nFrom Argentina
URL:https://dance.gdp22.com/event/dance-33877/2026-06-24/
LOCATION:横浜ドン・セサル DON CESAR\, 神奈川県横浜市中区石川町1-21\, 横浜\, 231-0868\, 日本
CATEGORIES:アルゼンチンタンゴ
END:VEVENT
BEGIN:VEVENT
DTSTART;TZID=Asia/Tokyo:20260626T190000
DTEND;TZID=Asia/Tokyo:20260626T194500
DTSTAMP:20260424T113140
CREATED:20220620T030138Z
LAST-MODIFIED:20220620T030138Z
UID:10225464-1782500400-1782503100@dance.gdp22.com
SUMMARY:タンゴ By EZEQUIEL
DESCRIPTION:タンゴ \nEZEQUIEL \nhttps://www.studio-casino.com/%E4%BD%93%E9%A8%93%E3%83%AC%E3%83%83%E3%82%B9%E3%83%B3-%E5%88%9D%E3%82%81%E3%81%A6%E3%81%AE%E6%96%B9/%E6%96%99%E9%87%91/
URL:https://dance.gdp22.com/event/dance-7796/2026-06-26/
LOCATION:六本木ダンススタジオカシーノ\, 東京都港区六本木5-2-4第二鳥勝ビル四階\, 六本木\, 106-0032\, 日本
CATEGORIES:アルゼンチンタンゴ
END:VEVENT
BEGIN:VEVENT
DTSTART;TZID=Asia/Tokyo:20260626T200000
DTEND;TZID=Asia/Tokyo:20260626T220000
DTSTAMP:20260424T113140
CREATED:20250426T083905Z
LAST-MODIFIED:20250426T085036Z
UID:10283468-1782504000-1782511200@dance.gdp22.com
SUMMARY:社交ダンスパーティ
DESCRIPTION:20:00～22:00\nWaltz\,Tango\, Slowfoxtrot\, Quickstep\, Chacha\,Samba\,Rumba\,Jive\,etc\n￥1\,500(w1d)
URL:https://dance.gdp22.com/event/dance-31385-2/2026-06-26/
LOCATION:Dance&Dining桜井通り（熊本）\, 熊本県熊本市中央区上通町5-10桜井ビル4F\, 熊本\, 860-0845
CATEGORIES:ソーシャル,アルゼンチンタンゴ,社交ダンス ラテン,社交ダンス スタンダード
END:VEVENT
BEGIN:VEVENT
DTSTART;TZID=Asia/Tokyo:20260627T140000
DTEND;TZID=Asia/Tokyo:20260627T170000
DTSTAMP:20260424T113140
CREATED:20220831T033002Z
LAST-MODIFIED:20220831T033002Z
UID:10266780-1782568800-1782579600@dance.gdp22.com
SUMMARY:J-タンゴ・レッスン＆プラクティカ第4
DESCRIPTION:カフェルンビータ（京都） \n詳細はWEB参照
URL:https://dance.gdp22.com/event/dance-32835/2026-06-27/
LOCATION:カフェルンビータ（京都）\, 京都府京都市中京区山崎町２５８−１９ 珠光ビル三条 ３F\, 京都\, 604-8032\, 日本
CATEGORIES:アルゼンチンタンゴ
END:VEVENT
BEGIN:VEVENT
DTSTART;TZID=Asia/Tokyo:20260628T153000
DTEND;TZID=Asia/Tokyo:20260628T170000
DTSTAMP:20260424T113140
CREATED:20220905T034833Z
LAST-MODIFIED:20220905T034833Z
UID:10267968-1782660600-1782666000@dance.gdp22.com
SUMMARY:TANGO group lesson by Cesar from Argentina（ｗ/Party）
DESCRIPTION:ドンセサル \n午後2時～ milonga party
URL:https://dance.gdp22.com/event/dance-33916/2026-06-28/
LOCATION:横浜ドン・セサル DON CESAR\, 神奈川県横浜市中区石川町1-21\, 横浜\, 231-0868\, 日本
CATEGORIES:ソーシャル,アルゼンチンタンゴ
END:VEVENT
BEGIN:VEVENT
DTSTART;TZID=Asia/Tokyo:20260630T150000
DTEND;TZID=Asia/Tokyo:20260630T170000
DTSTAMP:20260424T113140
CREATED:20220525T025310Z
LAST-MODIFIED:20220527T024453Z
UID:10214028-1782831600-1782838800@dance.gdp22.com
SUMMARY:アルゼンチンタンゴレッスン by Ezequiel & Fumi
DESCRIPTION:アルゼンチンタンゴレッスン by Ezequiel & Fumi\n　15:00-15:30 無料ｳｫｰﾐﾝｸﾞｱｯﾌﾟ＆ 基本動作\n　15:30-16:30 アルゼンチンタンゴ～入門・初級～\n　16:30-17:00 質問・練習タイム\n2500円/回\n※ﾄﾞﾘﾝｸ別、回数券制度あり
URL:https://dance.gdp22.com/event/dance-4998/2026-06-30/
LOCATION:日暮里サルー\, 東京都東日暮里6-60-9日暮里駅前ビル3F\, 日暮里\, 116-0014\, 日本
CATEGORIES:アルゼンチンタンゴ
END:VEVENT
BEGIN:VEVENT
DTSTART;TZID=Asia/Tokyo:20260630T190000
DTEND;TZID=Asia/Tokyo:20260630T194500
DTSTAMP:20260424T113140
CREATED:20220620T020413Z
LAST-MODIFIED:20220620T020413Z
UID:10223448-1782846000-1782848700@dance.gdp22.com
SUMMARY:タンゴ By DIEGO
DESCRIPTION:タンゴ \nDIEGO \nhttps://www.studio-casino.com/%E4%BD%93%E9%A8%93%E3%83%AC%E3%83%83%E3%82%B9%E3%83%B3-%E5%88%9D%E3%82%81%E3%81%A6%E3%81%AE%E6%96%B9/%E6%96%99%E9%87%91/
URL:https://dance.gdp22.com/event/dance-7693/2026-06-30/
LOCATION:六本木ダンススタジオカシーノ\, 東京都港区六本木5-2-4第二鳥勝ビル四階\, 六本木\, 106-0032\, 日本
CATEGORIES:アルゼンチンタンゴ
END:VEVENT
END:VCALENDAR