BEGIN:VCALENDAR
VERSION:2.0
PRODID:-//Dancing Pono (ダンシングポノ) - ECPv6.15.12//NONSGML v1.0//EN
CALSCALE:GREGORIAN
METHOD:PUBLISH
X-WR-CALNAME:Dancing Pono (ダンシングポノ)
X-ORIGINAL-URL:https://dance.gdp22.com
X-WR-CALDESC:Dancing Pono (ダンシングポノ) のイベント
REFRESH-INTERVAL;VALUE=DURATION:PT1H
X-Robots-Tag:noindex
X-PUBLISHED-TTL:PT1H
BEGIN:VTIMEZONE
TZID:Asia/Tokyo
BEGIN:STANDARD
TZOFFSETFROM:+0900
TZOFFSETTO:+0900
TZNAME:JST
DTSTART:20240101T000000
END:STANDARD
END:VTIMEZONE
BEGIN:VEVENT
DTSTART;TZID=Asia/Tokyo:20251202T150000
DTEND;TZID=Asia/Tokyo:20251202T170000
DTSTAMP:20260424T162339
CREATED:20220525T025310Z
LAST-MODIFIED:20220527T024453Z
UID:10213998-1764687600-1764694800@dance.gdp22.com
SUMMARY:アルゼンチンタンゴレッスン by Ezequiel & Fumi
DESCRIPTION:アルゼンチンタンゴレッスン by Ezequiel & Fumi\n　15:00-15:30 無料ｳｫｰﾐﾝｸﾞｱｯﾌﾟ＆ 基本動作\n　15:30-16:30 アルゼンチンタンゴ～入門・初級～\n　16:30-17:00 質問・練習タイム\n2500円/回\n※ﾄﾞﾘﾝｸ別、回数券制度あり
URL:https://dance.gdp22.com/event/dance-4998/2025-12-02/
LOCATION:日暮里サルー\, 東京都東日暮里6-60-9日暮里駅前ビル3F\, 日暮里\, 116-0014\, 日本
CATEGORIES:アルゼンチンタンゴ
END:VEVENT
BEGIN:VEVENT
DTSTART;TZID=Asia/Tokyo:20251202T190000
DTEND;TZID=Asia/Tokyo:20251202T194500
DTSTAMP:20260424T162339
CREATED:20220620T020413Z
LAST-MODIFIED:20220620T020413Z
UID:10223418-1764702000-1764704700@dance.gdp22.com
SUMMARY:タンゴ By DIEGO
DESCRIPTION:タンゴ \nDIEGO \nhttps://www.studio-casino.com/%E4%BD%93%E9%A8%93%E3%83%AC%E3%83%83%E3%82%B9%E3%83%B3-%E5%88%9D%E3%82%81%E3%81%A6%E3%81%AE%E6%96%B9/%E6%96%99%E9%87%91/
URL:https://dance.gdp22.com/event/dance-7693/2025-12-02/
LOCATION:六本木ダンススタジオカシーノ\, 東京都港区六本木5-2-4第二鳥勝ビル四階\, 六本木\, 106-0032\, 日本
CATEGORIES:アルゼンチンタンゴ
END:VEVENT
BEGIN:VEVENT
DTSTART;TZID=Asia/Tokyo:20251203T180000
DTEND;TZID=Asia/Tokyo:20251203T190000
DTSTAMP:20260424T162339
CREATED:20220905T033113Z
LAST-MODIFIED:20220905T033113Z
UID:10262249-1764784800-1764788400@dance.gdp22.com
SUMMARY:TANGO 振付レッスン
DESCRIPTION:ドンセサル \n毎週水曜日\nタンゴ振付クラス\nCesar\nFrom Argentina
URL:https://dance.gdp22.com/event/dance-33877/2025-12-03/
LOCATION:横浜ドン・セサル DON CESAR\, 神奈川県横浜市中区石川町1-21\, 横浜\, 231-0868\, 日本
CATEGORIES:アルゼンチンタンゴ
END:VEVENT
BEGIN:VEVENT
DTSTART;TZID=Asia/Tokyo:20251205T190000
DTEND;TZID=Asia/Tokyo:20251205T194500
DTSTAMP:20260424T162339
CREATED:20220620T030138Z
LAST-MODIFIED:20220620T030138Z
UID:10225435-1764961200-1764963900@dance.gdp22.com
SUMMARY:タンゴ By EZEQUIEL
DESCRIPTION:タンゴ \nEZEQUIEL \nhttps://www.studio-casino.com/%E4%BD%93%E9%A8%93%E3%83%AC%E3%83%83%E3%82%B9%E3%83%B3-%E5%88%9D%E3%82%81%E3%81%A6%E3%81%AE%E6%96%B9/%E6%96%99%E9%87%91/
URL:https://dance.gdp22.com/event/dance-7796/2025-12-05/
LOCATION:六本木ダンススタジオカシーノ\, 東京都港区六本木5-2-4第二鳥勝ビル四階\, 六本木\, 106-0032\, 日本
CATEGORIES:アルゼンチンタンゴ
END:VEVENT
BEGIN:VEVENT
DTSTART;TZID=Asia/Tokyo:20251205T200000
DTEND;TZID=Asia/Tokyo:20251205T220000
DTSTAMP:20260424T162339
CREATED:20250426T083905Z
LAST-MODIFIED:20250426T085036Z
UID:10283439-1764964800-1764972000@dance.gdp22.com
SUMMARY:社交ダンスパーティ
DESCRIPTION:20:00～22:00\nWaltz\,Tango\, Slowfoxtrot\, Quickstep\, Chacha\,Samba\,Rumba\,Jive\,etc\n￥1\,500(w1d)
URL:https://dance.gdp22.com/event/dance-31385-2/2025-12-05/
LOCATION:Dance&Dining桜井通り（熊本）\, 熊本県熊本市中央区上通町5-10桜井ビル4F\, 熊本\, 860-0845
CATEGORIES:ソーシャル,アルゼンチンタンゴ,社交ダンス ラテン,社交ダンス スタンダード
END:VEVENT
BEGIN:VEVENT
DTSTART;TZID=Asia/Tokyo:20251206T140000
DTEND;TZID=Asia/Tokyo:20251206T170000
DTSTAMP:20260424T162339
CREATED:20220831T032217Z
LAST-MODIFIED:20220831T032217Z
UID:10262015-1765029600-1765040400@dance.gdp22.com
SUMMARY:J-タンゴ・レッスン＆プラクティカ第1
DESCRIPTION:カフェルンビータ（京都） \n詳細はWEB参照
URL:https://dance.gdp22.com/event/dance-32799/2025-12-06/
LOCATION:カフェルンビータ（京都）\, 京都府京都市中京区山崎町２５８−１９ 珠光ビル三条 ３F\, 京都\, 604-8032\, 日本
CATEGORIES:アルゼンチンタンゴ
END:VEVENT
BEGIN:VEVENT
DTSTART;TZID=Asia/Tokyo:20251207T180000
DTEND;TZID=Asia/Tokyo:20251207T190000
DTSTAMP:20260424T162339
CREATED:20220907T165238Z
LAST-MODIFIED:20220907T165430Z
UID:10274215-1765130400-1765134000@dance.gdp22.com
SUMMARY:TANGO Beginners by Don Cesar
DESCRIPTION:ドンセサル \nイベントの場合は、イベントごとに異なります。
URL:https://dance.gdp22.com/event/tango-beginners-by-don-cesar/2025-12-07/
LOCATION:横浜ドン・セサル DON CESAR\, 神奈川県横浜市中区石川町1-21\, 横浜\, 231-0868\, 日本
CATEGORIES:アルゼンチンタンゴ
END:VEVENT
BEGIN:VEVENT
DTSTART;TZID=Asia/Tokyo:20251209T150000
DTEND;TZID=Asia/Tokyo:20251209T170000
DTSTAMP:20260424T162339
CREATED:20220525T025310Z
LAST-MODIFIED:20220527T024453Z
UID:10213999-1765292400-1765299600@dance.gdp22.com
SUMMARY:アルゼンチンタンゴレッスン by Ezequiel & Fumi
DESCRIPTION:アルゼンチンタンゴレッスン by Ezequiel & Fumi\n　15:00-15:30 無料ｳｫｰﾐﾝｸﾞｱｯﾌﾟ＆ 基本動作\n　15:30-16:30 アルゼンチンタンゴ～入門・初級～\n　16:30-17:00 質問・練習タイム\n2500円/回\n※ﾄﾞﾘﾝｸ別、回数券制度あり
URL:https://dance.gdp22.com/event/dance-4998/2025-12-09/
LOCATION:日暮里サルー\, 東京都東日暮里6-60-9日暮里駅前ビル3F\, 日暮里\, 116-0014\, 日本
CATEGORIES:アルゼンチンタンゴ
END:VEVENT
BEGIN:VEVENT
DTSTART;TZID=Asia/Tokyo:20251209T190000
DTEND;TZID=Asia/Tokyo:20251209T194500
DTSTAMP:20260424T162339
CREATED:20220620T020413Z
LAST-MODIFIED:20220620T020413Z
UID:10223419-1765306800-1765309500@dance.gdp22.com
SUMMARY:タンゴ By DIEGO
DESCRIPTION:タンゴ \nDIEGO \nhttps://www.studio-casino.com/%E4%BD%93%E9%A8%93%E3%83%AC%E3%83%83%E3%82%B9%E3%83%B3-%E5%88%9D%E3%82%81%E3%81%A6%E3%81%AE%E6%96%B9/%E6%96%99%E9%87%91/
URL:https://dance.gdp22.com/event/dance-7693/2025-12-09/
LOCATION:六本木ダンススタジオカシーノ\, 東京都港区六本木5-2-4第二鳥勝ビル四階\, 六本木\, 106-0032\, 日本
CATEGORIES:アルゼンチンタンゴ
END:VEVENT
BEGIN:VEVENT
DTSTART;TZID=Asia/Tokyo:20251210T180000
DTEND;TZID=Asia/Tokyo:20251210T190000
DTSTAMP:20260424T162339
CREATED:20220905T033113Z
LAST-MODIFIED:20220905T033113Z
UID:10262250-1765389600-1765393200@dance.gdp22.com
SUMMARY:TANGO 振付レッスン
DESCRIPTION:ドンセサル \n毎週水曜日\nタンゴ振付クラス\nCesar\nFrom Argentina
URL:https://dance.gdp22.com/event/dance-33877/2025-12-10/
LOCATION:横浜ドン・セサル DON CESAR\, 神奈川県横浜市中区石川町1-21\, 横浜\, 231-0868\, 日本
CATEGORIES:アルゼンチンタンゴ
END:VEVENT
BEGIN:VEVENT
DTSTART;TZID=Asia/Tokyo:20251212T190000
DTEND;TZID=Asia/Tokyo:20251212T194500
DTSTAMP:20260424T162339
CREATED:20220620T030138Z
LAST-MODIFIED:20220620T030138Z
UID:10225436-1765566000-1765568700@dance.gdp22.com
SUMMARY:タンゴ By EZEQUIEL
DESCRIPTION:タンゴ \nEZEQUIEL \nhttps://www.studio-casino.com/%E4%BD%93%E9%A8%93%E3%83%AC%E3%83%83%E3%82%B9%E3%83%B3-%E5%88%9D%E3%82%81%E3%81%A6%E3%81%AE%E6%96%B9/%E6%96%99%E9%87%91/
URL:https://dance.gdp22.com/event/dance-7796/2025-12-12/
LOCATION:六本木ダンススタジオカシーノ\, 東京都港区六本木5-2-4第二鳥勝ビル四階\, 六本木\, 106-0032\, 日本
CATEGORIES:アルゼンチンタンゴ
END:VEVENT
BEGIN:VEVENT
DTSTART;TZID=Asia/Tokyo:20251212T200000
DTEND;TZID=Asia/Tokyo:20251212T220000
DTSTAMP:20260424T162339
CREATED:20250426T083905Z
LAST-MODIFIED:20250426T085036Z
UID:10283440-1765569600-1765576800@dance.gdp22.com
SUMMARY:社交ダンスパーティ
DESCRIPTION:20:00～22:00\nWaltz\,Tango\, Slowfoxtrot\, Quickstep\, Chacha\,Samba\,Rumba\,Jive\,etc\n￥1\,500(w1d)
URL:https://dance.gdp22.com/event/dance-31385-2/2025-12-12/
LOCATION:Dance&Dining桜井通り（熊本）\, 熊本県熊本市中央区上通町5-10桜井ビル4F\, 熊本\, 860-0845
CATEGORIES:ソーシャル,アルゼンチンタンゴ,社交ダンス ラテン,社交ダンス スタンダード
END:VEVENT
BEGIN:VEVENT
DTSTART;TZID=Asia/Tokyo:20251213T140000
DTEND;TZID=Asia/Tokyo:20251213T170000
DTSTAMP:20260424T162339
CREATED:20220831T032426Z
LAST-MODIFIED:20220831T032426Z
UID:10262691-1765634400-1765645200@dance.gdp22.com
SUMMARY:J-タンゴ・レッスン＆プラクティカ第2
DESCRIPTION:カフェルンビータ（京都） \n詳細はWEB参照
URL:https://dance.gdp22.com/event/dance-32811/2025-12-13/
LOCATION:カフェルンビータ（京都）\, 京都府京都市中京区山崎町２５８−１９ 珠光ビル三条 ３F\, 京都\, 604-8032\, 日本
CATEGORIES:アルゼンチンタンゴ
END:VEVENT
BEGIN:VEVENT
DTSTART;TZID=Asia/Tokyo:20251216T150000
DTEND;TZID=Asia/Tokyo:20251216T170000
DTSTAMP:20260424T162339
CREATED:20220525T025310Z
LAST-MODIFIED:20220527T024453Z
UID:10214000-1765897200-1765904400@dance.gdp22.com
SUMMARY:アルゼンチンタンゴレッスン by Ezequiel & Fumi
DESCRIPTION:アルゼンチンタンゴレッスン by Ezequiel & Fumi\n　15:00-15:30 無料ｳｫｰﾐﾝｸﾞｱｯﾌﾟ＆ 基本動作\n　15:30-16:30 アルゼンチンタンゴ～入門・初級～\n　16:30-17:00 質問・練習タイム\n2500円/回\n※ﾄﾞﾘﾝｸ別、回数券制度あり
URL:https://dance.gdp22.com/event/dance-4998/2025-12-16/
LOCATION:日暮里サルー\, 東京都東日暮里6-60-9日暮里駅前ビル3F\, 日暮里\, 116-0014\, 日本
CATEGORIES:アルゼンチンタンゴ
END:VEVENT
BEGIN:VEVENT
DTSTART;TZID=Asia/Tokyo:20251216T190000
DTEND;TZID=Asia/Tokyo:20251216T194500
DTSTAMP:20260424T162339
CREATED:20220620T020413Z
LAST-MODIFIED:20220620T020413Z
UID:10223420-1765911600-1765914300@dance.gdp22.com
SUMMARY:タンゴ By DIEGO
DESCRIPTION:タンゴ \nDIEGO \nhttps://www.studio-casino.com/%E4%BD%93%E9%A8%93%E3%83%AC%E3%83%83%E3%82%B9%E3%83%B3-%E5%88%9D%E3%82%81%E3%81%A6%E3%81%AE%E6%96%B9/%E6%96%99%E9%87%91/
URL:https://dance.gdp22.com/event/dance-7693/2025-12-16/
LOCATION:六本木ダンススタジオカシーノ\, 東京都港区六本木5-2-4第二鳥勝ビル四階\, 六本木\, 106-0032\, 日本
CATEGORIES:アルゼンチンタンゴ
END:VEVENT
BEGIN:VEVENT
DTSTART;TZID=Asia/Tokyo:20251217T180000
DTEND;TZID=Asia/Tokyo:20251217T190000
DTSTAMP:20260424T162339
CREATED:20220905T033113Z
LAST-MODIFIED:20220905T033113Z
UID:10262251-1765994400-1765998000@dance.gdp22.com
SUMMARY:TANGO 振付レッスン
DESCRIPTION:ドンセサル \n毎週水曜日\nタンゴ振付クラス\nCesar\nFrom Argentina
URL:https://dance.gdp22.com/event/dance-33877/2025-12-17/
LOCATION:横浜ドン・セサル DON CESAR\, 神奈川県横浜市中区石川町1-21\, 横浜\, 231-0868\, 日本
CATEGORIES:アルゼンチンタンゴ
END:VEVENT
BEGIN:VEVENT
DTSTART;TZID=Asia/Tokyo:20251219T190000
DTEND;TZID=Asia/Tokyo:20251219T194500
DTSTAMP:20260424T162339
CREATED:20220620T030138Z
LAST-MODIFIED:20220620T030138Z
UID:10225437-1766170800-1766173500@dance.gdp22.com
SUMMARY:タンゴ By EZEQUIEL
DESCRIPTION:タンゴ \nEZEQUIEL \nhttps://www.studio-casino.com/%E4%BD%93%E9%A8%93%E3%83%AC%E3%83%83%E3%82%B9%E3%83%B3-%E5%88%9D%E3%82%81%E3%81%A6%E3%81%AE%E6%96%B9/%E6%96%99%E9%87%91/
URL:https://dance.gdp22.com/event/dance-7796/2025-12-19/
LOCATION:六本木ダンススタジオカシーノ\, 東京都港区六本木5-2-4第二鳥勝ビル四階\, 六本木\, 106-0032\, 日本
CATEGORIES:アルゼンチンタンゴ
END:VEVENT
BEGIN:VEVENT
DTSTART;TZID=Asia/Tokyo:20251219T200000
DTEND;TZID=Asia/Tokyo:20251219T220000
DTSTAMP:20260424T162339
CREATED:20250426T083905Z
LAST-MODIFIED:20250426T085036Z
UID:10283441-1766174400-1766181600@dance.gdp22.com
SUMMARY:社交ダンスパーティ
DESCRIPTION:20:00～22:00\nWaltz\,Tango\, Slowfoxtrot\, Quickstep\, Chacha\,Samba\,Rumba\,Jive\,etc\n￥1\,500(w1d)
URL:https://dance.gdp22.com/event/dance-31385-2/2025-12-19/
LOCATION:Dance&Dining桜井通り（熊本）\, 熊本県熊本市中央区上通町5-10桜井ビル4F\, 熊本\, 860-0845
CATEGORIES:ソーシャル,アルゼンチンタンゴ,社交ダンス ラテン,社交ダンス スタンダード
END:VEVENT
BEGIN:VEVENT
DTSTART;TZID=Asia/Tokyo:20251220T140000
DTEND;TZID=Asia/Tokyo:20251220T170000
DTSTAMP:20260424T162339
CREATED:20220831T032730Z
LAST-MODIFIED:20220831T032730Z
UID:10264341-1766239200-1766250000@dance.gdp22.com
SUMMARY:J-タンゴ・レッスン＆プラクティカ第3
DESCRIPTION:カフェルンビータ（京都） \n詳細はWEB参照
URL:https://dance.gdp22.com/event/dance-32823/2025-12-20/
LOCATION:カフェルンビータ（京都）\, 京都府京都市中京区山崎町２５８−１９ 珠光ビル三条 ３F\, 京都\, 604-8032\, 日本
CATEGORIES:アルゼンチンタンゴ
END:VEVENT
BEGIN:VEVENT
DTSTART;TZID=Asia/Tokyo:20251223T150000
DTEND;TZID=Asia/Tokyo:20251223T170000
DTSTAMP:20260424T162339
CREATED:20220525T025310Z
LAST-MODIFIED:20220527T024453Z
UID:10214001-1766502000-1766509200@dance.gdp22.com
SUMMARY:アルゼンチンタンゴレッスン by Ezequiel & Fumi
DESCRIPTION:アルゼンチンタンゴレッスン by Ezequiel & Fumi\n　15:00-15:30 無料ｳｫｰﾐﾝｸﾞｱｯﾌﾟ＆ 基本動作\n　15:30-16:30 アルゼンチンタンゴ～入門・初級～\n　16:30-17:00 質問・練習タイム\n2500円/回\n※ﾄﾞﾘﾝｸ別、回数券制度あり
URL:https://dance.gdp22.com/event/dance-4998/2025-12-23/
LOCATION:日暮里サルー\, 東京都東日暮里6-60-9日暮里駅前ビル3F\, 日暮里\, 116-0014\, 日本
CATEGORIES:アルゼンチンタンゴ
END:VEVENT
BEGIN:VEVENT
DTSTART;TZID=Asia/Tokyo:20251223T190000
DTEND;TZID=Asia/Tokyo:20251223T194500
DTSTAMP:20260424T162339
CREATED:20220620T020413Z
LAST-MODIFIED:20220620T020413Z
UID:10223421-1766516400-1766519100@dance.gdp22.com
SUMMARY:タンゴ By DIEGO
DESCRIPTION:タンゴ \nDIEGO \nhttps://www.studio-casino.com/%E4%BD%93%E9%A8%93%E3%83%AC%E3%83%83%E3%82%B9%E3%83%B3-%E5%88%9D%E3%82%81%E3%81%A6%E3%81%AE%E6%96%B9/%E6%96%99%E9%87%91/
URL:https://dance.gdp22.com/event/dance-7693/2025-12-23/
LOCATION:六本木ダンススタジオカシーノ\, 東京都港区六本木5-2-4第二鳥勝ビル四階\, 六本木\, 106-0032\, 日本
CATEGORIES:アルゼンチンタンゴ
END:VEVENT
BEGIN:VEVENT
DTSTART;TZID=Asia/Tokyo:20251224T180000
DTEND;TZID=Asia/Tokyo:20251224T190000
DTSTAMP:20260424T162339
CREATED:20220905T033113Z
LAST-MODIFIED:20220905T033113Z
UID:10262252-1766599200-1766602800@dance.gdp22.com
SUMMARY:TANGO 振付レッスン
DESCRIPTION:ドンセサル \n毎週水曜日\nタンゴ振付クラス\nCesar\nFrom Argentina
URL:https://dance.gdp22.com/event/dance-33877/2025-12-24/
LOCATION:横浜ドン・セサル DON CESAR\, 神奈川県横浜市中区石川町1-21\, 横浜\, 231-0868\, 日本
CATEGORIES:アルゼンチンタンゴ
END:VEVENT
BEGIN:VEVENT
DTSTART;TZID=Asia/Tokyo:20251226T190000
DTEND;TZID=Asia/Tokyo:20251226T194500
DTSTAMP:20260424T162339
CREATED:20220620T030138Z
LAST-MODIFIED:20220620T030138Z
UID:10225438-1766775600-1766778300@dance.gdp22.com
SUMMARY:タンゴ By EZEQUIEL
DESCRIPTION:タンゴ \nEZEQUIEL \nhttps://www.studio-casino.com/%E4%BD%93%E9%A8%93%E3%83%AC%E3%83%83%E3%82%B9%E3%83%B3-%E5%88%9D%E3%82%81%E3%81%A6%E3%81%AE%E6%96%B9/%E6%96%99%E9%87%91/
URL:https://dance.gdp22.com/event/dance-7796/2025-12-26/
LOCATION:六本木ダンススタジオカシーノ\, 東京都港区六本木5-2-4第二鳥勝ビル四階\, 六本木\, 106-0032\, 日本
CATEGORIES:アルゼンチンタンゴ
END:VEVENT
BEGIN:VEVENT
DTSTART;TZID=Asia/Tokyo:20251226T200000
DTEND;TZID=Asia/Tokyo:20251226T220000
DTSTAMP:20260424T162339
CREATED:20250426T083905Z
LAST-MODIFIED:20250426T085036Z
UID:10283442-1766779200-1766786400@dance.gdp22.com
SUMMARY:社交ダンスパーティ
DESCRIPTION:20:00～22:00\nWaltz\,Tango\, Slowfoxtrot\, Quickstep\, Chacha\,Samba\,Rumba\,Jive\,etc\n￥1\,500(w1d)
URL:https://dance.gdp22.com/event/dance-31385-2/2025-12-26/
LOCATION:Dance&Dining桜井通り（熊本）\, 熊本県熊本市中央区上通町5-10桜井ビル4F\, 熊本\, 860-0845
CATEGORIES:ソーシャル,アルゼンチンタンゴ,社交ダンス ラテン,社交ダンス スタンダード
END:VEVENT
BEGIN:VEVENT
DTSTART;TZID=Asia/Tokyo:20251227T140000
DTEND;TZID=Asia/Tokyo:20251227T170000
DTSTAMP:20260424T162339
CREATED:20220831T033002Z
LAST-MODIFIED:20220831T033002Z
UID:10266774-1766844000-1766854800@dance.gdp22.com
SUMMARY:J-タンゴ・レッスン＆プラクティカ第4
DESCRIPTION:カフェルンビータ（京都） \n詳細はWEB参照
URL:https://dance.gdp22.com/event/dance-32835/2025-12-27/
LOCATION:カフェルンビータ（京都）\, 京都府京都市中京区山崎町２５８−１９ 珠光ビル三条 ３F\, 京都\, 604-8032\, 日本
CATEGORIES:アルゼンチンタンゴ
END:VEVENT
BEGIN:VEVENT
DTSTART;TZID=Asia/Tokyo:20251228T153000
DTEND;TZID=Asia/Tokyo:20251228T170000
DTSTAMP:20260424T162339
CREATED:20220905T034833Z
LAST-MODIFIED:20220905T034833Z
UID:10267962-1766935800-1766941200@dance.gdp22.com
SUMMARY:TANGO group lesson by Cesar from Argentina（ｗ/Party）
DESCRIPTION:ドンセサル \n午後2時～ milonga party
URL:https://dance.gdp22.com/event/dance-33916/2025-12-28/
LOCATION:横浜ドン・セサル DON CESAR\, 神奈川県横浜市中区石川町1-21\, 横浜\, 231-0868\, 日本
CATEGORIES:ソーシャル,アルゼンチンタンゴ
END:VEVENT
BEGIN:VEVENT
DTSTART;TZID=Asia/Tokyo:20251230T150000
DTEND;TZID=Asia/Tokyo:20251230T170000
DTSTAMP:20260424T162339
CREATED:20220525T025310Z
LAST-MODIFIED:20220527T024453Z
UID:10214002-1767106800-1767114000@dance.gdp22.com
SUMMARY:アルゼンチンタンゴレッスン by Ezequiel & Fumi
DESCRIPTION:アルゼンチンタンゴレッスン by Ezequiel & Fumi\n　15:00-15:30 無料ｳｫｰﾐﾝｸﾞｱｯﾌﾟ＆ 基本動作\n　15:30-16:30 アルゼンチンタンゴ～入門・初級～\n　16:30-17:00 質問・練習タイム\n2500円/回\n※ﾄﾞﾘﾝｸ別、回数券制度あり
URL:https://dance.gdp22.com/event/dance-4998/2025-12-30/
LOCATION:日暮里サルー\, 東京都東日暮里6-60-9日暮里駅前ビル3F\, 日暮里\, 116-0014\, 日本
CATEGORIES:アルゼンチンタンゴ
END:VEVENT
BEGIN:VEVENT
DTSTART;TZID=Asia/Tokyo:20251230T190000
DTEND;TZID=Asia/Tokyo:20251230T194500
DTSTAMP:20260424T162339
CREATED:20220620T020413Z
LAST-MODIFIED:20220620T020413Z
UID:10223422-1767121200-1767123900@dance.gdp22.com
SUMMARY:タンゴ By DIEGO
DESCRIPTION:タンゴ \nDIEGO \nhttps://www.studio-casino.com/%E4%BD%93%E9%A8%93%E3%83%AC%E3%83%83%E3%82%B9%E3%83%B3-%E5%88%9D%E3%82%81%E3%81%A6%E3%81%AE%E6%96%B9/%E6%96%99%E9%87%91/
URL:https://dance.gdp22.com/event/dance-7693/2025-12-30/
LOCATION:六本木ダンススタジオカシーノ\, 東京都港区六本木5-2-4第二鳥勝ビル四階\, 六本木\, 106-0032\, 日本
CATEGORIES:アルゼンチンタンゴ
END:VEVENT
BEGIN:VEVENT
DTSTART;TZID=Asia/Tokyo:20251231T180000
DTEND;TZID=Asia/Tokyo:20251231T190000
DTSTAMP:20260424T162339
CREATED:20220905T033113Z
LAST-MODIFIED:20220905T033113Z
UID:10262253-1767204000-1767207600@dance.gdp22.com
SUMMARY:TANGO 振付レッスン
DESCRIPTION:ドンセサル \n毎週水曜日\nタンゴ振付クラス\nCesar\nFrom Argentina
URL:https://dance.gdp22.com/event/dance-33877/2025-12-31/
LOCATION:横浜ドン・セサル DON CESAR\, 神奈川県横浜市中区石川町1-21\, 横浜\, 231-0868\, 日本
CATEGORIES:アルゼンチンタンゴ
END:VEVENT
END:VCALENDAR