BEGIN:VCALENDAR
VERSION:2.0
PRODID:-//Dancing Pono (ダンシングポノ) - ECPv6.15.12//NONSGML v1.0//EN
CALSCALE:GREGORIAN
METHOD:PUBLISH
X-WR-CALNAME:Dancing Pono (ダンシングポノ)
X-ORIGINAL-URL:https://dance.gdp22.com
X-WR-CALDESC:Dancing Pono (ダンシングポノ) のイベント
REFRESH-INTERVAL;VALUE=DURATION:PT1H
X-Robots-Tag:noindex
X-PUBLISHED-TTL:PT1H
BEGIN:VTIMEZONE
TZID:Asia/Tokyo
BEGIN:STANDARD
TZOFFSETFROM:+0900
TZOFFSETTO:+0900
TZNAME:JST
DTSTART:20240101T000000
END:STANDARD
END:VTIMEZONE
BEGIN:VEVENT
DTSTART;TZID=Asia/Tokyo:20250902T150000
DTEND;TZID=Asia/Tokyo:20250902T170000
DTSTAMP:20260425T002955
CREATED:20220525T025310Z
LAST-MODIFIED:20220527T024453Z
UID:10213985-1756825200-1756832400@dance.gdp22.com
SUMMARY:アルゼンチンタンゴレッスン by Ezequiel & Fumi
DESCRIPTION:アルゼンチンタンゴレッスン by Ezequiel & Fumi\n　15:00-15:30 無料ｳｫｰﾐﾝｸﾞｱｯﾌﾟ＆ 基本動作\n　15:30-16:30 アルゼンチンタンゴ～入門・初級～\n　16:30-17:00 質問・練習タイム\n2500円/回\n※ﾄﾞﾘﾝｸ別、回数券制度あり
URL:https://dance.gdp22.com/event/dance-4998/2025-09-02/
LOCATION:日暮里サルー\, 東京都東日暮里6-60-9日暮里駅前ビル3F\, 日暮里\, 116-0014\, 日本
CATEGORIES:アルゼンチンタンゴ
END:VEVENT
BEGIN:VEVENT
DTSTART;TZID=Asia/Tokyo:20250902T190000
DTEND;TZID=Asia/Tokyo:20250902T194500
DTSTAMP:20260425T002955
CREATED:20220620T020413Z
LAST-MODIFIED:20220620T020413Z
UID:10223405-1756839600-1756842300@dance.gdp22.com
SUMMARY:タンゴ By DIEGO
DESCRIPTION:タンゴ \nDIEGO \nhttps://www.studio-casino.com/%E4%BD%93%E9%A8%93%E3%83%AC%E3%83%83%E3%82%B9%E3%83%B3-%E5%88%9D%E3%82%81%E3%81%A6%E3%81%AE%E6%96%B9/%E6%96%99%E9%87%91/
URL:https://dance.gdp22.com/event/dance-7693/2025-09-02/
LOCATION:六本木ダンススタジオカシーノ\, 東京都港区六本木5-2-4第二鳥勝ビル四階\, 六本木\, 106-0032\, 日本
CATEGORIES:アルゼンチンタンゴ
END:VEVENT
BEGIN:VEVENT
DTSTART;TZID=Asia/Tokyo:20250903T180000
DTEND;TZID=Asia/Tokyo:20250903T190000
DTSTAMP:20260425T002955
CREATED:20220905T033113Z
LAST-MODIFIED:20220905T033113Z
UID:10262236-1756922400-1756926000@dance.gdp22.com
SUMMARY:TANGO 振付レッスン
DESCRIPTION:ドンセサル \n毎週水曜日\nタンゴ振付クラス\nCesar\nFrom Argentina
URL:https://dance.gdp22.com/event/dance-33877/2025-09-03/
LOCATION:横浜ドン・セサル DON CESAR\, 神奈川県横浜市中区石川町1-21\, 横浜\, 231-0868\, 日本
CATEGORIES:アルゼンチンタンゴ
END:VEVENT
BEGIN:VEVENT
DTSTART;TZID=Asia/Tokyo:20250905T190000
DTEND;TZID=Asia/Tokyo:20250905T194500
DTSTAMP:20260425T002955
CREATED:20220620T030138Z
LAST-MODIFIED:20220620T030138Z
UID:10225422-1757098800-1757101500@dance.gdp22.com
SUMMARY:タンゴ By EZEQUIEL
DESCRIPTION:タンゴ \nEZEQUIEL \nhttps://www.studio-casino.com/%E4%BD%93%E9%A8%93%E3%83%AC%E3%83%83%E3%82%B9%E3%83%B3-%E5%88%9D%E3%82%81%E3%81%A6%E3%81%AE%E6%96%B9/%E6%96%99%E9%87%91/
URL:https://dance.gdp22.com/event/dance-7796/2025-09-05/
LOCATION:六本木ダンススタジオカシーノ\, 東京都港区六本木5-2-4第二鳥勝ビル四階\, 六本木\, 106-0032\, 日本
CATEGORIES:アルゼンチンタンゴ
END:VEVENT
BEGIN:VEVENT
DTSTART;TZID=Asia/Tokyo:20250905T200000
DTEND;TZID=Asia/Tokyo:20250905T220000
DTSTAMP:20260425T002955
CREATED:20250426T083905Z
LAST-MODIFIED:20250426T085036Z
UID:10283426-1757102400-1757109600@dance.gdp22.com
SUMMARY:社交ダンスパーティ
DESCRIPTION:20:00～22:00\nWaltz\,Tango\, Slowfoxtrot\, Quickstep\, Chacha\,Samba\,Rumba\,Jive\,etc\n￥1\,500(w1d)
URL:https://dance.gdp22.com/event/dance-31385-2/2025-09-05/
LOCATION:Dance&Dining桜井通り（熊本）\, 熊本県熊本市中央区上通町5-10桜井ビル4F\, 熊本\, 860-0845
CATEGORIES:ソーシャル,アルゼンチンタンゴ,社交ダンス ラテン,社交ダンス スタンダード
END:VEVENT
BEGIN:VEVENT
DTSTART;TZID=Asia/Tokyo:20250906T140000
DTEND;TZID=Asia/Tokyo:20250906T170000
DTSTAMP:20260425T002955
CREATED:20220831T032217Z
LAST-MODIFIED:20220831T032217Z
UID:10262012-1757167200-1757178000@dance.gdp22.com
SUMMARY:J-タンゴ・レッスン＆プラクティカ第1
DESCRIPTION:カフェルンビータ（京都） \n詳細はWEB参照
URL:https://dance.gdp22.com/event/dance-32799/2025-09-06/
LOCATION:カフェルンビータ（京都）\, 京都府京都市中京区山崎町２５８−１９ 珠光ビル三条 ３F\, 京都\, 604-8032\, 日本
CATEGORIES:アルゼンチンタンゴ
END:VEVENT
BEGIN:VEVENT
DTSTART;TZID=Asia/Tokyo:20250907T180000
DTEND;TZID=Asia/Tokyo:20250907T190000
DTSTAMP:20260425T002955
CREATED:20220907T165238Z
LAST-MODIFIED:20220907T165430Z
UID:10274212-1757268000-1757271600@dance.gdp22.com
SUMMARY:TANGO Beginners by Don Cesar
DESCRIPTION:ドンセサル \nイベントの場合は、イベントごとに異なります。
URL:https://dance.gdp22.com/event/tango-beginners-by-don-cesar/2025-09-07/
LOCATION:横浜ドン・セサル DON CESAR\, 神奈川県横浜市中区石川町1-21\, 横浜\, 231-0868\, 日本
CATEGORIES:アルゼンチンタンゴ
END:VEVENT
BEGIN:VEVENT
DTSTART;TZID=Asia/Tokyo:20250909T150000
DTEND;TZID=Asia/Tokyo:20250909T170000
DTSTAMP:20260425T002955
CREATED:20220525T025310Z
LAST-MODIFIED:20220527T024453Z
UID:10213986-1757430000-1757437200@dance.gdp22.com
SUMMARY:アルゼンチンタンゴレッスン by Ezequiel & Fumi
DESCRIPTION:アルゼンチンタンゴレッスン by Ezequiel & Fumi\n　15:00-15:30 無料ｳｫｰﾐﾝｸﾞｱｯﾌﾟ＆ 基本動作\n　15:30-16:30 アルゼンチンタンゴ～入門・初級～\n　16:30-17:00 質問・練習タイム\n2500円/回\n※ﾄﾞﾘﾝｸ別、回数券制度あり
URL:https://dance.gdp22.com/event/dance-4998/2025-09-09/
LOCATION:日暮里サルー\, 東京都東日暮里6-60-9日暮里駅前ビル3F\, 日暮里\, 116-0014\, 日本
CATEGORIES:アルゼンチンタンゴ
END:VEVENT
BEGIN:VEVENT
DTSTART;TZID=Asia/Tokyo:20250909T190000
DTEND;TZID=Asia/Tokyo:20250909T194500
DTSTAMP:20260425T002955
CREATED:20220620T020413Z
LAST-MODIFIED:20220620T020413Z
UID:10223406-1757444400-1757447100@dance.gdp22.com
SUMMARY:タンゴ By DIEGO
DESCRIPTION:タンゴ \nDIEGO \nhttps://www.studio-casino.com/%E4%BD%93%E9%A8%93%E3%83%AC%E3%83%83%E3%82%B9%E3%83%B3-%E5%88%9D%E3%82%81%E3%81%A6%E3%81%AE%E6%96%B9/%E6%96%99%E9%87%91/
URL:https://dance.gdp22.com/event/dance-7693/2025-09-09/
LOCATION:六本木ダンススタジオカシーノ\, 東京都港区六本木5-2-4第二鳥勝ビル四階\, 六本木\, 106-0032\, 日本
CATEGORIES:アルゼンチンタンゴ
END:VEVENT
BEGIN:VEVENT
DTSTART;TZID=Asia/Tokyo:20250910T180000
DTEND;TZID=Asia/Tokyo:20250910T190000
DTSTAMP:20260425T002955
CREATED:20220905T033113Z
LAST-MODIFIED:20220905T033113Z
UID:10262237-1757527200-1757530800@dance.gdp22.com
SUMMARY:TANGO 振付レッスン
DESCRIPTION:ドンセサル \n毎週水曜日\nタンゴ振付クラス\nCesar\nFrom Argentina
URL:https://dance.gdp22.com/event/dance-33877/2025-09-10/
LOCATION:横浜ドン・セサル DON CESAR\, 神奈川県横浜市中区石川町1-21\, 横浜\, 231-0868\, 日本
CATEGORIES:アルゼンチンタンゴ
END:VEVENT
BEGIN:VEVENT
DTSTART;TZID=Asia/Tokyo:20250912T190000
DTEND;TZID=Asia/Tokyo:20250912T194500
DTSTAMP:20260425T002955
CREATED:20220620T030138Z
LAST-MODIFIED:20220620T030138Z
UID:10225423-1757703600-1757706300@dance.gdp22.com
SUMMARY:タンゴ By EZEQUIEL
DESCRIPTION:タンゴ \nEZEQUIEL \nhttps://www.studio-casino.com/%E4%BD%93%E9%A8%93%E3%83%AC%E3%83%83%E3%82%B9%E3%83%B3-%E5%88%9D%E3%82%81%E3%81%A6%E3%81%AE%E6%96%B9/%E6%96%99%E9%87%91/
URL:https://dance.gdp22.com/event/dance-7796/2025-09-12/
LOCATION:六本木ダンススタジオカシーノ\, 東京都港区六本木5-2-4第二鳥勝ビル四階\, 六本木\, 106-0032\, 日本
CATEGORIES:アルゼンチンタンゴ
END:VEVENT
BEGIN:VEVENT
DTSTART;TZID=Asia/Tokyo:20250912T200000
DTEND;TZID=Asia/Tokyo:20250912T220000
DTSTAMP:20260425T002955
CREATED:20250426T083905Z
LAST-MODIFIED:20250426T085036Z
UID:10283427-1757707200-1757714400@dance.gdp22.com
SUMMARY:社交ダンスパーティ
DESCRIPTION:20:00～22:00\nWaltz\,Tango\, Slowfoxtrot\, Quickstep\, Chacha\,Samba\,Rumba\,Jive\,etc\n￥1\,500(w1d)
URL:https://dance.gdp22.com/event/dance-31385-2/2025-09-12/
LOCATION:Dance&Dining桜井通り（熊本）\, 熊本県熊本市中央区上通町5-10桜井ビル4F\, 熊本\, 860-0845
CATEGORIES:ソーシャル,アルゼンチンタンゴ,社交ダンス ラテン,社交ダンス スタンダード
END:VEVENT
BEGIN:VEVENT
DTSTART;TZID=Asia/Tokyo:20250913T140000
DTEND;TZID=Asia/Tokyo:20250913T170000
DTSTAMP:20260425T002955
CREATED:20220831T032426Z
LAST-MODIFIED:20220831T032426Z
UID:10262688-1757772000-1757782800@dance.gdp22.com
SUMMARY:J-タンゴ・レッスン＆プラクティカ第2
DESCRIPTION:カフェルンビータ（京都） \n詳細はWEB参照
URL:https://dance.gdp22.com/event/dance-32811/2025-09-13/
LOCATION:カフェルンビータ（京都）\, 京都府京都市中京区山崎町２５８−１９ 珠光ビル三条 ３F\, 京都\, 604-8032\, 日本
CATEGORIES:アルゼンチンタンゴ
END:VEVENT
BEGIN:VEVENT
DTSTART;TZID=Asia/Tokyo:20250916T150000
DTEND;TZID=Asia/Tokyo:20250916T170000
DTSTAMP:20260425T002955
CREATED:20220525T025310Z
LAST-MODIFIED:20220527T024453Z
UID:10213987-1758034800-1758042000@dance.gdp22.com
SUMMARY:アルゼンチンタンゴレッスン by Ezequiel & Fumi
DESCRIPTION:アルゼンチンタンゴレッスン by Ezequiel & Fumi\n　15:00-15:30 無料ｳｫｰﾐﾝｸﾞｱｯﾌﾟ＆ 基本動作\n　15:30-16:30 アルゼンチンタンゴ～入門・初級～\n　16:30-17:00 質問・練習タイム\n2500円/回\n※ﾄﾞﾘﾝｸ別、回数券制度あり
URL:https://dance.gdp22.com/event/dance-4998/2025-09-16/
LOCATION:日暮里サルー\, 東京都東日暮里6-60-9日暮里駅前ビル3F\, 日暮里\, 116-0014\, 日本
CATEGORIES:アルゼンチンタンゴ
END:VEVENT
BEGIN:VEVENT
DTSTART;TZID=Asia/Tokyo:20250916T190000
DTEND;TZID=Asia/Tokyo:20250916T194500
DTSTAMP:20260425T002955
CREATED:20220620T020413Z
LAST-MODIFIED:20220620T020413Z
UID:10223407-1758049200-1758051900@dance.gdp22.com
SUMMARY:タンゴ By DIEGO
DESCRIPTION:タンゴ \nDIEGO \nhttps://www.studio-casino.com/%E4%BD%93%E9%A8%93%E3%83%AC%E3%83%83%E3%82%B9%E3%83%B3-%E5%88%9D%E3%82%81%E3%81%A6%E3%81%AE%E6%96%B9/%E6%96%99%E9%87%91/
URL:https://dance.gdp22.com/event/dance-7693/2025-09-16/
LOCATION:六本木ダンススタジオカシーノ\, 東京都港区六本木5-2-4第二鳥勝ビル四階\, 六本木\, 106-0032\, 日本
CATEGORIES:アルゼンチンタンゴ
END:VEVENT
BEGIN:VEVENT
DTSTART;TZID=Asia/Tokyo:20250917T180000
DTEND;TZID=Asia/Tokyo:20250917T190000
DTSTAMP:20260425T002955
CREATED:20220905T033113Z
LAST-MODIFIED:20220905T033113Z
UID:10262238-1758132000-1758135600@dance.gdp22.com
SUMMARY:TANGO 振付レッスン
DESCRIPTION:ドンセサル \n毎週水曜日\nタンゴ振付クラス\nCesar\nFrom Argentina
URL:https://dance.gdp22.com/event/dance-33877/2025-09-17/
LOCATION:横浜ドン・セサル DON CESAR\, 神奈川県横浜市中区石川町1-21\, 横浜\, 231-0868\, 日本
CATEGORIES:アルゼンチンタンゴ
END:VEVENT
BEGIN:VEVENT
DTSTART;TZID=Asia/Tokyo:20250919T190000
DTEND;TZID=Asia/Tokyo:20250919T194500
DTSTAMP:20260425T002955
CREATED:20220620T030138Z
LAST-MODIFIED:20220620T030138Z
UID:10225424-1758308400-1758311100@dance.gdp22.com
SUMMARY:タンゴ By EZEQUIEL
DESCRIPTION:タンゴ \nEZEQUIEL \nhttps://www.studio-casino.com/%E4%BD%93%E9%A8%93%E3%83%AC%E3%83%83%E3%82%B9%E3%83%B3-%E5%88%9D%E3%82%81%E3%81%A6%E3%81%AE%E6%96%B9/%E6%96%99%E9%87%91/
URL:https://dance.gdp22.com/event/dance-7796/2025-09-19/
LOCATION:六本木ダンススタジオカシーノ\, 東京都港区六本木5-2-4第二鳥勝ビル四階\, 六本木\, 106-0032\, 日本
CATEGORIES:アルゼンチンタンゴ
END:VEVENT
BEGIN:VEVENT
DTSTART;TZID=Asia/Tokyo:20250919T200000
DTEND;TZID=Asia/Tokyo:20250919T220000
DTSTAMP:20260425T002955
CREATED:20250426T083905Z
LAST-MODIFIED:20250426T085036Z
UID:10283428-1758312000-1758319200@dance.gdp22.com
SUMMARY:社交ダンスパーティ
DESCRIPTION:20:00～22:00\nWaltz\,Tango\, Slowfoxtrot\, Quickstep\, Chacha\,Samba\,Rumba\,Jive\,etc\n￥1\,500(w1d)
URL:https://dance.gdp22.com/event/dance-31385-2/2025-09-19/
LOCATION:Dance&Dining桜井通り（熊本）\, 熊本県熊本市中央区上通町5-10桜井ビル4F\, 熊本\, 860-0845
CATEGORIES:ソーシャル,アルゼンチンタンゴ,社交ダンス ラテン,社交ダンス スタンダード
END:VEVENT
BEGIN:VEVENT
DTSTART;TZID=Asia/Tokyo:20250920T140000
DTEND;TZID=Asia/Tokyo:20250920T170000
DTSTAMP:20260425T002955
CREATED:20220831T032730Z
LAST-MODIFIED:20220831T032730Z
UID:10264338-1758376800-1758387600@dance.gdp22.com
SUMMARY:J-タンゴ・レッスン＆プラクティカ第3
DESCRIPTION:カフェルンビータ（京都） \n詳細はWEB参照
URL:https://dance.gdp22.com/event/dance-32823/2025-09-20/
LOCATION:カフェルンビータ（京都）\, 京都府京都市中京区山崎町２５８−１９ 珠光ビル三条 ３F\, 京都\, 604-8032\, 日本
CATEGORIES:アルゼンチンタンゴ
END:VEVENT
BEGIN:VEVENT
DTSTART;TZID=Asia/Tokyo:20250923T150000
DTEND;TZID=Asia/Tokyo:20250923T170000
DTSTAMP:20260425T002955
CREATED:20220525T025310Z
LAST-MODIFIED:20220527T024453Z
UID:10213988-1758639600-1758646800@dance.gdp22.com
SUMMARY:アルゼンチンタンゴレッスン by Ezequiel & Fumi
DESCRIPTION:アルゼンチンタンゴレッスン by Ezequiel & Fumi\n　15:00-15:30 無料ｳｫｰﾐﾝｸﾞｱｯﾌﾟ＆ 基本動作\n　15:30-16:30 アルゼンチンタンゴ～入門・初級～\n　16:30-17:00 質問・練習タイム\n2500円/回\n※ﾄﾞﾘﾝｸ別、回数券制度あり
URL:https://dance.gdp22.com/event/dance-4998/2025-09-23/
LOCATION:日暮里サルー\, 東京都東日暮里6-60-9日暮里駅前ビル3F\, 日暮里\, 116-0014\, 日本
CATEGORIES:アルゼンチンタンゴ
END:VEVENT
BEGIN:VEVENT
DTSTART;TZID=Asia/Tokyo:20250923T190000
DTEND;TZID=Asia/Tokyo:20250923T194500
DTSTAMP:20260425T002955
CREATED:20220620T020413Z
LAST-MODIFIED:20220620T020413Z
UID:10223408-1758654000-1758656700@dance.gdp22.com
SUMMARY:タンゴ By DIEGO
DESCRIPTION:タンゴ \nDIEGO \nhttps://www.studio-casino.com/%E4%BD%93%E9%A8%93%E3%83%AC%E3%83%83%E3%82%B9%E3%83%B3-%E5%88%9D%E3%82%81%E3%81%A6%E3%81%AE%E6%96%B9/%E6%96%99%E9%87%91/
URL:https://dance.gdp22.com/event/dance-7693/2025-09-23/
LOCATION:六本木ダンススタジオカシーノ\, 東京都港区六本木5-2-4第二鳥勝ビル四階\, 六本木\, 106-0032\, 日本
CATEGORIES:アルゼンチンタンゴ
END:VEVENT
BEGIN:VEVENT
DTSTART;TZID=Asia/Tokyo:20250924T180000
DTEND;TZID=Asia/Tokyo:20250924T190000
DTSTAMP:20260425T002955
CREATED:20220905T033113Z
LAST-MODIFIED:20220905T033113Z
UID:10262239-1758736800-1758740400@dance.gdp22.com
SUMMARY:TANGO 振付レッスン
DESCRIPTION:ドンセサル \n毎週水曜日\nタンゴ振付クラス\nCesar\nFrom Argentina
URL:https://dance.gdp22.com/event/dance-33877/2025-09-24/
LOCATION:横浜ドン・セサル DON CESAR\, 神奈川県横浜市中区石川町1-21\, 横浜\, 231-0868\, 日本
CATEGORIES:アルゼンチンタンゴ
END:VEVENT
BEGIN:VEVENT
DTSTART;TZID=Asia/Tokyo:20250926T190000
DTEND;TZID=Asia/Tokyo:20250926T194500
DTSTAMP:20260425T002955
CREATED:20220620T030138Z
LAST-MODIFIED:20220620T030138Z
UID:10225425-1758913200-1758915900@dance.gdp22.com
SUMMARY:タンゴ By EZEQUIEL
DESCRIPTION:タンゴ \nEZEQUIEL \nhttps://www.studio-casino.com/%E4%BD%93%E9%A8%93%E3%83%AC%E3%83%83%E3%82%B9%E3%83%B3-%E5%88%9D%E3%82%81%E3%81%A6%E3%81%AE%E6%96%B9/%E6%96%99%E9%87%91/
URL:https://dance.gdp22.com/event/dance-7796/2025-09-26/
LOCATION:六本木ダンススタジオカシーノ\, 東京都港区六本木5-2-4第二鳥勝ビル四階\, 六本木\, 106-0032\, 日本
CATEGORIES:アルゼンチンタンゴ
END:VEVENT
BEGIN:VEVENT
DTSTART;TZID=Asia/Tokyo:20250926T200000
DTEND;TZID=Asia/Tokyo:20250926T220000
DTSTAMP:20260425T002955
CREATED:20250426T083905Z
LAST-MODIFIED:20250426T085036Z
UID:10283429-1758916800-1758924000@dance.gdp22.com
SUMMARY:社交ダンスパーティ
DESCRIPTION:20:00～22:00\nWaltz\,Tango\, Slowfoxtrot\, Quickstep\, Chacha\,Samba\,Rumba\,Jive\,etc\n￥1\,500(w1d)
URL:https://dance.gdp22.com/event/dance-31385-2/2025-09-26/
LOCATION:Dance&Dining桜井通り（熊本）\, 熊本県熊本市中央区上通町5-10桜井ビル4F\, 熊本\, 860-0845
CATEGORIES:ソーシャル,アルゼンチンタンゴ,社交ダンス ラテン,社交ダンス スタンダード
END:VEVENT
BEGIN:VEVENT
DTSTART;TZID=Asia/Tokyo:20250927T140000
DTEND;TZID=Asia/Tokyo:20250927T170000
DTSTAMP:20260425T002955
CREATED:20220831T033002Z
LAST-MODIFIED:20220831T033002Z
UID:10266771-1758981600-1758992400@dance.gdp22.com
SUMMARY:J-タンゴ・レッスン＆プラクティカ第4
DESCRIPTION:カフェルンビータ（京都） \n詳細はWEB参照
URL:https://dance.gdp22.com/event/dance-32835/2025-09-27/
LOCATION:カフェルンビータ（京都）\, 京都府京都市中京区山崎町２５８−１９ 珠光ビル三条 ３F\, 京都\, 604-8032\, 日本
CATEGORIES:アルゼンチンタンゴ
END:VEVENT
BEGIN:VEVENT
DTSTART;TZID=Asia/Tokyo:20250928T153000
DTEND;TZID=Asia/Tokyo:20250928T170000
DTSTAMP:20260425T002955
CREATED:20220905T034833Z
LAST-MODIFIED:20220905T034833Z
UID:10267959-1759073400-1759078800@dance.gdp22.com
SUMMARY:TANGO group lesson by Cesar from Argentina（ｗ/Party）
DESCRIPTION:ドンセサル \n午後2時～ milonga party
URL:https://dance.gdp22.com/event/dance-33916/2025-09-28/
LOCATION:横浜ドン・セサル DON CESAR\, 神奈川県横浜市中区石川町1-21\, 横浜\, 231-0868\, 日本
CATEGORIES:ソーシャル,アルゼンチンタンゴ
END:VEVENT
BEGIN:VEVENT
DTSTART;TZID=Asia/Tokyo:20250930T150000
DTEND;TZID=Asia/Tokyo:20250930T170000
DTSTAMP:20260425T002955
CREATED:20220525T025310Z
LAST-MODIFIED:20220527T024453Z
UID:10213989-1759244400-1759251600@dance.gdp22.com
SUMMARY:アルゼンチンタンゴレッスン by Ezequiel & Fumi
DESCRIPTION:アルゼンチンタンゴレッスン by Ezequiel & Fumi\n　15:00-15:30 無料ｳｫｰﾐﾝｸﾞｱｯﾌﾟ＆ 基本動作\n　15:30-16:30 アルゼンチンタンゴ～入門・初級～\n　16:30-17:00 質問・練習タイム\n2500円/回\n※ﾄﾞﾘﾝｸ別、回数券制度あり
URL:https://dance.gdp22.com/event/dance-4998/2025-09-30/
LOCATION:日暮里サルー\, 東京都東日暮里6-60-9日暮里駅前ビル3F\, 日暮里\, 116-0014\, 日本
CATEGORIES:アルゼンチンタンゴ
END:VEVENT
BEGIN:VEVENT
DTSTART;TZID=Asia/Tokyo:20250930T190000
DTEND;TZID=Asia/Tokyo:20250930T194500
DTSTAMP:20260425T002955
CREATED:20220620T020413Z
LAST-MODIFIED:20220620T020413Z
UID:10223409-1759258800-1759261500@dance.gdp22.com
SUMMARY:タンゴ By DIEGO
DESCRIPTION:タンゴ \nDIEGO \nhttps://www.studio-casino.com/%E4%BD%93%E9%A8%93%E3%83%AC%E3%83%83%E3%82%B9%E3%83%B3-%E5%88%9D%E3%82%81%E3%81%A6%E3%81%AE%E6%96%B9/%E6%96%99%E9%87%91/
URL:https://dance.gdp22.com/event/dance-7693/2025-09-30/
LOCATION:六本木ダンススタジオカシーノ\, 東京都港区六本木5-2-4第二鳥勝ビル四階\, 六本木\, 106-0032\, 日本
CATEGORIES:アルゼンチンタンゴ
END:VEVENT
END:VCALENDAR