BEGIN:VCALENDAR
VERSION:2.0
PRODID:-//Dancing Pono (ダンシングポノ) - ECPv6.15.12//NONSGML v1.0//EN
CALSCALE:GREGORIAN
METHOD:PUBLISH
X-ORIGINAL-URL:https://dance.gdp22.com
X-WR-CALDESC:Dancing Pono (ダンシングポノ) のイベント
REFRESH-INTERVAL;VALUE=DURATION:PT1H
X-Robots-Tag:noindex
X-PUBLISHED-TTL:PT1H
BEGIN:VTIMEZONE
TZID:Asia/Tokyo
BEGIN:STANDARD
TZOFFSETFROM:+0900
TZOFFSETTO:+0900
TZNAME:JST
DTSTART:20240101T000000
END:STANDARD
END:VTIMEZONE
BEGIN:VEVENT
DTSTART;TZID=Asia/Tokyo:20250201T140000
DTEND;TZID=Asia/Tokyo:20250201T170000
DTSTAMP:20260425T105618
CREATED:20220831T032217Z
LAST-MODIFIED:20220831T032217Z
UID:10177310-1738418400-1738429200@dance.gdp22.com
SUMMARY:J-タンゴ・レッスン＆プラクティカ第1
DESCRIPTION:カフェルンビータ（京都） \n詳細はWEB参照
URL:https://dance.gdp22.com/event/dance-32799/2025-02-01/
LOCATION:カフェルンビータ（京都）\, 京都府京都市中京区山崎町２５８−１９ 珠光ビル三条 ３F\, 京都\, 604-8032\, 日本
CATEGORIES:アルゼンチンタンゴ
END:VEVENT
BEGIN:VEVENT
DTSTART;TZID=Asia/Tokyo:20250202T180000
DTEND;TZID=Asia/Tokyo:20250202T190000
DTSTAMP:20260425T105618
CREATED:20220907T165238Z
LAST-MODIFIED:20220907T165430Z
UID:10197597-1738519200-1738522800@dance.gdp22.com
SUMMARY:TANGO Beginners by Don Cesar
DESCRIPTION:ドンセサル \nイベントの場合は、イベントごとに異なります。
URL:https://dance.gdp22.com/event/tango-beginners-by-don-cesar/2025-02-02/
LOCATION:横浜ドン・セサル DON CESAR\, 神奈川県横浜市中区石川町1-21\, 横浜\, 231-0868\, 日本
CATEGORIES:アルゼンチンタンゴ
END:VEVENT
BEGIN:VEVENT
DTSTART;TZID=Asia/Tokyo:20250204T150000
DTEND;TZID=Asia/Tokyo:20250204T170000
DTSTAMP:20260425T105618
CREATED:20220525T025310Z
LAST-MODIFIED:20220527T024453Z
UID:10169177-1738681200-1738688400@dance.gdp22.com
SUMMARY:アルゼンチンタンゴレッスン by Ezequiel & Fumi
DESCRIPTION:アルゼンチンタンゴレッスン by Ezequiel & Fumi\n　15:00-15:30 無料ｳｫｰﾐﾝｸﾞｱｯﾌﾟ＆ 基本動作\n　15:30-16:30 アルゼンチンタンゴ～入門・初級～\n　16:30-17:00 質問・練習タイム\n2500円/回\n※ﾄﾞﾘﾝｸ別、回数券制度あり
URL:https://dance.gdp22.com/event/dance-4998/2025-02-04/
LOCATION:日暮里サルー\, 東京都東日暮里6-60-9日暮里駅前ビル3F\, 日暮里\, 116-0014\, 日本
CATEGORIES:アルゼンチンタンゴ
END:VEVENT
BEGIN:VEVENT
DTSTART;TZID=Asia/Tokyo:20250204T190000
DTEND;TZID=Asia/Tokyo:20250204T194500
DTSTAMP:20260425T105618
CREATED:20220620T020413Z
LAST-MODIFIED:20220620T020413Z
UID:10182215-1738695600-1738698300@dance.gdp22.com
SUMMARY:タンゴ By DIEGO
DESCRIPTION:タンゴ \nDIEGO \nhttps://www.studio-casino.com/%E4%BD%93%E9%A8%93%E3%83%AC%E3%83%83%E3%82%B9%E3%83%B3-%E5%88%9D%E3%82%81%E3%81%A6%E3%81%AE%E6%96%B9/%E6%96%99%E9%87%91/
URL:https://dance.gdp22.com/event/dance-7693/2025-02-04/
LOCATION:六本木ダンススタジオカシーノ\, 東京都港区六本木5-2-4第二鳥勝ビル四階\, 六本木\, 106-0032\, 日本
CATEGORIES:アルゼンチンタンゴ
END:VEVENT
BEGIN:VEVENT
DTSTART;TZID=Asia/Tokyo:20250205T180000
DTEND;TZID=Asia/Tokyo:20250205T190000
DTSTAMP:20260425T105618
CREATED:20220905T033113Z
LAST-MODIFIED:20220905T033113Z
UID:10197343-1738778400-1738782000@dance.gdp22.com
SUMMARY:TANGO 振付レッスン
DESCRIPTION:ドンセサル \n毎週水曜日\nタンゴ振付クラス\nCesar\nFrom Argentina
URL:https://dance.gdp22.com/event/dance-33877/2025-02-05/
LOCATION:横浜ドン・セサル DON CESAR\, 神奈川県横浜市中区石川町1-21\, 横浜\, 231-0868\, 日本
CATEGORIES:アルゼンチンタンゴ
END:VEVENT
BEGIN:VEVENT
DTSTART;TZID=Asia/Tokyo:20250205T190000
DTEND;TZID=Asia/Tokyo:20250205T200000
DTSTAMP:20260425T105618
CREATED:20230727T185249Z
LAST-MODIFIED:20230804T131032Z
UID:10205727-1738782000-1738785600@dance.gdp22.com
SUMMARY:DON CESAR 水曜タンゴグループレッスン TANGO GROUP LESSON
DESCRIPTION:アルゼンチンタンゴダンスグループレッスンスケジュール\n8月 2日 、9日 、16日 、30日  水曜日 19:00-20:00\nAUGUST \, WEDNESDAY  2ND\, 9TH\, 16TH  AND 30TH.\nTEL：0453085007\n〒231-0868　神奈川県横浜市中区石川町1-21-1F Ｃ
URL:https://dance.gdp22.com/event/dance-49568/2025-02-05/
CATEGORIES:アルゼンチンタンゴ
ATTACH;FMTTYPE=image/png:https://dance.gdp22.com/wp-content/uploads/Copia-de-coreografia.png
END:VEVENT
BEGIN:VEVENT
DTSTART;TZID=Asia/Tokyo:20250207T190000
DTEND;TZID=Asia/Tokyo:20250207T194500
DTSTAMP:20260425T105618
CREATED:20220620T030138Z
LAST-MODIFIED:20220620T030138Z
UID:10183285-1738954800-1738957500@dance.gdp22.com
SUMMARY:タンゴ By EZEQUIEL
DESCRIPTION:タンゴ \nEZEQUIEL \nhttps://www.studio-casino.com/%E4%BD%93%E9%A8%93%E3%83%AC%E3%83%83%E3%82%B9%E3%83%B3-%E5%88%9D%E3%82%81%E3%81%A6%E3%81%AE%E6%96%B9/%E6%96%99%E9%87%91/
URL:https://dance.gdp22.com/event/dance-7796/2025-02-07/
LOCATION:六本木ダンススタジオカシーノ\, 東京都港区六本木5-2-4第二鳥勝ビル四階\, 六本木\, 106-0032\, 日本
CATEGORIES:アルゼンチンタンゴ
END:VEVENT
BEGIN:VEVENT
DTSTART;TZID=Asia/Tokyo:20250208T140000
DTEND;TZID=Asia/Tokyo:20250208T170000
DTSTAMP:20260425T105618
CREATED:20220831T032426Z
LAST-MODIFIED:20220831T032426Z
UID:10177341-1739023200-1739034000@dance.gdp22.com
SUMMARY:J-タンゴ・レッスン＆プラクティカ第2
DESCRIPTION:カフェルンビータ（京都） \n詳細はWEB参照
URL:https://dance.gdp22.com/event/dance-32811/2025-02-08/
LOCATION:カフェルンビータ（京都）\, 京都府京都市中京区山崎町２５８−１９ 珠光ビル三条 ３F\, 京都\, 604-8032\, 日本
CATEGORIES:アルゼンチンタンゴ
END:VEVENT
BEGIN:VEVENT
DTSTART;TZID=Asia/Tokyo:20250211T150000
DTEND;TZID=Asia/Tokyo:20250211T170000
DTSTAMP:20260425T105618
CREATED:20220525T025310Z
LAST-MODIFIED:20220527T024453Z
UID:10169178-1739286000-1739293200@dance.gdp22.com
SUMMARY:アルゼンチンタンゴレッスン by Ezequiel & Fumi
DESCRIPTION:アルゼンチンタンゴレッスン by Ezequiel & Fumi\n　15:00-15:30 無料ｳｫｰﾐﾝｸﾞｱｯﾌﾟ＆ 基本動作\n　15:30-16:30 アルゼンチンタンゴ～入門・初級～\n　16:30-17:00 質問・練習タイム\n2500円/回\n※ﾄﾞﾘﾝｸ別、回数券制度あり
URL:https://dance.gdp22.com/event/dance-4998/2025-02-11/
LOCATION:日暮里サルー\, 東京都東日暮里6-60-9日暮里駅前ビル3F\, 日暮里\, 116-0014\, 日本
CATEGORIES:アルゼンチンタンゴ
END:VEVENT
BEGIN:VEVENT
DTSTART;TZID=Asia/Tokyo:20250211T190000
DTEND;TZID=Asia/Tokyo:20250211T194500
DTSTAMP:20260425T105618
CREATED:20220620T020413Z
LAST-MODIFIED:20220620T020413Z
UID:10182216-1739300400-1739303100@dance.gdp22.com
SUMMARY:タンゴ By DIEGO
DESCRIPTION:タンゴ \nDIEGO \nhttps://www.studio-casino.com/%E4%BD%93%E9%A8%93%E3%83%AC%E3%83%83%E3%82%B9%E3%83%B3-%E5%88%9D%E3%82%81%E3%81%A6%E3%81%AE%E6%96%B9/%E6%96%99%E9%87%91/
URL:https://dance.gdp22.com/event/dance-7693/2025-02-11/
LOCATION:六本木ダンススタジオカシーノ\, 東京都港区六本木5-2-4第二鳥勝ビル四階\, 六本木\, 106-0032\, 日本
CATEGORIES:アルゼンチンタンゴ
END:VEVENT
BEGIN:VEVENT
DTSTART;TZID=Asia/Tokyo:20250212T180000
DTEND;TZID=Asia/Tokyo:20250212T190000
DTSTAMP:20260425T105618
CREATED:20220905T033113Z
LAST-MODIFIED:20220905T033113Z
UID:10197344-1739383200-1739386800@dance.gdp22.com
SUMMARY:TANGO 振付レッスン
DESCRIPTION:ドンセサル \n毎週水曜日\nタンゴ振付クラス\nCesar\nFrom Argentina
URL:https://dance.gdp22.com/event/dance-33877/2025-02-12/
LOCATION:横浜ドン・セサル DON CESAR\, 神奈川県横浜市中区石川町1-21\, 横浜\, 231-0868\, 日本
CATEGORIES:アルゼンチンタンゴ
END:VEVENT
BEGIN:VEVENT
DTSTART;TZID=Asia/Tokyo:20250212T190000
DTEND;TZID=Asia/Tokyo:20250212T200000
DTSTAMP:20260425T105618
CREATED:20230727T185249Z
LAST-MODIFIED:20230804T131032Z
UID:10205728-1739386800-1739390400@dance.gdp22.com
SUMMARY:DON CESAR 水曜タンゴグループレッスン TANGO GROUP LESSON
DESCRIPTION:アルゼンチンタンゴダンスグループレッスンスケジュール\n8月 2日 、9日 、16日 、30日  水曜日 19:00-20:00\nAUGUST \, WEDNESDAY  2ND\, 9TH\, 16TH  AND 30TH.\nTEL：0453085007\n〒231-0868　神奈川県横浜市中区石川町1-21-1F Ｃ
URL:https://dance.gdp22.com/event/dance-49568/2025-02-12/
CATEGORIES:アルゼンチンタンゴ
ATTACH;FMTTYPE=image/png:https://dance.gdp22.com/wp-content/uploads/Copia-de-coreografia.png
END:VEVENT
BEGIN:VEVENT
DTSTART;TZID=Asia/Tokyo:20250214T190000
DTEND;TZID=Asia/Tokyo:20250214T194500
DTSTAMP:20260425T105618
CREATED:20220620T030138Z
LAST-MODIFIED:20220620T030138Z
UID:10183286-1739559600-1739562300@dance.gdp22.com
SUMMARY:タンゴ By EZEQUIEL
DESCRIPTION:タンゴ \nEZEQUIEL \nhttps://www.studio-casino.com/%E4%BD%93%E9%A8%93%E3%83%AC%E3%83%83%E3%82%B9%E3%83%B3-%E5%88%9D%E3%82%81%E3%81%A6%E3%81%AE%E6%96%B9/%E6%96%99%E9%87%91/
URL:https://dance.gdp22.com/event/dance-7796/2025-02-14/
LOCATION:六本木ダンススタジオカシーノ\, 東京都港区六本木5-2-4第二鳥勝ビル四階\, 六本木\, 106-0032\, 日本
CATEGORIES:アルゼンチンタンゴ
END:VEVENT
BEGIN:VEVENT
DTSTART;TZID=Asia/Tokyo:20250215T140000
DTEND;TZID=Asia/Tokyo:20250215T170000
DTSTAMP:20260425T105618
CREATED:20220831T032730Z
LAST-MODIFIED:20220831T032730Z
UID:10177372-1739628000-1739638800@dance.gdp22.com
SUMMARY:J-タンゴ・レッスン＆プラクティカ第3
DESCRIPTION:カフェルンビータ（京都） \n詳細はWEB参照
URL:https://dance.gdp22.com/event/dance-32823/2025-02-15/
LOCATION:カフェルンビータ（京都）\, 京都府京都市中京区山崎町２５８−１９ 珠光ビル三条 ３F\, 京都\, 604-8032\, 日本
CATEGORIES:アルゼンチンタンゴ
END:VEVENT
BEGIN:VEVENT
DTSTART;TZID=Asia/Tokyo:20250218T150000
DTEND;TZID=Asia/Tokyo:20250218T170000
DTSTAMP:20260425T105618
CREATED:20220525T025310Z
LAST-MODIFIED:20220527T024453Z
UID:10169179-1739890800-1739898000@dance.gdp22.com
SUMMARY:アルゼンチンタンゴレッスン by Ezequiel & Fumi
DESCRIPTION:アルゼンチンタンゴレッスン by Ezequiel & Fumi\n　15:00-15:30 無料ｳｫｰﾐﾝｸﾞｱｯﾌﾟ＆ 基本動作\n　15:30-16:30 アルゼンチンタンゴ～入門・初級～\n　16:30-17:00 質問・練習タイム\n2500円/回\n※ﾄﾞﾘﾝｸ別、回数券制度あり
URL:https://dance.gdp22.com/event/dance-4998/2025-02-18/
LOCATION:日暮里サルー\, 東京都東日暮里6-60-9日暮里駅前ビル3F\, 日暮里\, 116-0014\, 日本
CATEGORIES:アルゼンチンタンゴ
END:VEVENT
BEGIN:VEVENT
DTSTART;TZID=Asia/Tokyo:20250218T190000
DTEND;TZID=Asia/Tokyo:20250218T194500
DTSTAMP:20260425T105618
CREATED:20220620T020413Z
LAST-MODIFIED:20220620T020413Z
UID:10182217-1739905200-1739907900@dance.gdp22.com
SUMMARY:タンゴ By DIEGO
DESCRIPTION:タンゴ \nDIEGO \nhttps://www.studio-casino.com/%E4%BD%93%E9%A8%93%E3%83%AC%E3%83%83%E3%82%B9%E3%83%B3-%E5%88%9D%E3%82%81%E3%81%A6%E3%81%AE%E6%96%B9/%E6%96%99%E9%87%91/
URL:https://dance.gdp22.com/event/dance-7693/2025-02-18/
LOCATION:六本木ダンススタジオカシーノ\, 東京都港区六本木5-2-4第二鳥勝ビル四階\, 六本木\, 106-0032\, 日本
CATEGORIES:アルゼンチンタンゴ
END:VEVENT
BEGIN:VEVENT
DTSTART;TZID=Asia/Tokyo:20250219T180000
DTEND;TZID=Asia/Tokyo:20250219T190000
DTSTAMP:20260425T105618
CREATED:20220905T033113Z
LAST-MODIFIED:20220905T033113Z
UID:10197345-1739988000-1739991600@dance.gdp22.com
SUMMARY:TANGO 振付レッスン
DESCRIPTION:ドンセサル \n毎週水曜日\nタンゴ振付クラス\nCesar\nFrom Argentina
URL:https://dance.gdp22.com/event/dance-33877/2025-02-19/
LOCATION:横浜ドン・セサル DON CESAR\, 神奈川県横浜市中区石川町1-21\, 横浜\, 231-0868\, 日本
CATEGORIES:アルゼンチンタンゴ
END:VEVENT
BEGIN:VEVENT
DTSTART;TZID=Asia/Tokyo:20250219T190000
DTEND;TZID=Asia/Tokyo:20250219T200000
DTSTAMP:20260425T105618
CREATED:20230727T185249Z
LAST-MODIFIED:20230804T131032Z
UID:10205729-1739991600-1739995200@dance.gdp22.com
SUMMARY:DON CESAR 水曜タンゴグループレッスン TANGO GROUP LESSON
DESCRIPTION:アルゼンチンタンゴダンスグループレッスンスケジュール\n8月 2日 、9日 、16日 、30日  水曜日 19:00-20:00\nAUGUST \, WEDNESDAY  2ND\, 9TH\, 16TH  AND 30TH.\nTEL：0453085007\n〒231-0868　神奈川県横浜市中区石川町1-21-1F Ｃ
URL:https://dance.gdp22.com/event/dance-49568/2025-02-19/
CATEGORIES:アルゼンチンタンゴ
ATTACH;FMTTYPE=image/png:https://dance.gdp22.com/wp-content/uploads/Copia-de-coreografia.png
END:VEVENT
BEGIN:VEVENT
DTSTART;TZID=Asia/Tokyo:20250221T190000
DTEND;TZID=Asia/Tokyo:20250221T194500
DTSTAMP:20260425T105618
CREATED:20220620T030138Z
LAST-MODIFIED:20220620T030138Z
UID:10183287-1740164400-1740167100@dance.gdp22.com
SUMMARY:タンゴ By EZEQUIEL
DESCRIPTION:タンゴ \nEZEQUIEL \nhttps://www.studio-casino.com/%E4%BD%93%E9%A8%93%E3%83%AC%E3%83%83%E3%82%B9%E3%83%B3-%E5%88%9D%E3%82%81%E3%81%A6%E3%81%AE%E6%96%B9/%E6%96%99%E9%87%91/
URL:https://dance.gdp22.com/event/dance-7796/2025-02-21/
LOCATION:六本木ダンススタジオカシーノ\, 東京都港区六本木5-2-4第二鳥勝ビル四階\, 六本木\, 106-0032\, 日本
CATEGORIES:アルゼンチンタンゴ
END:VEVENT
BEGIN:VEVENT
DTSTART;TZID=Asia/Tokyo:20250222T140000
DTEND;TZID=Asia/Tokyo:20250222T170000
DTSTAMP:20260425T105618
CREATED:20220831T033002Z
LAST-MODIFIED:20220831T033002Z
UID:10177403-1740232800-1740243600@dance.gdp22.com
SUMMARY:J-タンゴ・レッスン＆プラクティカ第4
DESCRIPTION:カフェルンビータ（京都） \n詳細はWEB参照
URL:https://dance.gdp22.com/event/dance-32835/2025-02-22/
LOCATION:カフェルンビータ（京都）\, 京都府京都市中京区山崎町２５８−１９ 珠光ビル三条 ３F\, 京都\, 604-8032\, 日本
CATEGORIES:アルゼンチンタンゴ
END:VEVENT
BEGIN:VEVENT
DTSTART;TZID=Asia/Tokyo:20250223T153000
DTEND;TZID=Asia/Tokyo:20250223T170000
DTSTAMP:20260425T105618
CREATED:20220905T034833Z
LAST-MODIFIED:20220905T034833Z
UID:10197511-1740324600-1740330000@dance.gdp22.com
SUMMARY:TANGO group lesson by Cesar from Argentina（ｗ/Party）
DESCRIPTION:ドンセサル \n午後2時～ milonga party
URL:https://dance.gdp22.com/event/dance-33916/2025-02-23/
LOCATION:横浜ドン・セサル DON CESAR\, 神奈川県横浜市中区石川町1-21\, 横浜\, 231-0868\, 日本
CATEGORIES:ソーシャル,アルゼンチンタンゴ
END:VEVENT
BEGIN:VEVENT
DTSTART;TZID=Asia/Tokyo:20250225T150000
DTEND;TZID=Asia/Tokyo:20250225T170000
DTSTAMP:20260425T105618
CREATED:20220525T025310Z
LAST-MODIFIED:20220527T024453Z
UID:10169180-1740495600-1740502800@dance.gdp22.com
SUMMARY:アルゼンチンタンゴレッスン by Ezequiel & Fumi
DESCRIPTION:アルゼンチンタンゴレッスン by Ezequiel & Fumi\n　15:00-15:30 無料ｳｫｰﾐﾝｸﾞｱｯﾌﾟ＆ 基本動作\n　15:30-16:30 アルゼンチンタンゴ～入門・初級～\n　16:30-17:00 質問・練習タイム\n2500円/回\n※ﾄﾞﾘﾝｸ別、回数券制度あり
URL:https://dance.gdp22.com/event/dance-4998/2025-02-25/
LOCATION:日暮里サルー\, 東京都東日暮里6-60-9日暮里駅前ビル3F\, 日暮里\, 116-0014\, 日本
CATEGORIES:アルゼンチンタンゴ
END:VEVENT
BEGIN:VEVENT
DTSTART;TZID=Asia/Tokyo:20250225T190000
DTEND;TZID=Asia/Tokyo:20250225T194500
DTSTAMP:20260425T105618
CREATED:20220620T020413Z
LAST-MODIFIED:20220620T020413Z
UID:10182218-1740510000-1740512700@dance.gdp22.com
SUMMARY:タンゴ By DIEGO
DESCRIPTION:タンゴ \nDIEGO \nhttps://www.studio-casino.com/%E4%BD%93%E9%A8%93%E3%83%AC%E3%83%83%E3%82%B9%E3%83%B3-%E5%88%9D%E3%82%81%E3%81%A6%E3%81%AE%E6%96%B9/%E6%96%99%E9%87%91/
URL:https://dance.gdp22.com/event/dance-7693/2025-02-25/
LOCATION:六本木ダンススタジオカシーノ\, 東京都港区六本木5-2-4第二鳥勝ビル四階\, 六本木\, 106-0032\, 日本
CATEGORIES:アルゼンチンタンゴ
END:VEVENT
BEGIN:VEVENT
DTSTART;TZID=Asia/Tokyo:20250226T180000
DTEND;TZID=Asia/Tokyo:20250226T190000
DTSTAMP:20260425T105618
CREATED:20220905T033113Z
LAST-MODIFIED:20220905T033113Z
UID:10197346-1740592800-1740596400@dance.gdp22.com
SUMMARY:TANGO 振付レッスン
DESCRIPTION:ドンセサル \n毎週水曜日\nタンゴ振付クラス\nCesar\nFrom Argentina
URL:https://dance.gdp22.com/event/dance-33877/2025-02-26/
LOCATION:横浜ドン・セサル DON CESAR\, 神奈川県横浜市中区石川町1-21\, 横浜\, 231-0868\, 日本
CATEGORIES:アルゼンチンタンゴ
END:VEVENT
BEGIN:VEVENT
DTSTART;TZID=Asia/Tokyo:20250226T190000
DTEND;TZID=Asia/Tokyo:20250226T200000
DTSTAMP:20260425T105618
CREATED:20230727T185249Z
LAST-MODIFIED:20230804T131032Z
UID:10205730-1740596400-1740600000@dance.gdp22.com
SUMMARY:DON CESAR 水曜タンゴグループレッスン TANGO GROUP LESSON
DESCRIPTION:アルゼンチンタンゴダンスグループレッスンスケジュール\n8月 2日 、9日 、16日 、30日  水曜日 19:00-20:00\nAUGUST \, WEDNESDAY  2ND\, 9TH\, 16TH  AND 30TH.\nTEL：0453085007\n〒231-0868　神奈川県横浜市中区石川町1-21-1F Ｃ
URL:https://dance.gdp22.com/event/dance-49568/2025-02-26/
CATEGORIES:アルゼンチンタンゴ
ATTACH;FMTTYPE=image/png:https://dance.gdp22.com/wp-content/uploads/Copia-de-coreografia.png
END:VEVENT
BEGIN:VEVENT
DTSTART;TZID=Asia/Tokyo:20250228T190000
DTEND;TZID=Asia/Tokyo:20250228T194500
DTSTAMP:20260425T105618
CREATED:20220620T030138Z
LAST-MODIFIED:20220620T030138Z
UID:10183288-1740769200-1740771900@dance.gdp22.com
SUMMARY:タンゴ By EZEQUIEL
DESCRIPTION:タンゴ \nEZEQUIEL \nhttps://www.studio-casino.com/%E4%BD%93%E9%A8%93%E3%83%AC%E3%83%83%E3%82%B9%E3%83%B3-%E5%88%9D%E3%82%81%E3%81%A6%E3%81%AE%E6%96%B9/%E6%96%99%E9%87%91/
URL:https://dance.gdp22.com/event/dance-7796/2025-02-28/
LOCATION:六本木ダンススタジオカシーノ\, 東京都港区六本木5-2-4第二鳥勝ビル四階\, 六本木\, 106-0032\, 日本
CATEGORIES:アルゼンチンタンゴ
END:VEVENT
END:VCALENDAR