BEGIN:VCALENDAR
VERSION:2.0
PRODID:-//Dancing Pono (ダンシングポノ) - ECPv6.15.12//NONSGML v1.0//EN
CALSCALE:GREGORIAN
METHOD:PUBLISH
X-WR-CALNAME:Dancing Pono (ダンシングポノ)
X-ORIGINAL-URL:https://dance.gdp22.com
X-WR-CALDESC:Dancing Pono (ダンシングポノ) のイベント
REFRESH-INTERVAL;VALUE=DURATION:PT1H
X-Robots-Tag:noindex
X-PUBLISHED-TTL:PT1H
BEGIN:VTIMEZONE
TZID:Asia/Tokyo
BEGIN:STANDARD
TZOFFSETFROM:+0900
TZOFFSETTO:+0900
TZNAME:JST
DTSTART:20240101T000000
END:STANDARD
END:VTIMEZONE
BEGIN:VEVENT
DTSTART;TZID=Asia/Tokyo:20250101T180000
DTEND;TZID=Asia/Tokyo:20250101T190000
DTSTAMP:20260425T122553
CREATED:20220905T033113Z
LAST-MODIFIED:20220905T033113Z
UID:10197338-1735754400-1735758000@dance.gdp22.com
SUMMARY:TANGO 振付レッスン
DESCRIPTION:ドンセサル \n毎週水曜日\nタンゴ振付クラス\nCesar\nFrom Argentina
URL:https://dance.gdp22.com/event/dance-33877/2025-01-01/
LOCATION:横浜ドン・セサル DON CESAR\, 神奈川県横浜市中区石川町1-21\, 横浜\, 231-0868\, 日本
CATEGORIES:アルゼンチンタンゴ
END:VEVENT
BEGIN:VEVENT
DTSTART;TZID=Asia/Tokyo:20250101T190000
DTEND;TZID=Asia/Tokyo:20250101T200000
DTSTAMP:20260425T122553
CREATED:20230727T185249Z
LAST-MODIFIED:20230804T131032Z
UID:10205722-1735758000-1735761600@dance.gdp22.com
SUMMARY:DON CESAR 水曜タンゴグループレッスン TANGO GROUP LESSON
DESCRIPTION:アルゼンチンタンゴダンスグループレッスンスケジュール\n8月 2日 、9日 、16日 、30日  水曜日 19:00-20:00\nAUGUST \, WEDNESDAY  2ND\, 9TH\, 16TH  AND 30TH.\nTEL：0453085007\n〒231-0868　神奈川県横浜市中区石川町1-21-1F Ｃ
URL:https://dance.gdp22.com/event/dance-49568/2025-01-01/
CATEGORIES:アルゼンチンタンゴ
ATTACH;FMTTYPE=image/png:https://dance.gdp22.com/wp-content/uploads/Copia-de-coreografia.png
END:VEVENT
BEGIN:VEVENT
DTSTART;TZID=Asia/Tokyo:20250103T190000
DTEND;TZID=Asia/Tokyo:20250103T194500
DTSTAMP:20260425T122553
CREATED:20220620T030138Z
LAST-MODIFIED:20220620T030138Z
UID:10183280-1735930800-1735933500@dance.gdp22.com
SUMMARY:タンゴ By EZEQUIEL
DESCRIPTION:タンゴ \nEZEQUIEL \nhttps://www.studio-casino.com/%E4%BD%93%E9%A8%93%E3%83%AC%E3%83%83%E3%82%B9%E3%83%B3-%E5%88%9D%E3%82%81%E3%81%A6%E3%81%AE%E6%96%B9/%E6%96%99%E9%87%91/
URL:https://dance.gdp22.com/event/dance-7796/2025-01-03/
LOCATION:六本木ダンススタジオカシーノ\, 東京都港区六本木5-2-4第二鳥勝ビル四階\, 六本木\, 106-0032\, 日本
CATEGORIES:アルゼンチンタンゴ
END:VEVENT
BEGIN:VEVENT
DTSTART;TZID=Asia/Tokyo:20250104T140000
DTEND;TZID=Asia/Tokyo:20250104T170000
DTSTAMP:20260425T122553
CREATED:20220831T032217Z
LAST-MODIFIED:20220831T032217Z
UID:10177309-1735999200-1736010000@dance.gdp22.com
SUMMARY:J-タンゴ・レッスン＆プラクティカ第1
DESCRIPTION:カフェルンビータ（京都） \n詳細はWEB参照
URL:https://dance.gdp22.com/event/dance-32799/2025-01-04/
LOCATION:カフェルンビータ（京都）\, 京都府京都市中京区山崎町２５８−１９ 珠光ビル三条 ３F\, 京都\, 604-8032\, 日本
CATEGORIES:アルゼンチンタンゴ
END:VEVENT
BEGIN:VEVENT
DTSTART;TZID=Asia/Tokyo:20250105T180000
DTEND;TZID=Asia/Tokyo:20250105T190000
DTSTAMP:20260425T122553
CREATED:20220907T165238Z
LAST-MODIFIED:20220907T165430Z
UID:10197596-1736100000-1736103600@dance.gdp22.com
SUMMARY:TANGO Beginners by Don Cesar
DESCRIPTION:ドンセサル \nイベントの場合は、イベントごとに異なります。
URL:https://dance.gdp22.com/event/tango-beginners-by-don-cesar/2025-01-05/
LOCATION:横浜ドン・セサル DON CESAR\, 神奈川県横浜市中区石川町1-21\, 横浜\, 231-0868\, 日本
CATEGORIES:アルゼンチンタンゴ
END:VEVENT
BEGIN:VEVENT
DTSTART;TZID=Asia/Tokyo:20250107T150000
DTEND;TZID=Asia/Tokyo:20250107T170000
DTSTAMP:20260425T122553
CREATED:20220525T025310Z
LAST-MODIFIED:20220527T024453Z
UID:10169173-1736262000-1736269200@dance.gdp22.com
SUMMARY:アルゼンチンタンゴレッスン by Ezequiel & Fumi
DESCRIPTION:アルゼンチンタンゴレッスン by Ezequiel & Fumi\n　15:00-15:30 無料ｳｫｰﾐﾝｸﾞｱｯﾌﾟ＆ 基本動作\n　15:30-16:30 アルゼンチンタンゴ～入門・初級～\n　16:30-17:00 質問・練習タイム\n2500円/回\n※ﾄﾞﾘﾝｸ別、回数券制度あり
URL:https://dance.gdp22.com/event/dance-4998/2025-01-07/
LOCATION:日暮里サルー\, 東京都東日暮里6-60-9日暮里駅前ビル3F\, 日暮里\, 116-0014\, 日本
CATEGORIES:アルゼンチンタンゴ
END:VEVENT
BEGIN:VEVENT
DTSTART;TZID=Asia/Tokyo:20250107T190000
DTEND;TZID=Asia/Tokyo:20250107T194500
DTSTAMP:20260425T122553
CREATED:20220620T020413Z
LAST-MODIFIED:20220620T020413Z
UID:10182211-1736276400-1736279100@dance.gdp22.com
SUMMARY:タンゴ By DIEGO
DESCRIPTION:タンゴ \nDIEGO \nhttps://www.studio-casino.com/%E4%BD%93%E9%A8%93%E3%83%AC%E3%83%83%E3%82%B9%E3%83%B3-%E5%88%9D%E3%82%81%E3%81%A6%E3%81%AE%E6%96%B9/%E6%96%99%E9%87%91/
URL:https://dance.gdp22.com/event/dance-7693/2025-01-07/
LOCATION:六本木ダンススタジオカシーノ\, 東京都港区六本木5-2-4第二鳥勝ビル四階\, 六本木\, 106-0032\, 日本
CATEGORIES:アルゼンチンタンゴ
END:VEVENT
BEGIN:VEVENT
DTSTART;TZID=Asia/Tokyo:20250108T180000
DTEND;TZID=Asia/Tokyo:20250108T190000
DTSTAMP:20260425T122553
CREATED:20220905T033113Z
LAST-MODIFIED:20220905T033113Z
UID:10197339-1736359200-1736362800@dance.gdp22.com
SUMMARY:TANGO 振付レッスン
DESCRIPTION:ドンセサル \n毎週水曜日\nタンゴ振付クラス\nCesar\nFrom Argentina
URL:https://dance.gdp22.com/event/dance-33877/2025-01-08/
LOCATION:横浜ドン・セサル DON CESAR\, 神奈川県横浜市中区石川町1-21\, 横浜\, 231-0868\, 日本
CATEGORIES:アルゼンチンタンゴ
END:VEVENT
BEGIN:VEVENT
DTSTART;TZID=Asia/Tokyo:20250108T190000
DTEND;TZID=Asia/Tokyo:20250108T200000
DTSTAMP:20260425T122553
CREATED:20230727T185249Z
LAST-MODIFIED:20230804T131032Z
UID:10205723-1736362800-1736366400@dance.gdp22.com
SUMMARY:DON CESAR 水曜タンゴグループレッスン TANGO GROUP LESSON
DESCRIPTION:アルゼンチンタンゴダンスグループレッスンスケジュール\n8月 2日 、9日 、16日 、30日  水曜日 19:00-20:00\nAUGUST \, WEDNESDAY  2ND\, 9TH\, 16TH  AND 30TH.\nTEL：0453085007\n〒231-0868　神奈川県横浜市中区石川町1-21-1F Ｃ
URL:https://dance.gdp22.com/event/dance-49568/2025-01-08/
CATEGORIES:アルゼンチンタンゴ
ATTACH;FMTTYPE=image/png:https://dance.gdp22.com/wp-content/uploads/Copia-de-coreografia.png
END:VEVENT
BEGIN:VEVENT
DTSTART;TZID=Asia/Tokyo:20250110T190000
DTEND;TZID=Asia/Tokyo:20250110T194500
DTSTAMP:20260425T122553
CREATED:20220620T030138Z
LAST-MODIFIED:20220620T030138Z
UID:10183281-1736535600-1736538300@dance.gdp22.com
SUMMARY:タンゴ By EZEQUIEL
DESCRIPTION:タンゴ \nEZEQUIEL \nhttps://www.studio-casino.com/%E4%BD%93%E9%A8%93%E3%83%AC%E3%83%83%E3%82%B9%E3%83%B3-%E5%88%9D%E3%82%81%E3%81%A6%E3%81%AE%E6%96%B9/%E6%96%99%E9%87%91/
URL:https://dance.gdp22.com/event/dance-7796/2025-01-10/
LOCATION:六本木ダンススタジオカシーノ\, 東京都港区六本木5-2-4第二鳥勝ビル四階\, 六本木\, 106-0032\, 日本
CATEGORIES:アルゼンチンタンゴ
END:VEVENT
BEGIN:VEVENT
DTSTART;TZID=Asia/Tokyo:20250111T140000
DTEND;TZID=Asia/Tokyo:20250111T170000
DTSTAMP:20260425T122553
CREATED:20220831T032426Z
LAST-MODIFIED:20220831T032426Z
UID:10177340-1736604000-1736614800@dance.gdp22.com
SUMMARY:J-タンゴ・レッスン＆プラクティカ第2
DESCRIPTION:カフェルンビータ（京都） \n詳細はWEB参照
URL:https://dance.gdp22.com/event/dance-32811/2025-01-11/
LOCATION:カフェルンビータ（京都）\, 京都府京都市中京区山崎町２５８−１９ 珠光ビル三条 ３F\, 京都\, 604-8032\, 日本
CATEGORIES:アルゼンチンタンゴ
END:VEVENT
BEGIN:VEVENT
DTSTART;TZID=Asia/Tokyo:20250114T150000
DTEND;TZID=Asia/Tokyo:20250114T170000
DTSTAMP:20260425T122553
CREATED:20220525T025310Z
LAST-MODIFIED:20220527T024453Z
UID:10169174-1736866800-1736874000@dance.gdp22.com
SUMMARY:アルゼンチンタンゴレッスン by Ezequiel & Fumi
DESCRIPTION:アルゼンチンタンゴレッスン by Ezequiel & Fumi\n　15:00-15:30 無料ｳｫｰﾐﾝｸﾞｱｯﾌﾟ＆ 基本動作\n　15:30-16:30 アルゼンチンタンゴ～入門・初級～\n　16:30-17:00 質問・練習タイム\n2500円/回\n※ﾄﾞﾘﾝｸ別、回数券制度あり
URL:https://dance.gdp22.com/event/dance-4998/2025-01-14/
LOCATION:日暮里サルー\, 東京都東日暮里6-60-9日暮里駅前ビル3F\, 日暮里\, 116-0014\, 日本
CATEGORIES:アルゼンチンタンゴ
END:VEVENT
BEGIN:VEVENT
DTSTART;TZID=Asia/Tokyo:20250114T190000
DTEND;TZID=Asia/Tokyo:20250114T194500
DTSTAMP:20260425T122553
CREATED:20220620T020413Z
LAST-MODIFIED:20220620T020413Z
UID:10182212-1736881200-1736883900@dance.gdp22.com
SUMMARY:タンゴ By DIEGO
DESCRIPTION:タンゴ \nDIEGO \nhttps://www.studio-casino.com/%E4%BD%93%E9%A8%93%E3%83%AC%E3%83%83%E3%82%B9%E3%83%B3-%E5%88%9D%E3%82%81%E3%81%A6%E3%81%AE%E6%96%B9/%E6%96%99%E9%87%91/
URL:https://dance.gdp22.com/event/dance-7693/2025-01-14/
LOCATION:六本木ダンススタジオカシーノ\, 東京都港区六本木5-2-4第二鳥勝ビル四階\, 六本木\, 106-0032\, 日本
CATEGORIES:アルゼンチンタンゴ
END:VEVENT
BEGIN:VEVENT
DTSTART;TZID=Asia/Tokyo:20250115T180000
DTEND;TZID=Asia/Tokyo:20250115T190000
DTSTAMP:20260425T122553
CREATED:20220905T033113Z
LAST-MODIFIED:20220905T033113Z
UID:10197340-1736964000-1736967600@dance.gdp22.com
SUMMARY:TANGO 振付レッスン
DESCRIPTION:ドンセサル \n毎週水曜日\nタンゴ振付クラス\nCesar\nFrom Argentina
URL:https://dance.gdp22.com/event/dance-33877/2025-01-15/
LOCATION:横浜ドン・セサル DON CESAR\, 神奈川県横浜市中区石川町1-21\, 横浜\, 231-0868\, 日本
CATEGORIES:アルゼンチンタンゴ
END:VEVENT
BEGIN:VEVENT
DTSTART;TZID=Asia/Tokyo:20250115T190000
DTEND;TZID=Asia/Tokyo:20250115T200000
DTSTAMP:20260425T122553
CREATED:20230727T185249Z
LAST-MODIFIED:20230804T131032Z
UID:10205724-1736967600-1736971200@dance.gdp22.com
SUMMARY:DON CESAR 水曜タンゴグループレッスン TANGO GROUP LESSON
DESCRIPTION:アルゼンチンタンゴダンスグループレッスンスケジュール\n8月 2日 、9日 、16日 、30日  水曜日 19:00-20:00\nAUGUST \, WEDNESDAY  2ND\, 9TH\, 16TH  AND 30TH.\nTEL：0453085007\n〒231-0868　神奈川県横浜市中区石川町1-21-1F Ｃ
URL:https://dance.gdp22.com/event/dance-49568/2025-01-15/
CATEGORIES:アルゼンチンタンゴ
ATTACH;FMTTYPE=image/png:https://dance.gdp22.com/wp-content/uploads/Copia-de-coreografia.png
END:VEVENT
BEGIN:VEVENT
DTSTART;TZID=Asia/Tokyo:20250117T190000
DTEND;TZID=Asia/Tokyo:20250117T194500
DTSTAMP:20260425T122553
CREATED:20220620T030138Z
LAST-MODIFIED:20220620T030138Z
UID:10183282-1737140400-1737143100@dance.gdp22.com
SUMMARY:タンゴ By EZEQUIEL
DESCRIPTION:タンゴ \nEZEQUIEL \nhttps://www.studio-casino.com/%E4%BD%93%E9%A8%93%E3%83%AC%E3%83%83%E3%82%B9%E3%83%B3-%E5%88%9D%E3%82%81%E3%81%A6%E3%81%AE%E6%96%B9/%E6%96%99%E9%87%91/
URL:https://dance.gdp22.com/event/dance-7796/2025-01-17/
LOCATION:六本木ダンススタジオカシーノ\, 東京都港区六本木5-2-4第二鳥勝ビル四階\, 六本木\, 106-0032\, 日本
CATEGORIES:アルゼンチンタンゴ
END:VEVENT
BEGIN:VEVENT
DTSTART;TZID=Asia/Tokyo:20250118T140000
DTEND;TZID=Asia/Tokyo:20250118T170000
DTSTAMP:20260425T122553
CREATED:20220831T032730Z
LAST-MODIFIED:20220831T032730Z
UID:10177371-1737208800-1737219600@dance.gdp22.com
SUMMARY:J-タンゴ・レッスン＆プラクティカ第3
DESCRIPTION:カフェルンビータ（京都） \n詳細はWEB参照
URL:https://dance.gdp22.com/event/dance-32823/2025-01-18/
LOCATION:カフェルンビータ（京都）\, 京都府京都市中京区山崎町２５８−１９ 珠光ビル三条 ３F\, 京都\, 604-8032\, 日本
CATEGORIES:アルゼンチンタンゴ
END:VEVENT
BEGIN:VEVENT
DTSTART;TZID=Asia/Tokyo:20250121T150000
DTEND;TZID=Asia/Tokyo:20250121T170000
DTSTAMP:20260425T122553
CREATED:20220525T025310Z
LAST-MODIFIED:20220527T024453Z
UID:10169175-1737471600-1737478800@dance.gdp22.com
SUMMARY:アルゼンチンタンゴレッスン by Ezequiel & Fumi
DESCRIPTION:アルゼンチンタンゴレッスン by Ezequiel & Fumi\n　15:00-15:30 無料ｳｫｰﾐﾝｸﾞｱｯﾌﾟ＆ 基本動作\n　15:30-16:30 アルゼンチンタンゴ～入門・初級～\n　16:30-17:00 質問・練習タイム\n2500円/回\n※ﾄﾞﾘﾝｸ別、回数券制度あり
URL:https://dance.gdp22.com/event/dance-4998/2025-01-21/
LOCATION:日暮里サルー\, 東京都東日暮里6-60-9日暮里駅前ビル3F\, 日暮里\, 116-0014\, 日本
CATEGORIES:アルゼンチンタンゴ
END:VEVENT
BEGIN:VEVENT
DTSTART;TZID=Asia/Tokyo:20250121T190000
DTEND;TZID=Asia/Tokyo:20250121T194500
DTSTAMP:20260425T122553
CREATED:20220620T020413Z
LAST-MODIFIED:20220620T020413Z
UID:10182213-1737486000-1737488700@dance.gdp22.com
SUMMARY:タンゴ By DIEGO
DESCRIPTION:タンゴ \nDIEGO \nhttps://www.studio-casino.com/%E4%BD%93%E9%A8%93%E3%83%AC%E3%83%83%E3%82%B9%E3%83%B3-%E5%88%9D%E3%82%81%E3%81%A6%E3%81%AE%E6%96%B9/%E6%96%99%E9%87%91/
URL:https://dance.gdp22.com/event/dance-7693/2025-01-21/
LOCATION:六本木ダンススタジオカシーノ\, 東京都港区六本木5-2-4第二鳥勝ビル四階\, 六本木\, 106-0032\, 日本
CATEGORIES:アルゼンチンタンゴ
END:VEVENT
BEGIN:VEVENT
DTSTART;TZID=Asia/Tokyo:20250122T180000
DTEND;TZID=Asia/Tokyo:20250122T190000
DTSTAMP:20260425T122553
CREATED:20220905T033113Z
LAST-MODIFIED:20220905T033113Z
UID:10197341-1737568800-1737572400@dance.gdp22.com
SUMMARY:TANGO 振付レッスン
DESCRIPTION:ドンセサル \n毎週水曜日\nタンゴ振付クラス\nCesar\nFrom Argentina
URL:https://dance.gdp22.com/event/dance-33877/2025-01-22/
LOCATION:横浜ドン・セサル DON CESAR\, 神奈川県横浜市中区石川町1-21\, 横浜\, 231-0868\, 日本
CATEGORIES:アルゼンチンタンゴ
END:VEVENT
BEGIN:VEVENT
DTSTART;TZID=Asia/Tokyo:20250122T190000
DTEND;TZID=Asia/Tokyo:20250122T200000
DTSTAMP:20260425T122553
CREATED:20230727T185249Z
LAST-MODIFIED:20230804T131032Z
UID:10205725-1737572400-1737576000@dance.gdp22.com
SUMMARY:DON CESAR 水曜タンゴグループレッスン TANGO GROUP LESSON
DESCRIPTION:アルゼンチンタンゴダンスグループレッスンスケジュール\n8月 2日 、9日 、16日 、30日  水曜日 19:00-20:00\nAUGUST \, WEDNESDAY  2ND\, 9TH\, 16TH  AND 30TH.\nTEL：0453085007\n〒231-0868　神奈川県横浜市中区石川町1-21-1F Ｃ
URL:https://dance.gdp22.com/event/dance-49568/2025-01-22/
CATEGORIES:アルゼンチンタンゴ
ATTACH;FMTTYPE=image/png:https://dance.gdp22.com/wp-content/uploads/Copia-de-coreografia.png
END:VEVENT
BEGIN:VEVENT
DTSTART;TZID=Asia/Tokyo:20250124T190000
DTEND;TZID=Asia/Tokyo:20250124T194500
DTSTAMP:20260425T122553
CREATED:20220620T030138Z
LAST-MODIFIED:20220620T030138Z
UID:10183283-1737745200-1737747900@dance.gdp22.com
SUMMARY:タンゴ By EZEQUIEL
DESCRIPTION:タンゴ \nEZEQUIEL \nhttps://www.studio-casino.com/%E4%BD%93%E9%A8%93%E3%83%AC%E3%83%83%E3%82%B9%E3%83%B3-%E5%88%9D%E3%82%81%E3%81%A6%E3%81%AE%E6%96%B9/%E6%96%99%E9%87%91/
URL:https://dance.gdp22.com/event/dance-7796/2025-01-24/
LOCATION:六本木ダンススタジオカシーノ\, 東京都港区六本木5-2-4第二鳥勝ビル四階\, 六本木\, 106-0032\, 日本
CATEGORIES:アルゼンチンタンゴ
END:VEVENT
BEGIN:VEVENT
DTSTART;TZID=Asia/Tokyo:20250125T140000
DTEND;TZID=Asia/Tokyo:20250125T170000
DTSTAMP:20260425T122553
CREATED:20220831T033002Z
LAST-MODIFIED:20220831T033002Z
UID:10177402-1737813600-1737824400@dance.gdp22.com
SUMMARY:J-タンゴ・レッスン＆プラクティカ第4
DESCRIPTION:カフェルンビータ（京都） \n詳細はWEB参照
URL:https://dance.gdp22.com/event/dance-32835/2025-01-25/
LOCATION:カフェルンビータ（京都）\, 京都府京都市中京区山崎町２５８−１９ 珠光ビル三条 ３F\, 京都\, 604-8032\, 日本
CATEGORIES:アルゼンチンタンゴ
END:VEVENT
BEGIN:VEVENT
DTSTART;TZID=Asia/Tokyo:20250126T153000
DTEND;TZID=Asia/Tokyo:20250126T170000
DTSTAMP:20260425T122553
CREATED:20220905T034833Z
LAST-MODIFIED:20220905T034833Z
UID:10197510-1737905400-1737910800@dance.gdp22.com
SUMMARY:TANGO group lesson by Cesar from Argentina（ｗ/Party）
DESCRIPTION:ドンセサル \n午後2時～ milonga party
URL:https://dance.gdp22.com/event/dance-33916/2025-01-26/
LOCATION:横浜ドン・セサル DON CESAR\, 神奈川県横浜市中区石川町1-21\, 横浜\, 231-0868\, 日本
CATEGORIES:ソーシャル,アルゼンチンタンゴ
END:VEVENT
BEGIN:VEVENT
DTSTART;TZID=Asia/Tokyo:20250128T150000
DTEND;TZID=Asia/Tokyo:20250128T170000
DTSTAMP:20260425T122553
CREATED:20220525T025310Z
LAST-MODIFIED:20220527T024453Z
UID:10169176-1738076400-1738083600@dance.gdp22.com
SUMMARY:アルゼンチンタンゴレッスン by Ezequiel & Fumi
DESCRIPTION:アルゼンチンタンゴレッスン by Ezequiel & Fumi\n　15:00-15:30 無料ｳｫｰﾐﾝｸﾞｱｯﾌﾟ＆ 基本動作\n　15:30-16:30 アルゼンチンタンゴ～入門・初級～\n　16:30-17:00 質問・練習タイム\n2500円/回\n※ﾄﾞﾘﾝｸ別、回数券制度あり
URL:https://dance.gdp22.com/event/dance-4998/2025-01-28/
LOCATION:日暮里サルー\, 東京都東日暮里6-60-9日暮里駅前ビル3F\, 日暮里\, 116-0014\, 日本
CATEGORIES:アルゼンチンタンゴ
END:VEVENT
BEGIN:VEVENT
DTSTART;TZID=Asia/Tokyo:20250128T190000
DTEND;TZID=Asia/Tokyo:20250128T194500
DTSTAMP:20260425T122553
CREATED:20220620T020413Z
LAST-MODIFIED:20220620T020413Z
UID:10182214-1738090800-1738093500@dance.gdp22.com
SUMMARY:タンゴ By DIEGO
DESCRIPTION:タンゴ \nDIEGO \nhttps://www.studio-casino.com/%E4%BD%93%E9%A8%93%E3%83%AC%E3%83%83%E3%82%B9%E3%83%B3-%E5%88%9D%E3%82%81%E3%81%A6%E3%81%AE%E6%96%B9/%E6%96%99%E9%87%91/
URL:https://dance.gdp22.com/event/dance-7693/2025-01-28/
LOCATION:六本木ダンススタジオカシーノ\, 東京都港区六本木5-2-4第二鳥勝ビル四階\, 六本木\, 106-0032\, 日本
CATEGORIES:アルゼンチンタンゴ
END:VEVENT
BEGIN:VEVENT
DTSTART;TZID=Asia/Tokyo:20250129T180000
DTEND;TZID=Asia/Tokyo:20250129T190000
DTSTAMP:20260425T122553
CREATED:20220905T033113Z
LAST-MODIFIED:20220905T033113Z
UID:10197342-1738173600-1738177200@dance.gdp22.com
SUMMARY:TANGO 振付レッスン
DESCRIPTION:ドンセサル \n毎週水曜日\nタンゴ振付クラス\nCesar\nFrom Argentina
URL:https://dance.gdp22.com/event/dance-33877/2025-01-29/
LOCATION:横浜ドン・セサル DON CESAR\, 神奈川県横浜市中区石川町1-21\, 横浜\, 231-0868\, 日本
CATEGORIES:アルゼンチンタンゴ
END:VEVENT
BEGIN:VEVENT
DTSTART;TZID=Asia/Tokyo:20250129T190000
DTEND;TZID=Asia/Tokyo:20250129T200000
DTSTAMP:20260425T122553
CREATED:20230727T185249Z
LAST-MODIFIED:20230804T131032Z
UID:10205726-1738177200-1738180800@dance.gdp22.com
SUMMARY:DON CESAR 水曜タンゴグループレッスン TANGO GROUP LESSON
DESCRIPTION:アルゼンチンタンゴダンスグループレッスンスケジュール\n8月 2日 、9日 、16日 、30日  水曜日 19:00-20:00\nAUGUST \, WEDNESDAY  2ND\, 9TH\, 16TH  AND 30TH.\nTEL：0453085007\n〒231-0868　神奈川県横浜市中区石川町1-21-1F Ｃ
URL:https://dance.gdp22.com/event/dance-49568/2025-01-29/
CATEGORIES:アルゼンチンタンゴ
ATTACH;FMTTYPE=image/png:https://dance.gdp22.com/wp-content/uploads/Copia-de-coreografia.png
END:VEVENT
BEGIN:VEVENT
DTSTART;TZID=Asia/Tokyo:20250131T190000
DTEND;TZID=Asia/Tokyo:20250131T194500
DTSTAMP:20260425T122553
CREATED:20220620T030138Z
LAST-MODIFIED:20220620T030138Z
UID:10183284-1738350000-1738352700@dance.gdp22.com
SUMMARY:タンゴ By EZEQUIEL
DESCRIPTION:タンゴ \nEZEQUIEL \nhttps://www.studio-casino.com/%E4%BD%93%E9%A8%93%E3%83%AC%E3%83%83%E3%82%B9%E3%83%B3-%E5%88%9D%E3%82%81%E3%81%A6%E3%81%AE%E6%96%B9/%E6%96%99%E9%87%91/
URL:https://dance.gdp22.com/event/dance-7796/2025-01-31/
LOCATION:六本木ダンススタジオカシーノ\, 東京都港区六本木5-2-4第二鳥勝ビル四階\, 六本木\, 106-0032\, 日本
CATEGORIES:アルゼンチンタンゴ
END:VEVENT
END:VCALENDAR