BEGIN:VCALENDAR
VERSION:2.0
PRODID:-//Dancing Pono (ダンシングポノ) - ECPv6.15.12//NONSGML v1.0//EN
CALSCALE:GREGORIAN
METHOD:PUBLISH
X-ORIGINAL-URL:https://dance.gdp22.com
X-WR-CALDESC:Dancing Pono (ダンシングポノ) のイベント
REFRESH-INTERVAL;VALUE=DURATION:PT1H
X-Robots-Tag:noindex
X-PUBLISHED-TTL:PT1H
BEGIN:VTIMEZONE
TZID:Asia/Tokyo
BEGIN:STANDARD
TZOFFSETFROM:+0900
TZOFFSETTO:+0900
TZNAME:JST
DTSTART:20230101T000000
END:STANDARD
END:VTIMEZONE
BEGIN:VEVENT
DTSTART;TZID=Asia/Tokyo:20240601T140000
DTEND;TZID=Asia/Tokyo:20240601T170000
DTSTAMP:20260425T232646
CREATED:20220831T032217Z
LAST-MODIFIED:20220831T032217Z
UID:10177302-1717250400-1717261200@dance.gdp22.com
SUMMARY:J-タンゴ・レッスン＆プラクティカ第1
DESCRIPTION:カフェルンビータ（京都） \n詳細はWEB参照
URL:https://dance.gdp22.com/event/dance-32799/2024-06-01/
LOCATION:カフェルンビータ（京都）\, 京都府京都市中京区山崎町２５８−１９ 珠光ビル三条 ３F\, 京都\, 604-8032\, 日本
CATEGORIES:アルゼンチンタンゴ
END:VEVENT
BEGIN:VEVENT
DTSTART;TZID=Asia/Tokyo:20240602T180000
DTEND;TZID=Asia/Tokyo:20240602T190000
DTSTAMP:20260425T232646
CREATED:20220907T165238Z
LAST-MODIFIED:20220907T165430Z
UID:10197589-1717351200-1717354800@dance.gdp22.com
SUMMARY:TANGO Beginners by Don Cesar
DESCRIPTION:ドンセサル \nイベントの場合は、イベントごとに異なります。
URL:https://dance.gdp22.com/event/tango-beginners-by-don-cesar/2024-06-02/
LOCATION:横浜ドン・セサル DON CESAR\, 神奈川県横浜市中区石川町1-21\, 横浜\, 231-0868\, 日本
CATEGORIES:アルゼンチンタンゴ
END:VEVENT
BEGIN:VEVENT
DTSTART;TZID=Asia/Tokyo:20240604T150000
DTEND;TZID=Asia/Tokyo:20240604T170000
DTSTAMP:20260425T232646
CREATED:20220525T025310Z
LAST-MODIFIED:20220527T024453Z
UID:10169142-1717513200-1717520400@dance.gdp22.com
SUMMARY:アルゼンチンタンゴレッスン by Ezequiel & Fumi
DESCRIPTION:アルゼンチンタンゴレッスン by Ezequiel & Fumi\n　15:00-15:30 無料ｳｫｰﾐﾝｸﾞｱｯﾌﾟ＆ 基本動作\n　15:30-16:30 アルゼンチンタンゴ～入門・初級～\n　16:30-17:00 質問・練習タイム\n2500円/回\n※ﾄﾞﾘﾝｸ別、回数券制度あり
URL:https://dance.gdp22.com/event/dance-4998/2024-06-04/
LOCATION:日暮里サルー\, 東京都東日暮里6-60-9日暮里駅前ビル3F\, 日暮里\, 116-0014\, 日本
CATEGORIES:アルゼンチンタンゴ
END:VEVENT
BEGIN:VEVENT
DTSTART;TZID=Asia/Tokyo:20240604T190000
DTEND;TZID=Asia/Tokyo:20240604T194500
DTSTAMP:20260425T232646
CREATED:20220620T020413Z
LAST-MODIFIED:20220620T020413Z
UID:10182180-1717527600-1717530300@dance.gdp22.com
SUMMARY:タンゴ By DIEGO
DESCRIPTION:タンゴ \nDIEGO \nhttps://www.studio-casino.com/%E4%BD%93%E9%A8%93%E3%83%AC%E3%83%83%E3%82%B9%E3%83%B3-%E5%88%9D%E3%82%81%E3%81%A6%E3%81%AE%E6%96%B9/%E6%96%99%E9%87%91/
URL:https://dance.gdp22.com/event/dance-7693/2024-06-04/
LOCATION:六本木ダンススタジオカシーノ\, 東京都港区六本木5-2-4第二鳥勝ビル四階\, 六本木\, 106-0032\, 日本
CATEGORIES:アルゼンチンタンゴ
END:VEVENT
BEGIN:VEVENT
DTSTART;TZID=Asia/Tokyo:20240605T180000
DTEND;TZID=Asia/Tokyo:20240605T190000
DTSTAMP:20260425T232646
CREATED:20220905T033113Z
LAST-MODIFIED:20220905T033113Z
UID:10197308-1717610400-1717614000@dance.gdp22.com
SUMMARY:TANGO 振付レッスン
DESCRIPTION:ドンセサル \n毎週水曜日\nタンゴ振付クラス\nCesar\nFrom Argentina
URL:https://dance.gdp22.com/event/dance-33877/2024-06-05/
LOCATION:横浜ドン・セサル DON CESAR\, 神奈川県横浜市中区石川町1-21\, 横浜\, 231-0868\, 日本
CATEGORIES:アルゼンチンタンゴ
END:VEVENT
BEGIN:VEVENT
DTSTART;TZID=Asia/Tokyo:20240605T190000
DTEND;TZID=Asia/Tokyo:20240605T200000
DTSTAMP:20260425T232646
CREATED:20230727T185249Z
LAST-MODIFIED:20230804T131032Z
UID:10205692-1717614000-1717617600@dance.gdp22.com
SUMMARY:DON CESAR 水曜タンゴグループレッスン TANGO GROUP LESSON
DESCRIPTION:アルゼンチンタンゴダンスグループレッスンスケジュール\n8月 2日 、9日 、16日 、30日  水曜日 19:00-20:00\nAUGUST \, WEDNESDAY  2ND\, 9TH\, 16TH  AND 30TH.\nTEL：0453085007\n〒231-0868　神奈川県横浜市中区石川町1-21-1F Ｃ
URL:https://dance.gdp22.com/event/dance-49568/2024-06-05/
CATEGORIES:アルゼンチンタンゴ
ATTACH;FMTTYPE=image/png:https://dance.gdp22.com/wp-content/uploads/Copia-de-coreografia.png
END:VEVENT
BEGIN:VEVENT
DTSTART;TZID=Asia/Tokyo:20240607T190000
DTEND;TZID=Asia/Tokyo:20240607T194500
DTSTAMP:20260425T232646
CREATED:20220620T030138Z
LAST-MODIFIED:20220620T030138Z
UID:10183250-1717786800-1717789500@dance.gdp22.com
SUMMARY:タンゴ By EZEQUIEL
DESCRIPTION:タンゴ \nEZEQUIEL \nhttps://www.studio-casino.com/%E4%BD%93%E9%A8%93%E3%83%AC%E3%83%83%E3%82%B9%E3%83%B3-%E5%88%9D%E3%82%81%E3%81%A6%E3%81%AE%E6%96%B9/%E6%96%99%E9%87%91/
URL:https://dance.gdp22.com/event/dance-7796/2024-06-07/
LOCATION:六本木ダンススタジオカシーノ\, 東京都港区六本木5-2-4第二鳥勝ビル四階\, 六本木\, 106-0032\, 日本
CATEGORIES:アルゼンチンタンゴ
END:VEVENT
BEGIN:VEVENT
DTSTART;TZID=Asia/Tokyo:20240608T140000
DTEND;TZID=Asia/Tokyo:20240608T170000
DTSTAMP:20260425T232646
CREATED:20220831T032426Z
LAST-MODIFIED:20220831T032426Z
UID:10177333-1717855200-1717866000@dance.gdp22.com
SUMMARY:J-タンゴ・レッスン＆プラクティカ第2
DESCRIPTION:カフェルンビータ（京都） \n詳細はWEB参照
URL:https://dance.gdp22.com/event/dance-32811/2024-06-08/
LOCATION:カフェルンビータ（京都）\, 京都府京都市中京区山崎町２５８−１９ 珠光ビル三条 ３F\, 京都\, 604-8032\, 日本
CATEGORIES:アルゼンチンタンゴ
END:VEVENT
BEGIN:VEVENT
DTSTART;TZID=Asia/Tokyo:20240611T150000
DTEND;TZID=Asia/Tokyo:20240611T170000
DTSTAMP:20260425T232646
CREATED:20220525T025310Z
LAST-MODIFIED:20220527T024453Z
UID:10169143-1718118000-1718125200@dance.gdp22.com
SUMMARY:アルゼンチンタンゴレッスン by Ezequiel & Fumi
DESCRIPTION:アルゼンチンタンゴレッスン by Ezequiel & Fumi\n　15:00-15:30 無料ｳｫｰﾐﾝｸﾞｱｯﾌﾟ＆ 基本動作\n　15:30-16:30 アルゼンチンタンゴ～入門・初級～\n　16:30-17:00 質問・練習タイム\n2500円/回\n※ﾄﾞﾘﾝｸ別、回数券制度あり
URL:https://dance.gdp22.com/event/dance-4998/2024-06-11/
LOCATION:日暮里サルー\, 東京都東日暮里6-60-9日暮里駅前ビル3F\, 日暮里\, 116-0014\, 日本
CATEGORIES:アルゼンチンタンゴ
END:VEVENT
BEGIN:VEVENT
DTSTART;TZID=Asia/Tokyo:20240611T190000
DTEND;TZID=Asia/Tokyo:20240611T194500
DTSTAMP:20260425T232646
CREATED:20220620T020413Z
LAST-MODIFIED:20220620T020413Z
UID:10182181-1718132400-1718135100@dance.gdp22.com
SUMMARY:タンゴ By DIEGO
DESCRIPTION:タンゴ \nDIEGO \nhttps://www.studio-casino.com/%E4%BD%93%E9%A8%93%E3%83%AC%E3%83%83%E3%82%B9%E3%83%B3-%E5%88%9D%E3%82%81%E3%81%A6%E3%81%AE%E6%96%B9/%E6%96%99%E9%87%91/
URL:https://dance.gdp22.com/event/dance-7693/2024-06-11/
LOCATION:六本木ダンススタジオカシーノ\, 東京都港区六本木5-2-4第二鳥勝ビル四階\, 六本木\, 106-0032\, 日本
CATEGORIES:アルゼンチンタンゴ
END:VEVENT
BEGIN:VEVENT
DTSTART;TZID=Asia/Tokyo:20240612T180000
DTEND;TZID=Asia/Tokyo:20240612T190000
DTSTAMP:20260425T232646
CREATED:20220905T033113Z
LAST-MODIFIED:20220905T033113Z
UID:10197309-1718215200-1718218800@dance.gdp22.com
SUMMARY:TANGO 振付レッスン
DESCRIPTION:ドンセサル \n毎週水曜日\nタンゴ振付クラス\nCesar\nFrom Argentina
URL:https://dance.gdp22.com/event/dance-33877/2024-06-12/
LOCATION:横浜ドン・セサル DON CESAR\, 神奈川県横浜市中区石川町1-21\, 横浜\, 231-0868\, 日本
CATEGORIES:アルゼンチンタンゴ
END:VEVENT
BEGIN:VEVENT
DTSTART;TZID=Asia/Tokyo:20240612T190000
DTEND;TZID=Asia/Tokyo:20240612T200000
DTSTAMP:20260425T232646
CREATED:20230727T185249Z
LAST-MODIFIED:20230804T131032Z
UID:10205693-1718218800-1718222400@dance.gdp22.com
SUMMARY:DON CESAR 水曜タンゴグループレッスン TANGO GROUP LESSON
DESCRIPTION:アルゼンチンタンゴダンスグループレッスンスケジュール\n8月 2日 、9日 、16日 、30日  水曜日 19:00-20:00\nAUGUST \, WEDNESDAY  2ND\, 9TH\, 16TH  AND 30TH.\nTEL：0453085007\n〒231-0868　神奈川県横浜市中区石川町1-21-1F Ｃ
URL:https://dance.gdp22.com/event/dance-49568/2024-06-12/
CATEGORIES:アルゼンチンタンゴ
ATTACH;FMTTYPE=image/png:https://dance.gdp22.com/wp-content/uploads/Copia-de-coreografia.png
END:VEVENT
BEGIN:VEVENT
DTSTART;TZID=Asia/Tokyo:20240614T190000
DTEND;TZID=Asia/Tokyo:20240614T194500
DTSTAMP:20260425T232646
CREATED:20220620T030138Z
LAST-MODIFIED:20220620T030138Z
UID:10183251-1718391600-1718394300@dance.gdp22.com
SUMMARY:タンゴ By EZEQUIEL
DESCRIPTION:タンゴ \nEZEQUIEL \nhttps://www.studio-casino.com/%E4%BD%93%E9%A8%93%E3%83%AC%E3%83%83%E3%82%B9%E3%83%B3-%E5%88%9D%E3%82%81%E3%81%A6%E3%81%AE%E6%96%B9/%E6%96%99%E9%87%91/
URL:https://dance.gdp22.com/event/dance-7796/2024-06-14/
LOCATION:六本木ダンススタジオカシーノ\, 東京都港区六本木5-2-4第二鳥勝ビル四階\, 六本木\, 106-0032\, 日本
CATEGORIES:アルゼンチンタンゴ
END:VEVENT
BEGIN:VEVENT
DTSTART;TZID=Asia/Tokyo:20240615T140000
DTEND;TZID=Asia/Tokyo:20240615T170000
DTSTAMP:20260425T232646
CREATED:20220831T032730Z
LAST-MODIFIED:20220831T032730Z
UID:10177364-1718460000-1718470800@dance.gdp22.com
SUMMARY:J-タンゴ・レッスン＆プラクティカ第3
DESCRIPTION:カフェルンビータ（京都） \n詳細はWEB参照
URL:https://dance.gdp22.com/event/dance-32823/2024-06-15/
LOCATION:カフェルンビータ（京都）\, 京都府京都市中京区山崎町２５８−１９ 珠光ビル三条 ３F\, 京都\, 604-8032\, 日本
CATEGORIES:アルゼンチンタンゴ
END:VEVENT
BEGIN:VEVENT
DTSTART;TZID=Asia/Tokyo:20240618T150000
DTEND;TZID=Asia/Tokyo:20240618T170000
DTSTAMP:20260425T232646
CREATED:20220525T025310Z
LAST-MODIFIED:20220527T024453Z
UID:10169144-1718722800-1718730000@dance.gdp22.com
SUMMARY:アルゼンチンタンゴレッスン by Ezequiel & Fumi
DESCRIPTION:アルゼンチンタンゴレッスン by Ezequiel & Fumi\n　15:00-15:30 無料ｳｫｰﾐﾝｸﾞｱｯﾌﾟ＆ 基本動作\n　15:30-16:30 アルゼンチンタンゴ～入門・初級～\n　16:30-17:00 質問・練習タイム\n2500円/回\n※ﾄﾞﾘﾝｸ別、回数券制度あり
URL:https://dance.gdp22.com/event/dance-4998/2024-06-18/
LOCATION:日暮里サルー\, 東京都東日暮里6-60-9日暮里駅前ビル3F\, 日暮里\, 116-0014\, 日本
CATEGORIES:アルゼンチンタンゴ
END:VEVENT
BEGIN:VEVENT
DTSTART;TZID=Asia/Tokyo:20240618T190000
DTEND;TZID=Asia/Tokyo:20240618T194500
DTSTAMP:20260425T232646
CREATED:20220620T020413Z
LAST-MODIFIED:20220620T020413Z
UID:10182182-1718737200-1718739900@dance.gdp22.com
SUMMARY:タンゴ By DIEGO
DESCRIPTION:タンゴ \nDIEGO \nhttps://www.studio-casino.com/%E4%BD%93%E9%A8%93%E3%83%AC%E3%83%83%E3%82%B9%E3%83%B3-%E5%88%9D%E3%82%81%E3%81%A6%E3%81%AE%E6%96%B9/%E6%96%99%E9%87%91/
URL:https://dance.gdp22.com/event/dance-7693/2024-06-18/
LOCATION:六本木ダンススタジオカシーノ\, 東京都港区六本木5-2-4第二鳥勝ビル四階\, 六本木\, 106-0032\, 日本
CATEGORIES:アルゼンチンタンゴ
END:VEVENT
BEGIN:VEVENT
DTSTART;TZID=Asia/Tokyo:20240619T180000
DTEND;TZID=Asia/Tokyo:20240619T190000
DTSTAMP:20260425T232646
CREATED:20220905T033113Z
LAST-MODIFIED:20220905T033113Z
UID:10197310-1718820000-1718823600@dance.gdp22.com
SUMMARY:TANGO 振付レッスン
DESCRIPTION:ドンセサル \n毎週水曜日\nタンゴ振付クラス\nCesar\nFrom Argentina
URL:https://dance.gdp22.com/event/dance-33877/2024-06-19/
LOCATION:横浜ドン・セサル DON CESAR\, 神奈川県横浜市中区石川町1-21\, 横浜\, 231-0868\, 日本
CATEGORIES:アルゼンチンタンゴ
END:VEVENT
BEGIN:VEVENT
DTSTART;TZID=Asia/Tokyo:20240619T190000
DTEND;TZID=Asia/Tokyo:20240619T200000
DTSTAMP:20260425T232646
CREATED:20230727T185249Z
LAST-MODIFIED:20230804T131032Z
UID:10205694-1718823600-1718827200@dance.gdp22.com
SUMMARY:DON CESAR 水曜タンゴグループレッスン TANGO GROUP LESSON
DESCRIPTION:アルゼンチンタンゴダンスグループレッスンスケジュール\n8月 2日 、9日 、16日 、30日  水曜日 19:00-20:00\nAUGUST \, WEDNESDAY  2ND\, 9TH\, 16TH  AND 30TH.\nTEL：0453085007\n〒231-0868　神奈川県横浜市中区石川町1-21-1F Ｃ
URL:https://dance.gdp22.com/event/dance-49568/2024-06-19/
CATEGORIES:アルゼンチンタンゴ
ATTACH;FMTTYPE=image/png:https://dance.gdp22.com/wp-content/uploads/Copia-de-coreografia.png
END:VEVENT
BEGIN:VEVENT
DTSTART;TZID=Asia/Tokyo:20240621T190000
DTEND;TZID=Asia/Tokyo:20240621T194500
DTSTAMP:20260425T232646
CREATED:20220620T030138Z
LAST-MODIFIED:20220620T030138Z
UID:10183252-1718996400-1718999100@dance.gdp22.com
SUMMARY:タンゴ By EZEQUIEL
DESCRIPTION:タンゴ \nEZEQUIEL \nhttps://www.studio-casino.com/%E4%BD%93%E9%A8%93%E3%83%AC%E3%83%83%E3%82%B9%E3%83%B3-%E5%88%9D%E3%82%81%E3%81%A6%E3%81%AE%E6%96%B9/%E6%96%99%E9%87%91/
URL:https://dance.gdp22.com/event/dance-7796/2024-06-21/
LOCATION:六本木ダンススタジオカシーノ\, 東京都港区六本木5-2-4第二鳥勝ビル四階\, 六本木\, 106-0032\, 日本
CATEGORIES:アルゼンチンタンゴ
END:VEVENT
BEGIN:VEVENT
DTSTART;TZID=Asia/Tokyo:20240622T140000
DTEND;TZID=Asia/Tokyo:20240622T170000
DTSTAMP:20260425T232646
CREATED:20220831T033002Z
LAST-MODIFIED:20220831T033002Z
UID:10177395-1719064800-1719075600@dance.gdp22.com
SUMMARY:J-タンゴ・レッスン＆プラクティカ第4
DESCRIPTION:カフェルンビータ（京都） \n詳細はWEB参照
URL:https://dance.gdp22.com/event/dance-32835/2024-06-22/
LOCATION:カフェルンビータ（京都）\, 京都府京都市中京区山崎町２５８−１９ 珠光ビル三条 ３F\, 京都\, 604-8032\, 日本
CATEGORIES:アルゼンチンタンゴ
END:VEVENT
BEGIN:VEVENT
DTSTART;TZID=Asia/Tokyo:20240623T153000
DTEND;TZID=Asia/Tokyo:20240623T170000
DTSTAMP:20260425T232646
CREATED:20220905T034833Z
LAST-MODIFIED:20220905T034833Z
UID:10197503-1719156600-1719162000@dance.gdp22.com
SUMMARY:TANGO group lesson by Cesar from Argentina（ｗ/Party）
DESCRIPTION:ドンセサル \n午後2時～ milonga party
URL:https://dance.gdp22.com/event/dance-33916/2024-06-23/
LOCATION:横浜ドン・セサル DON CESAR\, 神奈川県横浜市中区石川町1-21\, 横浜\, 231-0868\, 日本
CATEGORIES:ソーシャル,アルゼンチンタンゴ
END:VEVENT
BEGIN:VEVENT
DTSTART;TZID=Asia/Tokyo:20240625T150000
DTEND;TZID=Asia/Tokyo:20240625T170000
DTSTAMP:20260425T232646
CREATED:20220525T025310Z
LAST-MODIFIED:20220527T024453Z
UID:10169145-1719327600-1719334800@dance.gdp22.com
SUMMARY:アルゼンチンタンゴレッスン by Ezequiel & Fumi
DESCRIPTION:アルゼンチンタンゴレッスン by Ezequiel & Fumi\n　15:00-15:30 無料ｳｫｰﾐﾝｸﾞｱｯﾌﾟ＆ 基本動作\n　15:30-16:30 アルゼンチンタンゴ～入門・初級～\n　16:30-17:00 質問・練習タイム\n2500円/回\n※ﾄﾞﾘﾝｸ別、回数券制度あり
URL:https://dance.gdp22.com/event/dance-4998/2024-06-25/
LOCATION:日暮里サルー\, 東京都東日暮里6-60-9日暮里駅前ビル3F\, 日暮里\, 116-0014\, 日本
CATEGORIES:アルゼンチンタンゴ
END:VEVENT
BEGIN:VEVENT
DTSTART;TZID=Asia/Tokyo:20240625T190000
DTEND;TZID=Asia/Tokyo:20240625T194500
DTSTAMP:20260425T232646
CREATED:20220620T020413Z
LAST-MODIFIED:20220620T020413Z
UID:10182183-1719342000-1719344700@dance.gdp22.com
SUMMARY:タンゴ By DIEGO
DESCRIPTION:タンゴ \nDIEGO \nhttps://www.studio-casino.com/%E4%BD%93%E9%A8%93%E3%83%AC%E3%83%83%E3%82%B9%E3%83%B3-%E5%88%9D%E3%82%81%E3%81%A6%E3%81%AE%E6%96%B9/%E6%96%99%E9%87%91/
URL:https://dance.gdp22.com/event/dance-7693/2024-06-25/
LOCATION:六本木ダンススタジオカシーノ\, 東京都港区六本木5-2-4第二鳥勝ビル四階\, 六本木\, 106-0032\, 日本
CATEGORIES:アルゼンチンタンゴ
END:VEVENT
BEGIN:VEVENT
DTSTART;TZID=Asia/Tokyo:20240626T180000
DTEND;TZID=Asia/Tokyo:20240626T190000
DTSTAMP:20260425T232646
CREATED:20220905T033113Z
LAST-MODIFIED:20220905T033113Z
UID:10197311-1719424800-1719428400@dance.gdp22.com
SUMMARY:TANGO 振付レッスン
DESCRIPTION:ドンセサル \n毎週水曜日\nタンゴ振付クラス\nCesar\nFrom Argentina
URL:https://dance.gdp22.com/event/dance-33877/2024-06-26/
LOCATION:横浜ドン・セサル DON CESAR\, 神奈川県横浜市中区石川町1-21\, 横浜\, 231-0868\, 日本
CATEGORIES:アルゼンチンタンゴ
END:VEVENT
BEGIN:VEVENT
DTSTART;TZID=Asia/Tokyo:20240626T190000
DTEND;TZID=Asia/Tokyo:20240626T200000
DTSTAMP:20260425T232646
CREATED:20230727T185249Z
LAST-MODIFIED:20230804T131032Z
UID:10205695-1719428400-1719432000@dance.gdp22.com
SUMMARY:DON CESAR 水曜タンゴグループレッスン TANGO GROUP LESSON
DESCRIPTION:アルゼンチンタンゴダンスグループレッスンスケジュール\n8月 2日 、9日 、16日 、30日  水曜日 19:00-20:00\nAUGUST \, WEDNESDAY  2ND\, 9TH\, 16TH  AND 30TH.\nTEL：0453085007\n〒231-0868　神奈川県横浜市中区石川町1-21-1F Ｃ
URL:https://dance.gdp22.com/event/dance-49568/2024-06-26/
CATEGORIES:アルゼンチンタンゴ
ATTACH;FMTTYPE=image/png:https://dance.gdp22.com/wp-content/uploads/Copia-de-coreografia.png
END:VEVENT
BEGIN:VEVENT
DTSTART;TZID=Asia/Tokyo:20240628T190000
DTEND;TZID=Asia/Tokyo:20240628T194500
DTSTAMP:20260425T232646
CREATED:20220620T030138Z
LAST-MODIFIED:20220620T030138Z
UID:10183253-1719601200-1719603900@dance.gdp22.com
SUMMARY:タンゴ By EZEQUIEL
DESCRIPTION:タンゴ \nEZEQUIEL \nhttps://www.studio-casino.com/%E4%BD%93%E9%A8%93%E3%83%AC%E3%83%83%E3%82%B9%E3%83%B3-%E5%88%9D%E3%82%81%E3%81%A6%E3%81%AE%E6%96%B9/%E6%96%99%E9%87%91/
URL:https://dance.gdp22.com/event/dance-7796/2024-06-28/
LOCATION:六本木ダンススタジオカシーノ\, 東京都港区六本木5-2-4第二鳥勝ビル四階\, 六本木\, 106-0032\, 日本
CATEGORIES:アルゼンチンタンゴ
END:VEVENT
BEGIN:VEVENT
DTSTART;TZID=Asia/Tokyo:20240629T140000
DTEND;TZID=Asia/Tokyo:20240629T170000
DTSTAMP:20260425T232646
CREATED:20220831T033224Z
LAST-MODIFIED:20220831T033224Z
UID:10177414-1719669600-1719680400@dance.gdp22.com
SUMMARY:J-タンゴ・レッスン＆プラクティカ第5
DESCRIPTION:カフェルンビータ（京都） \n詳細はWEB参照
URL:https://dance.gdp22.com/event/dance-32847/2024-06-29/
LOCATION:カフェルンビータ（京都）\, 京都府京都市中京区山崎町２５８−１９ 珠光ビル三条 ３F\, 京都\, 604-8032\, 日本
CATEGORIES:アルゼンチンタンゴ
END:VEVENT
END:VCALENDAR