BEGIN:VCALENDAR
VERSION:2.0
PRODID:-//Dancing Pono (ダンシングポノ) - ECPv6.15.12//NONSGML v1.0//EN
CALSCALE:GREGORIAN
METHOD:PUBLISH
X-WR-CALNAME:Dancing Pono (ダンシングポノ)
X-ORIGINAL-URL:https://dance.gdp22.com
X-WR-CALDESC:Dancing Pono (ダンシングポノ) のイベント
REFRESH-INTERVAL;VALUE=DURATION:PT1H
X-Robots-Tag:noindex
X-PUBLISHED-TTL:PT1H
BEGIN:VTIMEZONE
TZID:Asia/Tokyo
BEGIN:STANDARD
TZOFFSETFROM:+0900
TZOFFSETTO:+0900
TZNAME:JST
DTSTART:20230101T000000
END:STANDARD
END:VTIMEZONE
BEGIN:VEVENT
DTSTART;TZID=Asia/Tokyo:20240102T150000
DTEND;TZID=Asia/Tokyo:20240102T170000
DTSTAMP:20260426T071247
CREATED:20220525T025310Z
LAST-MODIFIED:20220527T024453Z
UID:10169120-1704207600-1704214800@dance.gdp22.com
SUMMARY:アルゼンチンタンゴレッスン by Ezequiel & Fumi
DESCRIPTION:アルゼンチンタンゴレッスン by Ezequiel & Fumi\n　15:00-15:30 無料ｳｫｰﾐﾝｸﾞｱｯﾌﾟ＆ 基本動作\n　15:30-16:30 アルゼンチンタンゴ～入門・初級～\n　16:30-17:00 質問・練習タイム\n2500円/回\n※ﾄﾞﾘﾝｸ別、回数券制度あり
URL:https://dance.gdp22.com/event/dance-4998/2024-01-02/
LOCATION:日暮里サルー\, 東京都東日暮里6-60-9日暮里駅前ビル3F\, 日暮里\, 116-0014\, 日本
CATEGORIES:アルゼンチンタンゴ
END:VEVENT
BEGIN:VEVENT
DTSTART;TZID=Asia/Tokyo:20240102T190000
DTEND;TZID=Asia/Tokyo:20240102T194500
DTSTAMP:20260426T071247
CREATED:20220620T020413Z
LAST-MODIFIED:20220620T020413Z
UID:10182158-1704222000-1704224700@dance.gdp22.com
SUMMARY:タンゴ By DIEGO
DESCRIPTION:タンゴ \nDIEGO \nhttps://www.studio-casino.com/%E4%BD%93%E9%A8%93%E3%83%AC%E3%83%83%E3%82%B9%E3%83%B3-%E5%88%9D%E3%82%81%E3%81%A6%E3%81%AE%E6%96%B9/%E6%96%99%E9%87%91/
URL:https://dance.gdp22.com/event/dance-7693/2024-01-02/
LOCATION:六本木ダンススタジオカシーノ\, 東京都港区六本木5-2-4第二鳥勝ビル四階\, 六本木\, 106-0032\, 日本
CATEGORIES:アルゼンチンタンゴ
END:VEVENT
BEGIN:VEVENT
DTSTART;TZID=Asia/Tokyo:20240103T180000
DTEND;TZID=Asia/Tokyo:20240103T190000
DTSTAMP:20260426T071247
CREATED:20220905T033113Z
LAST-MODIFIED:20220905T033113Z
UID:10197286-1704304800-1704308400@dance.gdp22.com
SUMMARY:TANGO 振付レッスン
DESCRIPTION:ドンセサル \n毎週水曜日\nタンゴ振付クラス\nCesar\nFrom Argentina
URL:https://dance.gdp22.com/event/dance-33877/2024-01-03/
LOCATION:横浜ドン・セサル DON CESAR\, 神奈川県横浜市中区石川町1-21\, 横浜\, 231-0868\, 日本
CATEGORIES:アルゼンチンタンゴ
END:VEVENT
BEGIN:VEVENT
DTSTART;TZID=Asia/Tokyo:20240103T190000
DTEND;TZID=Asia/Tokyo:20240103T200000
DTSTAMP:20260426T071247
CREATED:20230727T185249Z
LAST-MODIFIED:20230804T131032Z
UID:10205670-1704308400-1704312000@dance.gdp22.com
SUMMARY:DON CESAR 水曜タンゴグループレッスン TANGO GROUP LESSON
DESCRIPTION:アルゼンチンタンゴダンスグループレッスンスケジュール\n8月 2日 、9日 、16日 、30日  水曜日 19:00-20:00\nAUGUST \, WEDNESDAY  2ND\, 9TH\, 16TH  AND 30TH.\nTEL：0453085007\n〒231-0868　神奈川県横浜市中区石川町1-21-1F Ｃ
URL:https://dance.gdp22.com/event/dance-49568/2024-01-03/
CATEGORIES:アルゼンチンタンゴ
ATTACH;FMTTYPE=image/png:https://dance.gdp22.com/wp-content/uploads/Copia-de-coreografia.png
END:VEVENT
BEGIN:VEVENT
DTSTART;TZID=Asia/Tokyo:20240105T190000
DTEND;TZID=Asia/Tokyo:20240105T194500
DTSTAMP:20260426T071247
CREATED:20220620T030138Z
LAST-MODIFIED:20220620T030138Z
UID:10183228-1704481200-1704483900@dance.gdp22.com
SUMMARY:タンゴ By EZEQUIEL
DESCRIPTION:タンゴ \nEZEQUIEL \nhttps://www.studio-casino.com/%E4%BD%93%E9%A8%93%E3%83%AC%E3%83%83%E3%82%B9%E3%83%B3-%E5%88%9D%E3%82%81%E3%81%A6%E3%81%AE%E6%96%B9/%E6%96%99%E9%87%91/
URL:https://dance.gdp22.com/event/dance-7796/2024-01-05/
LOCATION:六本木ダンススタジオカシーノ\, 東京都港区六本木5-2-4第二鳥勝ビル四階\, 六本木\, 106-0032\, 日本
CATEGORIES:アルゼンチンタンゴ
END:VEVENT
BEGIN:VEVENT
DTSTART;TZID=Asia/Tokyo:20240106T140000
DTEND;TZID=Asia/Tokyo:20240106T170000
DTSTAMP:20260426T071247
CREATED:20220831T032217Z
LAST-MODIFIED:20220831T032217Z
UID:10177297-1704549600-1704560400@dance.gdp22.com
SUMMARY:J-タンゴ・レッスン＆プラクティカ第1
DESCRIPTION:カフェルンビータ（京都） \n詳細はWEB参照
URL:https://dance.gdp22.com/event/dance-32799/2024-01-06/
LOCATION:カフェルンビータ（京都）\, 京都府京都市中京区山崎町２５８−１９ 珠光ビル三条 ３F\, 京都\, 604-8032\, 日本
CATEGORIES:アルゼンチンタンゴ
END:VEVENT
BEGIN:VEVENT
DTSTART;TZID=Asia/Tokyo:20240107T180000
DTEND;TZID=Asia/Tokyo:20240107T190000
DTSTAMP:20260426T071247
CREATED:20220907T165238Z
LAST-MODIFIED:20220907T165430Z
UID:10197584-1704650400-1704654000@dance.gdp22.com
SUMMARY:TANGO Beginners by Don Cesar
DESCRIPTION:ドンセサル \nイベントの場合は、イベントごとに異なります。
URL:https://dance.gdp22.com/event/tango-beginners-by-don-cesar/2024-01-07/
LOCATION:横浜ドン・セサル DON CESAR\, 神奈川県横浜市中区石川町1-21\, 横浜\, 231-0868\, 日本
CATEGORIES:アルゼンチンタンゴ
END:VEVENT
BEGIN:VEVENT
DTSTART;TZID=Asia/Tokyo:20240109T150000
DTEND;TZID=Asia/Tokyo:20240109T170000
DTSTAMP:20260426T071247
CREATED:20220525T025310Z
LAST-MODIFIED:20220527T024453Z
UID:10169121-1704812400-1704819600@dance.gdp22.com
SUMMARY:アルゼンチンタンゴレッスン by Ezequiel & Fumi
DESCRIPTION:アルゼンチンタンゴレッスン by Ezequiel & Fumi\n　15:00-15:30 無料ｳｫｰﾐﾝｸﾞｱｯﾌﾟ＆ 基本動作\n　15:30-16:30 アルゼンチンタンゴ～入門・初級～\n　16:30-17:00 質問・練習タイム\n2500円/回\n※ﾄﾞﾘﾝｸ別、回数券制度あり
URL:https://dance.gdp22.com/event/dance-4998/2024-01-09/
LOCATION:日暮里サルー\, 東京都東日暮里6-60-9日暮里駅前ビル3F\, 日暮里\, 116-0014\, 日本
CATEGORIES:アルゼンチンタンゴ
END:VEVENT
BEGIN:VEVENT
DTSTART;TZID=Asia/Tokyo:20240109T190000
DTEND;TZID=Asia/Tokyo:20240109T194500
DTSTAMP:20260426T071247
CREATED:20220620T020413Z
LAST-MODIFIED:20220620T020413Z
UID:10182159-1704826800-1704829500@dance.gdp22.com
SUMMARY:タンゴ By DIEGO
DESCRIPTION:タンゴ \nDIEGO \nhttps://www.studio-casino.com/%E4%BD%93%E9%A8%93%E3%83%AC%E3%83%83%E3%82%B9%E3%83%B3-%E5%88%9D%E3%82%81%E3%81%A6%E3%81%AE%E6%96%B9/%E6%96%99%E9%87%91/
URL:https://dance.gdp22.com/event/dance-7693/2024-01-09/
LOCATION:六本木ダンススタジオカシーノ\, 東京都港区六本木5-2-4第二鳥勝ビル四階\, 六本木\, 106-0032\, 日本
CATEGORIES:アルゼンチンタンゴ
END:VEVENT
BEGIN:VEVENT
DTSTART;TZID=Asia/Tokyo:20240110T180000
DTEND;TZID=Asia/Tokyo:20240110T190000
DTSTAMP:20260426T071247
CREATED:20220905T033113Z
LAST-MODIFIED:20220905T033113Z
UID:10197287-1704909600-1704913200@dance.gdp22.com
SUMMARY:TANGO 振付レッスン
DESCRIPTION:ドンセサル \n毎週水曜日\nタンゴ振付クラス\nCesar\nFrom Argentina
URL:https://dance.gdp22.com/event/dance-33877/2024-01-10/
LOCATION:横浜ドン・セサル DON CESAR\, 神奈川県横浜市中区石川町1-21\, 横浜\, 231-0868\, 日本
CATEGORIES:アルゼンチンタンゴ
END:VEVENT
BEGIN:VEVENT
DTSTART;TZID=Asia/Tokyo:20240110T190000
DTEND;TZID=Asia/Tokyo:20240110T200000
DTSTAMP:20260426T071247
CREATED:20230727T185249Z
LAST-MODIFIED:20230804T131032Z
UID:10205671-1704913200-1704916800@dance.gdp22.com
SUMMARY:DON CESAR 水曜タンゴグループレッスン TANGO GROUP LESSON
DESCRIPTION:アルゼンチンタンゴダンスグループレッスンスケジュール\n8月 2日 、9日 、16日 、30日  水曜日 19:00-20:00\nAUGUST \, WEDNESDAY  2ND\, 9TH\, 16TH  AND 30TH.\nTEL：0453085007\n〒231-0868　神奈川県横浜市中区石川町1-21-1F Ｃ
URL:https://dance.gdp22.com/event/dance-49568/2024-01-10/
CATEGORIES:アルゼンチンタンゴ
ATTACH;FMTTYPE=image/png:https://dance.gdp22.com/wp-content/uploads/Copia-de-coreografia.png
END:VEVENT
BEGIN:VEVENT
DTSTART;TZID=Asia/Tokyo:20240112T190000
DTEND;TZID=Asia/Tokyo:20240112T194500
DTSTAMP:20260426T071247
CREATED:20220620T030138Z
LAST-MODIFIED:20220620T030138Z
UID:10183229-1705086000-1705088700@dance.gdp22.com
SUMMARY:タンゴ By EZEQUIEL
DESCRIPTION:タンゴ \nEZEQUIEL \nhttps://www.studio-casino.com/%E4%BD%93%E9%A8%93%E3%83%AC%E3%83%83%E3%82%B9%E3%83%B3-%E5%88%9D%E3%82%81%E3%81%A6%E3%81%AE%E6%96%B9/%E6%96%99%E9%87%91/
URL:https://dance.gdp22.com/event/dance-7796/2024-01-12/
LOCATION:六本木ダンススタジオカシーノ\, 東京都港区六本木5-2-4第二鳥勝ビル四階\, 六本木\, 106-0032\, 日本
CATEGORIES:アルゼンチンタンゴ
END:VEVENT
BEGIN:VEVENT
DTSTART;TZID=Asia/Tokyo:20240113T140000
DTEND;TZID=Asia/Tokyo:20240113T170000
DTSTAMP:20260426T071247
CREATED:20220831T032426Z
LAST-MODIFIED:20220831T032426Z
UID:10177328-1705154400-1705165200@dance.gdp22.com
SUMMARY:J-タンゴ・レッスン＆プラクティカ第2
DESCRIPTION:カフェルンビータ（京都） \n詳細はWEB参照
URL:https://dance.gdp22.com/event/dance-32811/2024-01-13/
LOCATION:カフェルンビータ（京都）\, 京都府京都市中京区山崎町２５８−１９ 珠光ビル三条 ３F\, 京都\, 604-8032\, 日本
CATEGORIES:アルゼンチンタンゴ
END:VEVENT
BEGIN:VEVENT
DTSTART;TZID=Asia/Tokyo:20240116T150000
DTEND;TZID=Asia/Tokyo:20240116T170000
DTSTAMP:20260426T071247
CREATED:20220525T025310Z
LAST-MODIFIED:20220527T024453Z
UID:10169122-1705417200-1705424400@dance.gdp22.com
SUMMARY:アルゼンチンタンゴレッスン by Ezequiel & Fumi
DESCRIPTION:アルゼンチンタンゴレッスン by Ezequiel & Fumi\n　15:00-15:30 無料ｳｫｰﾐﾝｸﾞｱｯﾌﾟ＆ 基本動作\n　15:30-16:30 アルゼンチンタンゴ～入門・初級～\n　16:30-17:00 質問・練習タイム\n2500円/回\n※ﾄﾞﾘﾝｸ別、回数券制度あり
URL:https://dance.gdp22.com/event/dance-4998/2024-01-16/
LOCATION:日暮里サルー\, 東京都東日暮里6-60-9日暮里駅前ビル3F\, 日暮里\, 116-0014\, 日本
CATEGORIES:アルゼンチンタンゴ
END:VEVENT
BEGIN:VEVENT
DTSTART;TZID=Asia/Tokyo:20240116T190000
DTEND;TZID=Asia/Tokyo:20240116T194500
DTSTAMP:20260426T071247
CREATED:20220620T020413Z
LAST-MODIFIED:20220620T020413Z
UID:10182160-1705431600-1705434300@dance.gdp22.com
SUMMARY:タンゴ By DIEGO
DESCRIPTION:タンゴ \nDIEGO \nhttps://www.studio-casino.com/%E4%BD%93%E9%A8%93%E3%83%AC%E3%83%83%E3%82%B9%E3%83%B3-%E5%88%9D%E3%82%81%E3%81%A6%E3%81%AE%E6%96%B9/%E6%96%99%E9%87%91/
URL:https://dance.gdp22.com/event/dance-7693/2024-01-16/
LOCATION:六本木ダンススタジオカシーノ\, 東京都港区六本木5-2-4第二鳥勝ビル四階\, 六本木\, 106-0032\, 日本
CATEGORIES:アルゼンチンタンゴ
END:VEVENT
BEGIN:VEVENT
DTSTART;TZID=Asia/Tokyo:20240117T180000
DTEND;TZID=Asia/Tokyo:20240117T190000
DTSTAMP:20260426T071247
CREATED:20220905T033113Z
LAST-MODIFIED:20220905T033113Z
UID:10197288-1705514400-1705518000@dance.gdp22.com
SUMMARY:TANGO 振付レッスン
DESCRIPTION:ドンセサル \n毎週水曜日\nタンゴ振付クラス\nCesar\nFrom Argentina
URL:https://dance.gdp22.com/event/dance-33877/2024-01-17/
LOCATION:横浜ドン・セサル DON CESAR\, 神奈川県横浜市中区石川町1-21\, 横浜\, 231-0868\, 日本
CATEGORIES:アルゼンチンタンゴ
END:VEVENT
BEGIN:VEVENT
DTSTART;TZID=Asia/Tokyo:20240117T190000
DTEND;TZID=Asia/Tokyo:20240117T200000
DTSTAMP:20260426T071247
CREATED:20230727T185249Z
LAST-MODIFIED:20230804T131032Z
UID:10205672-1705518000-1705521600@dance.gdp22.com
SUMMARY:DON CESAR 水曜タンゴグループレッスン TANGO GROUP LESSON
DESCRIPTION:アルゼンチンタンゴダンスグループレッスンスケジュール\n8月 2日 、9日 、16日 、30日  水曜日 19:00-20:00\nAUGUST \, WEDNESDAY  2ND\, 9TH\, 16TH  AND 30TH.\nTEL：0453085007\n〒231-0868　神奈川県横浜市中区石川町1-21-1F Ｃ
URL:https://dance.gdp22.com/event/dance-49568/2024-01-17/
CATEGORIES:アルゼンチンタンゴ
ATTACH;FMTTYPE=image/png:https://dance.gdp22.com/wp-content/uploads/Copia-de-coreografia.png
END:VEVENT
BEGIN:VEVENT
DTSTART;TZID=Asia/Tokyo:20240119T190000
DTEND;TZID=Asia/Tokyo:20240119T194500
DTSTAMP:20260426T071247
CREATED:20220620T030138Z
LAST-MODIFIED:20220620T030138Z
UID:10183230-1705690800-1705693500@dance.gdp22.com
SUMMARY:タンゴ By EZEQUIEL
DESCRIPTION:タンゴ \nEZEQUIEL \nhttps://www.studio-casino.com/%E4%BD%93%E9%A8%93%E3%83%AC%E3%83%83%E3%82%B9%E3%83%B3-%E5%88%9D%E3%82%81%E3%81%A6%E3%81%AE%E6%96%B9/%E6%96%99%E9%87%91/
URL:https://dance.gdp22.com/event/dance-7796/2024-01-19/
LOCATION:六本木ダンススタジオカシーノ\, 東京都港区六本木5-2-4第二鳥勝ビル四階\, 六本木\, 106-0032\, 日本
CATEGORIES:アルゼンチンタンゴ
END:VEVENT
BEGIN:VEVENT
DTSTART;TZID=Asia/Tokyo:20240120T140000
DTEND;TZID=Asia/Tokyo:20240120T170000
DTSTAMP:20260426T071247
CREATED:20220831T032730Z
LAST-MODIFIED:20220831T032730Z
UID:10177359-1705759200-1705770000@dance.gdp22.com
SUMMARY:J-タンゴ・レッスン＆プラクティカ第3
DESCRIPTION:カフェルンビータ（京都） \n詳細はWEB参照
URL:https://dance.gdp22.com/event/dance-32823/2024-01-20/
LOCATION:カフェルンビータ（京都）\, 京都府京都市中京区山崎町２５８−１９ 珠光ビル三条 ３F\, 京都\, 604-8032\, 日本
CATEGORIES:アルゼンチンタンゴ
END:VEVENT
BEGIN:VEVENT
DTSTART;TZID=Asia/Tokyo:20240123T150000
DTEND;TZID=Asia/Tokyo:20240123T170000
DTSTAMP:20260426T071247
CREATED:20220525T025310Z
LAST-MODIFIED:20220527T024453Z
UID:10169123-1706022000-1706029200@dance.gdp22.com
SUMMARY:アルゼンチンタンゴレッスン by Ezequiel & Fumi
DESCRIPTION:アルゼンチンタンゴレッスン by Ezequiel & Fumi\n　15:00-15:30 無料ｳｫｰﾐﾝｸﾞｱｯﾌﾟ＆ 基本動作\n　15:30-16:30 アルゼンチンタンゴ～入門・初級～\n　16:30-17:00 質問・練習タイム\n2500円/回\n※ﾄﾞﾘﾝｸ別、回数券制度あり
URL:https://dance.gdp22.com/event/dance-4998/2024-01-23/
LOCATION:日暮里サルー\, 東京都東日暮里6-60-9日暮里駅前ビル3F\, 日暮里\, 116-0014\, 日本
CATEGORIES:アルゼンチンタンゴ
END:VEVENT
BEGIN:VEVENT
DTSTART;TZID=Asia/Tokyo:20240123T190000
DTEND;TZID=Asia/Tokyo:20240123T194500
DTSTAMP:20260426T071247
CREATED:20220620T020413Z
LAST-MODIFIED:20220620T020413Z
UID:10182161-1706036400-1706039100@dance.gdp22.com
SUMMARY:タンゴ By DIEGO
DESCRIPTION:タンゴ \nDIEGO \nhttps://www.studio-casino.com/%E4%BD%93%E9%A8%93%E3%83%AC%E3%83%83%E3%82%B9%E3%83%B3-%E5%88%9D%E3%82%81%E3%81%A6%E3%81%AE%E6%96%B9/%E6%96%99%E9%87%91/
URL:https://dance.gdp22.com/event/dance-7693/2024-01-23/
LOCATION:六本木ダンススタジオカシーノ\, 東京都港区六本木5-2-4第二鳥勝ビル四階\, 六本木\, 106-0032\, 日本
CATEGORIES:アルゼンチンタンゴ
END:VEVENT
BEGIN:VEVENT
DTSTART;TZID=Asia/Tokyo:20240124T180000
DTEND;TZID=Asia/Tokyo:20240124T190000
DTSTAMP:20260426T071247
CREATED:20220905T033113Z
LAST-MODIFIED:20220905T033113Z
UID:10197289-1706119200-1706122800@dance.gdp22.com
SUMMARY:TANGO 振付レッスン
DESCRIPTION:ドンセサル \n毎週水曜日\nタンゴ振付クラス\nCesar\nFrom Argentina
URL:https://dance.gdp22.com/event/dance-33877/2024-01-24/
LOCATION:横浜ドン・セサル DON CESAR\, 神奈川県横浜市中区石川町1-21\, 横浜\, 231-0868\, 日本
CATEGORIES:アルゼンチンタンゴ
END:VEVENT
BEGIN:VEVENT
DTSTART;TZID=Asia/Tokyo:20240124T190000
DTEND;TZID=Asia/Tokyo:20240124T200000
DTSTAMP:20260426T071247
CREATED:20230727T185249Z
LAST-MODIFIED:20230804T131032Z
UID:10205673-1706122800-1706126400@dance.gdp22.com
SUMMARY:DON CESAR 水曜タンゴグループレッスン TANGO GROUP LESSON
DESCRIPTION:アルゼンチンタンゴダンスグループレッスンスケジュール\n8月 2日 、9日 、16日 、30日  水曜日 19:00-20:00\nAUGUST \, WEDNESDAY  2ND\, 9TH\, 16TH  AND 30TH.\nTEL：0453085007\n〒231-0868　神奈川県横浜市中区石川町1-21-1F Ｃ
URL:https://dance.gdp22.com/event/dance-49568/2024-01-24/
CATEGORIES:アルゼンチンタンゴ
ATTACH;FMTTYPE=image/png:https://dance.gdp22.com/wp-content/uploads/Copia-de-coreografia.png
END:VEVENT
BEGIN:VEVENT
DTSTART;TZID=Asia/Tokyo:20240126T190000
DTEND;TZID=Asia/Tokyo:20240126T194500
DTSTAMP:20260426T071247
CREATED:20220620T030138Z
LAST-MODIFIED:20220620T030138Z
UID:10183231-1706295600-1706298300@dance.gdp22.com
SUMMARY:タンゴ By EZEQUIEL
DESCRIPTION:タンゴ \nEZEQUIEL \nhttps://www.studio-casino.com/%E4%BD%93%E9%A8%93%E3%83%AC%E3%83%83%E3%82%B9%E3%83%B3-%E5%88%9D%E3%82%81%E3%81%A6%E3%81%AE%E6%96%B9/%E6%96%99%E9%87%91/
URL:https://dance.gdp22.com/event/dance-7796/2024-01-26/
LOCATION:六本木ダンススタジオカシーノ\, 東京都港区六本木5-2-4第二鳥勝ビル四階\, 六本木\, 106-0032\, 日本
CATEGORIES:アルゼンチンタンゴ
END:VEVENT
BEGIN:VEVENT
DTSTART;TZID=Asia/Tokyo:20240127T140000
DTEND;TZID=Asia/Tokyo:20240127T170000
DTSTAMP:20260426T071247
CREATED:20220831T033002Z
LAST-MODIFIED:20220831T033002Z
UID:10177390-1706364000-1706374800@dance.gdp22.com
SUMMARY:J-タンゴ・レッスン＆プラクティカ第4
DESCRIPTION:カフェルンビータ（京都） \n詳細はWEB参照
URL:https://dance.gdp22.com/event/dance-32835/2024-01-27/
LOCATION:カフェルンビータ（京都）\, 京都府京都市中京区山崎町２５８−１９ 珠光ビル三条 ３F\, 京都\, 604-8032\, 日本
CATEGORIES:アルゼンチンタンゴ
END:VEVENT
BEGIN:VEVENT
DTSTART;TZID=Asia/Tokyo:20240128T153000
DTEND;TZID=Asia/Tokyo:20240128T170000
DTSTAMP:20260426T071247
CREATED:20220905T034833Z
LAST-MODIFIED:20220905T034833Z
UID:10197498-1706455800-1706461200@dance.gdp22.com
SUMMARY:TANGO group lesson by Cesar from Argentina（ｗ/Party）
DESCRIPTION:ドンセサル \n午後2時～ milonga party
URL:https://dance.gdp22.com/event/dance-33916/2024-01-28/
LOCATION:横浜ドン・セサル DON CESAR\, 神奈川県横浜市中区石川町1-21\, 横浜\, 231-0868\, 日本
CATEGORIES:ソーシャル,アルゼンチンタンゴ
END:VEVENT
BEGIN:VEVENT
DTSTART;TZID=Asia/Tokyo:20240130T150000
DTEND;TZID=Asia/Tokyo:20240130T170000
DTSTAMP:20260426T071247
CREATED:20220525T025310Z
LAST-MODIFIED:20220527T024453Z
UID:10169124-1706626800-1706634000@dance.gdp22.com
SUMMARY:アルゼンチンタンゴレッスン by Ezequiel & Fumi
DESCRIPTION:アルゼンチンタンゴレッスン by Ezequiel & Fumi\n　15:00-15:30 無料ｳｫｰﾐﾝｸﾞｱｯﾌﾟ＆ 基本動作\n　15:30-16:30 アルゼンチンタンゴ～入門・初級～\n　16:30-17:00 質問・練習タイム\n2500円/回\n※ﾄﾞﾘﾝｸ別、回数券制度あり
URL:https://dance.gdp22.com/event/dance-4998/2024-01-30/
LOCATION:日暮里サルー\, 東京都東日暮里6-60-9日暮里駅前ビル3F\, 日暮里\, 116-0014\, 日本
CATEGORIES:アルゼンチンタンゴ
END:VEVENT
BEGIN:VEVENT
DTSTART;TZID=Asia/Tokyo:20240130T190000
DTEND;TZID=Asia/Tokyo:20240130T194500
DTSTAMP:20260426T071247
CREATED:20220620T020413Z
LAST-MODIFIED:20220620T020413Z
UID:10182162-1706641200-1706643900@dance.gdp22.com
SUMMARY:タンゴ By DIEGO
DESCRIPTION:タンゴ \nDIEGO \nhttps://www.studio-casino.com/%E4%BD%93%E9%A8%93%E3%83%AC%E3%83%83%E3%82%B9%E3%83%B3-%E5%88%9D%E3%82%81%E3%81%A6%E3%81%AE%E6%96%B9/%E6%96%99%E9%87%91/
URL:https://dance.gdp22.com/event/dance-7693/2024-01-30/
LOCATION:六本木ダンススタジオカシーノ\, 東京都港区六本木5-2-4第二鳥勝ビル四階\, 六本木\, 106-0032\, 日本
CATEGORIES:アルゼンチンタンゴ
END:VEVENT
BEGIN:VEVENT
DTSTART;TZID=Asia/Tokyo:20240131T180000
DTEND;TZID=Asia/Tokyo:20240131T190000
DTSTAMP:20260426T071247
CREATED:20220905T033113Z
LAST-MODIFIED:20220905T033113Z
UID:10197290-1706724000-1706727600@dance.gdp22.com
SUMMARY:TANGO 振付レッスン
DESCRIPTION:ドンセサル \n毎週水曜日\nタンゴ振付クラス\nCesar\nFrom Argentina
URL:https://dance.gdp22.com/event/dance-33877/2024-01-31/
LOCATION:横浜ドン・セサル DON CESAR\, 神奈川県横浜市中区石川町1-21\, 横浜\, 231-0868\, 日本
CATEGORIES:アルゼンチンタンゴ
END:VEVENT
BEGIN:VEVENT
DTSTART;TZID=Asia/Tokyo:20240131T190000
DTEND;TZID=Asia/Tokyo:20240131T200000
DTSTAMP:20260426T071247
CREATED:20230727T185249Z
LAST-MODIFIED:20230804T131032Z
UID:10205674-1706727600-1706731200@dance.gdp22.com
SUMMARY:DON CESAR 水曜タンゴグループレッスン TANGO GROUP LESSON
DESCRIPTION:アルゼンチンタンゴダンスグループレッスンスケジュール\n8月 2日 、9日 、16日 、30日  水曜日 19:00-20:00\nAUGUST \, WEDNESDAY  2ND\, 9TH\, 16TH  AND 30TH.\nTEL：0453085007\n〒231-0868　神奈川県横浜市中区石川町1-21-1F Ｃ
URL:https://dance.gdp22.com/event/dance-49568/2024-01-31/
CATEGORIES:アルゼンチンタンゴ
ATTACH;FMTTYPE=image/png:https://dance.gdp22.com/wp-content/uploads/Copia-de-coreografia.png
END:VEVENT
END:VCALENDAR