BEGIN:VCALENDAR
VERSION:2.0
PRODID:-//Dancing Pono (ダンシングポノ) - ECPv6.15.12//NONSGML v1.0//EN
CALSCALE:GREGORIAN
METHOD:PUBLISH
X-WR-CALNAME:Dancing Pono (ダンシングポノ)
X-ORIGINAL-URL:https://dance.gdp22.com
X-WR-CALDESC:Dancing Pono (ダンシングポノ) のイベント
REFRESH-INTERVAL;VALUE=DURATION:PT1H
X-Robots-Tag:noindex
X-PUBLISHED-TTL:PT1H
BEGIN:VTIMEZONE
TZID:Asia/Tokyo
BEGIN:STANDARD
TZOFFSETFROM:+0900
TZOFFSETTO:+0900
TZNAME:JST
DTSTART:20220101T000000
END:STANDARD
END:VTIMEZONE
BEGIN:VEVENT
DTSTART;TZID=Asia/Tokyo:20231001T180000
DTEND;TZID=Asia/Tokyo:20231001T190000
DTSTAMP:20260426T115426
CREATED:20220907T165238Z
LAST-MODIFIED:20220907T165430Z
UID:10197581-1696183200-1696186800@dance.gdp22.com
SUMMARY:TANGO Beginners by Don Cesar
DESCRIPTION:ドンセサル \nイベントの場合は、イベントごとに異なります。
URL:https://dance.gdp22.com/event/tango-beginners-by-don-cesar/2023-10-01/
LOCATION:横浜ドン・セサル DON CESAR\, 神奈川県横浜市中区石川町1-21\, 横浜\, 231-0868\, 日本
CATEGORIES:アルゼンチンタンゴ
END:VEVENT
BEGIN:VEVENT
DTSTART;TZID=Asia/Tokyo:20231003T150000
DTEND;TZID=Asia/Tokyo:20231003T170000
DTSTAMP:20260426T115426
CREATED:20220525T025310Z
LAST-MODIFIED:20220527T024453Z
UID:10169107-1696345200-1696352400@dance.gdp22.com
SUMMARY:アルゼンチンタンゴレッスン by Ezequiel & Fumi
DESCRIPTION:アルゼンチンタンゴレッスン by Ezequiel & Fumi\n　15:00-15:30 無料ｳｫｰﾐﾝｸﾞｱｯﾌﾟ＆ 基本動作\n　15:30-16:30 アルゼンチンタンゴ～入門・初級～\n　16:30-17:00 質問・練習タイム\n2500円/回\n※ﾄﾞﾘﾝｸ別、回数券制度あり
URL:https://dance.gdp22.com/event/dance-4998/2023-10-03/
LOCATION:日暮里サルー\, 東京都東日暮里6-60-9日暮里駅前ビル3F\, 日暮里\, 116-0014\, 日本
CATEGORIES:アルゼンチンタンゴ
END:VEVENT
BEGIN:VEVENT
DTSTART;TZID=Asia/Tokyo:20231003T190000
DTEND;TZID=Asia/Tokyo:20231003T194500
DTSTAMP:20260426T115427
CREATED:20220620T020413Z
LAST-MODIFIED:20220620T020413Z
UID:10182145-1696359600-1696362300@dance.gdp22.com
SUMMARY:タンゴ By DIEGO
DESCRIPTION:タンゴ \nDIEGO \nhttps://www.studio-casino.com/%E4%BD%93%E9%A8%93%E3%83%AC%E3%83%83%E3%82%B9%E3%83%B3-%E5%88%9D%E3%82%81%E3%81%A6%E3%81%AE%E6%96%B9/%E6%96%99%E9%87%91/
URL:https://dance.gdp22.com/event/dance-7693/2023-10-03/
LOCATION:六本木ダンススタジオカシーノ\, 東京都港区六本木5-2-4第二鳥勝ビル四階\, 六本木\, 106-0032\, 日本
CATEGORIES:アルゼンチンタンゴ
END:VEVENT
BEGIN:VEVENT
DTSTART;TZID=Asia/Tokyo:20231004T180000
DTEND;TZID=Asia/Tokyo:20231004T190000
DTSTAMP:20260426T115427
CREATED:20220905T033113Z
LAST-MODIFIED:20220905T033113Z
UID:10197273-1696442400-1696446000@dance.gdp22.com
SUMMARY:TANGO 振付レッスン
DESCRIPTION:ドンセサル \n毎週水曜日\nタンゴ振付クラス\nCesar\nFrom Argentina
URL:https://dance.gdp22.com/event/dance-33877/2023-10-04/
LOCATION:横浜ドン・セサル DON CESAR\, 神奈川県横浜市中区石川町1-21\, 横浜\, 231-0868\, 日本
CATEGORIES:アルゼンチンタンゴ
END:VEVENT
BEGIN:VEVENT
DTSTART;TZID=Asia/Tokyo:20231004T190000
DTEND;TZID=Asia/Tokyo:20231004T200000
DTSTAMP:20260426T115427
CREATED:20230727T185249Z
LAST-MODIFIED:20230804T131032Z
UID:10205657-1696446000-1696449600@dance.gdp22.com
SUMMARY:DON CESAR 水曜タンゴグループレッスン TANGO GROUP LESSON
DESCRIPTION:アルゼンチンタンゴダンスグループレッスンスケジュール\n8月 2日 、9日 、16日 、30日  水曜日 19:00-20:00\nAUGUST \, WEDNESDAY  2ND\, 9TH\, 16TH  AND 30TH.\nTEL：0453085007\n〒231-0868　神奈川県横浜市中区石川町1-21-1F Ｃ
URL:https://dance.gdp22.com/event/dance-49568/2023-10-04/
CATEGORIES:アルゼンチンタンゴ
ATTACH;FMTTYPE=image/png:https://dance.gdp22.com/wp-content/uploads/Copia-de-coreografia.png
END:VEVENT
BEGIN:VEVENT
DTSTART;TZID=Asia/Tokyo:20231006T190000
DTEND;TZID=Asia/Tokyo:20231006T194500
DTSTAMP:20260426T115427
CREATED:20220620T030138Z
LAST-MODIFIED:20220620T030138Z
UID:10183215-1696618800-1696621500@dance.gdp22.com
SUMMARY:タンゴ By EZEQUIEL
DESCRIPTION:タンゴ \nEZEQUIEL \nhttps://www.studio-casino.com/%E4%BD%93%E9%A8%93%E3%83%AC%E3%83%83%E3%82%B9%E3%83%B3-%E5%88%9D%E3%82%81%E3%81%A6%E3%81%AE%E6%96%B9/%E6%96%99%E9%87%91/
URL:https://dance.gdp22.com/event/dance-7796/2023-10-06/
LOCATION:六本木ダンススタジオカシーノ\, 東京都港区六本木5-2-4第二鳥勝ビル四階\, 六本木\, 106-0032\, 日本
CATEGORIES:アルゼンチンタンゴ
END:VEVENT
BEGIN:VEVENT
DTSTART;TZID=Asia/Tokyo:20231007T140000
DTEND;TZID=Asia/Tokyo:20231007T170000
DTSTAMP:20260426T115427
CREATED:20220831T032217Z
LAST-MODIFIED:20220831T032217Z
UID:10177294-1696687200-1696698000@dance.gdp22.com
SUMMARY:J-タンゴ・レッスン＆プラクティカ第1
DESCRIPTION:カフェルンビータ（京都） \n詳細はWEB参照
URL:https://dance.gdp22.com/event/dance-32799/2023-10-07/
LOCATION:カフェルンビータ（京都）\, 京都府京都市中京区山崎町２５８−１９ 珠光ビル三条 ３F\, 京都\, 604-8032\, 日本
CATEGORIES:アルゼンチンタンゴ
END:VEVENT
BEGIN:VEVENT
DTSTART;TZID=Asia/Tokyo:20231010T150000
DTEND;TZID=Asia/Tokyo:20231010T170000
DTSTAMP:20260426T115427
CREATED:20220525T025310Z
LAST-MODIFIED:20220527T024453Z
UID:10169108-1696950000-1696957200@dance.gdp22.com
SUMMARY:アルゼンチンタンゴレッスン by Ezequiel & Fumi
DESCRIPTION:アルゼンチンタンゴレッスン by Ezequiel & Fumi\n　15:00-15:30 無料ｳｫｰﾐﾝｸﾞｱｯﾌﾟ＆ 基本動作\n　15:30-16:30 アルゼンチンタンゴ～入門・初級～\n　16:30-17:00 質問・練習タイム\n2500円/回\n※ﾄﾞﾘﾝｸ別、回数券制度あり
URL:https://dance.gdp22.com/event/dance-4998/2023-10-10/
LOCATION:日暮里サルー\, 東京都東日暮里6-60-9日暮里駅前ビル3F\, 日暮里\, 116-0014\, 日本
CATEGORIES:アルゼンチンタンゴ
END:VEVENT
BEGIN:VEVENT
DTSTART;TZID=Asia/Tokyo:20231010T190000
DTEND;TZID=Asia/Tokyo:20231010T194500
DTSTAMP:20260426T115427
CREATED:20220620T020413Z
LAST-MODIFIED:20220620T020413Z
UID:10182146-1696964400-1696967100@dance.gdp22.com
SUMMARY:タンゴ By DIEGO
DESCRIPTION:タンゴ \nDIEGO \nhttps://www.studio-casino.com/%E4%BD%93%E9%A8%93%E3%83%AC%E3%83%83%E3%82%B9%E3%83%B3-%E5%88%9D%E3%82%81%E3%81%A6%E3%81%AE%E6%96%B9/%E6%96%99%E9%87%91/
URL:https://dance.gdp22.com/event/dance-7693/2023-10-10/
LOCATION:六本木ダンススタジオカシーノ\, 東京都港区六本木5-2-4第二鳥勝ビル四階\, 六本木\, 106-0032\, 日本
CATEGORIES:アルゼンチンタンゴ
END:VEVENT
BEGIN:VEVENT
DTSTART;TZID=Asia/Tokyo:20231011T180000
DTEND;TZID=Asia/Tokyo:20231011T190000
DTSTAMP:20260426T115427
CREATED:20220905T033113Z
LAST-MODIFIED:20220905T033113Z
UID:10197274-1697047200-1697050800@dance.gdp22.com
SUMMARY:TANGO 振付レッスン
DESCRIPTION:ドンセサル \n毎週水曜日\nタンゴ振付クラス\nCesar\nFrom Argentina
URL:https://dance.gdp22.com/event/dance-33877/2023-10-11/
LOCATION:横浜ドン・セサル DON CESAR\, 神奈川県横浜市中区石川町1-21\, 横浜\, 231-0868\, 日本
CATEGORIES:アルゼンチンタンゴ
END:VEVENT
BEGIN:VEVENT
DTSTART;TZID=Asia/Tokyo:20231011T190000
DTEND;TZID=Asia/Tokyo:20231011T200000
DTSTAMP:20260426T115427
CREATED:20230727T185249Z
LAST-MODIFIED:20230804T131032Z
UID:10205658-1697050800-1697054400@dance.gdp22.com
SUMMARY:DON CESAR 水曜タンゴグループレッスン TANGO GROUP LESSON
DESCRIPTION:アルゼンチンタンゴダンスグループレッスンスケジュール\n8月 2日 、9日 、16日 、30日  水曜日 19:00-20:00\nAUGUST \, WEDNESDAY  2ND\, 9TH\, 16TH  AND 30TH.\nTEL：0453085007\n〒231-0868　神奈川県横浜市中区石川町1-21-1F Ｃ
URL:https://dance.gdp22.com/event/dance-49568/2023-10-11/
CATEGORIES:アルゼンチンタンゴ
ATTACH;FMTTYPE=image/png:https://dance.gdp22.com/wp-content/uploads/Copia-de-coreografia.png
END:VEVENT
BEGIN:VEVENT
DTSTART;TZID=Asia/Tokyo:20231013T190000
DTEND;TZID=Asia/Tokyo:20231013T194500
DTSTAMP:20260426T115427
CREATED:20220620T030138Z
LAST-MODIFIED:20220620T030138Z
UID:10183216-1697223600-1697226300@dance.gdp22.com
SUMMARY:タンゴ By EZEQUIEL
DESCRIPTION:タンゴ \nEZEQUIEL \nhttps://www.studio-casino.com/%E4%BD%93%E9%A8%93%E3%83%AC%E3%83%83%E3%82%B9%E3%83%B3-%E5%88%9D%E3%82%81%E3%81%A6%E3%81%AE%E6%96%B9/%E6%96%99%E9%87%91/
URL:https://dance.gdp22.com/event/dance-7796/2023-10-13/
LOCATION:六本木ダンススタジオカシーノ\, 東京都港区六本木5-2-4第二鳥勝ビル四階\, 六本木\, 106-0032\, 日本
CATEGORIES:アルゼンチンタンゴ
END:VEVENT
BEGIN:VEVENT
DTSTART;TZID=Asia/Tokyo:20231014T140000
DTEND;TZID=Asia/Tokyo:20231014T170000
DTSTAMP:20260426T115427
CREATED:20220831T032426Z
LAST-MODIFIED:20220831T032426Z
UID:10177325-1697292000-1697302800@dance.gdp22.com
SUMMARY:J-タンゴ・レッスン＆プラクティカ第2
DESCRIPTION:カフェルンビータ（京都） \n詳細はWEB参照
URL:https://dance.gdp22.com/event/dance-32811/2023-10-14/
LOCATION:カフェルンビータ（京都）\, 京都府京都市中京区山崎町２５８−１９ 珠光ビル三条 ３F\, 京都\, 604-8032\, 日本
CATEGORIES:アルゼンチンタンゴ
END:VEVENT
BEGIN:VEVENT
DTSTART;TZID=Asia/Tokyo:20231017T150000
DTEND;TZID=Asia/Tokyo:20231017T170000
DTSTAMP:20260426T115427
CREATED:20220525T025310Z
LAST-MODIFIED:20220527T024453Z
UID:10169109-1697554800-1697562000@dance.gdp22.com
SUMMARY:アルゼンチンタンゴレッスン by Ezequiel & Fumi
DESCRIPTION:アルゼンチンタンゴレッスン by Ezequiel & Fumi\n　15:00-15:30 無料ｳｫｰﾐﾝｸﾞｱｯﾌﾟ＆ 基本動作\n　15:30-16:30 アルゼンチンタンゴ～入門・初級～\n　16:30-17:00 質問・練習タイム\n2500円/回\n※ﾄﾞﾘﾝｸ別、回数券制度あり
URL:https://dance.gdp22.com/event/dance-4998/2023-10-17/
LOCATION:日暮里サルー\, 東京都東日暮里6-60-9日暮里駅前ビル3F\, 日暮里\, 116-0014\, 日本
CATEGORIES:アルゼンチンタンゴ
END:VEVENT
BEGIN:VEVENT
DTSTART;TZID=Asia/Tokyo:20231017T190000
DTEND;TZID=Asia/Tokyo:20231017T194500
DTSTAMP:20260426T115427
CREATED:20220620T020413Z
LAST-MODIFIED:20220620T020413Z
UID:10182147-1697569200-1697571900@dance.gdp22.com
SUMMARY:タンゴ By DIEGO
DESCRIPTION:タンゴ \nDIEGO \nhttps://www.studio-casino.com/%E4%BD%93%E9%A8%93%E3%83%AC%E3%83%83%E3%82%B9%E3%83%B3-%E5%88%9D%E3%82%81%E3%81%A6%E3%81%AE%E6%96%B9/%E6%96%99%E9%87%91/
URL:https://dance.gdp22.com/event/dance-7693/2023-10-17/
LOCATION:六本木ダンススタジオカシーノ\, 東京都港区六本木5-2-4第二鳥勝ビル四階\, 六本木\, 106-0032\, 日本
CATEGORIES:アルゼンチンタンゴ
END:VEVENT
BEGIN:VEVENT
DTSTART;TZID=Asia/Tokyo:20231018T180000
DTEND;TZID=Asia/Tokyo:20231018T190000
DTSTAMP:20260426T115427
CREATED:20220905T033113Z
LAST-MODIFIED:20220905T033113Z
UID:10197275-1697652000-1697655600@dance.gdp22.com
SUMMARY:TANGO 振付レッスン
DESCRIPTION:ドンセサル \n毎週水曜日\nタンゴ振付クラス\nCesar\nFrom Argentina
URL:https://dance.gdp22.com/event/dance-33877/2023-10-18/
LOCATION:横浜ドン・セサル DON CESAR\, 神奈川県横浜市中区石川町1-21\, 横浜\, 231-0868\, 日本
CATEGORIES:アルゼンチンタンゴ
END:VEVENT
BEGIN:VEVENT
DTSTART;TZID=Asia/Tokyo:20231018T190000
DTEND;TZID=Asia/Tokyo:20231018T200000
DTSTAMP:20260426T115427
CREATED:20230727T185249Z
LAST-MODIFIED:20230804T131032Z
UID:10205659-1697655600-1697659200@dance.gdp22.com
SUMMARY:DON CESAR 水曜タンゴグループレッスン TANGO GROUP LESSON
DESCRIPTION:アルゼンチンタンゴダンスグループレッスンスケジュール\n8月 2日 、9日 、16日 、30日  水曜日 19:00-20:00\nAUGUST \, WEDNESDAY  2ND\, 9TH\, 16TH  AND 30TH.\nTEL：0453085007\n〒231-0868　神奈川県横浜市中区石川町1-21-1F Ｃ
URL:https://dance.gdp22.com/event/dance-49568/2023-10-18/
CATEGORIES:アルゼンチンタンゴ
ATTACH;FMTTYPE=image/png:https://dance.gdp22.com/wp-content/uploads/Copia-de-coreografia.png
END:VEVENT
BEGIN:VEVENT
DTSTART;TZID=Asia/Tokyo:20231020T190000
DTEND;TZID=Asia/Tokyo:20231020T194500
DTSTAMP:20260426T115427
CREATED:20220620T030138Z
LAST-MODIFIED:20220620T030138Z
UID:10183217-1697828400-1697831100@dance.gdp22.com
SUMMARY:タンゴ By EZEQUIEL
DESCRIPTION:タンゴ \nEZEQUIEL \nhttps://www.studio-casino.com/%E4%BD%93%E9%A8%93%E3%83%AC%E3%83%83%E3%82%B9%E3%83%B3-%E5%88%9D%E3%82%81%E3%81%A6%E3%81%AE%E6%96%B9/%E6%96%99%E9%87%91/
URL:https://dance.gdp22.com/event/dance-7796/2023-10-20/
LOCATION:六本木ダンススタジオカシーノ\, 東京都港区六本木5-2-4第二鳥勝ビル四階\, 六本木\, 106-0032\, 日本
CATEGORIES:アルゼンチンタンゴ
END:VEVENT
BEGIN:VEVENT
DTSTART;TZID=Asia/Tokyo:20231021T140000
DTEND;TZID=Asia/Tokyo:20231021T170000
DTSTAMP:20260426T115427
CREATED:20220831T032730Z
LAST-MODIFIED:20220831T032730Z
UID:10177356-1697896800-1697907600@dance.gdp22.com
SUMMARY:J-タンゴ・レッスン＆プラクティカ第3
DESCRIPTION:カフェルンビータ（京都） \n詳細はWEB参照
URL:https://dance.gdp22.com/event/dance-32823/2023-10-21/
LOCATION:カフェルンビータ（京都）\, 京都府京都市中京区山崎町２５８−１９ 珠光ビル三条 ３F\, 京都\, 604-8032\, 日本
CATEGORIES:アルゼンチンタンゴ
END:VEVENT
BEGIN:VEVENT
DTSTART;TZID=Asia/Tokyo:20231022T153000
DTEND;TZID=Asia/Tokyo:20231022T170000
DTSTAMP:20260426T115427
CREATED:20220905T034833Z
LAST-MODIFIED:20220905T034833Z
UID:10197495-1697988600-1697994000@dance.gdp22.com
SUMMARY:TANGO group lesson by Cesar from Argentina（ｗ/Party）
DESCRIPTION:ドンセサル \n午後2時～ milonga party
URL:https://dance.gdp22.com/event/dance-33916/2023-10-22/
LOCATION:横浜ドン・セサル DON CESAR\, 神奈川県横浜市中区石川町1-21\, 横浜\, 231-0868\, 日本
CATEGORIES:ソーシャル,アルゼンチンタンゴ
END:VEVENT
BEGIN:VEVENT
DTSTART;TZID=Asia/Tokyo:20231024T150000
DTEND;TZID=Asia/Tokyo:20231024T170000
DTSTAMP:20260426T115427
CREATED:20220525T025310Z
LAST-MODIFIED:20220527T024453Z
UID:10169110-1698159600-1698166800@dance.gdp22.com
SUMMARY:アルゼンチンタンゴレッスン by Ezequiel & Fumi
DESCRIPTION:アルゼンチンタンゴレッスン by Ezequiel & Fumi\n　15:00-15:30 無料ｳｫｰﾐﾝｸﾞｱｯﾌﾟ＆ 基本動作\n　15:30-16:30 アルゼンチンタンゴ～入門・初級～\n　16:30-17:00 質問・練習タイム\n2500円/回\n※ﾄﾞﾘﾝｸ別、回数券制度あり
URL:https://dance.gdp22.com/event/dance-4998/2023-10-24/
LOCATION:日暮里サルー\, 東京都東日暮里6-60-9日暮里駅前ビル3F\, 日暮里\, 116-0014\, 日本
CATEGORIES:アルゼンチンタンゴ
END:VEVENT
BEGIN:VEVENT
DTSTART;TZID=Asia/Tokyo:20231024T190000
DTEND;TZID=Asia/Tokyo:20231024T194500
DTSTAMP:20260426T115427
CREATED:20220620T020413Z
LAST-MODIFIED:20220620T020413Z
UID:10182148-1698174000-1698176700@dance.gdp22.com
SUMMARY:タンゴ By DIEGO
DESCRIPTION:タンゴ \nDIEGO \nhttps://www.studio-casino.com/%E4%BD%93%E9%A8%93%E3%83%AC%E3%83%83%E3%82%B9%E3%83%B3-%E5%88%9D%E3%82%81%E3%81%A6%E3%81%AE%E6%96%B9/%E6%96%99%E9%87%91/
URL:https://dance.gdp22.com/event/dance-7693/2023-10-24/
LOCATION:六本木ダンススタジオカシーノ\, 東京都港区六本木5-2-4第二鳥勝ビル四階\, 六本木\, 106-0032\, 日本
CATEGORIES:アルゼンチンタンゴ
END:VEVENT
BEGIN:VEVENT
DTSTART;TZID=Asia/Tokyo:20231025T180000
DTEND;TZID=Asia/Tokyo:20231025T190000
DTSTAMP:20260426T115427
CREATED:20220905T033113Z
LAST-MODIFIED:20220905T033113Z
UID:10197276-1698256800-1698260400@dance.gdp22.com
SUMMARY:TANGO 振付レッスン
DESCRIPTION:ドンセサル \n毎週水曜日\nタンゴ振付クラス\nCesar\nFrom Argentina
URL:https://dance.gdp22.com/event/dance-33877/2023-10-25/
LOCATION:横浜ドン・セサル DON CESAR\, 神奈川県横浜市中区石川町1-21\, 横浜\, 231-0868\, 日本
CATEGORIES:アルゼンチンタンゴ
END:VEVENT
BEGIN:VEVENT
DTSTART;TZID=Asia/Tokyo:20231025T190000
DTEND;TZID=Asia/Tokyo:20231025T200000
DTSTAMP:20260426T115427
CREATED:20230727T185249Z
LAST-MODIFIED:20230804T131032Z
UID:10205660-1698260400-1698264000@dance.gdp22.com
SUMMARY:DON CESAR 水曜タンゴグループレッスン TANGO GROUP LESSON
DESCRIPTION:アルゼンチンタンゴダンスグループレッスンスケジュール\n8月 2日 、9日 、16日 、30日  水曜日 19:00-20:00\nAUGUST \, WEDNESDAY  2ND\, 9TH\, 16TH  AND 30TH.\nTEL：0453085007\n〒231-0868　神奈川県横浜市中区石川町1-21-1F Ｃ
URL:https://dance.gdp22.com/event/dance-49568/2023-10-25/
CATEGORIES:アルゼンチンタンゴ
ATTACH;FMTTYPE=image/png:https://dance.gdp22.com/wp-content/uploads/Copia-de-coreografia.png
END:VEVENT
BEGIN:VEVENT
DTSTART;TZID=Asia/Tokyo:20231027T190000
DTEND;TZID=Asia/Tokyo:20231027T194500
DTSTAMP:20260426T115427
CREATED:20220620T030138Z
LAST-MODIFIED:20220620T030138Z
UID:10183218-1698433200-1698435900@dance.gdp22.com
SUMMARY:タンゴ By EZEQUIEL
DESCRIPTION:タンゴ \nEZEQUIEL \nhttps://www.studio-casino.com/%E4%BD%93%E9%A8%93%E3%83%AC%E3%83%83%E3%82%B9%E3%83%B3-%E5%88%9D%E3%82%81%E3%81%A6%E3%81%AE%E6%96%B9/%E6%96%99%E9%87%91/
URL:https://dance.gdp22.com/event/dance-7796/2023-10-27/
LOCATION:六本木ダンススタジオカシーノ\, 東京都港区六本木5-2-4第二鳥勝ビル四階\, 六本木\, 106-0032\, 日本
CATEGORIES:アルゼンチンタンゴ
END:VEVENT
BEGIN:VEVENT
DTSTART;TZID=Asia/Tokyo:20231028T140000
DTEND;TZID=Asia/Tokyo:20231028T170000
DTSTAMP:20260426T115427
CREATED:20220831T033002Z
LAST-MODIFIED:20220831T033002Z
UID:10177387-1698501600-1698512400@dance.gdp22.com
SUMMARY:J-タンゴ・レッスン＆プラクティカ第4
DESCRIPTION:カフェルンビータ（京都） \n詳細はWEB参照
URL:https://dance.gdp22.com/event/dance-32835/2023-10-28/
LOCATION:カフェルンビータ（京都）\, 京都府京都市中京区山崎町２５８−１９ 珠光ビル三条 ３F\, 京都\, 604-8032\, 日本
CATEGORIES:アルゼンチンタンゴ
END:VEVENT
BEGIN:VEVENT
DTSTART;TZID=Asia/Tokyo:20231031T150000
DTEND;TZID=Asia/Tokyo:20231031T170000
DTSTAMP:20260426T115427
CREATED:20220525T025310Z
LAST-MODIFIED:20220527T024453Z
UID:10169111-1698764400-1698771600@dance.gdp22.com
SUMMARY:アルゼンチンタンゴレッスン by Ezequiel & Fumi
DESCRIPTION:アルゼンチンタンゴレッスン by Ezequiel & Fumi\n　15:00-15:30 無料ｳｫｰﾐﾝｸﾞｱｯﾌﾟ＆ 基本動作\n　15:30-16:30 アルゼンチンタンゴ～入門・初級～\n　16:30-17:00 質問・練習タイム\n2500円/回\n※ﾄﾞﾘﾝｸ別、回数券制度あり
URL:https://dance.gdp22.com/event/dance-4998/2023-10-31/
LOCATION:日暮里サルー\, 東京都東日暮里6-60-9日暮里駅前ビル3F\, 日暮里\, 116-0014\, 日本
CATEGORIES:アルゼンチンタンゴ
END:VEVENT
BEGIN:VEVENT
DTSTART;TZID=Asia/Tokyo:20231031T190000
DTEND;TZID=Asia/Tokyo:20231031T194500
DTSTAMP:20260426T115427
CREATED:20220620T020413Z
LAST-MODIFIED:20220620T020413Z
UID:10182149-1698778800-1698781500@dance.gdp22.com
SUMMARY:タンゴ By DIEGO
DESCRIPTION:タンゴ \nDIEGO \nhttps://www.studio-casino.com/%E4%BD%93%E9%A8%93%E3%83%AC%E3%83%83%E3%82%B9%E3%83%B3-%E5%88%9D%E3%82%81%E3%81%A6%E3%81%AE%E6%96%B9/%E6%96%99%E9%87%91/
URL:https://dance.gdp22.com/event/dance-7693/2023-10-31/
LOCATION:六本木ダンススタジオカシーノ\, 東京都港区六本木5-2-4第二鳥勝ビル四階\, 六本木\, 106-0032\, 日本
CATEGORIES:アルゼンチンタンゴ
END:VEVENT
END:VCALENDAR