BEGIN:VCALENDAR
VERSION:2.0
PRODID:-//Dancing Pono (ダンシングポノ) - ECPv6.15.12//NONSGML v1.0//EN
CALSCALE:GREGORIAN
METHOD:PUBLISH
X-WR-CALNAME:Dancing Pono (ダンシングポノ)
X-ORIGINAL-URL:https://dance.gdp22.com
X-WR-CALDESC:Dancing Pono (ダンシングポノ) のイベント
REFRESH-INTERVAL;VALUE=DURATION:PT1H
X-Robots-Tag:noindex
X-PUBLISHED-TTL:PT1H
BEGIN:VTIMEZONE
TZID:Asia/Tokyo
BEGIN:STANDARD
TZOFFSETFROM:+0900
TZOFFSETTO:+0900
TZNAME:JST
DTSTART:20250101T000000
END:STANDARD
END:VTIMEZONE
BEGIN:VEVENT
DTSTART;TZID=Asia/Tokyo:20260421T150000
DTEND;TZID=Asia/Tokyo:20260421T170000
DTSTAMP:20260421T113339
CREATED:20220525T025310Z
LAST-MODIFIED:20220527T024453Z
UID:10214018-1776783600-1776790800@dance.gdp22.com
SUMMARY:アルゼンチンタンゴレッスン by Ezequiel & Fumi
DESCRIPTION:アルゼンチンタンゴレッスン by Ezequiel & Fumi\n　15:00-15:30 無料ｳｫｰﾐﾝｸﾞｱｯﾌﾟ＆ 基本動作\n　15:30-16:30 アルゼンチンタンゴ～入門・初級～\n　16:30-17:00 質問・練習タイム\n2500円/回\n※ﾄﾞﾘﾝｸ別、回数券制度あり
URL:https://dance.gdp22.com/event/dance-4998/2026-04-21/
LOCATION:日暮里サルー\, 東京都東日暮里6-60-9日暮里駅前ビル3F\, 日暮里\, 116-0014\, 日本
CATEGORIES:アルゼンチンタンゴ
END:VEVENT
BEGIN:VEVENT
DTSTART;TZID=Asia/Tokyo:20260421T190000
DTEND;TZID=Asia/Tokyo:20260421T194500
DTSTAMP:20260421T113339
CREATED:20220620T020413Z
LAST-MODIFIED:20220620T020413Z
UID:10223438-1776798000-1776800700@dance.gdp22.com
SUMMARY:タンゴ By DIEGO
DESCRIPTION:タンゴ \nDIEGO \nhttps://www.studio-casino.com/%E4%BD%93%E9%A8%93%E3%83%AC%E3%83%83%E3%82%B9%E3%83%B3-%E5%88%9D%E3%82%81%E3%81%A6%E3%81%AE%E6%96%B9/%E6%96%99%E9%87%91/
URL:https://dance.gdp22.com/event/dance-7693/2026-04-21/
LOCATION:六本木ダンススタジオカシーノ\, 東京都港区六本木5-2-4第二鳥勝ビル四階\, 六本木\, 106-0032\, 日本
CATEGORIES:アルゼンチンタンゴ
END:VEVENT
BEGIN:VEVENT
DTSTART;TZID=Asia/Tokyo:20260422T180000
DTEND;TZID=Asia/Tokyo:20260422T190000
DTSTAMP:20260421T113339
CREATED:20220905T033113Z
LAST-MODIFIED:20220905T033113Z
UID:10262269-1776880800-1776884400@dance.gdp22.com
SUMMARY:TANGO 振付レッスン
DESCRIPTION:ドンセサル \n毎週水曜日\nタンゴ振付クラス\nCesar\nFrom Argentina
URL:https://dance.gdp22.com/event/dance-33877/2026-04-22/
LOCATION:横浜ドン・セサル DON CESAR\, 神奈川県横浜市中区石川町1-21\, 横浜\, 231-0868\, 日本
CATEGORIES:アルゼンチンタンゴ
END:VEVENT
BEGIN:VEVENT
DTSTART;TZID=Asia/Tokyo:20260424T190000
DTEND;TZID=Asia/Tokyo:20260424T194500
DTSTAMP:20260421T113339
CREATED:20220620T030138Z
LAST-MODIFIED:20220620T030138Z
UID:10225455-1777057200-1777059900@dance.gdp22.com
SUMMARY:タンゴ By EZEQUIEL
DESCRIPTION:タンゴ \nEZEQUIEL \nhttps://www.studio-casino.com/%E4%BD%93%E9%A8%93%E3%83%AC%E3%83%83%E3%82%B9%E3%83%B3-%E5%88%9D%E3%82%81%E3%81%A6%E3%81%AE%E6%96%B9/%E6%96%99%E9%87%91/
URL:https://dance.gdp22.com/event/dance-7796/2026-04-24/
LOCATION:六本木ダンススタジオカシーノ\, 東京都港区六本木5-2-4第二鳥勝ビル四階\, 六本木\, 106-0032\, 日本
CATEGORIES:アルゼンチンタンゴ
END:VEVENT
BEGIN:VEVENT
DTSTART;TZID=Asia/Tokyo:20260424T200000
DTEND;TZID=Asia/Tokyo:20260424T220000
DTSTAMP:20260421T113339
CREATED:20250426T083905Z
LAST-MODIFIED:20250426T085036Z
UID:10283459-1777060800-1777068000@dance.gdp22.com
SUMMARY:社交ダンスパーティ
DESCRIPTION:20:00～22:00\nWaltz\,Tango\, Slowfoxtrot\, Quickstep\, Chacha\,Samba\,Rumba\,Jive\,etc\n￥1\,500(w1d)
URL:https://dance.gdp22.com/event/dance-31385-2/2026-04-24/
LOCATION:Dance&Dining桜井通り（熊本）\, 熊本県熊本市中央区上通町5-10桜井ビル4F\, 熊本\, 860-0845
CATEGORIES:ソーシャル,アルゼンチンタンゴ,社交ダンス ラテン,社交ダンス スタンダード
END:VEVENT
BEGIN:VEVENT
DTSTART;TZID=Asia/Tokyo:20260425T140000
DTEND;TZID=Asia/Tokyo:20260425T170000
DTSTAMP:20260421T113339
CREATED:20220831T033002Z
LAST-MODIFIED:20220831T033002Z
UID:10266778-1777125600-1777136400@dance.gdp22.com
SUMMARY:J-タンゴ・レッスン＆プラクティカ第4
DESCRIPTION:カフェルンビータ（京都） \n詳細はWEB参照
URL:https://dance.gdp22.com/event/dance-32835/2026-04-25/
LOCATION:カフェルンビータ（京都）\, 京都府京都市中京区山崎町２５８−１９ 珠光ビル三条 ３F\, 京都\, 604-8032\, 日本
CATEGORIES:アルゼンチンタンゴ
END:VEVENT
BEGIN:VEVENT
DTSTART;TZID=Asia/Tokyo:20260426T153000
DTEND;TZID=Asia/Tokyo:20260426T170000
DTSTAMP:20260421T113339
CREATED:20220905T034833Z
LAST-MODIFIED:20220905T034833Z
UID:10267966-1777217400-1777222800@dance.gdp22.com
SUMMARY:TANGO group lesson by Cesar from Argentina（ｗ/Party）
DESCRIPTION:ドンセサル \n午後2時～ milonga party
URL:https://dance.gdp22.com/event/dance-33916/2026-04-26/
LOCATION:横浜ドン・セサル DON CESAR\, 神奈川県横浜市中区石川町1-21\, 横浜\, 231-0868\, 日本
CATEGORIES:ソーシャル,アルゼンチンタンゴ
END:VEVENT
BEGIN:VEVENT
DTSTART;TZID=Asia/Tokyo:20260502T140000
DTEND;TZID=Asia/Tokyo:20260502T170000
DTSTAMP:20260421T113339
CREATED:20220831T032217Z
LAST-MODIFIED:20220831T032217Z
UID:10262020-1777730400-1777741200@dance.gdp22.com
SUMMARY:J-タンゴ・レッスン＆プラクティカ第1
DESCRIPTION:カフェルンビータ（京都） \n詳細はWEB参照
URL:https://dance.gdp22.com/event/dance-32799/2026-05-02/
LOCATION:カフェルンビータ（京都）\, 京都府京都市中京区山崎町２５８−１９ 珠光ビル三条 ３F\, 京都\, 604-8032\, 日本
CATEGORIES:アルゼンチンタンゴ
END:VEVENT
BEGIN:VEVENT
DTSTART;TZID=Asia/Tokyo:20260503T180000
DTEND;TZID=Asia/Tokyo:20260503T190000
DTSTAMP:20260421T113339
CREATED:20220907T165238Z
LAST-MODIFIED:20220907T165430Z
UID:10274220-1777831200-1777834800@dance.gdp22.com
SUMMARY:TANGO Beginners by Don Cesar
DESCRIPTION:ドンセサル \nイベントの場合は、イベントごとに異なります。
URL:https://dance.gdp22.com/event/tango-beginners-by-don-cesar/2026-05-03/
LOCATION:横浜ドン・セサル DON CESAR\, 神奈川県横浜市中区石川町1-21\, 横浜\, 231-0868\, 日本
CATEGORIES:アルゼンチンタンゴ
END:VEVENT
BEGIN:VEVENT
DTSTART;TZID=Asia/Tokyo:20260509T140000
DTEND;TZID=Asia/Tokyo:20260509T170000
DTSTAMP:20260421T113339
CREATED:20220831T032426Z
LAST-MODIFIED:20220831T032426Z
UID:10262696-1778335200-1778346000@dance.gdp22.com
SUMMARY:J-タンゴ・レッスン＆プラクティカ第2
DESCRIPTION:カフェルンビータ（京都） \n詳細はWEB参照
URL:https://dance.gdp22.com/event/dance-32811/2026-05-09/
LOCATION:カフェルンビータ（京都）\, 京都府京都市中京区山崎町２５８−１９ 珠光ビル三条 ３F\, 京都\, 604-8032\, 日本
CATEGORIES:アルゼンチンタンゴ
END:VEVENT
BEGIN:VEVENT
DTSTART;TZID=Asia/Tokyo:20260516T140000
DTEND;TZID=Asia/Tokyo:20260516T170000
DTSTAMP:20260421T113339
CREATED:20220831T032730Z
LAST-MODIFIED:20220831T032730Z
UID:10264346-1778940000-1778950800@dance.gdp22.com
SUMMARY:J-タンゴ・レッスン＆プラクティカ第3
DESCRIPTION:カフェルンビータ（京都） \n詳細はWEB参照
URL:https://dance.gdp22.com/event/dance-32823/2026-05-16/
LOCATION:カフェルンビータ（京都）\, 京都府京都市中京区山崎町２５８−１９ 珠光ビル三条 ３F\, 京都\, 604-8032\, 日本
CATEGORIES:アルゼンチンタンゴ
END:VEVENT
BEGIN:VEVENT
DTSTART;TZID=Asia/Tokyo:20260530T140000
DTEND;TZID=Asia/Tokyo:20260530T170000
DTSTAMP:20260421T113339
CREATED:20220831T033224Z
LAST-MODIFIED:20220831T033224Z
UID:10209506-1780149600-1780160400@dance.gdp22.com
SUMMARY:J-タンゴ・レッスン＆プラクティカ第5
DESCRIPTION:カフェルンビータ（京都） \n詳細はWEB参照
URL:https://dance.gdp22.com/event/dance-32847/2026-05-30/
LOCATION:カフェルンビータ（京都）\, 京都府京都市中京区山崎町２５８−１９ 珠光ビル三条 ３F\, 京都\, 604-8032\, 日本
CATEGORIES:アルゼンチンタンゴ
END:VEVENT
END:VCALENDAR