BEGIN:VCALENDAR
VERSION:2.0
PRODID:-//Dancing Pono (ダンシングポノ) - ECPv6.15.12//NONSGML v1.0//EN
CALSCALE:GREGORIAN
METHOD:PUBLISH
X-WR-CALNAME:Dancing Pono (ダンシングポノ)
X-ORIGINAL-URL:https://dance.gdp22.com
X-WR-CALDESC:Dancing Pono (ダンシングポノ) のイベント
REFRESH-INTERVAL;VALUE=DURATION:PT1H
X-Robots-Tag:noindex
X-PUBLISHED-TTL:PT1H
BEGIN:VTIMEZONE
TZID:Asia/Tokyo
BEGIN:STANDARD
TZOFFSETFROM:+0900
TZOFFSETTO:+0900
TZNAME:JST
DTSTART:20220101T000000
END:STANDARD
END:VTIMEZONE
BEGIN:VEVENT
DTSTART;TZID=Asia/Tokyo:20260418T140000
DTEND;TZID=Asia/Tokyo:20260418T170000
DTSTAMP:20260421T102825
CREATED:20220831T032730Z
LAST-MODIFIED:20220831T032730Z
UID:10264345-1776520800-1776531600@dance.gdp22.com
SUMMARY:J-タンゴ・レッスン＆プラクティカ第3
DESCRIPTION:カフェルンビータ（京都） \n詳細はWEB参照
URL:https://dance.gdp22.com/event/dance-32823/2026-04-18/
LOCATION:カフェルンビータ（京都）\, 京都府京都市中京区山崎町２５８−１９ 珠光ビル三条 ３F\, 京都\, 604-8032\, 日本
CATEGORIES:アルゼンチンタンゴ
END:VEVENT
BEGIN:VEVENT
DTSTART;TZID=Asia/Tokyo:20260417T200000
DTEND;TZID=Asia/Tokyo:20260417T220000
DTSTAMP:20260421T102825
CREATED:20250426T083905Z
LAST-MODIFIED:20250426T085036Z
UID:10283458-1776456000-1776463200@dance.gdp22.com
SUMMARY:社交ダンスパーティ
DESCRIPTION:20:00～22:00\nWaltz\,Tango\, Slowfoxtrot\, Quickstep\, Chacha\,Samba\,Rumba\,Jive\,etc\n￥1\,500(w1d)
URL:https://dance.gdp22.com/event/dance-31385-2/2026-04-17/
LOCATION:Dance&Dining桜井通り（熊本）\, 熊本県熊本市中央区上通町5-10桜井ビル4F\, 熊本\, 860-0845
CATEGORIES:ソーシャル,アルゼンチンタンゴ,社交ダンス ラテン,社交ダンス スタンダード
END:VEVENT
BEGIN:VEVENT
DTSTART;TZID=Asia/Tokyo:20260417T190000
DTEND;TZID=Asia/Tokyo:20260417T194500
DTSTAMP:20260421T102825
CREATED:20220620T030138Z
LAST-MODIFIED:20220620T030138Z
UID:10225454-1776452400-1776455100@dance.gdp22.com
SUMMARY:タンゴ By EZEQUIEL
DESCRIPTION:タンゴ \nEZEQUIEL \nhttps://www.studio-casino.com/%E4%BD%93%E9%A8%93%E3%83%AC%E3%83%83%E3%82%B9%E3%83%B3-%E5%88%9D%E3%82%81%E3%81%A6%E3%81%AE%E6%96%B9/%E6%96%99%E9%87%91/
URL:https://dance.gdp22.com/event/dance-7796/2026-04-17/
LOCATION:六本木ダンススタジオカシーノ\, 東京都港区六本木5-2-4第二鳥勝ビル四階\, 六本木\, 106-0032\, 日本
CATEGORIES:アルゼンチンタンゴ
END:VEVENT
BEGIN:VEVENT
DTSTART;TZID=Asia/Tokyo:20260415T180000
DTEND;TZID=Asia/Tokyo:20260415T190000
DTSTAMP:20260421T102825
CREATED:20220905T033113Z
LAST-MODIFIED:20220905T033113Z
UID:10262268-1776276000-1776279600@dance.gdp22.com
SUMMARY:TANGO 振付レッスン
DESCRIPTION:ドンセサル \n毎週水曜日\nタンゴ振付クラス\nCesar\nFrom Argentina
URL:https://dance.gdp22.com/event/dance-33877/2026-04-15/
LOCATION:横浜ドン・セサル DON CESAR\, 神奈川県横浜市中区石川町1-21\, 横浜\, 231-0868\, 日本
CATEGORIES:アルゼンチンタンゴ
END:VEVENT
BEGIN:VEVENT
DTSTART;TZID=Asia/Tokyo:20260414T190000
DTEND;TZID=Asia/Tokyo:20260414T194500
DTSTAMP:20260421T102825
CREATED:20220620T020413Z
LAST-MODIFIED:20220620T020413Z
UID:10223437-1776193200-1776195900@dance.gdp22.com
SUMMARY:タンゴ By DIEGO
DESCRIPTION:タンゴ \nDIEGO \nhttps://www.studio-casino.com/%E4%BD%93%E9%A8%93%E3%83%AC%E3%83%83%E3%82%B9%E3%83%B3-%E5%88%9D%E3%82%81%E3%81%A6%E3%81%AE%E6%96%B9/%E6%96%99%E9%87%91/
URL:https://dance.gdp22.com/event/dance-7693/2026-04-14/
LOCATION:六本木ダンススタジオカシーノ\, 東京都港区六本木5-2-4第二鳥勝ビル四階\, 六本木\, 106-0032\, 日本
CATEGORIES:アルゼンチンタンゴ
END:VEVENT
BEGIN:VEVENT
DTSTART;TZID=Asia/Tokyo:20260414T150000
DTEND;TZID=Asia/Tokyo:20260414T170000
DTSTAMP:20260421T102825
CREATED:20220525T025310Z
LAST-MODIFIED:20220527T024453Z
UID:10214017-1776178800-1776186000@dance.gdp22.com
SUMMARY:アルゼンチンタンゴレッスン by Ezequiel & Fumi
DESCRIPTION:アルゼンチンタンゴレッスン by Ezequiel & Fumi\n　15:00-15:30 無料ｳｫｰﾐﾝｸﾞｱｯﾌﾟ＆ 基本動作\n　15:30-16:30 アルゼンチンタンゴ～入門・初級～\n　16:30-17:00 質問・練習タイム\n2500円/回\n※ﾄﾞﾘﾝｸ別、回数券制度あり
URL:https://dance.gdp22.com/event/dance-4998/2026-04-14/
LOCATION:日暮里サルー\, 東京都東日暮里6-60-9日暮里駅前ビル3F\, 日暮里\, 116-0014\, 日本
CATEGORIES:アルゼンチンタンゴ
END:VEVENT
BEGIN:VEVENT
DTSTART;TZID=Asia/Tokyo:20260411T140000
DTEND;TZID=Asia/Tokyo:20260411T170000
DTSTAMP:20260421T102825
CREATED:20220831T032426Z
LAST-MODIFIED:20220831T032426Z
UID:10262695-1775916000-1775926800@dance.gdp22.com
SUMMARY:J-タンゴ・レッスン＆プラクティカ第2
DESCRIPTION:カフェルンビータ（京都） \n詳細はWEB参照
URL:https://dance.gdp22.com/event/dance-32811/2026-04-11/
LOCATION:カフェルンビータ（京都）\, 京都府京都市中京区山崎町２５８−１９ 珠光ビル三条 ３F\, 京都\, 604-8032\, 日本
CATEGORIES:アルゼンチンタンゴ
END:VEVENT
BEGIN:VEVENT
DTSTART;TZID=Asia/Tokyo:20260405T180000
DTEND;TZID=Asia/Tokyo:20260405T190000
DTSTAMP:20260421T102825
CREATED:20220907T165238Z
LAST-MODIFIED:20220907T165430Z
UID:10274219-1775412000-1775415600@dance.gdp22.com
SUMMARY:TANGO Beginners by Don Cesar
DESCRIPTION:ドンセサル \nイベントの場合は、イベントごとに異なります。
URL:https://dance.gdp22.com/event/tango-beginners-by-don-cesar/2026-04-05/
LOCATION:横浜ドン・セサル DON CESAR\, 神奈川県横浜市中区石川町1-21\, 横浜\, 231-0868\, 日本
CATEGORIES:アルゼンチンタンゴ
END:VEVENT
BEGIN:VEVENT
DTSTART;TZID=Asia/Tokyo:20260404T140000
DTEND;TZID=Asia/Tokyo:20260404T170000
DTSTAMP:20260421T102825
CREATED:20220831T032217Z
LAST-MODIFIED:20220831T032217Z
UID:10262019-1775311200-1775322000@dance.gdp22.com
SUMMARY:J-タンゴ・レッスン＆プラクティカ第1
DESCRIPTION:カフェルンビータ（京都） \n詳細はWEB参照
URL:https://dance.gdp22.com/event/dance-32799/2026-04-04/
LOCATION:カフェルンビータ（京都）\, 京都府京都市中京区山崎町２５８−１９ 珠光ビル三条 ３F\, 京都\, 604-8032\, 日本
CATEGORIES:アルゼンチンタンゴ
END:VEVENT
BEGIN:VEVENT
DTSTART;TZID=Asia/Tokyo:20260328T140000
DTEND;TZID=Asia/Tokyo:20260328T170000
DTSTAMP:20260421T102825
CREATED:20220831T033002Z
LAST-MODIFIED:20220831T033002Z
UID:10266777-1774706400-1774717200@dance.gdp22.com
SUMMARY:J-タンゴ・レッスン＆プラクティカ第4
DESCRIPTION:カフェルンビータ（京都） \n詳細はWEB参照
URL:https://dance.gdp22.com/event/dance-32835/2026-03-28/
LOCATION:カフェルンビータ（京都）\, 京都府京都市中京区山崎町２５８−１９ 珠光ビル三条 ３F\, 京都\, 604-8032\, 日本
CATEGORIES:アルゼンチンタンゴ
END:VEVENT
BEGIN:VEVENT
DTSTART;TZID=Asia/Tokyo:20260322T153000
DTEND;TZID=Asia/Tokyo:20260322T170000
DTSTAMP:20260421T102825
CREATED:20220905T034833Z
LAST-MODIFIED:20220905T034833Z
UID:10267965-1774193400-1774198800@dance.gdp22.com
SUMMARY:TANGO group lesson by Cesar from Argentina（ｗ/Party）
DESCRIPTION:ドンセサル \n午後2時～ milonga party
URL:https://dance.gdp22.com/event/dance-33916/2026-03-22/
LOCATION:横浜ドン・セサル DON CESAR\, 神奈川県横浜市中区石川町1-21\, 横浜\, 231-0868\, 日本
CATEGORIES:ソーシャル,アルゼンチンタンゴ
END:VEVENT
BEGIN:VEVENT
DTSTART;TZID=Asia/Tokyo:20260131T140000
DTEND;TZID=Asia/Tokyo:20260131T170000
DTSTAMP:20260421T102825
CREATED:20220831T033224Z
LAST-MODIFIED:20220831T033224Z
UID:10209505-1769868000-1769878800@dance.gdp22.com
SUMMARY:J-タンゴ・レッスン＆プラクティカ第5
DESCRIPTION:カフェルンビータ（京都） \n詳細はWEB参照
URL:https://dance.gdp22.com/event/dance-32847/2026-01-31/
LOCATION:カフェルンビータ（京都）\, 京都府京都市中京区山崎町２５８−１９ 珠光ビル三条 ３F\, 京都\, 604-8032\, 日本
CATEGORIES:アルゼンチンタンゴ
END:VEVENT
BEGIN:VEVENT
DTSTART;TZID=Asia/Tokyo:20250312T190000
DTEND;TZID=Asia/Tokyo:20250312T200000
DTSTAMP:20260421T102825
CREATED:20230727T185249Z
LAST-MODIFIED:20230804T131032Z
UID:10205732-1741806000-1741809600@dance.gdp22.com
SUMMARY:DON CESAR 水曜タンゴグループレッスン TANGO GROUP LESSON
DESCRIPTION:アルゼンチンタンゴダンスグループレッスンスケジュール\n8月 2日 、9日 、16日 、30日  水曜日 19:00-20:00\nAUGUST \, WEDNESDAY  2ND\, 9TH\, 16TH  AND 30TH.\nTEL：0453085007\n〒231-0868　神奈川県横浜市中区石川町1-21-1F Ｃ
URL:https://dance.gdp22.com/event/dance-49568/2025-03-12/
CATEGORIES:アルゼンチンタンゴ
ATTACH;FMTTYPE=image/png:https://dance.gdp22.com/wp-content/uploads/Copia-de-coreografia.png
END:VEVENT
BEGIN:VEVENT
DTSTART;TZID=Asia/Tokyo:20231231T200000
DTEND;TZID=Asia/Tokyo:20240101T050000
DTSTAMP:20260421T102825
CREATED:20231221T045637Z
LAST-MODIFIED:20231221T045637Z
UID:10195198-1704052800-1704085200@dance.gdp22.com
SUMMARY:Countdown Milonga 12/31
DESCRIPTION:皆様、今年もとってもスペシャルなコラボ企画のお知らせです！！\nルーカス＆パウラ＋レネ＆ジュンコのプロデュースで、12月31日（日曜）カミニート三茶にてビッグカウントダウンミロンガパーティーを開催いたします♪\n12月31日- 1月1日の20:00-05:00 !!年末年始のスペシャルな 9時間の長ーいミロンガ !!!\nフリードリンク（ワイン、ソフトドリンク）スナックあり、何度でも出入り自由！BARもOPEN！(ビール、ジントニック、フェルネットあり）、飲食物持ち込み自由！（持ち込んだゴミは持ち帰りにご協力を）、前日までの予約でとってもリーズナブルに楽しい仲間と、世界一、年越し・年明けが過ごせます♪\nプログラムがいくつかございますので、以下ご紹介いたします↓↓↓\nこれ以外にも追加、即興でイベントが突発する可能性もございます。\n4人のスーパーDJによる9時間の競演！\nDJ : Yuko Amano 　知らない人はいない！東京のDJクイーン！\nDJ : show_setsu　関西から、満を持して登場！久々に東京でのDJing!\nDJ : Cristhian Sosa 　Efecto Tangoから世界チャンピオンがDJしにきてくれます！\nDJ : Lucas Carrizo　みんな大好き、ノリノリのタンダでみんなを踊らせる名人！\n23:00頃『TANGO SHOW / GAME DUELO CRIOLLO』\nカードに書かれたタンゴ的『お題』を守りながら踊る、純然たる即興型ショー/ゲームです！\n何が起こるか、誰にもわからないよー！日本史上初のショー、その目で確かめて楽しんでください。お見逃しなく！！\nダンサー：パウラ、ルーカス、レネ、ジュンコ\nショーの後は全員でゲームに参加、チャレンジ！！！\nふふふ！『えー！』『むずかしいいけど楽しい！』とみんなの声が聞こえてきそう！\n0:00頃『COUNTDOWN＆乾杯スパークリングワイン』\nカウントダウンの際のスパークリングワイン、もちろんご用意します！\nみんなで2024年がタンゴも仕事もプライベートも素晴らしい年になりますように、お祈りしながら乾杯し、愛と感動を分かち合いましょう！\n04:00頃『朝食タイム メディアルナ＆カフェコンレチェ』\nアルゼンチンの最も有名なミロンガの一つLa Viruta では、ミロンガ終了の1時間くらい前に朝食のメディアルナ（クロワッサン）とカフェオレが買えますが、この日は深夜にサービスで出てきますので、皆で楽しみましょう♪これを食べてから帰って寝るのが本場のミロンガ通！！です。\n【時間】\nミロンガ　20:00〜05:00！\n【料金】\n前日までの予約あり 3000円\n当日ふらっと 3500円\n参加がわかっている方は一言予約メッセージをくださるとオーガナイズの都合上有難いので前日までの予約で500円オフとさせていただきます！もちろん当日ふらっと参加も大丈夫です！！\n\n年末年始のスペシャルデー！\n愛情と友情に満ちた雰囲気＋駅超近い三茶のスタジオで楽しく素敵なひとときをご一緒しませんか？\n皆様のお越しを心よりお待ちしてます！\nプロフェッショナルな皆様のお越しももちろん大歓迎ですので、遊びに来てくださいね！！！\n愛を込めて！\nPAULA ＆ LUCAS\, RENE & JUNKO\n\n※　会場などは要主催にお問い合わせ下さい。
URL:https://dance.gdp22.com/event/countdown-milonga-12-31/
CATEGORIES:ソーシャル,アルゼンチンタンゴ
ATTACH;FMTTYPE=image/jpeg:https://dance.gdp22.com/wp-content/uploads/409401412_411135701264394_311437270119725472_n.jpg
END:VEVENT
BEGIN:VEVENT
DTSTART;TZID=Asia/Tokyo:20231225T190000
DTEND;TZID=Asia/Tokyo:20231225T220000
DTSTAMP:20260421T102825
CREATED:20231221T041014Z
LAST-MODIFIED:20231221T041014Z
UID:10194789-1703530800-1703541600@dance.gdp22.com
SUMMARY:Milonga EXPRESS with Guest dancer TAMAI-san! 大池＆小池のBigWave W-IKE DJs!!!
DESCRIPTION:毎週月曜日はMilonga EXPRESS。極上の音楽をどんどん投入する気持ち良きミロンガ！\n2023年も元気で楽しい素敵なミロンガをご提供していきます！\n12月です。外は寒くても熱いタンゴをお届けするMilonga EXPRESS！\n12月25日は2023年最後のMilonga EXPRESS@大門！\n一年間の感謝の思いを込めたミロンガにしたいと思います！\nスペシャルDJは、タンゴ界のビッグウェーブ！大池小池のW-IKE DJ!!! そして、さらに！TAMAIさんも！\n今回も一緒に楽しみましょう！\n皆さんのお越しをお待ちしております～！\n日時：毎週月曜日\nミロンガ 19時から22時\n場所：カミニート東京： 東京都港区芝公園2丁目2-10\n入場料： ミロンガ 2500円\nEXPRESSチケット導入！4回参加で5回目無料（実質2000円！）\n企画：DJIKE\nAt the center of Tokyo\, you can find very hot but cool Tango venue near Hamamatsucho/Daimon station. Milonga EXPRESS will bring you friendly and passionate atmosphare for Tango. DJ IKE is one of famous DJs and organizes tango event many times. Hope you can have another unforgattable and joyfull milonga tonight. Let’s enjoy and share the passion of Tango !\nDate and time: Every Monday\n19:00-22:00 Milonga\nEntrance fee: JPY2500 (Chiket > 2000)\nVenue: Caminito Tokyo\nWine\, sparking wine\, wisky and special canapé… all inclusive!\nTokyo Minato-ku Shibakoen 2-2-10\, 2F
URL:https://dance.gdp22.com/event/dance-58434/
CATEGORIES:クリスマスイベント・忘年会・カウントダウン・初踊り,ソーシャル,アルゼンチンタンゴ
ATTACH;FMTTYPE=image/jpeg:https://dance.gdp22.com/wp-content/uploads/408057729_10231287600276219_193716158279438388_n.jpg
END:VEVENT
END:VCALENDAR