BEGIN:VCALENDAR
VERSION:2.0
PRODID:-//Dancing Pono (ダンシングポノ) - ECPv6.15.12//NONSGML v1.0//EN
CALSCALE:GREGORIAN
METHOD:PUBLISH
X-WR-CALNAME:Dancing Pono (ダンシングポノ)
X-ORIGINAL-URL:https://dance.gdp22.com
X-WR-CALDESC:Dancing Pono (ダンシングポノ) のイベント
REFRESH-INTERVAL;VALUE=DURATION:PT1H
X-Robots-Tag:noindex
X-PUBLISHED-TTL:PT1H
BEGIN:VTIMEZONE
TZID:Asia/Tokyo
BEGIN:STANDARD
TZOFFSETFROM:+0900
TZOFFSETTO:+0900
TZNAME:JST
DTSTART:20220101T000000
END:STANDARD
END:VTIMEZONE
BEGIN:VEVENT
DTSTART;TZID=Asia/Tokyo:20231106T180000
DTEND;TZID=Asia/Tokyo:20231106T210000
DTSTAMP:20260424T064125
CREATED:20220525T025024Z
LAST-MODIFIED:20220525T025024Z
UID:10168965-1699293600-1699304400@dance.gdp22.com
SUMMARY:Swing & Hustle by Kyouju
DESCRIPTION:Swing & Hustle by kyouju\n　18:30-19:00 ①B-jackSwng Basicソロ（入門～初級）                  　\n    19:00-20:00 ②B-jackSwng & Hustleレッスン（初心～初級）\n　20:00-21:00 ③B-jack & EG-Husrle\n　　　　　　　 (Eligant Hustle…新しいHustle)（初心～初級）\n①¥1500(1ドリンク付）\n②or③¥2500(1ドリンク付） \n複数レッスン受講の場合\n①②¥2500(1ドリンク付）②③¥3000(1ドリンク付）\n①②③¥3500(1ドリンク付）
URL:https://dance.gdp22.com/event/swing-hustle-by-kyouju/2023-11-06/
LOCATION:日暮里サルー\, 東京都東日暮里6-60-9日暮里駅前ビル3F\, 日暮里\, 116-0014\, 日本
CATEGORIES:Swing,Hustle
END:VEVENT
BEGIN:VEVENT
DTSTART;TZID=Asia/Tokyo:20231113T180000
DTEND;TZID=Asia/Tokyo:20231113T210000
DTSTAMP:20260424T064125
CREATED:20220525T025024Z
LAST-MODIFIED:20220525T025024Z
UID:10168966-1699898400-1699909200@dance.gdp22.com
SUMMARY:Swing & Hustle by Kyouju
DESCRIPTION:Swing & Hustle by kyouju\n　18:30-19:00 ①B-jackSwng Basicソロ（入門～初級）                  　\n    19:00-20:00 ②B-jackSwng & Hustleレッスン（初心～初級）\n　20:00-21:00 ③B-jack & EG-Husrle\n　　　　　　　 (Eligant Hustle…新しいHustle)（初心～初級）\n①¥1500(1ドリンク付）\n②or③¥2500(1ドリンク付） \n複数レッスン受講の場合\n①②¥2500(1ドリンク付）②③¥3000(1ドリンク付）\n①②③¥3500(1ドリンク付）
URL:https://dance.gdp22.com/event/swing-hustle-by-kyouju/2023-11-13/
LOCATION:日暮里サルー\, 東京都東日暮里6-60-9日暮里駅前ビル3F\, 日暮里\, 116-0014\, 日本
CATEGORIES:Swing,Hustle
END:VEVENT
BEGIN:VEVENT
DTSTART;TZID=Asia/Tokyo:20231120T180000
DTEND;TZID=Asia/Tokyo:20231120T210000
DTSTAMP:20260424T064125
CREATED:20220525T025024Z
LAST-MODIFIED:20220525T025024Z
UID:10168967-1700503200-1700514000@dance.gdp22.com
SUMMARY:Swing & Hustle by Kyouju
DESCRIPTION:Swing & Hustle by kyouju\n　18:30-19:00 ①B-jackSwng Basicソロ（入門～初級）                  　\n    19:00-20:00 ②B-jackSwng & Hustleレッスン（初心～初級）\n　20:00-21:00 ③B-jack & EG-Husrle\n　　　　　　　 (Eligant Hustle…新しいHustle)（初心～初級）\n①¥1500(1ドリンク付）\n②or③¥2500(1ドリンク付） \n複数レッスン受講の場合\n①②¥2500(1ドリンク付）②③¥3000(1ドリンク付）\n①②③¥3500(1ドリンク付）
URL:https://dance.gdp22.com/event/swing-hustle-by-kyouju/2023-11-20/
LOCATION:日暮里サルー\, 東京都東日暮里6-60-9日暮里駅前ビル3F\, 日暮里\, 116-0014\, 日本
CATEGORIES:Swing,Hustle
END:VEVENT
BEGIN:VEVENT
DTSTART;TZID=Asia/Tokyo:20231127T180000
DTEND;TZID=Asia/Tokyo:20231127T210000
DTSTAMP:20260424T064125
CREATED:20220525T025024Z
LAST-MODIFIED:20220525T025024Z
UID:10168968-1701108000-1701118800@dance.gdp22.com
SUMMARY:Swing & Hustle by Kyouju
DESCRIPTION:Swing & Hustle by kyouju\n　18:30-19:00 ①B-jackSwng Basicソロ（入門～初級）                  　\n    19:00-20:00 ②B-jackSwng & Hustleレッスン（初心～初級）\n　20:00-21:00 ③B-jack & EG-Husrle\n　　　　　　　 (Eligant Hustle…新しいHustle)（初心～初級）\n①¥1500(1ドリンク付）\n②or③¥2500(1ドリンク付） \n複数レッスン受講の場合\n①②¥2500(1ドリンク付）②③¥3000(1ドリンク付）\n①②③¥3500(1ドリンク付）
URL:https://dance.gdp22.com/event/swing-hustle-by-kyouju/2023-11-27/
LOCATION:日暮里サルー\, 東京都東日暮里6-60-9日暮里駅前ビル3F\, 日暮里\, 116-0014\, 日本
CATEGORIES:Swing,Hustle
END:VEVENT
END:VCALENDAR