BEGIN:VCALENDAR
VERSION:2.0
PRODID:-//Dancing Pono (ダンシングポノ) - ECPv6.15.12//NONSGML v1.0//EN
CALSCALE:GREGORIAN
METHOD:PUBLISH
X-WR-CALNAME:Dancing Pono (ダンシングポノ)
X-ORIGINAL-URL:https://dance.gdp22.com
X-WR-CALDESC:Dancing Pono (ダンシングポノ) のイベント
REFRESH-INTERVAL;VALUE=DURATION:PT1H
X-Robots-Tag:noindex
X-PUBLISHED-TTL:PT1H
BEGIN:VTIMEZONE
TZID:Asia/Tokyo
BEGIN:STANDARD
TZOFFSETFROM:+0900
TZOFFSETTO:+0900
TZNAME:JST
DTSTART:20250101T000000
END:STANDARD
END:VTIMEZONE
BEGIN:VEVENT
DTSTART;TZID=Asia/Tokyo:20260422T140000
DTEND;TZID=Asia/Tokyo:20260422T144500
DTSTAMP:20260421T140954
CREATED:20220930T034444Z
LAST-MODIFIED:20221014T161058Z
UID:10276993-1776866400-1776869100@dance.gdp22.com
SUMMARY:レゲトン LaHabana
DESCRIPTION:料金・詳細は公式参照 \nhttps://www.lahabana.co.jp/price/?studioid=173&anchor/#block \nLaHabana(名古屋)
URL:https://dance.gdp22.com/event/dance-36206/2026-04-22/
LOCATION:LaHabana(名古屋)\, 名古屋市中区錦2-6-22 若山ビル3F\, 名古屋\, 463-0003\, 日本
CATEGORIES:レゲトン
END:VEVENT
BEGIN:VEVENT
DTSTART;TZID=Asia/Tokyo:20260422T200000
DTEND;TZID=Asia/Tokyo:20260422T204500
DTSTAMP:20260421T140954
CREATED:20220930T045233Z
LAST-MODIFIED:20221014T171141Z
UID:10277537-1776888000-1776890700@dance.gdp22.com
SUMMARY:レゲトン LaHabana
DESCRIPTION:料金・詳細は公式参照 \nhttps://www.lahabana.co.jp/price/?studioid=173&anchor/#block \nLaHabana(名古屋)
URL:https://dance.gdp22.com/event/dance-36504/2026-04-22/
LOCATION:LaHabana 栄校 Sahara (名古屋)\, 愛知県名古屋市中区錦3丁目7-12 錦クリスタルビル4F\, 名古屋\, 460-0003\, 日本
CATEGORIES:レゲトン
END:VEVENT
BEGIN:VEVENT
DTSTART;TZID=Asia/Tokyo:20260423T213000
DTEND;TZID=Asia/Tokyo:20260423T221500
DTSTAMP:20260421T140954
CREATED:20220930T042238Z
LAST-MODIFIED:20221014T160632Z
UID:10279169-1776979800-1776982500@dance.gdp22.com
SUMMARY:レゲトン LaHabana
DESCRIPTION:料金・詳細は公式参照 \nhttps://www.lahabana.co.jp/price/?studioid=173&anchor/#block \nLaHabana(名古屋)
URL:https://dance.gdp22.com/event/dance-36364/2026-04-23/
LOCATION:LaHabana(名古屋)\, 名古屋市中区錦2-6-22 若山ビル3F\, 名古屋\, 463-0003\, 日本
CATEGORIES:レゲトン
END:VEVENT
BEGIN:VEVENT
DTSTART;TZID=Asia/Tokyo:20260424T190000
DTEND;TZID=Asia/Tokyo:20260424T194500
DTSTAMP:20260421T140954
CREATED:20220620T030419Z
LAST-MODIFIED:20220620T030419Z
UID:10225704-1777057200-1777059900@dance.gdp22.com
SUMMARY:レゲトン By Osmel
DESCRIPTION:レゲトン \nOsmel \nhttps://www.studio-casino.com/%E4%BD%93%E9%A8%93%E3%83%AC%E3%83%83%E3%82%B9%E3%83%B3-%E5%88%9D%E3%82%81%E3%81%A6%E3%81%AE%E6%96%B9/%E6%96%99%E9%87%91/
URL:https://dance.gdp22.com/event/dance-7813/2026-04-24/
LOCATION:六本木ダンススタジオカシーノ\, 東京都港区六本木5-2-4第二鳥勝ビル四階\, 六本木\, 106-0032\, 日本
CATEGORIES:レゲトン
END:VEVENT
BEGIN:VEVENT
DTSTART;TZID=Asia/Tokyo:20260425T114500
DTEND;TZID=Asia/Tokyo:20260425T123000
DTSTAMP:20260421T140954
CREATED:20220930T035452Z
LAST-MODIFIED:20221014T162227Z
UID:10271366-1777117500-1777120200@dance.gdp22.com
SUMMARY:レゲトン LaHabana
DESCRIPTION:料金・詳細は公式参照 \nhttps://www.lahabana.co.jp/price/?studioid=173&anchor/#block \nLaHabana(名古屋)
URL:https://dance.gdp22.com/event/dance-36258/2026-04-25/
LOCATION:LaHabana(名古屋)\, 名古屋市中区錦2-6-22 若山ビル3F\, 名古屋\, 463-0003\, 日本
CATEGORIES:レゲトン
END:VEVENT
BEGIN:VEVENT
DTSTART;TZID=Asia/Tokyo:20260425T180000
DTEND;TZID=Asia/Tokyo:20260425T200000
DTSTAMP:20260421T140954
CREATED:20220914T041231Z
LAST-MODIFIED:20220914T041231Z
UID:10264722-1777140000-1777147200@dance.gdp22.com
SUMMARY:オスメルCuban　SALSA　 レゲトン　レッスン　土曜日
DESCRIPTION:池袋LaRumba
URL:https://dance.gdp22.com/event/dance-34414/2026-04-25/
LOCATION:池袋la rumba\, 東京都豊島区池袋２丁目２３－２シャンテビルB1\, 池袋\, 171-0014\, 日本
CATEGORIES:キューバン,レゲトン
ATTACH;FMTTYPE=image/jpeg:https://dance.gdp22.com/wp-content/uploads/osmeru.jpg
END:VEVENT
BEGIN:VEVENT
DTSTART;TZID=Asia/Tokyo:20260425T200000
DTEND;TZID=Asia/Tokyo:20260425T233000
DTSTAMP:20260421T140954
CREATED:20220921T023923Z
LAST-MODIFIED:20220930T142602Z
UID:10267298-1777147200-1777159800@dance.gdp22.com
SUMMARY:Cuban Salsa Lesson  by Anayanci
DESCRIPTION:第四土曜　CUBAN　SALSA　Lesson \nInstructor by アナヤンシ\n20:00~20:45　レゲトン\n20:45~21:30　キューバンサルサ\n21:30~Freetime\n2000円(1ﾄﾞﾘﾝｸ)
URL:https://dance.gdp22.com/event/dance-34979/2026-04-25/
LOCATION:アモーレ厚木（Amore Atsugi)\, 神奈川県厚木市中町２丁目１３−１３　2階\, 厚木\, 243-0018\, 日本
CATEGORIES:キューバン,ソーシャル,レゲトン
ATTACH;FMTTYPE=image/jpeg:https://dance.gdp22.com/wp-content/uploads/image-2-2.jpg
END:VEVENT
BEGIN:VEVENT
DTSTART;TZID=Asia/Tokyo:20260427T211500
DTEND;TZID=Asia/Tokyo:20260427T220000
DTSTAMP:20260421T140954
CREATED:20220930T041246Z
LAST-MODIFIED:20221014T160740Z
UID:10275657-1777324500-1777327200@dance.gdp22.com
SUMMARY:レゲトン LaHabana
DESCRIPTION:料金・詳細は公式参照 \nhttps://www.lahabana.co.jp/price/?studioid=173&anchor/#block \nLaHabana(名古屋)
URL:https://dance.gdp22.com/event/dance-36325/2026-04-27/
LOCATION:LaHabana(名古屋)\, 名古屋市中区錦2-6-22 若山ビル3F\, 名古屋\, 463-0003\, 日本
CATEGORIES:レゲトン
END:VEVENT
END:VCALENDAR