BEGIN:VCALENDAR
VERSION:2.0
PRODID:-//Dancing Pono (ダンシングポノ) - ECPv6.15.12//NONSGML v1.0//EN
CALSCALE:GREGORIAN
METHOD:PUBLISH
X-ORIGINAL-URL:https://dance.gdp22.com
X-WR-CALDESC:Dancing Pono (ダンシングポノ) のイベント
REFRESH-INTERVAL;VALUE=DURATION:PT1H
X-Robots-Tag:noindex
X-PUBLISHED-TTL:PT1H
BEGIN:VTIMEZONE
TZID:Asia/Tokyo
BEGIN:STANDARD
TZOFFSETFROM:+0900
TZOFFSETTO:+0900
TZNAME:JST
DTSTART:20250101T000000
END:STANDARD
END:VTIMEZONE
BEGIN:VEVENT
DTSTART;TZID=Asia/Tokyo:20260601T211500
DTEND;TZID=Asia/Tokyo:20260601T220000
DTSTAMP:20260426T113920
CREATED:20220930T041246Z
LAST-MODIFIED:20221014T160740Z
UID:10275662-1780348500-1780351200@dance.gdp22.com
SUMMARY:レゲトン LaHabana
DESCRIPTION:料金・詳細は公式参照 \nhttps://www.lahabana.co.jp/price/?studioid=173&anchor/#block \nLaHabana(名古屋)
URL:https://dance.gdp22.com/event/dance-36325/2026-06-01/
LOCATION:LaHabana(名古屋)\, 名古屋市中区錦2-6-22 若山ビル3F\, 名古屋\, 463-0003\, 日本
CATEGORIES:レゲトン
END:VEVENT
BEGIN:VEVENT
DTSTART;TZID=Asia/Tokyo:20260603T140000
DTEND;TZID=Asia/Tokyo:20260603T144500
DTSTAMP:20260426T113920
CREATED:20220930T034444Z
LAST-MODIFIED:20221014T161058Z
UID:10276999-1780495200-1780497900@dance.gdp22.com
SUMMARY:レゲトン LaHabana
DESCRIPTION:料金・詳細は公式参照 \nhttps://www.lahabana.co.jp/price/?studioid=173&anchor/#block \nLaHabana(名古屋)
URL:https://dance.gdp22.com/event/dance-36206/2026-06-03/
LOCATION:LaHabana(名古屋)\, 名古屋市中区錦2-6-22 若山ビル3F\, 名古屋\, 463-0003\, 日本
CATEGORIES:レゲトン
END:VEVENT
BEGIN:VEVENT
DTSTART;TZID=Asia/Tokyo:20260603T200000
DTEND;TZID=Asia/Tokyo:20260603T204500
DTSTAMP:20260426T113920
CREATED:20220930T045233Z
LAST-MODIFIED:20221014T171141Z
UID:10277543-1780516800-1780519500@dance.gdp22.com
SUMMARY:レゲトン LaHabana
DESCRIPTION:料金・詳細は公式参照 \nhttps://www.lahabana.co.jp/price/?studioid=173&anchor/#block \nLaHabana(名古屋)
URL:https://dance.gdp22.com/event/dance-36504/2026-06-03/
LOCATION:LaHabana 栄校 Sahara (名古屋)\, 愛知県名古屋市中区錦3丁目7-12 錦クリスタルビル4F\, 名古屋\, 460-0003\, 日本
CATEGORIES:レゲトン
END:VEVENT
BEGIN:VEVENT
DTSTART;TZID=Asia/Tokyo:20260604T213000
DTEND;TZID=Asia/Tokyo:20260604T221500
DTSTAMP:20260426T113920
CREATED:20220930T042238Z
LAST-MODIFIED:20221014T160632Z
UID:10279175-1780608600-1780611300@dance.gdp22.com
SUMMARY:レゲトン LaHabana
DESCRIPTION:料金・詳細は公式参照 \nhttps://www.lahabana.co.jp/price/?studioid=173&anchor/#block \nLaHabana(名古屋)
URL:https://dance.gdp22.com/event/dance-36364/2026-06-04/
LOCATION:LaHabana(名古屋)\, 名古屋市中区錦2-6-22 若山ビル3F\, 名古屋\, 463-0003\, 日本
CATEGORIES:レゲトン
END:VEVENT
BEGIN:VEVENT
DTSTART;TZID=Asia/Tokyo:20260605T190000
DTEND;TZID=Asia/Tokyo:20260605T194500
DTSTAMP:20260426T113920
CREATED:20220620T030419Z
LAST-MODIFIED:20220620T030419Z
UID:10225710-1780686000-1780688700@dance.gdp22.com
SUMMARY:レゲトン By Osmel
DESCRIPTION:レゲトン \nOsmel \nhttps://www.studio-casino.com/%E4%BD%93%E9%A8%93%E3%83%AC%E3%83%83%E3%82%B9%E3%83%B3-%E5%88%9D%E3%82%81%E3%81%A6%E3%81%AE%E6%96%B9/%E6%96%99%E9%87%91/
URL:https://dance.gdp22.com/event/dance-7813/2026-06-05/
LOCATION:六本木ダンススタジオカシーノ\, 東京都港区六本木5-2-4第二鳥勝ビル四階\, 六本木\, 106-0032\, 日本
CATEGORIES:レゲトン
END:VEVENT
BEGIN:VEVENT
DTSTART;TZID=Asia/Tokyo:20260606T114500
DTEND;TZID=Asia/Tokyo:20260606T123000
DTSTAMP:20260426T113920
CREATED:20220930T035452Z
LAST-MODIFIED:20221014T162227Z
UID:10271372-1780746300-1780749000@dance.gdp22.com
SUMMARY:レゲトン LaHabana
DESCRIPTION:料金・詳細は公式参照 \nhttps://www.lahabana.co.jp/price/?studioid=173&anchor/#block \nLaHabana(名古屋)
URL:https://dance.gdp22.com/event/dance-36258/2026-06-06/
LOCATION:LaHabana(名古屋)\, 名古屋市中区錦2-6-22 若山ビル3F\, 名古屋\, 463-0003\, 日本
CATEGORIES:レゲトン
END:VEVENT
BEGIN:VEVENT
DTSTART;TZID=Asia/Tokyo:20260606T180000
DTEND;TZID=Asia/Tokyo:20260606T200000
DTSTAMP:20260426T113920
CREATED:20220914T041231Z
LAST-MODIFIED:20220914T041231Z
UID:10264728-1780768800-1780776000@dance.gdp22.com
SUMMARY:オスメルCuban　SALSA　 レゲトン　レッスン　土曜日
DESCRIPTION:池袋LaRumba
URL:https://dance.gdp22.com/event/dance-34414/2026-06-06/
LOCATION:池袋la rumba\, 東京都豊島区池袋２丁目２３－２シャンテビルB1\, 池袋\, 171-0014\, 日本
CATEGORIES:キューバン,レゲトン
ATTACH;FMTTYPE=image/jpeg:https://dance.gdp22.com/wp-content/uploads/osmeru.jpg
END:VEVENT
BEGIN:VEVENT
DTSTART;TZID=Asia/Tokyo:20260608T211500
DTEND;TZID=Asia/Tokyo:20260608T220000
DTSTAMP:20260426T113920
CREATED:20220930T041246Z
LAST-MODIFIED:20221014T160740Z
UID:10275663-1780953300-1780956000@dance.gdp22.com
SUMMARY:レゲトン LaHabana
DESCRIPTION:料金・詳細は公式参照 \nhttps://www.lahabana.co.jp/price/?studioid=173&anchor/#block \nLaHabana(名古屋)
URL:https://dance.gdp22.com/event/dance-36325/2026-06-08/
LOCATION:LaHabana(名古屋)\, 名古屋市中区錦2-6-22 若山ビル3F\, 名古屋\, 463-0003\, 日本
CATEGORIES:レゲトン
END:VEVENT
BEGIN:VEVENT
DTSTART;TZID=Asia/Tokyo:20260610T140000
DTEND;TZID=Asia/Tokyo:20260610T144500
DTSTAMP:20260426T113920
CREATED:20220930T034444Z
LAST-MODIFIED:20221014T161058Z
UID:10277000-1781100000-1781102700@dance.gdp22.com
SUMMARY:レゲトン LaHabana
DESCRIPTION:料金・詳細は公式参照 \nhttps://www.lahabana.co.jp/price/?studioid=173&anchor/#block \nLaHabana(名古屋)
URL:https://dance.gdp22.com/event/dance-36206/2026-06-10/
LOCATION:LaHabana(名古屋)\, 名古屋市中区錦2-6-22 若山ビル3F\, 名古屋\, 463-0003\, 日本
CATEGORIES:レゲトン
END:VEVENT
BEGIN:VEVENT
DTSTART;TZID=Asia/Tokyo:20260610T200000
DTEND;TZID=Asia/Tokyo:20260610T204500
DTSTAMP:20260426T113920
CREATED:20220930T045233Z
LAST-MODIFIED:20221014T171141Z
UID:10277544-1781121600-1781124300@dance.gdp22.com
SUMMARY:レゲトン LaHabana
DESCRIPTION:料金・詳細は公式参照 \nhttps://www.lahabana.co.jp/price/?studioid=173&anchor/#block \nLaHabana(名古屋)
URL:https://dance.gdp22.com/event/dance-36504/2026-06-10/
LOCATION:LaHabana 栄校 Sahara (名古屋)\, 愛知県名古屋市中区錦3丁目7-12 錦クリスタルビル4F\, 名古屋\, 460-0003\, 日本
CATEGORIES:レゲトン
END:VEVENT
BEGIN:VEVENT
DTSTART;TZID=Asia/Tokyo:20260611T213000
DTEND;TZID=Asia/Tokyo:20260611T221500
DTSTAMP:20260426T113920
CREATED:20220930T042238Z
LAST-MODIFIED:20221014T160632Z
UID:10279176-1781213400-1781216100@dance.gdp22.com
SUMMARY:レゲトン LaHabana
DESCRIPTION:料金・詳細は公式参照 \nhttps://www.lahabana.co.jp/price/?studioid=173&anchor/#block \nLaHabana(名古屋)
URL:https://dance.gdp22.com/event/dance-36364/2026-06-11/
LOCATION:LaHabana(名古屋)\, 名古屋市中区錦2-6-22 若山ビル3F\, 名古屋\, 463-0003\, 日本
CATEGORIES:レゲトン
END:VEVENT
BEGIN:VEVENT
DTSTART;TZID=Asia/Tokyo:20260612T190000
DTEND;TZID=Asia/Tokyo:20260612T194500
DTSTAMP:20260426T113920
CREATED:20220620T030419Z
LAST-MODIFIED:20220620T030419Z
UID:10225711-1781290800-1781293500@dance.gdp22.com
SUMMARY:レゲトン By Osmel
DESCRIPTION:レゲトン \nOsmel \nhttps://www.studio-casino.com/%E4%BD%93%E9%A8%93%E3%83%AC%E3%83%83%E3%82%B9%E3%83%B3-%E5%88%9D%E3%82%81%E3%81%A6%E3%81%AE%E6%96%B9/%E6%96%99%E9%87%91/
URL:https://dance.gdp22.com/event/dance-7813/2026-06-12/
LOCATION:六本木ダンススタジオカシーノ\, 東京都港区六本木5-2-4第二鳥勝ビル四階\, 六本木\, 106-0032\, 日本
CATEGORIES:レゲトン
END:VEVENT
BEGIN:VEVENT
DTSTART;TZID=Asia/Tokyo:20260613T114500
DTEND;TZID=Asia/Tokyo:20260613T123000
DTSTAMP:20260426T113920
CREATED:20220930T035452Z
LAST-MODIFIED:20221014T162227Z
UID:10271373-1781351100-1781353800@dance.gdp22.com
SUMMARY:レゲトン LaHabana
DESCRIPTION:料金・詳細は公式参照 \nhttps://www.lahabana.co.jp/price/?studioid=173&anchor/#block \nLaHabana(名古屋)
URL:https://dance.gdp22.com/event/dance-36258/2026-06-13/
LOCATION:LaHabana(名古屋)\, 名古屋市中区錦2-6-22 若山ビル3F\, 名古屋\, 463-0003\, 日本
CATEGORIES:レゲトン
END:VEVENT
BEGIN:VEVENT
DTSTART;TZID=Asia/Tokyo:20260613T180000
DTEND;TZID=Asia/Tokyo:20260613T200000
DTSTAMP:20260426T113920
CREATED:20220914T041231Z
LAST-MODIFIED:20220914T041231Z
UID:10264729-1781373600-1781380800@dance.gdp22.com
SUMMARY:オスメルCuban　SALSA　 レゲトン　レッスン　土曜日
DESCRIPTION:池袋LaRumba
URL:https://dance.gdp22.com/event/dance-34414/2026-06-13/
LOCATION:池袋la rumba\, 東京都豊島区池袋２丁目２３－２シャンテビルB1\, 池袋\, 171-0014\, 日本
CATEGORIES:キューバン,レゲトン
ATTACH;FMTTYPE=image/jpeg:https://dance.gdp22.com/wp-content/uploads/osmeru.jpg
END:VEVENT
BEGIN:VEVENT
DTSTART;TZID=Asia/Tokyo:20260615T211500
DTEND;TZID=Asia/Tokyo:20260615T220000
DTSTAMP:20260426T113920
CREATED:20220930T041246Z
LAST-MODIFIED:20221014T160740Z
UID:10275664-1781558100-1781560800@dance.gdp22.com
SUMMARY:レゲトン LaHabana
DESCRIPTION:料金・詳細は公式参照 \nhttps://www.lahabana.co.jp/price/?studioid=173&anchor/#block \nLaHabana(名古屋)
URL:https://dance.gdp22.com/event/dance-36325/2026-06-15/
LOCATION:LaHabana(名古屋)\, 名古屋市中区錦2-6-22 若山ビル3F\, 名古屋\, 463-0003\, 日本
CATEGORIES:レゲトン
END:VEVENT
BEGIN:VEVENT
DTSTART;TZID=Asia/Tokyo:20260617T140000
DTEND;TZID=Asia/Tokyo:20260617T144500
DTSTAMP:20260426T113920
CREATED:20220930T034444Z
LAST-MODIFIED:20221014T161058Z
UID:10277001-1781704800-1781707500@dance.gdp22.com
SUMMARY:レゲトン LaHabana
DESCRIPTION:料金・詳細は公式参照 \nhttps://www.lahabana.co.jp/price/?studioid=173&anchor/#block \nLaHabana(名古屋)
URL:https://dance.gdp22.com/event/dance-36206/2026-06-17/
LOCATION:LaHabana(名古屋)\, 名古屋市中区錦2-6-22 若山ビル3F\, 名古屋\, 463-0003\, 日本
CATEGORIES:レゲトン
END:VEVENT
BEGIN:VEVENT
DTSTART;TZID=Asia/Tokyo:20260617T200000
DTEND;TZID=Asia/Tokyo:20260617T204500
DTSTAMP:20260426T113920
CREATED:20220930T045233Z
LAST-MODIFIED:20221014T171141Z
UID:10277545-1781726400-1781729100@dance.gdp22.com
SUMMARY:レゲトン LaHabana
DESCRIPTION:料金・詳細は公式参照 \nhttps://www.lahabana.co.jp/price/?studioid=173&anchor/#block \nLaHabana(名古屋)
URL:https://dance.gdp22.com/event/dance-36504/2026-06-17/
LOCATION:LaHabana 栄校 Sahara (名古屋)\, 愛知県名古屋市中区錦3丁目7-12 錦クリスタルビル4F\, 名古屋\, 460-0003\, 日本
CATEGORIES:レゲトン
END:VEVENT
BEGIN:VEVENT
DTSTART;TZID=Asia/Tokyo:20260618T213000
DTEND;TZID=Asia/Tokyo:20260618T221500
DTSTAMP:20260426T113920
CREATED:20220930T042238Z
LAST-MODIFIED:20221014T160632Z
UID:10279177-1781818200-1781820900@dance.gdp22.com
SUMMARY:レゲトン LaHabana
DESCRIPTION:料金・詳細は公式参照 \nhttps://www.lahabana.co.jp/price/?studioid=173&anchor/#block \nLaHabana(名古屋)
URL:https://dance.gdp22.com/event/dance-36364/2026-06-18/
LOCATION:LaHabana(名古屋)\, 名古屋市中区錦2-6-22 若山ビル3F\, 名古屋\, 463-0003\, 日本
CATEGORIES:レゲトン
END:VEVENT
BEGIN:VEVENT
DTSTART;TZID=Asia/Tokyo:20260619T190000
DTEND;TZID=Asia/Tokyo:20260619T194500
DTSTAMP:20260426T113920
CREATED:20220620T030419Z
LAST-MODIFIED:20220620T030419Z
UID:10225712-1781895600-1781898300@dance.gdp22.com
SUMMARY:レゲトン By Osmel
DESCRIPTION:レゲトン \nOsmel \nhttps://www.studio-casino.com/%E4%BD%93%E9%A8%93%E3%83%AC%E3%83%83%E3%82%B9%E3%83%B3-%E5%88%9D%E3%82%81%E3%81%A6%E3%81%AE%E6%96%B9/%E6%96%99%E9%87%91/
URL:https://dance.gdp22.com/event/dance-7813/2026-06-19/
LOCATION:六本木ダンススタジオカシーノ\, 東京都港区六本木5-2-4第二鳥勝ビル四階\, 六本木\, 106-0032\, 日本
CATEGORIES:レゲトン
END:VEVENT
BEGIN:VEVENT
DTSTART;TZID=Asia/Tokyo:20260620T114500
DTEND;TZID=Asia/Tokyo:20260620T123000
DTSTAMP:20260426T113920
CREATED:20220930T035452Z
LAST-MODIFIED:20221014T162227Z
UID:10271374-1781955900-1781958600@dance.gdp22.com
SUMMARY:レゲトン LaHabana
DESCRIPTION:料金・詳細は公式参照 \nhttps://www.lahabana.co.jp/price/?studioid=173&anchor/#block \nLaHabana(名古屋)
URL:https://dance.gdp22.com/event/dance-36258/2026-06-20/
LOCATION:LaHabana(名古屋)\, 名古屋市中区錦2-6-22 若山ビル3F\, 名古屋\, 463-0003\, 日本
CATEGORIES:レゲトン
END:VEVENT
BEGIN:VEVENT
DTSTART;TZID=Asia/Tokyo:20260620T180000
DTEND;TZID=Asia/Tokyo:20260620T200000
DTSTAMP:20260426T113920
CREATED:20220914T041231Z
LAST-MODIFIED:20220914T041231Z
UID:10264730-1781978400-1781985600@dance.gdp22.com
SUMMARY:オスメルCuban　SALSA　 レゲトン　レッスン　土曜日
DESCRIPTION:池袋LaRumba
URL:https://dance.gdp22.com/event/dance-34414/2026-06-20/
LOCATION:池袋la rumba\, 東京都豊島区池袋２丁目２３－２シャンテビルB1\, 池袋\, 171-0014\, 日本
CATEGORIES:キューバン,レゲトン
ATTACH;FMTTYPE=image/jpeg:https://dance.gdp22.com/wp-content/uploads/osmeru.jpg
END:VEVENT
BEGIN:VEVENT
DTSTART;TZID=Asia/Tokyo:20260622T211500
DTEND;TZID=Asia/Tokyo:20260622T220000
DTSTAMP:20260426T113920
CREATED:20220930T041246Z
LAST-MODIFIED:20221014T160740Z
UID:10275665-1782162900-1782165600@dance.gdp22.com
SUMMARY:レゲトン LaHabana
DESCRIPTION:料金・詳細は公式参照 \nhttps://www.lahabana.co.jp/price/?studioid=173&anchor/#block \nLaHabana(名古屋)
URL:https://dance.gdp22.com/event/dance-36325/2026-06-22/
LOCATION:LaHabana(名古屋)\, 名古屋市中区錦2-6-22 若山ビル3F\, 名古屋\, 463-0003\, 日本
CATEGORIES:レゲトン
END:VEVENT
BEGIN:VEVENT
DTSTART;TZID=Asia/Tokyo:20260624T140000
DTEND;TZID=Asia/Tokyo:20260624T144500
DTSTAMP:20260426T113920
CREATED:20220930T034444Z
LAST-MODIFIED:20221014T161058Z
UID:10277002-1782309600-1782312300@dance.gdp22.com
SUMMARY:レゲトン LaHabana
DESCRIPTION:料金・詳細は公式参照 \nhttps://www.lahabana.co.jp/price/?studioid=173&anchor/#block \nLaHabana(名古屋)
URL:https://dance.gdp22.com/event/dance-36206/2026-06-24/
LOCATION:LaHabana(名古屋)\, 名古屋市中区錦2-6-22 若山ビル3F\, 名古屋\, 463-0003\, 日本
CATEGORIES:レゲトン
END:VEVENT
BEGIN:VEVENT
DTSTART;TZID=Asia/Tokyo:20260624T200000
DTEND;TZID=Asia/Tokyo:20260624T204500
DTSTAMP:20260426T113920
CREATED:20220930T045233Z
LAST-MODIFIED:20221014T171141Z
UID:10277546-1782331200-1782333900@dance.gdp22.com
SUMMARY:レゲトン LaHabana
DESCRIPTION:料金・詳細は公式参照 \nhttps://www.lahabana.co.jp/price/?studioid=173&anchor/#block \nLaHabana(名古屋)
URL:https://dance.gdp22.com/event/dance-36504/2026-06-24/
LOCATION:LaHabana 栄校 Sahara (名古屋)\, 愛知県名古屋市中区錦3丁目7-12 錦クリスタルビル4F\, 名古屋\, 460-0003\, 日本
CATEGORIES:レゲトン
END:VEVENT
BEGIN:VEVENT
DTSTART;TZID=Asia/Tokyo:20260625T213000
DTEND;TZID=Asia/Tokyo:20260625T221500
DTSTAMP:20260426T113920
CREATED:20220930T042238Z
LAST-MODIFIED:20221014T160632Z
UID:10279178-1782423000-1782425700@dance.gdp22.com
SUMMARY:レゲトン LaHabana
DESCRIPTION:料金・詳細は公式参照 \nhttps://www.lahabana.co.jp/price/?studioid=173&anchor/#block \nLaHabana(名古屋)
URL:https://dance.gdp22.com/event/dance-36364/2026-06-25/
LOCATION:LaHabana(名古屋)\, 名古屋市中区錦2-6-22 若山ビル3F\, 名古屋\, 463-0003\, 日本
CATEGORIES:レゲトン
END:VEVENT
BEGIN:VEVENT
DTSTART;TZID=Asia/Tokyo:20260626T190000
DTEND;TZID=Asia/Tokyo:20260626T194500
DTSTAMP:20260426T113920
CREATED:20220620T030419Z
LAST-MODIFIED:20220620T030419Z
UID:10225713-1782500400-1782503100@dance.gdp22.com
SUMMARY:レゲトン By Osmel
DESCRIPTION:レゲトン \nOsmel \nhttps://www.studio-casino.com/%E4%BD%93%E9%A8%93%E3%83%AC%E3%83%83%E3%82%B9%E3%83%B3-%E5%88%9D%E3%82%81%E3%81%A6%E3%81%AE%E6%96%B9/%E6%96%99%E9%87%91/
URL:https://dance.gdp22.com/event/dance-7813/2026-06-26/
LOCATION:六本木ダンススタジオカシーノ\, 東京都港区六本木5-2-4第二鳥勝ビル四階\, 六本木\, 106-0032\, 日本
CATEGORIES:レゲトン
END:VEVENT
BEGIN:VEVENT
DTSTART;TZID=Asia/Tokyo:20260627T114500
DTEND;TZID=Asia/Tokyo:20260627T123000
DTSTAMP:20260426T113920
CREATED:20220930T035452Z
LAST-MODIFIED:20221014T162227Z
UID:10271375-1782560700-1782563400@dance.gdp22.com
SUMMARY:レゲトン LaHabana
DESCRIPTION:料金・詳細は公式参照 \nhttps://www.lahabana.co.jp/price/?studioid=173&anchor/#block \nLaHabana(名古屋)
URL:https://dance.gdp22.com/event/dance-36258/2026-06-27/
LOCATION:LaHabana(名古屋)\, 名古屋市中区錦2-6-22 若山ビル3F\, 名古屋\, 463-0003\, 日本
CATEGORIES:レゲトン
END:VEVENT
BEGIN:VEVENT
DTSTART;TZID=Asia/Tokyo:20260627T180000
DTEND;TZID=Asia/Tokyo:20260627T200000
DTSTAMP:20260426T113920
CREATED:20220914T041231Z
LAST-MODIFIED:20220914T041231Z
UID:10264731-1782583200-1782590400@dance.gdp22.com
SUMMARY:オスメルCuban　SALSA　 レゲトン　レッスン　土曜日
DESCRIPTION:池袋LaRumba
URL:https://dance.gdp22.com/event/dance-34414/2026-06-27/
LOCATION:池袋la rumba\, 東京都豊島区池袋２丁目２３－２シャンテビルB1\, 池袋\, 171-0014\, 日本
CATEGORIES:キューバン,レゲトン
ATTACH;FMTTYPE=image/jpeg:https://dance.gdp22.com/wp-content/uploads/osmeru.jpg
END:VEVENT
BEGIN:VEVENT
DTSTART;TZID=Asia/Tokyo:20260627T200000
DTEND;TZID=Asia/Tokyo:20260627T233000
DTSTAMP:20260426T113920
CREATED:20220921T023923Z
LAST-MODIFIED:20220930T142602Z
UID:10267300-1782590400-1782603000@dance.gdp22.com
SUMMARY:Cuban Salsa Lesson  by Anayanci
DESCRIPTION:第四土曜　CUBAN　SALSA　Lesson \nInstructor by アナヤンシ\n20:00~20:45　レゲトン\n20:45~21:30　キューバンサルサ\n21:30~Freetime\n2000円(1ﾄﾞﾘﾝｸ)
URL:https://dance.gdp22.com/event/dance-34979/2026-06-27/
LOCATION:アモーレ厚木（Amore Atsugi)\, 神奈川県厚木市中町２丁目１３−１３　2階\, 厚木\, 243-0018\, 日本
CATEGORIES:キューバン,ソーシャル,レゲトン
ATTACH;FMTTYPE=image/jpeg:https://dance.gdp22.com/wp-content/uploads/image-2-2.jpg
END:VEVENT
BEGIN:VEVENT
DTSTART;TZID=Asia/Tokyo:20260629T211500
DTEND;TZID=Asia/Tokyo:20260629T220000
DTSTAMP:20260426T113920
CREATED:20220930T041246Z
LAST-MODIFIED:20221014T160740Z
UID:10275666-1782767700-1782770400@dance.gdp22.com
SUMMARY:レゲトン LaHabana
DESCRIPTION:料金・詳細は公式参照 \nhttps://www.lahabana.co.jp/price/?studioid=173&anchor/#block \nLaHabana(名古屋)
URL:https://dance.gdp22.com/event/dance-36325/2026-06-29/
LOCATION:LaHabana(名古屋)\, 名古屋市中区錦2-6-22 若山ビル3F\, 名古屋\, 463-0003\, 日本
CATEGORIES:レゲトン
END:VEVENT
END:VCALENDAR