BEGIN:VCALENDAR
VERSION:2.0
PRODID:-//Dancing Pono (ダンシングポノ) - ECPv6.15.12//NONSGML v1.0//EN
CALSCALE:GREGORIAN
METHOD:PUBLISH
X-WR-CALNAME:Dancing Pono (ダンシングポノ)
X-ORIGINAL-URL:https://dance.gdp22.com
X-WR-CALDESC:Dancing Pono (ダンシングポノ) のイベント
REFRESH-INTERVAL;VALUE=DURATION:PT1H
X-Robots-Tag:noindex
X-PUBLISHED-TTL:PT1H
BEGIN:VTIMEZONE
TZID:Asia/Tokyo
BEGIN:STANDARD
TZOFFSETFROM:+0900
TZOFFSETTO:+0900
TZNAME:JST
DTSTART:20250101T000000
END:STANDARD
END:VTIMEZONE
BEGIN:VEVENT
DTSTART;TZID=Asia/Tokyo:20260202T211500
DTEND;TZID=Asia/Tokyo:20260202T220000
DTSTAMP:20260426T113854
CREATED:20220930T041246Z
LAST-MODIFIED:20221014T160740Z
UID:10275645-1770066900-1770069600@dance.gdp22.com
SUMMARY:レゲトン LaHabana
DESCRIPTION:料金・詳細は公式参照 \nhttps://www.lahabana.co.jp/price/?studioid=173&anchor/#block \nLaHabana(名古屋)
URL:https://dance.gdp22.com/event/dance-36325/2026-02-02/
LOCATION:LaHabana(名古屋)\, 名古屋市中区錦2-6-22 若山ビル3F\, 名古屋\, 463-0003\, 日本
CATEGORIES:レゲトン
END:VEVENT
BEGIN:VEVENT
DTSTART;TZID=Asia/Tokyo:20260204T140000
DTEND;TZID=Asia/Tokyo:20260204T144500
DTSTAMP:20260426T113854
CREATED:20220930T034444Z
LAST-MODIFIED:20221014T161058Z
UID:10276982-1770213600-1770216300@dance.gdp22.com
SUMMARY:レゲトン LaHabana
DESCRIPTION:料金・詳細は公式参照 \nhttps://www.lahabana.co.jp/price/?studioid=173&anchor/#block \nLaHabana(名古屋)
URL:https://dance.gdp22.com/event/dance-36206/2026-02-04/
LOCATION:LaHabana(名古屋)\, 名古屋市中区錦2-6-22 若山ビル3F\, 名古屋\, 463-0003\, 日本
CATEGORIES:レゲトン
END:VEVENT
BEGIN:VEVENT
DTSTART;TZID=Asia/Tokyo:20260204T200000
DTEND;TZID=Asia/Tokyo:20260204T204500
DTSTAMP:20260426T113854
CREATED:20220930T045233Z
LAST-MODIFIED:20221014T171141Z
UID:10277526-1770235200-1770237900@dance.gdp22.com
SUMMARY:レゲトン LaHabana
DESCRIPTION:料金・詳細は公式参照 \nhttps://www.lahabana.co.jp/price/?studioid=173&anchor/#block \nLaHabana(名古屋)
URL:https://dance.gdp22.com/event/dance-36504/2026-02-04/
LOCATION:LaHabana 栄校 Sahara (名古屋)\, 愛知県名古屋市中区錦3丁目7-12 錦クリスタルビル4F\, 名古屋\, 460-0003\, 日本
CATEGORIES:レゲトン
END:VEVENT
BEGIN:VEVENT
DTSTART;TZID=Asia/Tokyo:20260205T213000
DTEND;TZID=Asia/Tokyo:20260205T221500
DTSTAMP:20260426T113854
CREATED:20220930T042238Z
LAST-MODIFIED:20221014T160632Z
UID:10279158-1770327000-1770329700@dance.gdp22.com
SUMMARY:レゲトン LaHabana
DESCRIPTION:料金・詳細は公式参照 \nhttps://www.lahabana.co.jp/price/?studioid=173&anchor/#block \nLaHabana(名古屋)
URL:https://dance.gdp22.com/event/dance-36364/2026-02-05/
LOCATION:LaHabana(名古屋)\, 名古屋市中区錦2-6-22 若山ビル3F\, 名古屋\, 463-0003\, 日本
CATEGORIES:レゲトン
END:VEVENT
BEGIN:VEVENT
DTSTART;TZID=Asia/Tokyo:20260206T190000
DTEND;TZID=Asia/Tokyo:20260206T194500
DTSTAMP:20260426T113854
CREATED:20220620T030419Z
LAST-MODIFIED:20220620T030419Z
UID:10225693-1770404400-1770407100@dance.gdp22.com
SUMMARY:レゲトン By Osmel
DESCRIPTION:レゲトン \nOsmel \nhttps://www.studio-casino.com/%E4%BD%93%E9%A8%93%E3%83%AC%E3%83%83%E3%82%B9%E3%83%B3-%E5%88%9D%E3%82%81%E3%81%A6%E3%81%AE%E6%96%B9/%E6%96%99%E9%87%91/
URL:https://dance.gdp22.com/event/dance-7813/2026-02-06/
LOCATION:六本木ダンススタジオカシーノ\, 東京都港区六本木5-2-4第二鳥勝ビル四階\, 六本木\, 106-0032\, 日本
CATEGORIES:レゲトン
END:VEVENT
BEGIN:VEVENT
DTSTART;TZID=Asia/Tokyo:20260207T114500
DTEND;TZID=Asia/Tokyo:20260207T123000
DTSTAMP:20260426T113854
CREATED:20220930T035452Z
LAST-MODIFIED:20221014T162227Z
UID:10271355-1770464700-1770467400@dance.gdp22.com
SUMMARY:レゲトン LaHabana
DESCRIPTION:料金・詳細は公式参照 \nhttps://www.lahabana.co.jp/price/?studioid=173&anchor/#block \nLaHabana(名古屋)
URL:https://dance.gdp22.com/event/dance-36258/2026-02-07/
LOCATION:LaHabana(名古屋)\, 名古屋市中区錦2-6-22 若山ビル3F\, 名古屋\, 463-0003\, 日本
CATEGORIES:レゲトン
END:VEVENT
BEGIN:VEVENT
DTSTART;TZID=Asia/Tokyo:20260207T180000
DTEND;TZID=Asia/Tokyo:20260207T200000
DTSTAMP:20260426T113854
CREATED:20220914T041231Z
LAST-MODIFIED:20220914T041231Z
UID:10264711-1770487200-1770494400@dance.gdp22.com
SUMMARY:オスメルCuban　SALSA　 レゲトン　レッスン　土曜日
DESCRIPTION:池袋LaRumba
URL:https://dance.gdp22.com/event/dance-34414/2026-02-07/
LOCATION:池袋la rumba\, 東京都豊島区池袋２丁目２３－２シャンテビルB1\, 池袋\, 171-0014\, 日本
CATEGORIES:キューバン,レゲトン
ATTACH;FMTTYPE=image/jpeg:https://dance.gdp22.com/wp-content/uploads/osmeru.jpg
END:VEVENT
BEGIN:VEVENT
DTSTART;TZID=Asia/Tokyo:20260209T211500
DTEND;TZID=Asia/Tokyo:20260209T220000
DTSTAMP:20260426T113854
CREATED:20220930T041246Z
LAST-MODIFIED:20221014T160740Z
UID:10275646-1770671700-1770674400@dance.gdp22.com
SUMMARY:レゲトン LaHabana
DESCRIPTION:料金・詳細は公式参照 \nhttps://www.lahabana.co.jp/price/?studioid=173&anchor/#block \nLaHabana(名古屋)
URL:https://dance.gdp22.com/event/dance-36325/2026-02-09/
LOCATION:LaHabana(名古屋)\, 名古屋市中区錦2-6-22 若山ビル3F\, 名古屋\, 463-0003\, 日本
CATEGORIES:レゲトン
END:VEVENT
BEGIN:VEVENT
DTSTART;TZID=Asia/Tokyo:20260211T140000
DTEND;TZID=Asia/Tokyo:20260211T144500
DTSTAMP:20260426T113854
CREATED:20220930T034444Z
LAST-MODIFIED:20221014T161058Z
UID:10276983-1770818400-1770821100@dance.gdp22.com
SUMMARY:レゲトン LaHabana
DESCRIPTION:料金・詳細は公式参照 \nhttps://www.lahabana.co.jp/price/?studioid=173&anchor/#block \nLaHabana(名古屋)
URL:https://dance.gdp22.com/event/dance-36206/2026-02-11/
LOCATION:LaHabana(名古屋)\, 名古屋市中区錦2-6-22 若山ビル3F\, 名古屋\, 463-0003\, 日本
CATEGORIES:レゲトン
END:VEVENT
BEGIN:VEVENT
DTSTART;TZID=Asia/Tokyo:20260211T200000
DTEND;TZID=Asia/Tokyo:20260211T204500
DTSTAMP:20260426T113854
CREATED:20220930T045233Z
LAST-MODIFIED:20221014T171141Z
UID:10277527-1770840000-1770842700@dance.gdp22.com
SUMMARY:レゲトン LaHabana
DESCRIPTION:料金・詳細は公式参照 \nhttps://www.lahabana.co.jp/price/?studioid=173&anchor/#block \nLaHabana(名古屋)
URL:https://dance.gdp22.com/event/dance-36504/2026-02-11/
LOCATION:LaHabana 栄校 Sahara (名古屋)\, 愛知県名古屋市中区錦3丁目7-12 錦クリスタルビル4F\, 名古屋\, 460-0003\, 日本
CATEGORIES:レゲトン
END:VEVENT
BEGIN:VEVENT
DTSTART;TZID=Asia/Tokyo:20260212T213000
DTEND;TZID=Asia/Tokyo:20260212T221500
DTSTAMP:20260426T113854
CREATED:20220930T042238Z
LAST-MODIFIED:20221014T160632Z
UID:10279159-1770931800-1770934500@dance.gdp22.com
SUMMARY:レゲトン LaHabana
DESCRIPTION:料金・詳細は公式参照 \nhttps://www.lahabana.co.jp/price/?studioid=173&anchor/#block \nLaHabana(名古屋)
URL:https://dance.gdp22.com/event/dance-36364/2026-02-12/
LOCATION:LaHabana(名古屋)\, 名古屋市中区錦2-6-22 若山ビル3F\, 名古屋\, 463-0003\, 日本
CATEGORIES:レゲトン
END:VEVENT
BEGIN:VEVENT
DTSTART;TZID=Asia/Tokyo:20260213T190000
DTEND;TZID=Asia/Tokyo:20260213T194500
DTSTAMP:20260426T113854
CREATED:20220620T030419Z
LAST-MODIFIED:20220620T030419Z
UID:10225694-1771009200-1771011900@dance.gdp22.com
SUMMARY:レゲトン By Osmel
DESCRIPTION:レゲトン \nOsmel \nhttps://www.studio-casino.com/%E4%BD%93%E9%A8%93%E3%83%AC%E3%83%83%E3%82%B9%E3%83%B3-%E5%88%9D%E3%82%81%E3%81%A6%E3%81%AE%E6%96%B9/%E6%96%99%E9%87%91/
URL:https://dance.gdp22.com/event/dance-7813/2026-02-13/
LOCATION:六本木ダンススタジオカシーノ\, 東京都港区六本木5-2-4第二鳥勝ビル四階\, 六本木\, 106-0032\, 日本
CATEGORIES:レゲトン
END:VEVENT
BEGIN:VEVENT
DTSTART;TZID=Asia/Tokyo:20260214T114500
DTEND;TZID=Asia/Tokyo:20260214T123000
DTSTAMP:20260426T113854
CREATED:20220930T035452Z
LAST-MODIFIED:20221014T162227Z
UID:10271356-1771069500-1771072200@dance.gdp22.com
SUMMARY:レゲトン LaHabana
DESCRIPTION:料金・詳細は公式参照 \nhttps://www.lahabana.co.jp/price/?studioid=173&anchor/#block \nLaHabana(名古屋)
URL:https://dance.gdp22.com/event/dance-36258/2026-02-14/
LOCATION:LaHabana(名古屋)\, 名古屋市中区錦2-6-22 若山ビル3F\, 名古屋\, 463-0003\, 日本
CATEGORIES:レゲトン
END:VEVENT
BEGIN:VEVENT
DTSTART;TZID=Asia/Tokyo:20260214T180000
DTEND;TZID=Asia/Tokyo:20260214T200000
DTSTAMP:20260426T113854
CREATED:20220914T041231Z
LAST-MODIFIED:20220914T041231Z
UID:10264712-1771092000-1771099200@dance.gdp22.com
SUMMARY:オスメルCuban　SALSA　 レゲトン　レッスン　土曜日
DESCRIPTION:池袋LaRumba
URL:https://dance.gdp22.com/event/dance-34414/2026-02-14/
LOCATION:池袋la rumba\, 東京都豊島区池袋２丁目２３－２シャンテビルB1\, 池袋\, 171-0014\, 日本
CATEGORIES:キューバン,レゲトン
ATTACH;FMTTYPE=image/jpeg:https://dance.gdp22.com/wp-content/uploads/osmeru.jpg
END:VEVENT
BEGIN:VEVENT
DTSTART;TZID=Asia/Tokyo:20260216T211500
DTEND;TZID=Asia/Tokyo:20260216T220000
DTSTAMP:20260426T113854
CREATED:20220930T041246Z
LAST-MODIFIED:20221014T160740Z
UID:10275647-1771276500-1771279200@dance.gdp22.com
SUMMARY:レゲトン LaHabana
DESCRIPTION:料金・詳細は公式参照 \nhttps://www.lahabana.co.jp/price/?studioid=173&anchor/#block \nLaHabana(名古屋)
URL:https://dance.gdp22.com/event/dance-36325/2026-02-16/
LOCATION:LaHabana(名古屋)\, 名古屋市中区錦2-6-22 若山ビル3F\, 名古屋\, 463-0003\, 日本
CATEGORIES:レゲトン
END:VEVENT
BEGIN:VEVENT
DTSTART;TZID=Asia/Tokyo:20260218T140000
DTEND;TZID=Asia/Tokyo:20260218T144500
DTSTAMP:20260426T113854
CREATED:20220930T034444Z
LAST-MODIFIED:20221014T161058Z
UID:10276984-1771423200-1771425900@dance.gdp22.com
SUMMARY:レゲトン LaHabana
DESCRIPTION:料金・詳細は公式参照 \nhttps://www.lahabana.co.jp/price/?studioid=173&anchor/#block \nLaHabana(名古屋)
URL:https://dance.gdp22.com/event/dance-36206/2026-02-18/
LOCATION:LaHabana(名古屋)\, 名古屋市中区錦2-6-22 若山ビル3F\, 名古屋\, 463-0003\, 日本
CATEGORIES:レゲトン
END:VEVENT
BEGIN:VEVENT
DTSTART;TZID=Asia/Tokyo:20260218T200000
DTEND;TZID=Asia/Tokyo:20260218T204500
DTSTAMP:20260426T113854
CREATED:20220930T045233Z
LAST-MODIFIED:20221014T171141Z
UID:10277528-1771444800-1771447500@dance.gdp22.com
SUMMARY:レゲトン LaHabana
DESCRIPTION:料金・詳細は公式参照 \nhttps://www.lahabana.co.jp/price/?studioid=173&anchor/#block \nLaHabana(名古屋)
URL:https://dance.gdp22.com/event/dance-36504/2026-02-18/
LOCATION:LaHabana 栄校 Sahara (名古屋)\, 愛知県名古屋市中区錦3丁目7-12 錦クリスタルビル4F\, 名古屋\, 460-0003\, 日本
CATEGORIES:レゲトン
END:VEVENT
BEGIN:VEVENT
DTSTART;TZID=Asia/Tokyo:20260219T213000
DTEND;TZID=Asia/Tokyo:20260219T221500
DTSTAMP:20260426T113854
CREATED:20220930T042238Z
LAST-MODIFIED:20221014T160632Z
UID:10279160-1771536600-1771539300@dance.gdp22.com
SUMMARY:レゲトン LaHabana
DESCRIPTION:料金・詳細は公式参照 \nhttps://www.lahabana.co.jp/price/?studioid=173&anchor/#block \nLaHabana(名古屋)
URL:https://dance.gdp22.com/event/dance-36364/2026-02-19/
LOCATION:LaHabana(名古屋)\, 名古屋市中区錦2-6-22 若山ビル3F\, 名古屋\, 463-0003\, 日本
CATEGORIES:レゲトン
END:VEVENT
BEGIN:VEVENT
DTSTART;TZID=Asia/Tokyo:20260220T190000
DTEND;TZID=Asia/Tokyo:20260220T194500
DTSTAMP:20260426T113854
CREATED:20220620T030419Z
LAST-MODIFIED:20220620T030419Z
UID:10225695-1771614000-1771616700@dance.gdp22.com
SUMMARY:レゲトン By Osmel
DESCRIPTION:レゲトン \nOsmel \nhttps://www.studio-casino.com/%E4%BD%93%E9%A8%93%E3%83%AC%E3%83%83%E3%82%B9%E3%83%B3-%E5%88%9D%E3%82%81%E3%81%A6%E3%81%AE%E6%96%B9/%E6%96%99%E9%87%91/
URL:https://dance.gdp22.com/event/dance-7813/2026-02-20/
LOCATION:六本木ダンススタジオカシーノ\, 東京都港区六本木5-2-4第二鳥勝ビル四階\, 六本木\, 106-0032\, 日本
CATEGORIES:レゲトン
END:VEVENT
BEGIN:VEVENT
DTSTART;TZID=Asia/Tokyo:20260221T114500
DTEND;TZID=Asia/Tokyo:20260221T123000
DTSTAMP:20260426T113854
CREATED:20220930T035452Z
LAST-MODIFIED:20221014T162227Z
UID:10271357-1771674300-1771677000@dance.gdp22.com
SUMMARY:レゲトン LaHabana
DESCRIPTION:料金・詳細は公式参照 \nhttps://www.lahabana.co.jp/price/?studioid=173&anchor/#block \nLaHabana(名古屋)
URL:https://dance.gdp22.com/event/dance-36258/2026-02-21/
LOCATION:LaHabana(名古屋)\, 名古屋市中区錦2-6-22 若山ビル3F\, 名古屋\, 463-0003\, 日本
CATEGORIES:レゲトン
END:VEVENT
BEGIN:VEVENT
DTSTART;TZID=Asia/Tokyo:20260221T180000
DTEND;TZID=Asia/Tokyo:20260221T200000
DTSTAMP:20260426T113854
CREATED:20220914T041231Z
LAST-MODIFIED:20220914T041231Z
UID:10264713-1771696800-1771704000@dance.gdp22.com
SUMMARY:オスメルCuban　SALSA　 レゲトン　レッスン　土曜日
DESCRIPTION:池袋LaRumba
URL:https://dance.gdp22.com/event/dance-34414/2026-02-21/
LOCATION:池袋la rumba\, 東京都豊島区池袋２丁目２３－２シャンテビルB1\, 池袋\, 171-0014\, 日本
CATEGORIES:キューバン,レゲトン
ATTACH;FMTTYPE=image/jpeg:https://dance.gdp22.com/wp-content/uploads/osmeru.jpg
END:VEVENT
BEGIN:VEVENT
DTSTART;TZID=Asia/Tokyo:20260223T211500
DTEND;TZID=Asia/Tokyo:20260223T220000
DTSTAMP:20260426T113854
CREATED:20220930T041246Z
LAST-MODIFIED:20221014T160740Z
UID:10275648-1771881300-1771884000@dance.gdp22.com
SUMMARY:レゲトン LaHabana
DESCRIPTION:料金・詳細は公式参照 \nhttps://www.lahabana.co.jp/price/?studioid=173&anchor/#block \nLaHabana(名古屋)
URL:https://dance.gdp22.com/event/dance-36325/2026-02-23/
LOCATION:LaHabana(名古屋)\, 名古屋市中区錦2-6-22 若山ビル3F\, 名古屋\, 463-0003\, 日本
CATEGORIES:レゲトン
END:VEVENT
BEGIN:VEVENT
DTSTART;TZID=Asia/Tokyo:20260225T140000
DTEND;TZID=Asia/Tokyo:20260225T144500
DTSTAMP:20260426T113854
CREATED:20220930T034444Z
LAST-MODIFIED:20221014T161058Z
UID:10276985-1772028000-1772030700@dance.gdp22.com
SUMMARY:レゲトン LaHabana
DESCRIPTION:料金・詳細は公式参照 \nhttps://www.lahabana.co.jp/price/?studioid=173&anchor/#block \nLaHabana(名古屋)
URL:https://dance.gdp22.com/event/dance-36206/2026-02-25/
LOCATION:LaHabana(名古屋)\, 名古屋市中区錦2-6-22 若山ビル3F\, 名古屋\, 463-0003\, 日本
CATEGORIES:レゲトン
END:VEVENT
BEGIN:VEVENT
DTSTART;TZID=Asia/Tokyo:20260225T200000
DTEND;TZID=Asia/Tokyo:20260225T204500
DTSTAMP:20260426T113854
CREATED:20220930T045233Z
LAST-MODIFIED:20221014T171141Z
UID:10277529-1772049600-1772052300@dance.gdp22.com
SUMMARY:レゲトン LaHabana
DESCRIPTION:料金・詳細は公式参照 \nhttps://www.lahabana.co.jp/price/?studioid=173&anchor/#block \nLaHabana(名古屋)
URL:https://dance.gdp22.com/event/dance-36504/2026-02-25/
LOCATION:LaHabana 栄校 Sahara (名古屋)\, 愛知県名古屋市中区錦3丁目7-12 錦クリスタルビル4F\, 名古屋\, 460-0003\, 日本
CATEGORIES:レゲトン
END:VEVENT
BEGIN:VEVENT
DTSTART;TZID=Asia/Tokyo:20260226T213000
DTEND;TZID=Asia/Tokyo:20260226T221500
DTSTAMP:20260426T113854
CREATED:20220930T042238Z
LAST-MODIFIED:20221014T160632Z
UID:10279161-1772141400-1772144100@dance.gdp22.com
SUMMARY:レゲトン LaHabana
DESCRIPTION:料金・詳細は公式参照 \nhttps://www.lahabana.co.jp/price/?studioid=173&anchor/#block \nLaHabana(名古屋)
URL:https://dance.gdp22.com/event/dance-36364/2026-02-26/
LOCATION:LaHabana(名古屋)\, 名古屋市中区錦2-6-22 若山ビル3F\, 名古屋\, 463-0003\, 日本
CATEGORIES:レゲトン
END:VEVENT
BEGIN:VEVENT
DTSTART;TZID=Asia/Tokyo:20260227T190000
DTEND;TZID=Asia/Tokyo:20260227T194500
DTSTAMP:20260426T113854
CREATED:20220620T030419Z
LAST-MODIFIED:20220620T030419Z
UID:10225696-1772218800-1772221500@dance.gdp22.com
SUMMARY:レゲトン By Osmel
DESCRIPTION:レゲトン \nOsmel \nhttps://www.studio-casino.com/%E4%BD%93%E9%A8%93%E3%83%AC%E3%83%83%E3%82%B9%E3%83%B3-%E5%88%9D%E3%82%81%E3%81%A6%E3%81%AE%E6%96%B9/%E6%96%99%E9%87%91/
URL:https://dance.gdp22.com/event/dance-7813/2026-02-27/
LOCATION:六本木ダンススタジオカシーノ\, 東京都港区六本木5-2-4第二鳥勝ビル四階\, 六本木\, 106-0032\, 日本
CATEGORIES:レゲトン
END:VEVENT
BEGIN:VEVENT
DTSTART;TZID=Asia/Tokyo:20260228T114500
DTEND;TZID=Asia/Tokyo:20260228T123000
DTSTAMP:20260426T113854
CREATED:20220930T035452Z
LAST-MODIFIED:20221014T162227Z
UID:10271358-1772279100-1772281800@dance.gdp22.com
SUMMARY:レゲトン LaHabana
DESCRIPTION:料金・詳細は公式参照 \nhttps://www.lahabana.co.jp/price/?studioid=173&anchor/#block \nLaHabana(名古屋)
URL:https://dance.gdp22.com/event/dance-36258/2026-02-28/
LOCATION:LaHabana(名古屋)\, 名古屋市中区錦2-6-22 若山ビル3F\, 名古屋\, 463-0003\, 日本
CATEGORIES:レゲトン
END:VEVENT
BEGIN:VEVENT
DTSTART;TZID=Asia/Tokyo:20260228T180000
DTEND;TZID=Asia/Tokyo:20260228T200000
DTSTAMP:20260426T113854
CREATED:20220914T041231Z
LAST-MODIFIED:20220914T041231Z
UID:10264714-1772301600-1772308800@dance.gdp22.com
SUMMARY:オスメルCuban　SALSA　 レゲトン　レッスン　土曜日
DESCRIPTION:池袋LaRumba
URL:https://dance.gdp22.com/event/dance-34414/2026-02-28/
LOCATION:池袋la rumba\, 東京都豊島区池袋２丁目２３－２シャンテビルB1\, 池袋\, 171-0014\, 日本
CATEGORIES:キューバン,レゲトン
ATTACH;FMTTYPE=image/jpeg:https://dance.gdp22.com/wp-content/uploads/osmeru.jpg
END:VEVENT
BEGIN:VEVENT
DTSTART;TZID=Asia/Tokyo:20260228T200000
DTEND;TZID=Asia/Tokyo:20260228T233000
DTSTAMP:20260426T113854
CREATED:20220921T023923Z
LAST-MODIFIED:20220930T142602Z
UID:10267296-1772308800-1772321400@dance.gdp22.com
SUMMARY:Cuban Salsa Lesson  by Anayanci
DESCRIPTION:第四土曜　CUBAN　SALSA　Lesson \nInstructor by アナヤンシ\n20:00~20:45　レゲトン\n20:45~21:30　キューバンサルサ\n21:30~Freetime\n2000円(1ﾄﾞﾘﾝｸ)
URL:https://dance.gdp22.com/event/dance-34979/2026-02-28/
LOCATION:アモーレ厚木（Amore Atsugi)\, 神奈川県厚木市中町２丁目１３−１３　2階\, 厚木\, 243-0018\, 日本
CATEGORIES:キューバン,ソーシャル,レゲトン
ATTACH;FMTTYPE=image/jpeg:https://dance.gdp22.com/wp-content/uploads/image-2-2.jpg
END:VEVENT
END:VCALENDAR