BEGIN:VCALENDAR
VERSION:2.0
PRODID:-//Dancing Pono (ダンシングポノ) - ECPv6.15.12//NONSGML v1.0//EN
CALSCALE:GREGORIAN
METHOD:PUBLISH
X-WR-CALNAME:Dancing Pono (ダンシングポノ)
X-ORIGINAL-URL:https://dance.gdp22.com
X-WR-CALDESC:Dancing Pono (ダンシングポノ) のイベント
REFRESH-INTERVAL;VALUE=DURATION:PT1H
X-Robots-Tag:noindex
X-PUBLISHED-TTL:PT1H
BEGIN:VTIMEZONE
TZID:Asia/Tokyo
BEGIN:STANDARD
TZOFFSETFROM:+0900
TZOFFSETTO:+0900
TZNAME:JST
DTSTART:20250101T000000
END:STANDARD
END:VTIMEZONE
BEGIN:VEVENT
DTSTART;TZID=Asia/Tokyo:20260101T213000
DTEND;TZID=Asia/Tokyo:20260101T221500
DTSTAMP:20260426T130452
CREATED:20220930T042238Z
LAST-MODIFIED:20221014T160632Z
UID:10279153-1767303000-1767305700@dance.gdp22.com
SUMMARY:レゲトン LaHabana
DESCRIPTION:料金・詳細は公式参照 \nhttps://www.lahabana.co.jp/price/?studioid=173&anchor/#block \nLaHabana(名古屋)
URL:https://dance.gdp22.com/event/dance-36364/2026-01-01/
LOCATION:LaHabana(名古屋)\, 名古屋市中区錦2-6-22 若山ビル3F\, 名古屋\, 463-0003\, 日本
CATEGORIES:レゲトン
END:VEVENT
BEGIN:VEVENT
DTSTART;TZID=Asia/Tokyo:20260102T190000
DTEND;TZID=Asia/Tokyo:20260102T194500
DTSTAMP:20260426T130452
CREATED:20220620T030419Z
LAST-MODIFIED:20220620T030419Z
UID:10225688-1767380400-1767383100@dance.gdp22.com
SUMMARY:レゲトン By Osmel
DESCRIPTION:レゲトン \nOsmel \nhttps://www.studio-casino.com/%E4%BD%93%E9%A8%93%E3%83%AC%E3%83%83%E3%82%B9%E3%83%B3-%E5%88%9D%E3%82%81%E3%81%A6%E3%81%AE%E6%96%B9/%E6%96%99%E9%87%91/
URL:https://dance.gdp22.com/event/dance-7813/2026-01-02/
LOCATION:六本木ダンススタジオカシーノ\, 東京都港区六本木5-2-4第二鳥勝ビル四階\, 六本木\, 106-0032\, 日本
CATEGORIES:レゲトン
END:VEVENT
BEGIN:VEVENT
DTSTART;TZID=Asia/Tokyo:20260103T114500
DTEND;TZID=Asia/Tokyo:20260103T123000
DTSTAMP:20260426T130452
CREATED:20220930T035452Z
LAST-MODIFIED:20221014T162227Z
UID:10271350-1767440700-1767443400@dance.gdp22.com
SUMMARY:レゲトン LaHabana
DESCRIPTION:料金・詳細は公式参照 \nhttps://www.lahabana.co.jp/price/?studioid=173&anchor/#block \nLaHabana(名古屋)
URL:https://dance.gdp22.com/event/dance-36258/2026-01-03/
LOCATION:LaHabana(名古屋)\, 名古屋市中区錦2-6-22 若山ビル3F\, 名古屋\, 463-0003\, 日本
CATEGORIES:レゲトン
END:VEVENT
BEGIN:VEVENT
DTSTART;TZID=Asia/Tokyo:20260103T180000
DTEND;TZID=Asia/Tokyo:20260103T200000
DTSTAMP:20260426T130452
CREATED:20220914T041231Z
LAST-MODIFIED:20220914T041231Z
UID:10264706-1767463200-1767470400@dance.gdp22.com
SUMMARY:オスメルCuban　SALSA　 レゲトン　レッスン　土曜日
DESCRIPTION:池袋LaRumba
URL:https://dance.gdp22.com/event/dance-34414/2026-01-03/
LOCATION:池袋la rumba\, 東京都豊島区池袋２丁目２３－２シャンテビルB1\, 池袋\, 171-0014\, 日本
CATEGORIES:キューバン,レゲトン
ATTACH;FMTTYPE=image/jpeg:https://dance.gdp22.com/wp-content/uploads/osmeru.jpg
END:VEVENT
BEGIN:VEVENT
DTSTART;TZID=Asia/Tokyo:20260105T211500
DTEND;TZID=Asia/Tokyo:20260105T220000
DTSTAMP:20260426T130452
CREATED:20220930T041246Z
LAST-MODIFIED:20221014T160740Z
UID:10275641-1767647700-1767650400@dance.gdp22.com
SUMMARY:レゲトン LaHabana
DESCRIPTION:料金・詳細は公式参照 \nhttps://www.lahabana.co.jp/price/?studioid=173&anchor/#block \nLaHabana(名古屋)
URL:https://dance.gdp22.com/event/dance-36325/2026-01-05/
LOCATION:LaHabana(名古屋)\, 名古屋市中区錦2-6-22 若山ビル3F\, 名古屋\, 463-0003\, 日本
CATEGORIES:レゲトン
END:VEVENT
BEGIN:VEVENT
DTSTART;TZID=Asia/Tokyo:20260107T140000
DTEND;TZID=Asia/Tokyo:20260107T144500
DTSTAMP:20260426T130452
CREATED:20220930T034444Z
LAST-MODIFIED:20221014T161058Z
UID:10276978-1767794400-1767797100@dance.gdp22.com
SUMMARY:レゲトン LaHabana
DESCRIPTION:料金・詳細は公式参照 \nhttps://www.lahabana.co.jp/price/?studioid=173&anchor/#block \nLaHabana(名古屋)
URL:https://dance.gdp22.com/event/dance-36206/2026-01-07/
LOCATION:LaHabana(名古屋)\, 名古屋市中区錦2-6-22 若山ビル3F\, 名古屋\, 463-0003\, 日本
CATEGORIES:レゲトン
END:VEVENT
BEGIN:VEVENT
DTSTART;TZID=Asia/Tokyo:20260107T200000
DTEND;TZID=Asia/Tokyo:20260107T204500
DTSTAMP:20260426T130452
CREATED:20220930T045233Z
LAST-MODIFIED:20221014T171141Z
UID:10277522-1767816000-1767818700@dance.gdp22.com
SUMMARY:レゲトン LaHabana
DESCRIPTION:料金・詳細は公式参照 \nhttps://www.lahabana.co.jp/price/?studioid=173&anchor/#block \nLaHabana(名古屋)
URL:https://dance.gdp22.com/event/dance-36504/2026-01-07/
LOCATION:LaHabana 栄校 Sahara (名古屋)\, 愛知県名古屋市中区錦3丁目7-12 錦クリスタルビル4F\, 名古屋\, 460-0003\, 日本
CATEGORIES:レゲトン
END:VEVENT
BEGIN:VEVENT
DTSTART;TZID=Asia/Tokyo:20260108T213000
DTEND;TZID=Asia/Tokyo:20260108T221500
DTSTAMP:20260426T130452
CREATED:20220930T042238Z
LAST-MODIFIED:20221014T160632Z
UID:10279154-1767907800-1767910500@dance.gdp22.com
SUMMARY:レゲトン LaHabana
DESCRIPTION:料金・詳細は公式参照 \nhttps://www.lahabana.co.jp/price/?studioid=173&anchor/#block \nLaHabana(名古屋)
URL:https://dance.gdp22.com/event/dance-36364/2026-01-08/
LOCATION:LaHabana(名古屋)\, 名古屋市中区錦2-6-22 若山ビル3F\, 名古屋\, 463-0003\, 日本
CATEGORIES:レゲトン
END:VEVENT
BEGIN:VEVENT
DTSTART;TZID=Asia/Tokyo:20260109T190000
DTEND;TZID=Asia/Tokyo:20260109T194500
DTSTAMP:20260426T130452
CREATED:20220620T030419Z
LAST-MODIFIED:20220620T030419Z
UID:10225689-1767985200-1767987900@dance.gdp22.com
SUMMARY:レゲトン By Osmel
DESCRIPTION:レゲトン \nOsmel \nhttps://www.studio-casino.com/%E4%BD%93%E9%A8%93%E3%83%AC%E3%83%83%E3%82%B9%E3%83%B3-%E5%88%9D%E3%82%81%E3%81%A6%E3%81%AE%E6%96%B9/%E6%96%99%E9%87%91/
URL:https://dance.gdp22.com/event/dance-7813/2026-01-09/
LOCATION:六本木ダンススタジオカシーノ\, 東京都港区六本木5-2-4第二鳥勝ビル四階\, 六本木\, 106-0032\, 日本
CATEGORIES:レゲトン
END:VEVENT
BEGIN:VEVENT
DTSTART;TZID=Asia/Tokyo:20260110T114500
DTEND;TZID=Asia/Tokyo:20260110T123000
DTSTAMP:20260426T130452
CREATED:20220930T035452Z
LAST-MODIFIED:20221014T162227Z
UID:10271351-1768045500-1768048200@dance.gdp22.com
SUMMARY:レゲトン LaHabana
DESCRIPTION:料金・詳細は公式参照 \nhttps://www.lahabana.co.jp/price/?studioid=173&anchor/#block \nLaHabana(名古屋)
URL:https://dance.gdp22.com/event/dance-36258/2026-01-10/
LOCATION:LaHabana(名古屋)\, 名古屋市中区錦2-6-22 若山ビル3F\, 名古屋\, 463-0003\, 日本
CATEGORIES:レゲトン
END:VEVENT
BEGIN:VEVENT
DTSTART;TZID=Asia/Tokyo:20260110T180000
DTEND;TZID=Asia/Tokyo:20260110T200000
DTSTAMP:20260426T130452
CREATED:20220914T041231Z
LAST-MODIFIED:20220914T041231Z
UID:10264707-1768068000-1768075200@dance.gdp22.com
SUMMARY:オスメルCuban　SALSA　 レゲトン　レッスン　土曜日
DESCRIPTION:池袋LaRumba
URL:https://dance.gdp22.com/event/dance-34414/2026-01-10/
LOCATION:池袋la rumba\, 東京都豊島区池袋２丁目２３－２シャンテビルB1\, 池袋\, 171-0014\, 日本
CATEGORIES:キューバン,レゲトン
ATTACH;FMTTYPE=image/jpeg:https://dance.gdp22.com/wp-content/uploads/osmeru.jpg
END:VEVENT
BEGIN:VEVENT
DTSTART;TZID=Asia/Tokyo:20260112T211500
DTEND;TZID=Asia/Tokyo:20260112T220000
DTSTAMP:20260426T130452
CREATED:20220930T041246Z
LAST-MODIFIED:20221014T160740Z
UID:10275642-1768252500-1768255200@dance.gdp22.com
SUMMARY:レゲトン LaHabana
DESCRIPTION:料金・詳細は公式参照 \nhttps://www.lahabana.co.jp/price/?studioid=173&anchor/#block \nLaHabana(名古屋)
URL:https://dance.gdp22.com/event/dance-36325/2026-01-12/
LOCATION:LaHabana(名古屋)\, 名古屋市中区錦2-6-22 若山ビル3F\, 名古屋\, 463-0003\, 日本
CATEGORIES:レゲトン
END:VEVENT
BEGIN:VEVENT
DTSTART;TZID=Asia/Tokyo:20260114T140000
DTEND;TZID=Asia/Tokyo:20260114T144500
DTSTAMP:20260426T130452
CREATED:20220930T034444Z
LAST-MODIFIED:20221014T161058Z
UID:10276979-1768399200-1768401900@dance.gdp22.com
SUMMARY:レゲトン LaHabana
DESCRIPTION:料金・詳細は公式参照 \nhttps://www.lahabana.co.jp/price/?studioid=173&anchor/#block \nLaHabana(名古屋)
URL:https://dance.gdp22.com/event/dance-36206/2026-01-14/
LOCATION:LaHabana(名古屋)\, 名古屋市中区錦2-6-22 若山ビル3F\, 名古屋\, 463-0003\, 日本
CATEGORIES:レゲトン
END:VEVENT
BEGIN:VEVENT
DTSTART;TZID=Asia/Tokyo:20260114T200000
DTEND;TZID=Asia/Tokyo:20260114T204500
DTSTAMP:20260426T130452
CREATED:20220930T045233Z
LAST-MODIFIED:20221014T171141Z
UID:10277523-1768420800-1768423500@dance.gdp22.com
SUMMARY:レゲトン LaHabana
DESCRIPTION:料金・詳細は公式参照 \nhttps://www.lahabana.co.jp/price/?studioid=173&anchor/#block \nLaHabana(名古屋)
URL:https://dance.gdp22.com/event/dance-36504/2026-01-14/
LOCATION:LaHabana 栄校 Sahara (名古屋)\, 愛知県名古屋市中区錦3丁目7-12 錦クリスタルビル4F\, 名古屋\, 460-0003\, 日本
CATEGORIES:レゲトン
END:VEVENT
BEGIN:VEVENT
DTSTART;TZID=Asia/Tokyo:20260115T213000
DTEND;TZID=Asia/Tokyo:20260115T221500
DTSTAMP:20260426T130452
CREATED:20220930T042238Z
LAST-MODIFIED:20221014T160632Z
UID:10279155-1768512600-1768515300@dance.gdp22.com
SUMMARY:レゲトン LaHabana
DESCRIPTION:料金・詳細は公式参照 \nhttps://www.lahabana.co.jp/price/?studioid=173&anchor/#block \nLaHabana(名古屋)
URL:https://dance.gdp22.com/event/dance-36364/2026-01-15/
LOCATION:LaHabana(名古屋)\, 名古屋市中区錦2-6-22 若山ビル3F\, 名古屋\, 463-0003\, 日本
CATEGORIES:レゲトン
END:VEVENT
BEGIN:VEVENT
DTSTART;TZID=Asia/Tokyo:20260116T190000
DTEND;TZID=Asia/Tokyo:20260116T194500
DTSTAMP:20260426T130452
CREATED:20220620T030419Z
LAST-MODIFIED:20220620T030419Z
UID:10225690-1768590000-1768592700@dance.gdp22.com
SUMMARY:レゲトン By Osmel
DESCRIPTION:レゲトン \nOsmel \nhttps://www.studio-casino.com/%E4%BD%93%E9%A8%93%E3%83%AC%E3%83%83%E3%82%B9%E3%83%B3-%E5%88%9D%E3%82%81%E3%81%A6%E3%81%AE%E6%96%B9/%E6%96%99%E9%87%91/
URL:https://dance.gdp22.com/event/dance-7813/2026-01-16/
LOCATION:六本木ダンススタジオカシーノ\, 東京都港区六本木5-2-4第二鳥勝ビル四階\, 六本木\, 106-0032\, 日本
CATEGORIES:レゲトン
END:VEVENT
BEGIN:VEVENT
DTSTART;TZID=Asia/Tokyo:20260117T114500
DTEND;TZID=Asia/Tokyo:20260117T123000
DTSTAMP:20260426T130452
CREATED:20220930T035452Z
LAST-MODIFIED:20221014T162227Z
UID:10271352-1768650300-1768653000@dance.gdp22.com
SUMMARY:レゲトン LaHabana
DESCRIPTION:料金・詳細は公式参照 \nhttps://www.lahabana.co.jp/price/?studioid=173&anchor/#block \nLaHabana(名古屋)
URL:https://dance.gdp22.com/event/dance-36258/2026-01-17/
LOCATION:LaHabana(名古屋)\, 名古屋市中区錦2-6-22 若山ビル3F\, 名古屋\, 463-0003\, 日本
CATEGORIES:レゲトン
END:VEVENT
BEGIN:VEVENT
DTSTART;TZID=Asia/Tokyo:20260117T180000
DTEND;TZID=Asia/Tokyo:20260117T200000
DTSTAMP:20260426T130452
CREATED:20220914T041231Z
LAST-MODIFIED:20220914T041231Z
UID:10264708-1768672800-1768680000@dance.gdp22.com
SUMMARY:オスメルCuban　SALSA　 レゲトン　レッスン　土曜日
DESCRIPTION:池袋LaRumba
URL:https://dance.gdp22.com/event/dance-34414/2026-01-17/
LOCATION:池袋la rumba\, 東京都豊島区池袋２丁目２３－２シャンテビルB1\, 池袋\, 171-0014\, 日本
CATEGORIES:キューバン,レゲトン
ATTACH;FMTTYPE=image/jpeg:https://dance.gdp22.com/wp-content/uploads/osmeru.jpg
END:VEVENT
BEGIN:VEVENT
DTSTART;TZID=Asia/Tokyo:20260119T211500
DTEND;TZID=Asia/Tokyo:20260119T220000
DTSTAMP:20260426T130452
CREATED:20220930T041246Z
LAST-MODIFIED:20221014T160740Z
UID:10275643-1768857300-1768860000@dance.gdp22.com
SUMMARY:レゲトン LaHabana
DESCRIPTION:料金・詳細は公式参照 \nhttps://www.lahabana.co.jp/price/?studioid=173&anchor/#block \nLaHabana(名古屋)
URL:https://dance.gdp22.com/event/dance-36325/2026-01-19/
LOCATION:LaHabana(名古屋)\, 名古屋市中区錦2-6-22 若山ビル3F\, 名古屋\, 463-0003\, 日本
CATEGORIES:レゲトン
END:VEVENT
BEGIN:VEVENT
DTSTART;TZID=Asia/Tokyo:20260121T140000
DTEND;TZID=Asia/Tokyo:20260121T144500
DTSTAMP:20260426T130452
CREATED:20220930T034444Z
LAST-MODIFIED:20221014T161058Z
UID:10276980-1769004000-1769006700@dance.gdp22.com
SUMMARY:レゲトン LaHabana
DESCRIPTION:料金・詳細は公式参照 \nhttps://www.lahabana.co.jp/price/?studioid=173&anchor/#block \nLaHabana(名古屋)
URL:https://dance.gdp22.com/event/dance-36206/2026-01-21/
LOCATION:LaHabana(名古屋)\, 名古屋市中区錦2-6-22 若山ビル3F\, 名古屋\, 463-0003\, 日本
CATEGORIES:レゲトン
END:VEVENT
BEGIN:VEVENT
DTSTART;TZID=Asia/Tokyo:20260121T200000
DTEND;TZID=Asia/Tokyo:20260121T204500
DTSTAMP:20260426T130452
CREATED:20220930T045233Z
LAST-MODIFIED:20221014T171141Z
UID:10277524-1769025600-1769028300@dance.gdp22.com
SUMMARY:レゲトン LaHabana
DESCRIPTION:料金・詳細は公式参照 \nhttps://www.lahabana.co.jp/price/?studioid=173&anchor/#block \nLaHabana(名古屋)
URL:https://dance.gdp22.com/event/dance-36504/2026-01-21/
LOCATION:LaHabana 栄校 Sahara (名古屋)\, 愛知県名古屋市中区錦3丁目7-12 錦クリスタルビル4F\, 名古屋\, 460-0003\, 日本
CATEGORIES:レゲトン
END:VEVENT
BEGIN:VEVENT
DTSTART;TZID=Asia/Tokyo:20260122T213000
DTEND;TZID=Asia/Tokyo:20260122T221500
DTSTAMP:20260426T130452
CREATED:20220930T042238Z
LAST-MODIFIED:20221014T160632Z
UID:10279156-1769117400-1769120100@dance.gdp22.com
SUMMARY:レゲトン LaHabana
DESCRIPTION:料金・詳細は公式参照 \nhttps://www.lahabana.co.jp/price/?studioid=173&anchor/#block \nLaHabana(名古屋)
URL:https://dance.gdp22.com/event/dance-36364/2026-01-22/
LOCATION:LaHabana(名古屋)\, 名古屋市中区錦2-6-22 若山ビル3F\, 名古屋\, 463-0003\, 日本
CATEGORIES:レゲトン
END:VEVENT
BEGIN:VEVENT
DTSTART;TZID=Asia/Tokyo:20260123T190000
DTEND;TZID=Asia/Tokyo:20260123T194500
DTSTAMP:20260426T130452
CREATED:20220620T030419Z
LAST-MODIFIED:20220620T030419Z
UID:10225691-1769194800-1769197500@dance.gdp22.com
SUMMARY:レゲトン By Osmel
DESCRIPTION:レゲトン \nOsmel \nhttps://www.studio-casino.com/%E4%BD%93%E9%A8%93%E3%83%AC%E3%83%83%E3%82%B9%E3%83%B3-%E5%88%9D%E3%82%81%E3%81%A6%E3%81%AE%E6%96%B9/%E6%96%99%E9%87%91/
URL:https://dance.gdp22.com/event/dance-7813/2026-01-23/
LOCATION:六本木ダンススタジオカシーノ\, 東京都港区六本木5-2-4第二鳥勝ビル四階\, 六本木\, 106-0032\, 日本
CATEGORIES:レゲトン
END:VEVENT
BEGIN:VEVENT
DTSTART;TZID=Asia/Tokyo:20260124T114500
DTEND;TZID=Asia/Tokyo:20260124T123000
DTSTAMP:20260426T130452
CREATED:20220930T035452Z
LAST-MODIFIED:20221014T162227Z
UID:10271353-1769255100-1769257800@dance.gdp22.com
SUMMARY:レゲトン LaHabana
DESCRIPTION:料金・詳細は公式参照 \nhttps://www.lahabana.co.jp/price/?studioid=173&anchor/#block \nLaHabana(名古屋)
URL:https://dance.gdp22.com/event/dance-36258/2026-01-24/
LOCATION:LaHabana(名古屋)\, 名古屋市中区錦2-6-22 若山ビル3F\, 名古屋\, 463-0003\, 日本
CATEGORIES:レゲトン
END:VEVENT
BEGIN:VEVENT
DTSTART;TZID=Asia/Tokyo:20260124T180000
DTEND;TZID=Asia/Tokyo:20260124T200000
DTSTAMP:20260426T130452
CREATED:20220914T041231Z
LAST-MODIFIED:20220914T041231Z
UID:10264709-1769277600-1769284800@dance.gdp22.com
SUMMARY:オスメルCuban　SALSA　 レゲトン　レッスン　土曜日
DESCRIPTION:池袋LaRumba
URL:https://dance.gdp22.com/event/dance-34414/2026-01-24/
LOCATION:池袋la rumba\, 東京都豊島区池袋２丁目２３－２シャンテビルB1\, 池袋\, 171-0014\, 日本
CATEGORIES:キューバン,レゲトン
ATTACH;FMTTYPE=image/jpeg:https://dance.gdp22.com/wp-content/uploads/osmeru.jpg
END:VEVENT
BEGIN:VEVENT
DTSTART;TZID=Asia/Tokyo:20260124T200000
DTEND;TZID=Asia/Tokyo:20260124T233000
DTSTAMP:20260426T130452
CREATED:20220921T023923Z
LAST-MODIFIED:20220930T142602Z
UID:10267295-1769284800-1769297400@dance.gdp22.com
SUMMARY:Cuban Salsa Lesson  by Anayanci
DESCRIPTION:第四土曜　CUBAN　SALSA　Lesson \nInstructor by アナヤンシ\n20:00~20:45　レゲトン\n20:45~21:30　キューバンサルサ\n21:30~Freetime\n2000円(1ﾄﾞﾘﾝｸ)
URL:https://dance.gdp22.com/event/dance-34979/2026-01-24/
LOCATION:アモーレ厚木（Amore Atsugi)\, 神奈川県厚木市中町２丁目１３−１３　2階\, 厚木\, 243-0018\, 日本
CATEGORIES:キューバン,ソーシャル,レゲトン
ATTACH;FMTTYPE=image/jpeg:https://dance.gdp22.com/wp-content/uploads/image-2-2.jpg
END:VEVENT
BEGIN:VEVENT
DTSTART;TZID=Asia/Tokyo:20260126T211500
DTEND;TZID=Asia/Tokyo:20260126T220000
DTSTAMP:20260426T130452
CREATED:20220930T041246Z
LAST-MODIFIED:20221014T160740Z
UID:10275644-1769462100-1769464800@dance.gdp22.com
SUMMARY:レゲトン LaHabana
DESCRIPTION:料金・詳細は公式参照 \nhttps://www.lahabana.co.jp/price/?studioid=173&anchor/#block \nLaHabana(名古屋)
URL:https://dance.gdp22.com/event/dance-36325/2026-01-26/
LOCATION:LaHabana(名古屋)\, 名古屋市中区錦2-6-22 若山ビル3F\, 名古屋\, 463-0003\, 日本
CATEGORIES:レゲトン
END:VEVENT
BEGIN:VEVENT
DTSTART;TZID=Asia/Tokyo:20260128T140000
DTEND;TZID=Asia/Tokyo:20260128T144500
DTSTAMP:20260426T130452
CREATED:20220930T034444Z
LAST-MODIFIED:20221014T161058Z
UID:10276981-1769608800-1769611500@dance.gdp22.com
SUMMARY:レゲトン LaHabana
DESCRIPTION:料金・詳細は公式参照 \nhttps://www.lahabana.co.jp/price/?studioid=173&anchor/#block \nLaHabana(名古屋)
URL:https://dance.gdp22.com/event/dance-36206/2026-01-28/
LOCATION:LaHabana(名古屋)\, 名古屋市中区錦2-6-22 若山ビル3F\, 名古屋\, 463-0003\, 日本
CATEGORIES:レゲトン
END:VEVENT
BEGIN:VEVENT
DTSTART;TZID=Asia/Tokyo:20260128T200000
DTEND;TZID=Asia/Tokyo:20260128T204500
DTSTAMP:20260426T130452
CREATED:20220930T045233Z
LAST-MODIFIED:20221014T171141Z
UID:10277525-1769630400-1769633100@dance.gdp22.com
SUMMARY:レゲトン LaHabana
DESCRIPTION:料金・詳細は公式参照 \nhttps://www.lahabana.co.jp/price/?studioid=173&anchor/#block \nLaHabana(名古屋)
URL:https://dance.gdp22.com/event/dance-36504/2026-01-28/
LOCATION:LaHabana 栄校 Sahara (名古屋)\, 愛知県名古屋市中区錦3丁目7-12 錦クリスタルビル4F\, 名古屋\, 460-0003\, 日本
CATEGORIES:レゲトン
END:VEVENT
BEGIN:VEVENT
DTSTART;TZID=Asia/Tokyo:20260129T213000
DTEND;TZID=Asia/Tokyo:20260129T221500
DTSTAMP:20260426T130452
CREATED:20220930T042238Z
LAST-MODIFIED:20221014T160632Z
UID:10279157-1769722200-1769724900@dance.gdp22.com
SUMMARY:レゲトン LaHabana
DESCRIPTION:料金・詳細は公式参照 \nhttps://www.lahabana.co.jp/price/?studioid=173&anchor/#block \nLaHabana(名古屋)
URL:https://dance.gdp22.com/event/dance-36364/2026-01-29/
LOCATION:LaHabana(名古屋)\, 名古屋市中区錦2-6-22 若山ビル3F\, 名古屋\, 463-0003\, 日本
CATEGORIES:レゲトン
END:VEVENT
END:VCALENDAR