BEGIN:VCALENDAR
VERSION:2.0
PRODID:-//Dancing Pono (ダンシングポノ) - ECPv6.15.12//NONSGML v1.0//EN
CALSCALE:GREGORIAN
METHOD:PUBLISH
X-WR-CALNAME:Dancing Pono (ダンシングポノ)
X-ORIGINAL-URL:https://dance.gdp22.com
X-WR-CALDESC:Dancing Pono (ダンシングポノ) のイベント
REFRESH-INTERVAL;VALUE=DURATION:PT1H
X-Robots-Tag:noindex
X-PUBLISHED-TTL:PT1H
BEGIN:VTIMEZONE
TZID:Asia/Tokyo
BEGIN:STANDARD
TZOFFSETFROM:+0900
TZOFFSETTO:+0900
TZNAME:JST
DTSTART:20220101T000000
END:STANDARD
END:VTIMEZONE
BEGIN:VEVENT
DTSTART;TZID=Asia/Tokyo:20260420T211500
DTEND;TZID=Asia/Tokyo:20260420T220000
DTSTAMP:20260421T045937
CREATED:20220930T041246Z
LAST-MODIFIED:20221014T160740Z
UID:10275656-1776719700-1776722400@dance.gdp22.com
SUMMARY:レゲトン LaHabana
DESCRIPTION:料金・詳細は公式参照 \nhttps://www.lahabana.co.jp/price/?studioid=173&anchor/#block \nLaHabana(名古屋)
URL:https://dance.gdp22.com/event/dance-36325/2026-04-20/
LOCATION:LaHabana(名古屋)\, 名古屋市中区錦2-6-22 若山ビル3F\, 名古屋\, 463-0003\, 日本
CATEGORIES:レゲトン
END:VEVENT
BEGIN:VEVENT
DTSTART;TZID=Asia/Tokyo:20260418T180000
DTEND;TZID=Asia/Tokyo:20260418T200000
DTSTAMP:20260421T045937
CREATED:20220914T041231Z
LAST-MODIFIED:20220914T041231Z
UID:10264721-1776535200-1776542400@dance.gdp22.com
SUMMARY:オスメルCuban　SALSA　 レゲトン　レッスン　土曜日
DESCRIPTION:池袋LaRumba
URL:https://dance.gdp22.com/event/dance-34414/2026-04-18/
LOCATION:池袋la rumba\, 東京都豊島区池袋２丁目２３－２シャンテビルB1\, 池袋\, 171-0014\, 日本
CATEGORIES:キューバン,レゲトン
ATTACH;FMTTYPE=image/jpeg:https://dance.gdp22.com/wp-content/uploads/osmeru.jpg
END:VEVENT
BEGIN:VEVENT
DTSTART;TZID=Asia/Tokyo:20260418T114500
DTEND;TZID=Asia/Tokyo:20260418T123000
DTSTAMP:20260421T045937
CREATED:20220930T035452Z
LAST-MODIFIED:20221014T162227Z
UID:10271365-1776512700-1776515400@dance.gdp22.com
SUMMARY:レゲトン LaHabana
DESCRIPTION:料金・詳細は公式参照 \nhttps://www.lahabana.co.jp/price/?studioid=173&anchor/#block \nLaHabana(名古屋)
URL:https://dance.gdp22.com/event/dance-36258/2026-04-18/
LOCATION:LaHabana(名古屋)\, 名古屋市中区錦2-6-22 若山ビル3F\, 名古屋\, 463-0003\, 日本
CATEGORIES:レゲトン
END:VEVENT
BEGIN:VEVENT
DTSTART;TZID=Asia/Tokyo:20260417T190000
DTEND;TZID=Asia/Tokyo:20260417T194500
DTSTAMP:20260421T045937
CREATED:20220620T030419Z
LAST-MODIFIED:20220620T030419Z
UID:10225703-1776452400-1776455100@dance.gdp22.com
SUMMARY:レゲトン By Osmel
DESCRIPTION:レゲトン \nOsmel \nhttps://www.studio-casino.com/%E4%BD%93%E9%A8%93%E3%83%AC%E3%83%83%E3%82%B9%E3%83%B3-%E5%88%9D%E3%82%81%E3%81%A6%E3%81%AE%E6%96%B9/%E6%96%99%E9%87%91/
URL:https://dance.gdp22.com/event/dance-7813/2026-04-17/
LOCATION:六本木ダンススタジオカシーノ\, 東京都港区六本木5-2-4第二鳥勝ビル四階\, 六本木\, 106-0032\, 日本
CATEGORIES:レゲトン
END:VEVENT
BEGIN:VEVENT
DTSTART;TZID=Asia/Tokyo:20260416T213000
DTEND;TZID=Asia/Tokyo:20260416T221500
DTSTAMP:20260421T045937
CREATED:20220930T042238Z
LAST-MODIFIED:20221014T160632Z
UID:10279168-1776375000-1776377700@dance.gdp22.com
SUMMARY:レゲトン LaHabana
DESCRIPTION:料金・詳細は公式参照 \nhttps://www.lahabana.co.jp/price/?studioid=173&anchor/#block \nLaHabana(名古屋)
URL:https://dance.gdp22.com/event/dance-36364/2026-04-16/
LOCATION:LaHabana(名古屋)\, 名古屋市中区錦2-6-22 若山ビル3F\, 名古屋\, 463-0003\, 日本
CATEGORIES:レゲトン
END:VEVENT
BEGIN:VEVENT
DTSTART;TZID=Asia/Tokyo:20260415T200000
DTEND;TZID=Asia/Tokyo:20260415T204500
DTSTAMP:20260421T045937
CREATED:20220930T045233Z
LAST-MODIFIED:20221014T171141Z
UID:10277536-1776283200-1776285900@dance.gdp22.com
SUMMARY:レゲトン LaHabana
DESCRIPTION:料金・詳細は公式参照 \nhttps://www.lahabana.co.jp/price/?studioid=173&anchor/#block \nLaHabana(名古屋)
URL:https://dance.gdp22.com/event/dance-36504/2026-04-15/
LOCATION:LaHabana 栄校 Sahara (名古屋)\, 愛知県名古屋市中区錦3丁目7-12 錦クリスタルビル4F\, 名古屋\, 460-0003\, 日本
CATEGORIES:レゲトン
END:VEVENT
BEGIN:VEVENT
DTSTART;TZID=Asia/Tokyo:20260415T140000
DTEND;TZID=Asia/Tokyo:20260415T144500
DTSTAMP:20260421T045937
CREATED:20220930T034444Z
LAST-MODIFIED:20221014T161058Z
UID:10276992-1776261600-1776264300@dance.gdp22.com
SUMMARY:レゲトン LaHabana
DESCRIPTION:料金・詳細は公式参照 \nhttps://www.lahabana.co.jp/price/?studioid=173&anchor/#block \nLaHabana(名古屋)
URL:https://dance.gdp22.com/event/dance-36206/2026-04-15/
LOCATION:LaHabana(名古屋)\, 名古屋市中区錦2-6-22 若山ビル3F\, 名古屋\, 463-0003\, 日本
CATEGORIES:レゲトン
END:VEVENT
BEGIN:VEVENT
DTSTART;TZID=Asia/Tokyo:20260328T200000
DTEND;TZID=Asia/Tokyo:20260328T233000
DTSTAMP:20260421T045937
CREATED:20220921T023923Z
LAST-MODIFIED:20220930T142602Z
UID:10267297-1774728000-1774740600@dance.gdp22.com
SUMMARY:Cuban Salsa Lesson  by Anayanci
DESCRIPTION:第四土曜　CUBAN　SALSA　Lesson \nInstructor by アナヤンシ\n20:00~20:45　レゲトン\n20:45~21:30　キューバンサルサ\n21:30~Freetime\n2000円(1ﾄﾞﾘﾝｸ)
URL:https://dance.gdp22.com/event/dance-34979/2026-03-28/
LOCATION:アモーレ厚木（Amore Atsugi)\, 神奈川県厚木市中町２丁目１３−１３　2階\, 厚木\, 243-0018\, 日本
CATEGORIES:キューバン,ソーシャル,レゲトン
ATTACH;FMTTYPE=image/jpeg:https://dance.gdp22.com/wp-content/uploads/image-2-2.jpg
END:VEVENT
BEGIN:VEVENT
DTSTART;TZID=Asia/Tokyo:20231231T210000
DTEND;TZID=Asia/Tokyo:20240101T050000
DTSTAMP:20260421T045937
CREATED:20231216T013421Z
LAST-MODIFIED:20231216T013421Z
UID:10205798-1704056400-1704085200@dance.gdp22.com
SUMMARY:🥂Countdown & New Year Latin Party 2023-2024🥂
DESCRIPTION:今年も残すところあとわずか\n2023年の締めくくりは、DJ陣のカッコいい音楽&エルコヨーテの美味しいお酒&最高の仲間とラテンの雰囲気で楽しく過ごそうそして一緒に2024年を迎えよう〜新年一発目のサルゥ〜(スペイン語で乾杯っ)するよーーー\nReggaeton♪Cubaton♪Salsa♪Bachata ♪Pops♪Merengue♪いろいろまわすよ\nラテンパーティー初めての人も、エルコヨーテ初めての人も大丈夫飲んで踊って盛り上がろうーーー\nFiesta de Fin de Año!!! Celebremos el Año Nuevo juntos! Nos vemos en El Coyote \nCountdown & New Year Latin Party 2023-2024\n12/31 (Sun.)\n@ El Coyote Kyoto\n21:00- Open\nLatin DJs: Yoanny\, Yohei capri\nSalsa\, Bachata\, Merengue\, Reggaeton\, Cubaton\, Trap\, Dembow\, Baile Funk\, Cumbia Argentina\, Latin Pops\, Latin Hip Hop…and more\nEntrance charge: ¥2\,000 w/ 1drink\n➡︎El Coyote Official LINE Amigos ¥1\,500 w/ 1drink\n(当日DoorでのLINE登録は不可)
URL:https://dance.gdp22.com/event/dance-58143/
LOCATION:京都エル コヨーテ\, 京都府京都市中京区南車屋町２８０−１ キャニオンテラス 4F\, 京都\, 604-8022\, 日本
CATEGORIES:クリスマスイベント・忘年会・カウントダウン・初踊り,サルサ,メレンゲ,バチャータ,ソーシャル,レゲトン
ATTACH;FMTTYPE=image/jpeg:https://dance.gdp22.com/wp-content/uploads/410368851_885639130234757_2367519202586533431_n.jpg
END:VEVENT
BEGIN:VEVENT
DTSTART;TZID=Asia/Tokyo:20231231T190000
DTEND;TZID=Asia/Tokyo:20240101T050000
DTSTAMP:20260421T045937
CREATED:20231210T034512Z
LAST-MODIFIED:20231210T034512Z
UID:10205790-1704049200-1704085200@dance.gdp22.com
SUMMARY:BACHATA COUNTDOWN 2024
DESCRIPTION:BACHATA COUNTDOWN 2024\nEnglish bellow\n皆でカウントダウンして、乾杯しましょう\nそして朝まで踊ろう\n選曲はバチャータを中心にサルサ、キゾンバ、メレンゲ、レゲトンもかかります\nせっかくなので、いつもより少しおしゃれな装いで参加しませんか？\n紅白にちなんで赤又は白を取り入れたファッションも大歓迎です\nもちろん普段通りの格好でも大丈夫です\nレッスンはRyuによるキゾンバとバチャータです。アシスタントはJasmine & Mayu\nU30割引\n30歳未満の方はレッスン無料になります\n★DJ軍団\n☆DJ Jasmine\n☆DJ Masa Q\n☆DJ Maririn\n☆DJ Ryu\n★ゲストダンサー\n☆Mayu\n☆Shaoyi\n☆Yazoo\n◆日時：12/31 (日)\n19:00 オープン\n19:15 キゾンバレッスン\n20:10 センシュアルバチャータレッスン\n21:00-5:00 パーティー\n24:00 カウントダウン\n◆ 場所：Bar Mirage Roppongi 東京都港区六本木3-14-14 VORT六本木kaleido 5階106-0032 Tel: 03-5840-6946 http://barmirage.tokyo\n◆入場料\n予約: ¥3000 (2ドリンク付)\n当日: ¥3500 (2ドリンク付)\n◆レッスン料金\n1コマ: ¥1000\n2コマ: ¥1500\n※30歳未満の方はレッスン無料になります\n※振替チケットご利用可能\n※レッスンのみの参加不可\n◆予約方法 (２つのオプション有り)\n① Facebookイベントページの「参加」をクリックして下さい。\nhttps://m.facebook.com/events/376823418017583/\n②bachatarepublic@yahoo.co.jpにメール予約\n※お申込み締め切り12/30(土) 24:00\n◆情報\n【FB】https://www.facebook.com/ryu.kameda\n【IG】instagram.com/ryu_palante/\n【HP】https://palantedc.jimdofree.com\n【LINE】https://line.me/ti/p/83bBEgYn4Q\n【BLOG】https://ameblo.jp/bachata-republic/\n【MAIL】palantedc@yahoo.co.jp\n\nENGLISHENGLISHENGLISH\nBACHATA COUNTDOWN 2024\nLet’s celebrate new year at the rhythm of Bachata until morning\nMusic selection will be mainly bachata with salsa\, Kizomba\, merengue and Regueton as well\nLessons fee free for those under 30 years old \n★DJ Team\n☆DJ Jasmine\n☆DJ Masa Q\n☆DJ Maririn\n☆DJ Ryu\n★Guest dancers\n☆Mayu\n☆Shaoyi\n☆Yazoo\n◆Date: 12/31(Sun)\n19:00 Open\n19:15 Kizomba Lesson\n20:10 Sensual Bachata Lesson\n21:00-5:00 Party\n24:00 Countdown\n◆ Place: Bar Mirage Roppongi\n5F VORT Roppongi kaleido\, 3-14-14 Roppongi\, Minato-ku\, Tokyo 106-0032 Tel: 03-5840-6946 http://barmirage.tokyo\n◆Entrance Fee\nReservation: 3000yen (2 Drinks included)\nDoor: 3500yen (2 Drinks included)\n◆Lesson fee\n1 Lesson: 1000yen\n2 Lesson: 1500yen\n*Lessons fee free for those under 30 years\n*Furikae tickets can be used\n*Lesson only not allowed\n◆Reservations (There is 2 options)\n①Click going on Facebook event page\nhttps://m.facebook.com/events/376823418017583/\n②Mail to bachatarepublic@yahoo.co.jp ※Deadline 12/30(Sat) 24:00\n◆Info\n【FB】https://www.facebook.com/ryu.kameda\n【IG】instagram.com/ryu_palante/\n【HP】https://palantedc.jimdofree.com\n【LINE】https://line.me/ti/p/83bBEgYn4Q\n【BLOG】https://ameblo.jp/bachata-republic/\n【MAIL】palantedc@yahoo.co.jp
URL:https://dance.gdp22.com/event/bachata-countdown-2024/
LOCATION:六本木 Bar Mirage\, 東京都港区六本木3-14-14 VORT六本木kaleido 5階\, 六本木\, 106-0032\, 日本
CATEGORIES:クリスマスイベント・忘年会・カウントダウン・初踊り,サルサ,メレンゲ,バチャータ,キゾンバ,ソーシャル,レゲトン
ATTACH;FMTTYPE=image/jpeg:https://dance.gdp22.com/wp-content/uploads/404339478_10223708520081770_1418421713753021446_n.jpg
END:VEVENT
BEGIN:VEVENT
DTSTART;TZID=Asia/Tokyo:20231230T180000
DTEND;TZID=Asia/Tokyo:20231230T213000
DTSTAMP:20260421T045937
CREATED:20231221T042844Z
LAST-MODIFIED:20231221T043003Z
UID:10195061-1703959200-1703971800@dance.gdp22.com
SUMMARY:Latin Dance Night& El Combo Creacion Live 12/30
DESCRIPTION:English version below\n日本を代表するサルサバンドが広尾にやってきます！！\n日本の名だたるサルサクラブで大活躍中の老舗サルサバンドEl Combo Creaciónが、おしゃれな大人の街広尾をラテンの色に染めていきます！落ち着いた大人の雰囲気でダンスやお食事をお楽しみください！\nOrquesta Salsera EL COMBO CREACION\nサルサバンド　”エル・コンボ・クレアシオン”\nペルーの人気サルサバンドCombo Espectaculo Creacionのメンバーとして活躍した在日トランペッター、モイセス・アウリスによって１９９６年１月に結成。同年２月、群馬県のディスコにてデビュー。１９９８年１０月、川崎クラブチッタにてオルケスタ・デル・ソルとのイベントにて２０００人の観客を動員。その後も全国各地でライブを展開し、日本や海外の様々なアーティストとも共演。現在まで日本の老舗オルケスタとして活動を続け、２０１６年に結成２０周年を迎えた。\nバンドの編成は、ピアノ、ベース、ティンバレス、コンガ、ボンゴ、トランペット、トロンボーン、ヴォーカル２−４名\nレパートリーはサルサだけでなくティンバ、バチャータ、メレンゲ、クンビア、レゲトンなど多岐にわたる。\nご予約は、お名前と参加人数をこちらにメッセージを頂くか、お店に直接お電話(03-3444-2525)いただくか、cafelavida@blueglobe.jpにメールをお願いします。\n日時：１２月３０日（土）\nopen 18:00 Live start 19:30\n場所：CAFE LA VIDA\nミュージックチャージ：２８００円\nLooking for something different during the night in Tokyo? Every month\, last Saturday\, salsa band\, EL COMBO CREACION at the Cuban spot\, CAFE LA VIDA. In a relax and friendly atmosphere live music and dance can be enjoyed while trying out some of the cuban food dishes suggested in the menu.\nFor reservation send us a message via Facebook messenger\, cafelavida@blueglobe.jp or just call the restaurant to 0334442525. We speak\, Japanese\, English\, French and Spanish.\nDate: December 30th \,Saturday\nPlace: Cuban Food Live Restaurant\, CAFE LA VIDA.\nOpen: 18:00\nStart : 19:30\nMC : ￥2800\nHow to get there: Get on HIbiya line and get off at HIroo’s Station\, get out of the station by exit 2 and turn to you right\, then turn right again at the corner. Walk alone the street towards the end ( about 200 m away) CAFE LA VIDA is almost at the en of the street on your right.\n\n※会場などは要主催者問い合わせにて
URL:https://dance.gdp22.com/event/el-combo-creacion-live/
CATEGORIES:クリスマスイベント・忘年会・カウントダウン・初踊り,サルサ,メレンゲ,バチャータ,楽器練習,レゲトン
ATTACH;FMTTYPE=image/jpeg:https://dance.gdp22.com/wp-content/uploads/406733901_845099087621214_6867984477002238525_n.jpg
END:VEVENT
BEGIN:VEVENT
DTSTART;TZID=Asia/Tokyo:20230826T170000
DTEND;TZID=Asia/Tokyo:20230826T213000
DTSTAMP:20260421T045937
CREATED:20230705T040835Z
LAST-MODIFIED:20230717T024804Z
UID:10189302-1693069200-1693085400@dance.gdp22.com
SUMMARY:ZUSHI BEACH SALSA BACHATA PARTY!
DESCRIPTION:神奈川県逗子市新宿1-3-15 \n7/15 SATSABADO! 土曜日\n*7/29 SATもあります\n*ZUSHI BEACH ♪ SALSA PARTY! VOL:6\nhttps://fb.me/e/XagrIYjF\nさぁ〜皆さんそろそろ今年の夏始まります今年も夏!!!..最高に一緒に楽しみましょう♪!!!サルサ!!\,SALSA!! BACHATA!!..REGGAETON!..ALL LATIN ..皆さんの参加楽しくお待ちしてます!!♪\n\n*場所:ZUSHI BEACH!(CANTINA SEASIDE ITALIAN) .. カンティーナ 逗子店\n神奈川県逗子市新宿1-3-15\nＪＲ「逗子駅」徒歩12分\n京急「新逗子駅」徒歩12分\n*時間:17:00~21:30\n\n17:30~18:20-BACHATA LESSON BY:KARIN先生皆さんどうぞLESSON から参加して下さいね\nKARIN先生…(スペイン滞在中にバチャータに出会い、現地でアシスタントを経てインストラクターを経験。帰国後「トビタテ留学JAPAN」の奨学生として再びスペインでのバチャータ留学を実現。「楽しく、そして着実に。」をレッスンのモットーに、現在は神奈川・東京を中心に活動。皆さん楽しくお待ちしてます!!\n20:30~SPECIAL SHOW SAMBA BRASIL  DANCE  BY:CHISATO先生! 皆さん見に来て下さい\n20:30~PERFORMANCE POPI Y YAYI COMPANY !!…CUBAN SALSA AND & COLUMBIA PERFORMANCE (皆さん見に来て下さいね\n*ORGANIZER: SALSA BACHATA PARTY DJ CARLOS\n-ZUSHI BAR LATINO (LEO)\n-ZUSHI CANTINA SEASIDE(ITALIAN RESTAURANT)
URL:https://dance.gdp22.com/event/zushi-beach-salsa-bachata-party/2023-08-26/
CATEGORIES:サルサ,ビーチ・野外イベント,バチャータ,ソーシャル,レゲトン
ATTACH;FMTTYPE=image/jpeg:https://dance.gdp22.com/wp-content/uploads/352314716_6592267634126681_506397711918451939_n.jpg
END:VEVENT
END:VCALENDAR