BEGIN:VCALENDAR
VERSION:2.0
PRODID:-//Dancing Pono (ダンシングポノ) - ECPv6.15.12//NONSGML v1.0//EN
CALSCALE:GREGORIAN
METHOD:PUBLISH
X-ORIGINAL-URL:https://dance.gdp22.com
X-WR-CALDESC:Dancing Pono (ダンシングポノ) のイベント
REFRESH-INTERVAL;VALUE=DURATION:PT1H
X-Robots-Tag:noindex
X-PUBLISHED-TTL:PT1H
BEGIN:VTIMEZONE
TZID:Asia/Tokyo
BEGIN:STANDARD
TZOFFSETFROM:+0900
TZOFFSETTO:+0900
TZNAME:JST
DTSTART:20250101T000000
END:STANDARD
END:VTIMEZONE
BEGIN:VEVENT
DTSTART;TZID=Asia/Tokyo:20260423T113000
DTEND;TZID=Asia/Tokyo:20260423T121500
DTSTAMP:20260421T082736
CREATED:20220930T045422Z
LAST-MODIFIED:20221014T170148Z
UID:10277820-1776943800-1776946500@dance.gdp22.com
SUMMARY:ジャズダンス LaHabana
DESCRIPTION:料金・詳細は公式参照 \nhttps://www.lahabana.co.jp/price/?studioid=173&anchor/#block \nLaHabana(名古屋)
URL:https://dance.gdp22.com/event/dance-36516/2026-04-23/
LOCATION:LaHabana 栄校 Sahara (名古屋)\, 愛知県名古屋市中区錦3丁目7-12 錦クリスタルビル4F\, 名古屋\, 460-0003\, 日本
CATEGORIES:モダンジャズ
END:VEVENT
BEGIN:VEVENT
DTSTART;TZID=Asia/Tokyo:20260423T201500
DTEND;TZID=Asia/Tokyo:20260423T210000
DTSTAMP:20260421T082736
CREATED:20220720T030604Z
LAST-MODIFIED:20220729T054833Z
UID:10243202-1776975300-1776978000@dance.gdp22.com
SUMMARY:モダンジャズ（中学生以上）By Merlino
DESCRIPTION:ダンスクラス（月4回）\n小学生まで 6\,600円／月謝\n中学生以上 8\,250円／月謝\n＊1回ずつのドロップインはダンススクールでは受け付けておりません。\nダンス取り放題（月何回でもOK）\n小学生 9\,900 円／月謝\n中学生 12\,100 円／月謝\n高校生・大学生16\,500 円／月謝\n大人22\,000円／月謝\nフィットネスクラス\nメンバーシップ 全クラス（スタジオ、オンライン） 受け放題\n11\,000 円／月謝\n1回ずつ 2\,750 円（スタジオ・オンラインとも）\nオンラインのみの受け放題（3週までのミニマム月10回のレッスン）\n11\,000円／月謝\nダンス＆フィットネスクラス取り放題（オンラインレッスンも含む）\n高校生・大学生 24\,200円／月謝\n大人 26\,400円／月謝\nダンスチケットメンバー\nダンス　7回分（使用日から5か月で使い切りでどのクラスにも使えます）\n高校生以上 ／22\,000円\nプライベートレッスン\n15分　2\,200円\n（30分以上でご予約ください）\n※料金は税込み表示です。
URL:https://dance.gdp22.com/event/dance-15542/2026-04-23/
LOCATION:守谷M-Style\, 茨城県守谷市御所ケ丘1-4-2\, 守谷\, 302-0119\, 日本
CATEGORIES:モダンジャズ
END:VEVENT
BEGIN:VEVENT
DTSTART;TZID=Asia/Tokyo:20260425T130000
DTEND;TZID=Asia/Tokyo:20260425T134500
DTSTAMP:20260421T082736
CREATED:20220930T050023Z
LAST-MODIFIED:20221014T170327Z
UID:10273680-1777122000-1777124700@dance.gdp22.com
SUMMARY:ジャズダンス LaHabana
DESCRIPTION:料金・詳細は公式参照 \nhttps://www.lahabana.co.jp/price/?studioid=173&anchor/#block \nLaHabana(名古屋)
URL:https://dance.gdp22.com/event/dance-36552/2026-04-25/
LOCATION:LaHabana 栄校 Sahara (名古屋)\, 愛知県名古屋市中区錦3丁目7-12 錦クリスタルビル4F\, 名古屋\, 460-0003\, 日本
CATEGORIES:モダンジャズ
END:VEVENT
END:VCALENDAR