BEGIN:VCALENDAR
VERSION:2.0
PRODID:-//Dancing Pono (ダンシングポノ) - ECPv6.15.12//NONSGML v1.0//EN
CALSCALE:GREGORIAN
METHOD:PUBLISH
X-ORIGINAL-URL:https://dance.gdp22.com
X-WR-CALDESC:Dancing Pono (ダンシングポノ) のイベント
REFRESH-INTERVAL;VALUE=DURATION:PT1H
X-Robots-Tag:noindex
X-PUBLISHED-TTL:PT1H
BEGIN:VTIMEZONE
TZID:Asia/Tokyo
BEGIN:STANDARD
TZOFFSETFROM:+0900
TZOFFSETTO:+0900
TZNAME:JST
DTSTART:20220101T000000
END:STANDARD
END:VTIMEZONE
BEGIN:VEVENT
DTSTART;TZID=Asia/Tokyo:20231225T183000
DTEND;TZID=Asia/Tokyo:20231225T224500
DTSTAMP:20260421T150521
CREATED:20231225T040212Z
LAST-MODIFIED:20231225T040212Z
UID:10205808-1703529000-1703544300@dance.gdp22.com
SUMMARY:Swing & Latin !! クリスマスど真ん中！！  ＜ダンス初心初級者のための月曜・日暮里サルー＞  スペシャルレッスンでWaltz Hustle !!!
DESCRIPTION:12/25(月)クリスマスど真ん中！！\nSwing & Latin\n＜ダンス初心初級者のための月曜・日暮里サルー＞\n＜スペシャルレッスンでWaltz Hustle !!!＞\nこの日の月曜・日暮里サルーはクリスマススペシャルLesson & CluBiscoタイム！\nそして、そしてこの日のHustleはいつものElegant Hustleではなく、\n初登場の Waltz Hustleレッスンとなります！！！\nまた、時間配分を考えWaltz Hustleを合計1時間予定！！\n（そのため、この日はCarolina Shag Swingはお休みです）\n■BjackSwingレッスンはXmasソングで楽しみ、\n■9:00pmからのCluBisco TimeではWaltz Songもはさみ\,Xmasソング等を流す予定のDisco Timeです！\n\n＜ミラーボールとライト＆スモークマシンは月曜は常設!＞\nこの日はXmas Songをちりばめ楽しむ時間です！！\n\n\n月曜・日暮里サルーレッスンは二人の先生でやっています！\nダンス初めての方には良いですね！！\n気軽にご参加ください！！\n\n飲みながらレッスンOK !!!!\n\n\nBeatjackswing.com\nhustlejapan.com\nKyouju\n\n\n\n/// 12/25スケジュール ////\n①6:30-7:00..B-jackSwing BasicソロStep /初心～初級by Mio先生\n②7:00-8:00..XmasSong B-jack & Waltz-Hustle /初心～初級by Kyouju&Mio先生\n③8:00-9:00..Waltz Hustle & XmasSong B-jack /初心～初級by Kyouju&Mio先生\n＜9:00pmからはCluBisco Timeスタート！＞\n④9:15-9:45..B-jackSwingナイトレッスン… Kyouju or Mio先生\n※12/25この日はCarolina Shag Swingレッスンはお休みです！\n\n＜Lesson Fee＞\n■①￥1500..w1d\n■② /【①＋②】￥2500..w1d\n■②＋③ ￥3000（※7:30から参加も同じ)..w1d\n■【①＋②＋③】￥3500..w1d\n■③ /【③＋④】￥2500..w1d\n■④￥1500..w1d\n■【②＋③＋④】￥3500 (※7:30から参加も同じ)..w1d\n■ALL【①＋②＋③＋④】￥4000..w1d\n※レッスンはどなたでも参加できます\n※ダンス全く初めての方も楽しめます\n\n会場＞\n＜日暮里サルー酒場・サルサbar＞\n東京都荒川区東日暮里6丁目60-9\n日暮里駅前ビル3F (NipporiekimaeBilding3F\, 60-9\, Higashinippori6)
URL:https://dance.gdp22.com/event/dance-58659/
LOCATION:日暮里サルー\, 東京都東日暮里6-60-9日暮里駅前ビル3F\, 日暮里\, 116-0014\, 日本
CATEGORIES:クリスマスイベント・忘年会・カウントダウン・初踊り,ソーシャル,Swing,Hustle
ATTACH;FMTTYPE=image/jpeg:https://dance.gdp22.com/wp-content/uploads/411677520_10230603371764067_4856772231423770004_n.jpg
END:VEVENT
BEGIN:VEVENT
DTSTART;TZID=Asia/Tokyo:20260420T180000
DTEND;TZID=Asia/Tokyo:20260420T210000
DTSTAMP:20260421T150521
CREATED:20220525T025024Z
LAST-MODIFIED:20220525T025024Z
UID:10213769-1776708000-1776718800@dance.gdp22.com
SUMMARY:Swing & Hustle by Kyouju
DESCRIPTION:Swing & Hustle by kyouju\n　18:30-19:00 ①B-jackSwng Basicソロ（入門～初級）                  　\n    19:00-20:00 ②B-jackSwng & Hustleレッスン（初心～初級）\n　20:00-21:00 ③B-jack & EG-Husrle\n　　　　　　　 (Eligant Hustle…新しいHustle)（初心～初級）\n①¥1500(1ドリンク付）\n②or③¥2500(1ドリンク付） \n複数レッスン受講の場合\n①②¥2500(1ドリンク付）②③¥3000(1ドリンク付）\n①②③¥3500(1ドリンク付）
URL:https://dance.gdp22.com/event/swing-hustle-by-kyouju/2026-04-20/
LOCATION:日暮里サルー\, 東京都東日暮里6-60-9日暮里駅前ビル3F\, 日暮里\, 116-0014\, 日本
CATEGORIES:Swing,Hustle
END:VEVENT
END:VCALENDAR